{"text_format":"1","workbook":"xlsx","n_sheets":23,"sheets":["Eing.Allg..Daten","Bahnen","Startliste","Aushang","Seite1","Tagestabelle","Bahnstatistik","Ma_d_Tages","Einzel+DRL","Ma1","Ma2","Ma3","Ma4","Ma5","Ma6","Ma7","Turnierprotokoll","Ergebn-EINGABE Einzel","Eing.Mannsch.aufstellung","DMV-Ergebnisschnellmeldung","Spielerdaten","Historie","Listen"],"not_rendered":{"charts":0,"images":4,"macros":1,"external_links":2,"defined_names":312,"comments":14,"pivot_tables":0},"unopened":[],"bounds":{"document_bytes":16777216,"sheet_cells":100000,"rows_first":2000,"rows_last":500,"rows_between":2000,"halvings":0,"cell_chars":16384,"cell_head_chars":4096},"cells_cut":0,"cells_raw":0,"read":"whole","date_system":"1900"}

{"sheet":"Eing.Allg..Daten","index":0,"n_rows":153,"n_cols":52,"rows_kept":153,"cut":false,"hidden":false,"merged":[[99,64,99,65],[21,9,21,11],[22,9,22,11],[1,6,2,6],[18,9,18,11],[23,9,23,11],[24,9,24,11],[19,9,19,11],[20,9,20,11],[7,5,7,6],[8,5,8,6],[13,8,15,12],[16,9,16,11],[17,9,17,11]]}
[]
[null,"Name der Liga:",null,"Gruppenliga",null,null,"Mannschaftsstärke auswählen >>>"]
[null,"Saison:",null,2024]
[null,"Welcher Spieltag:",null,3,null,null,null,null,null,null,null,null,null,null,null,null,null,null,null,null,"Beton",2]
[null,"Ausrichtender Verein:",null,"SV Dreieichenhain",null,null,null,null,null,null,null,null,null,null,null,null,null,null,null,null,"Miniaturgolf",1]
[null,"Spielort:",null,"Dreieichenhain",null,null,null,null,null,null,null,null,null,null,null,null,null,null,null,null,"Filzgolf",2]
[null,"Datum:",null,"2024-06-09",null,null,null,null,null,null,null,null,null,null,null,null,null,null,null,null,"MOS",1]
[null,"Welche Abteilung:",null,"Miniaturgolf",null,"<<  In dieser Zelle das System auswählen.",null,null,null,null,null,null,null,null,null,null,null,null,null,null,"Cobi groß",2]
[null,"Standardwert je Bahn:",null,{"$f":"IF(D8=\"\",2,VLOOKUP(D8,U3:V10,2,FALSE))","v":1},null,"<<  Dieser Wert wird automatisch nach Eingabe des Systems ermittelt ",null,null,null,null,null,null,null,null,null,null,null,null,null,null,"Cobi klein",1]
[null,"Anz. gemeldeter Mannschaften:",null,7,null,null,4,null,null,null,null,null,null,null,null,null,null,null,null,null,"Sterngolf",2]
[null,"Anzahl Spieler je Mannschaft:",null,5,"+1 (+1)",null,5]
["Anzahl bish. gespielte Punktsp.:",null,null,null,null,null,6]
[null,"á 4 Runden:",null,2]
[null,"á 3 Runden:",null,null,null,null,null,null,"Zur Eingabe der Rundengebnisse       \"Ma 1\" - \"Ma 7\" anklicken"]
[null,"á 2 Runden:"]
[null,"Gesamtzahl bish. gesp.Runden:",null,{"$f":"AnzSpieler*(D13*4+D14*3+D15*2)","v":40}]
["Turnierleiter","Name:",null,null,null,null,null,null,null,{"$f":"+'Ma1'!$D$1","v":"MGC Bad Homburg 1"}]
[null,"Verein:",null,"SV Dreieichenhain",null,null,null,null,null,{"$f":"+'Ma2'!$D$1","v":"SG Arheilgen 3"}]
[null,null,null,null,null,null,null,null,null,{"$f":"+'Ma3'!$D$1","v":"MGC Kahler Sandhasen"}]
["Oberschiedsrichter","Name:",null,null,null,null,null,null,null,{"$f":"+'Ma4'!$D$1","v":"SG Weiterstadt"}]
[null,"Verein:",null,"MGC Kahler Sandhasen",null,null,null,null,null,{"$f":"+'Ma5'!$D$1","v":"MGC Bad Homburg 2"}]
["Schiedrichter","Name:",null,null,null,null,null,null,null,{"$f":"+'Ma6'!$D$1","v":"SV Dreieichenhain"}]
[null,"Verein:",null,"SG Weiterstadt",null,null,null,null,null,{"$f":"+'Ma7'!$D$1","v":"MGC Heringen"}]
["Schiedsrichter","Name:"]
[null,"Verein:",null,"MGC Bad Homburg"]
[]
[null,"Turnierbeginn:",null,"10:00:00","Uhr"]
[null,"Turnierende:",null,null,"Uhr"]
[]
[]
[]
["Version:","2024-05-19"]
[]
[]
[]
[]
[]
[]
[]
[]
[]
[]
[]
[]
[]
[]
[]
[]
[]
[]
[]
[]
[]
[]
[]
[]
[]
[]
[]
[]
[]
[]
[]
[]
[]
[]
[]
[]
[]
[]
[]
[]
[]
[]
[]
[]
[]
[]
[]
[]
[]
[]
[]
[]
[]
[]
[]
[]
[]
[]
[]
[]
[]
[]
[]
[]
[]
[]
[]
[]
[]
[]
[]
[]
[]
[]
[]
[]
[]
[]
[]
[]
[]
[]
[]
[]
[]
[]
[]
[]
[]
[]
[]
[]
[]
[]
[]
[]
[]
[]
[]
[]
[]
[]
[]
[]
[]
[]
[]
[]
[]
[]
[]
[]
[]
[]
[]
[]
[]
[]
[]
[]
[null,null,null,null,null,null,null,null,null,null,null,null,null,null,null,null,null,null,null,null,null,null,null,null,null,null,null,null,null,null,null,null,null,null,null,null,null,null,null,null,null,null,null,null,null,null,null,null,null,null,null,"Bahnreihenfolge:"]

{"sheet":"Bahnen","index":1,"n_rows":144,"n_cols":6,"rows_kept":144,"cut":false,"hidden":true,"merged":[[24,0,24,1]]}
[]
[]
[]
["Bahn Nr.:","Name /Bezeichnung der Bahn","Bahn Nr.:","Name /Bezeichnung der Bahn","Bahn Nr.:","Name /Bezeichnung der Bahn"]
[]
[null,"Beton",null,"Miniaturgolf",null,"Filz -"]
[1,"Bahn 1",5,"\"V\" - Hindernis",null,"Ass-Bahn"]
[2,"Bahn 2",17,"Auflaufkeil mit Zielfenster",null,"Blitz"]
[3,"Bahn 3",18,"Blitz",null,"Briefkasten"]
[4,"Bahn 4",15,"Brücke",null,"Briefkasten mit 3 Eingängen"]
[5,"Bahn 5",12,"Doppelkeile",null,"Brücke"]
[6,"Bahn 6",6,"Doppelwellen",null,"Deutscher Absatz"]
[7,"Bahn 7",null,"Gerade Bahn m. Zielkreisfenster",null,"Doppeltor"]
[8,"Bahn 8",null,"Gerade Bahn mit Rampe",null,"Einfachtor"]
[9,"Bahn 9",null,"Gerade Bahn mit Zielhügel",null,"Fischgräte"]
[10,"Bahn 10",1,"Gerade Bahn ohne Hindernis",null,"Geldkasten"]
[11,"Bahn 11",null,"Labyrinth",null,"Gentleman"]
[12,"Bahn 12",9,"Liegende Schleife",null,"Graben"]
[13,"Bahn 13",4,"Mittelhügel",null,"Hufeisen"]
[14,"Bahn 14",11,"Netz",null,"Hügel mit Tor"]
[15,"Bahn 15",8,"Passagen",null,"Kästen"]
[16,"Bahn 16",null,"Plateau",null,"Kreuz"]
[17,"Bahn 17",3,"Pyramiden",null,"Mittelhügel"]
[18,"Bahn 18",null,"Raute",null,"Mittelloch"]
[null,null,7,"Rohr",null,"Möllberg-Mulde"]
[null,null,2,"Salto",null,"Mulde"]
[null,null,null,"Schägkreis ohne Hindernis",null,"Optische Täuschung"]
[null,null,null,"Schräger Kreis mit \"V\"- Hindernis",null,"Örkeljunga"]
[null,null,14,"Schrägerkreis mit Niere",null,"Passage"]
[null,null,null,"Stäbe",null,"Rinne"]
[null,null,null,"Steilschräge ohne Hindernis",null,"Schräger Hügel mit Tor"]
[null,null,13,"Stumpfe Kegel",null,"Schwedischer Absatz"]
[null,null,16,"Vulkan",null,"Seitentore"]
[null,null,10,"Winkel",null,"Stationäre Rampe"]
[null,null,null,"Schanze",null,"Steigung mit Mittelloch"]
[null,null,null,null,null,"Steigung mit Seitenloch"]
[null,null,null,null,null,"Steigung mit Vertikalloch"]
[null,null,null,null,null,"Winkel"]
[null,null,null,null,null,"Winkel mit Umgehung"]
[null,null,null,null,null,"Winkel mit Verlängerung"]
[null,null,null,null,null,"Zwillingstore"]
[]
[]
[]
[]
[]
[]
[]
[]
[]
[]
[null,"Beton"]
[{"$f":"IF(Eing.Allg..Daten!$D$8=\"Beton\",+A7,\"\")","v":""},"Bahn 1"]
[{"$f":"IF(Eing.Allg..Daten!$D$8=\"Beton\",+A8,\"\")","v":""},"Bahn 2"]
[{"$f":"IF(Eing.Allg..Daten!$D$8=\"Beton\",+A9,\"\")","v":""},"Bahn 3"]
[{"$f":"IF(Eing.Allg..Daten!$D$8=\"Beton\",+A10,\"\")","v":""},"Bahn 4"]
[{"$f":"IF(Eing.Allg..Daten!$D$8=\"Beton\",+A11,\"\")","v":""},"Bahn 5"]
[{"$f":"IF(Eing.Allg..Daten!$D$8=\"Beton\",+A12,\"\")","v":""},"Bahn 6"]
[{"$f":"IF(Eing.Allg..Daten!$D$8=\"Beton\",+A13,\"\")","v":""},"Bahn 7"]
[{"$f":"IF(Eing.Allg..Daten!$D$8=\"Beton\",+A14,\"\")","v":""},"Bahn 8"]
[{"$f":"IF(Eing.Allg..Daten!$D$8=\"Beton\",+A15,\"\")","v":""},"Bahn 9"]
[{"$f":"IF(Eing.Allg..Daten!$D$8=\"Beton\",+A16,\"\")","v":""},"Bahn 10"]
[{"$f":"IF(Eing.Allg..Daten!$D$8=\"Beton\",+A17,\"\")","v":""},"Bahn 11"]
[{"$f":"IF(Eing.Allg..Daten!$D$8=\"Beton\",+A18,\"\")","v":""},"Bahn 12"]
[{"$f":"IF(Eing.Allg..Daten!$D$8=\"Beton\",+A19,\"\")","v":""},"Bahn 13"]
[{"$f":"IF(Eing.Allg..Daten!$D$8=\"Beton\",+A20,\"\")","v":""},"Bahn 14"]
[{"$f":"IF(Eing.Allg..Daten!$D$8=\"Beton\",+A21,\"\")","v":""},"Bahn 15"]
[{"$f":"IF(Eing.Allg..Daten!$D$8=\"Beton\",+A22,\"\")","v":""},"Bahn 16"]
[{"$f":"IF(Eing.Allg..Daten!$D$8=\"Beton\",+A23,\"\")","v":""},"Bahn 17"]
[{"$f":"IF(Eing.Allg..Daten!$D$8=\"Beton\",+A24,\"\")","v":""},"Bahn 18"]
[null,"Miniaturgolf"]
[{"$f":"IF(Eing.Allg..Daten!$D$8=\"Miniaturgolf\",+C7,\"\")","v":5},{"$f":"IF(Eing.Allg..Daten!$D$8=\"Miniaturgolf\",+D7,\"\")","v":"\"V\" - Hindernis"}]
[{"$f":"IF(Eing.Allg..Daten!$D$8=\"Miniaturgolf\",+C8,\"\")","v":17},{"$f":"IF(Eing.Allg..Daten!$D$8=\"Miniaturgolf\",+D8,\"\")","v":"Auflaufkeil mit Zielfenster"}]
[{"$f":"IF(Eing.Allg..Daten!$D$8=\"Miniaturgolf\",+C9,\"\")","v":18},{"$f":"IF(Eing.Allg..Daten!$D$8=\"Miniaturgolf\",+D9,\"\")","v":"Blitz"}]
[{"$f":"IF(Eing.Allg..Daten!$D$8=\"Miniaturgolf\",+C10,\"\")","v":15},{"$f":"IF(Eing.Allg..Daten!$D$8=\"Miniaturgolf\",+D10,\"\")","v":"Brücke"}]
[{"$f":"IF(Eing.Allg..Daten!$D$8=\"Miniaturgolf\",+C11,\"\")","v":12},{"$f":"IF(Eing.Allg..Daten!$D$8=\"Miniaturgolf\",+D11,\"\")","v":"Doppelkeile"}]
[{"$f":"IF(Eing.Allg..Daten!$D$8=\"Miniaturgolf\",+C12,\"\")","v":6},{"$f":"IF(Eing.Allg..Daten!$D$8=\"Miniaturgolf\",+D12,\"\")","v":"Doppelwellen"}]
[{"$f":"IF(Eing.Allg..Daten!$D$8=\"Miniaturgolf\",+C13,\"\")","v":0},{"$f":"IF(Eing.Allg..Daten!$D$8=\"Miniaturgolf\",+D13,\"\")","v":"Gerade Bahn m. Zielkreisfenster"}]
[{"$f":"IF(Eing.Allg..Daten!$D$8=\"Miniaturgolf\",+C14,\"\")","v":0},{"$f":"IF(Eing.Allg..Daten!$D$8=\"Miniaturgolf\",+D14,\"\")","v":"Gerade Bahn mit Rampe"}]
[{"$f":"IF(Eing.Allg..Daten!$D$8=\"Miniaturgolf\",+C15,\"\")","v":0},{"$f":"IF(Eing.Allg..Daten!$D$8=\"Miniaturgolf\",+D15,\"\")","v":"Gerade Bahn mit Zielhügel"}]
[{"$f":"IF(Eing.Allg..Daten!$D$8=\"Miniaturgolf\",+C16,\"\")","v":1},{"$f":"IF(Eing.Allg..Daten!$D$8=\"Miniaturgolf\",+D16,\"\")","v":"Gerade Bahn ohne Hindernis"}]
[{"$f":"IF(Eing.Allg..Daten!$D$8=\"Miniaturgolf\",+C17,\"\")","v":0},{"$f":"IF(Eing.Allg..Daten!$D$8=\"Miniaturgolf\",+D17,\"\")","v":"Labyrinth"}]
[{"$f":"IF(Eing.Allg..Daten!$D$8=\"Miniaturgolf\",+C18,\"\")","v":9},{"$f":"IF(Eing.Allg..Daten!$D$8=\"Miniaturgolf\",+D18,\"\")","v":"Liegende Schleife"}]
[{"$f":"IF(Eing.Allg..Daten!$D$8=\"Miniaturgolf\",+C19,\"\")","v":4},{"$f":"IF(Eing.Allg..Daten!$D$8=\"Miniaturgolf\",+D19,\"\")","v":"Mittelhügel"}]
[{"$f":"IF(Eing.Allg..Daten!$D$8=\"Miniaturgolf\",+C20,\"\")","v":11},{"$f":"IF(Eing.Allg..Daten!$D$8=\"Miniaturgolf\",+D20,\"\")","v":"Netz"}]
[{"$f":"IF(Eing.Allg..Daten!$D$8=\"Miniaturgolf\",+C21,\"\")","v":8},{"$f":"IF(Eing.Allg..Daten!$D$8=\"Miniaturgolf\",+D21,\"\")","v":"Passagen"}]
[{"$f":"IF(Eing.Allg..Daten!$D$8=\"Miniaturgolf\",+C22,\"\")","v":0},{"$f":"IF(Eing.Allg..Daten!$D$8=\"Miniaturgolf\",+D22,\"\")","v":"Plateau"}]
[{"$f":"IF(Eing.Allg..Daten!$D$8=\"Miniaturgolf\",+C23,\"\")","v":3},{"$f":"IF(Eing.Allg..Daten!$D$8=\"Miniaturgolf\",+D23,\"\")","v":"Pyramiden"}]
[{"$f":"IF(Eing.Allg..Daten!$D$8=\"Miniaturgolf\",+C24,\"\")","v":0},{"$f":"IF(Eing.Allg..Daten!$D$8=\"Miniaturgolf\",+D24,\"\")","v":"Raute"}]
[{"$f":"IF(Eing.Allg..Daten!$D$8=\"Miniaturgolf\",+C25,\"\")","v":7},{"$f":"IF(Eing.Allg..Daten!$D$8=\"Miniaturgolf\",+D25,\"\")","v":"Rohr"}]
[{"$f":"IF(Eing.Allg..Daten!$D$8=\"Miniaturgolf\",+C26,\"\")","v":2},{"$f":"IF(Eing.Allg..Daten!$D$8=\"Miniaturgolf\",+D26,\"\")","v":"Salto"}]
[{"$f":"IF(Eing.Allg..Daten!$D$8=\"Miniaturgolf\",+C27,\"\")","v":0},{"$f":"IF(Eing.Allg..Daten!$D$8=\"Miniaturgolf\",+D27,\"\")","v":"Schägkreis ohne Hindernis"}]
[{"$f":"IF(Eing.Allg..Daten!$D$8=\"Miniaturgolf\",+C28,\"\")","v":0},{"$f":"IF(Eing.Allg..Daten!$D$8=\"Miniaturgolf\",+D28,\"\")","v":"Schräger Kreis mit \"V\"- Hindernis"}]
[{"$f":"IF(Eing.Allg..Daten!$D$8=\"Miniaturgolf\",+C29,\"\")","v":14},{"$f":"IF(Eing.Allg..Daten!$D$8=\"Miniaturgolf\",+D29,\"\")","v":"Schrägerkreis mit Niere"}]
[{"$f":"IF(Eing.Allg..Daten!$D$8=\"Miniaturgolf\",+C30,\"\")","v":0},{"$f":"IF(Eing.Allg..Daten!$D$8=\"Miniaturgolf\",+D30,\"\")","v":"Stäbe"}]
[{"$f":"IF(Eing.Allg..Daten!$D$8=\"Miniaturgolf\",+C31,\"\")","v":0},{"$f":"IF(Eing.Allg..Daten!$D$8=\"Miniaturgolf\",+D31,\"\")","v":"Steilschräge ohne Hindernis"}]
[{"$f":"IF(Eing.Allg..Daten!$D$8=\"Miniaturgolf\",+C32,\"\")","v":13},{"$f":"IF(Eing.Allg..Daten!$D$8=\"Miniaturgolf\",+D32,\"\")","v":"Stumpfe Kegel"}]
[{"$f":"IF(Eing.Allg..Daten!$D$8=\"Miniaturgolf\",+C33,\"\")","v":16},{"$f":"IF(Eing.Allg..Daten!$D$8=\"Miniaturgolf\",+D33,\"\")","v":"Vulkan"}]
[{"$f":"IF(Eing.Allg..Daten!$D$8=\"Miniaturgolf\",+C34,\"\")","v":10},{"$f":"IF(Eing.Allg..Daten!$D$8=\"Miniaturgolf\",+D34,\"\")","v":"Winkel"}]
[{"$f":"IF(Eing.Allg..Daten!$D$8=\"Miniaturgolf\",+C35,\"\")","v":0},{"$f":"IF(Eing.Allg..Daten!$D$8=\"Miniaturgolf\",+D35,\"\")","v":"Schanze"}]
[{"$f":"IF(Eing.Allg..Daten!$D$8=\"Miniaturgolf\",+C36,\"\")","v":0},{"$f":"IF(Eing.Allg..Daten!$D$8=\"Miniaturgolf\",+D36,\"\")","v":0}]
[{"$f":"IF(Eing.Allg..Daten!$D$8=\"Miniaturgolf\",+C37,\"\")","v":0},{"$f":"IF(Eing.Allg..Daten!$D$8=\"Miniaturgolf\",+D37,\"\")","v":0}]
[{"$f":"IF(Eing.Allg..Daten!$D$8=\"Miniaturgolf\",+C38,\"\")","v":0},{"$f":"IF(Eing.Allg..Daten!$D$8=\"Miniaturgolf\",+D38,\"\")","v":0}]
[{"$f":"IF(Eing.Allg..Daten!$D$8=\"Miniaturgolf\",+C39,\"\")","v":0},{"$f":"IF(Eing.Allg..Daten!$D$8=\"Miniaturgolf\",+D39,\"\")","v":0}]
[{"$f":"IF(Eing.Allg..Daten!$D$8=\"Miniaturgolf\",+C40,\"\")","v":0},{"$f":"IF(Eing.Allg..Daten!$D$8=\"Miniaturgolf\",+D40,\"\")","v":0}]
[{"$f":"IF(Eing.Allg..Daten!$D$8=\"Miniaturgolf\",+C41,\"\")","v":0},{"$f":"IF(Eing.Allg..Daten!$D$8=\"Miniaturgolf\",+D41,\"\")","v":0}]
[{"$f":"IF(Eing.Allg..Daten!$D$8=\"Miniaturgolf\",+C42,\"\")","v":0},{"$f":"IF(Eing.Allg..Daten!$D$8=\"Miniaturgolf\",+D42,\"\")","v":0}]
[null,"Filz -"]
[{"$f":"IF(Eing.Allg..Daten!$D$8=\"Filzgolf\",+E7,\"\")","v":""},{"$f":"IF(Eing.Allg..Daten!$D$8=\"Filzgolf\",+F7,\"\")","v":""}]
[{"$f":"IF(Eing.Allg..Daten!$D$8=\"Filzgolf\",+E8,\"\")","v":""},{"$f":"IF(Eing.Allg..Daten!$D$8=\"Filzgolf\",+F8,\"\")","v":""}]
[{"$f":"IF(Eing.Allg..Daten!$D$8=\"Filzgolf\",+E9,\"\")","v":""},{"$f":"IF(Eing.Allg..Daten!$D$8=\"Filzgolf\",+F9,\"\")","v":""}]
[{"$f":"IF(Eing.Allg..Daten!$D$8=\"Filzgolf\",+E10,\"\")","v":""},{"$f":"IF(Eing.Allg..Daten!$D$8=\"Filzgolf\",+F10,\"\")","v":""}]
[{"$f":"IF(Eing.Allg..Daten!$D$8=\"Filzgolf\",+E11,\"\")","v":""},{"$f":"IF(Eing.Allg..Daten!$D$8=\"Filzgolf\",+F11,\"\")","v":""}]
[{"$f":"IF(Eing.Allg..Daten!$D$8=\"Filzgolf\",+E12,\"\")","v":""},{"$f":"IF(Eing.Allg..Daten!$D$8=\"Filzgolf\",+F12,\"\")","v":""}]
[{"$f":"IF(Eing.Allg..Daten!$D$8=\"Filzgolf\",+E13,\"\")","v":""},{"$f":"IF(Eing.Allg..Daten!$D$8=\"Filzgolf\",+F13,\"\")","v":""}]
[{"$f":"IF(Eing.Allg..Daten!$D$8=\"Filzgolf\",+E14,\"\")","v":""},{"$f":"IF(Eing.Allg..Daten!$D$8=\"Filzgolf\",+F14,\"\")","v":""}]
[{"$f":"IF(Eing.Allg..Daten!$D$8=\"Filzgolf\",+E15,\"\")","v":""},{"$f":"IF(Eing.Allg..Daten!$D$8=\"Filzgolf\",+F15,\"\")","v":""}]
[{"$f":"IF(Eing.Allg..Daten!$D$8=\"Filzgolf\",+E16,\"\")","v":""},{"$f":"IF(Eing.Allg..Daten!$D$8=\"Filzgolf\",+F16,\"\")","v":""}]
[{"$f":"IF(Eing.Allg..Daten!$D$8=\"Filzgolf\",+E17,\"\")","v":""},{"$f":"IF(Eing.Allg..Daten!$D$8=\"Filzgolf\",+F17,\"\")","v":""}]
[{"$f":"IF(Eing.Allg..Daten!$D$8=\"Filzgolf\",+E18,\"\")","v":""},{"$f":"IF(Eing.Allg..Daten!$D$8=\"Filzgolf\",+F18,\"\")","v":""}]
[{"$f":"IF(Eing.Allg..Daten!$D$8=\"Filzgolf\",+E19,\"\")","v":""},{"$f":"IF(Eing.Allg..Daten!$D$8=\"Filzgolf\",+F19,\"\")","v":""}]
[{"$f":"IF(Eing.Allg..Daten!$D$8=\"Filzgolf\",+E20,\"\")","v":""},{"$f":"IF(Eing.Allg..Daten!$D$8=\"Filzgolf\",+F20,\"\")","v":""}]
[{"$f":"IF(Eing.Allg..Daten!$D$8=\"Filzgolf\",+E21,\"\")","v":""},{"$f":"IF(Eing.Allg..Daten!$D$8=\"Filzgolf\",+F21,\"\")","v":""}]
[{"$f":"IF(Eing.Allg..Daten!$D$8=\"Filzgolf\",+E22,\"\")","v":""},{"$f":"IF(Eing.Allg..Daten!$D$8=\"Filzgolf\",+F22,\"\")","v":""}]
[{"$f":"IF(Eing.Allg..Daten!$D$8=\"Filzgolf\",+E23,\"\")","v":""},{"$f":"IF(Eing.Allg..Daten!$D$8=\"Filzgolf\",+F23,\"\")","v":""}]
[{"$f":"IF(Eing.Allg..Daten!$D$8=\"Filzgolf\",+E24,\"\")","v":""},{"$f":"IF(Eing.Allg..Daten!$D$8=\"Filzgolf\",+F24,\"\")","v":""}]
[{"$f":"IF(Eing.Allg..Daten!$D$8=\"Filzgolf\",+E25,\"\")","v":""},{"$f":"IF(Eing.Allg..Daten!$D$8=\"Filzgolf\",+F25,\"\")","v":""}]
[{"$f":"IF(Eing.Allg..Daten!$D$8=\"Filzgolf\",+E26,\"\")","v":""},{"$f":"IF(Eing.Allg..Daten!$D$8=\"Filzgolf\",+F26,\"\")","v":""}]
[{"$f":"IF(Eing.Allg..Daten!$D$8=\"Filzgolf\",+E27,\"\")","v":""},{"$f":"IF(Eing.Allg..Daten!$D$8=\"Filzgolf\",+F27,\"\")","v":""}]
[{"$f":"IF(Eing.Allg..Daten!$D$8=\"Filzgolf\",+E28,\"\")","v":""},{"$f":"IF(Eing.Allg..Daten!$D$8=\"Filzgolf\",+F28,\"\")","v":""}]
[{"$f":"IF(Eing.Allg..Daten!$D$8=\"Filzgolf\",+E29,\"\")","v":""},{"$f":"IF(Eing.Allg..Daten!$D$8=\"Filzgolf\",+F29,\"\")","v":""}]
[{"$f":"IF(Eing.Allg..Daten!$D$8=\"Filzgolf\",+E30,\"\")","v":""},{"$f":"IF(Eing.Allg..Daten!$D$8=\"Filzgolf\",+F30,\"\")","v":""}]
[{"$f":"IF(Eing.Allg..Daten!$D$8=\"Filzgolf\",+E31,\"\")","v":""},{"$f":"IF(Eing.Allg..Daten!$D$8=\"Filzgolf\",+F31,\"\")","v":""}]
[{"$f":"IF(Eing.Allg..Daten!$D$8=\"Filzgolf\",+E32,\"\")","v":""},{"$f":"IF(Eing.Allg..Daten!$D$8=\"Filzgolf\",+F32,\"\")","v":""}]
[{"$f":"IF(Eing.Allg..Daten!$D$8=\"Filzgolf\",+E33,\"\")","v":""},{"$f":"IF(Eing.Allg..Daten!$D$8=\"Filzgolf\",+F33,\"\")","v":""}]
[{"$f":"IF(Eing.Allg..Daten!$D$8=\"Filzgolf\",+E34,\"\")","v":""},{"$f":"IF(Eing.Allg..Daten!$D$8=\"Filzgolf\",+F34,\"\")","v":""}]
[{"$f":"IF(Eing.Allg..Daten!$D$8=\"Filzgolf\",+E35,\"\")","v":""},{"$f":"IF(Eing.Allg..Daten!$D$8=\"Filzgolf\",+F35,\"\")","v":""}]
[{"$f":"IF(Eing.Allg..Daten!$D$8=\"Filzgolf\",+E36,\"\")","v":""},{"$f":"IF(Eing.Allg..Daten!$D$8=\"Filzgolf\",+F36,\"\")","v":""}]
[{"$f":"IF(Eing.Allg..Daten!$D$8=\"Filzgolf\",+E37,\"\")","v":""},{"$f":"IF(Eing.Allg..Daten!$D$8=\"Filzgolf\",+F37,\"\")","v":""}]
[{"$f":"IF(Eing.Allg..Daten!$D$8=\"Filzgolf\",+E38,\"\")","v":""},{"$f":"IF(Eing.Allg..Daten!$D$8=\"Filzgolf\",+F38,\"\")","v":""}]
[{"$f":"IF(Eing.Allg..Daten!$D$8=\"Filzgolf\",+E39,\"\")","v":""},{"$f":"IF(Eing.Allg..Daten!$D$8=\"Filzgolf\",+F39,\"\")","v":""}]
[{"$f":"IF(Eing.Allg..Daten!$D$8=\"Filzgolf\",+E40,\"\")","v":""},{"$f":"IF(Eing.Allg..Daten!$D$8=\"Filzgolf\",+F40,\"\")","v":""}]
[{"$f":"IF(Eing.Allg..Daten!$D$8=\"Filzgolf\",+E41,\"\")","v":""},{"$f":"IF(Eing.Allg..Daten!$D$8=\"Filzgolf\",+F41,\"\")","v":""}]
[{"$f":"IF(Eing.Allg..Daten!$D$8=\"Filzgolf\",+E42,\"\")","v":""},{"$f":"IF(Eing.Allg..Daten!$D$8=\"Filzgolf\",+F42,\"\")","v":""}]

{"sheet":"Startliste","index":2,"n_rows":222,"n_cols":36,"rows_kept":222,"cut":false,"hidden":false,"merged":[[1,9,3,9],[100,18,101,18],[100,19,101,19],[100,20,101,20],[100,13,101,13],[100,14,101,14],[100,15,101,15],[100,16,101,16],[100,17,101,17],[7,9,8,9],[10,9,11,9],[13,9,14,9],[16,9,17,9],[19,9,20,9],[22,9,23,9],[25,9,26,9],[2,30,3,30],[2,31,3,31],[2,32,3,32],[2,33,3,33],[2,26,3,26],[2,27,3,27],[2,28,3,28],[2,29,3,29],[28,9,29,9],[31,9,32,9],[34,9,35,9],[37,9,38,9],[40,9,41,9],[43,9,44,9],[46,9,47,9],[49,9,50,9],[67,9,68,9],[52,9,53,9],[55,9,56,9],[58,9,59,9],[61,9,62,9],[64,9,65,9]]}
[]
[null,"TL:",{"$f":"Eing.Allg..Daten!D17","v":0},null,"OS:",{"$f":"Eing.Allg..Daten!D20","v":0},{"$f":"Eing.Allg..Daten!D21","v":"MGC Kahler Sandhasen"},null,null,"für 2er Gruppe ein \nX\nsetzen\nund Startliste neu erstellen\n",{"$f":"CONCATENATE(AnzMa,AnzSpieler)","v":"75"},null,null,null,null,null,null,null,null,null,null,null,null,null,null,null,{"$f":"IF(Eing.Allg..Daten!$Q2>0,Eing.Allg..Daten!$Q2,\"\")","v":""},null,null,null,{"$f":"Seite1!C5","v":3},{"$f":"Seite1!D5","v":". Spieltag         "}]
[null,null,{"$f":"+Seite1!B3","v":"Gruppenliga"},null,"S:",{"$f":"Eing.Allg..Daten!D22","v":0},{"$f":"Eing.Allg..Daten!D23","v":"SG Weiterstadt"},null,null,null,null,null,null,null,null,null,"X",null,null,null,null,null,null,null,null,null,"Paßnr","Mannsch Nr","Spieler Nr","Name","Verein","StNr - Spieler","StNr _Mannsch","Belegt ja/nein"]
[null,{"$f":"+Seite1!C5","v":3},{"$f":"+Seite1!D5","v":". Spieltag         "},null,"S:",{"$f":"Eing.Allg..Daten!D24","v":0},{"$f":"Eing.Allg..Daten!D25","v":"MGC Bad Homburg"}]
[]
[]
[null,null,null,null,null,null,null,null,null,{"$f":"COUNTIF(J$8:J$69,\"x\")","v":0},null,null,null,null,null,null,null,null,null,null,null,null,null,null,null,{"$f":"IF(AA7>0,1,0)","v":0},{"$f":"IF(M7S1p>0,M7S1p,0)","v":0},{"$f":"IF(Ma1_Eing>0,Eing.Mannsch.aufstellung!$C$179,0)","v":7},{"$f":"IF(Ma1_Eing>0,Eing.Mannsch.aufstellung!$C181,0)","v":1},{"$f":"IF(M7S1p>0,M7S1,0)","v":0},{"$f":"IF(Ma1_Eing>0,Eing.Mannsch.aufstellung!$B$180,0)","v":"MGC Heringen"},{"$f":"IF(AA7>0,IF(AC7=\"AK\",\"9\",AC7),0)","v":0},{"$f":"IF(AA7>0,AB7,0)","v":0},{"$f":"IF(AA7>0,1,2)","v":2}]
[null,"St.-Gr.",{"$f":"IF(D8=0,1,0)","v":1},{"$f":"$Q105","v":0},{"$f":"IF(F8=0,1,0)","v":1},{"$f":"$Q106","v":0},{"$f":"IF(H8=0,1,0)","v":1},{"$f":"$Q107","v":0},null,null,null,null,null,null,null,null,null,null,null,null,null,null,null,null,null,{"$f":"IF(AA8>0,Z7+1,Z7)","v":0},{"$f":"IF(M6S1p>0,M6S1p,0)","v":0},{"$f":"IF(Ma1_Eing>0,Eing.Mannsch.aufstellung!$C$154,0)","v":6},{"$f":"IF(Ma1_Eing>0,Eing.Mannsch.aufstellung!$C156,0)","v":1},{"$f":"IF(M6S1p>0,M6S1,0)","v":0},{"$f":"IF(Ma1_Eing>0,Eing.Mannsch.aufstellung!$B$155,0)","v":"SV Dreieichenhain"},0,0,2]
[null,1,null,{"$f":"CONCATENATE($R105,\" / Sp \",$P105)","v":"MGC Bad Homburg 1 / Sp 1"},null,{"$f":"CONCATENATE($R106,\" / Sp \",$P106)","v":"MGC Bad Homburg 1 / Sp 2"},null,{"$f":"CONCATENATE($R107,\" / Sp \",$P107)","v":"MGC Bad Homburg 1 / Sp 3"},null,null,null,null,null,null,null,null,null,null,null,null,null,null,null,null,null,0,{"$f":"IF(M5S1p>0,M5S1p,0)","v":0},{"$f":"IF(Ma1_Eing>0,Eing.Mannsch.aufstellung!$C$129,0)","v":5},{"$f":"IF(Ma1_Eing>0,Eing.Mannsch.aufstellung!$C131,0)","v":1},{"$f":"IF(M5S1p>0,M5S1,0)","v":0},{"$f":"IF(Ma1_Eing>0,Eing.Mannsch.aufstellung!$B$130,0)","v":"MGC Bad Homburg 2"},0,0,2]
[null,null,null,null,null,null,null,null,null,null,null,null,null,null,null,null,null,null,null,null,null,null,null,null,null,0,{"$f":"IF(M4S1p>0,M4S1p,0)","v":0},{"$f":"IF(Ma1_Eing>0,Eing.Mannsch.aufstellung!$C$103,0)","v":4},{"$f":"IF(Ma1_Eing>0,Eing.Mannsch.aufstellung!$C105,0)","v":1},{"$f":"IF(M4S1p>0,M4S1,0)","v":0},{"$f":"IF(Ma1_Eing>0,Eing.Mannsch.aufstellung!$B$104,0)","v":"SG Weiterstadt"},0,0,2]
[null,"St.-Gr.",{"$f":"IF(D11=0,1,0)","v":1},{"$f":"$Q108","v":0},{"$f":"IF(F11=0,1,0)","v":1},{"$f":"$Q109","v":0},{"$f":"IF(H11=0,1,0)","v":1},{"$f":"$Q110","v":0},null,null,null,null,null,null,null,null,null,null,null,null,null,null,null,null,null,0,{"$f":"IF(M3S1p>0,M3S1p,0)","v":0},{"$f":"IF(Ma1_Eing>0,Eing.Mannsch.aufstellung!$C$78,0)","v":3},{"$f":"IF(Ma1_Eing>0,Eing.Mannsch.aufstellung!$C80,0)","v":1},{"$f":"IF(M3S1p>0,M3S1,0)","v":0},{"$f":"IF(Ma1_Eing>0,Eing.Mannsch.aufstellung!$B$79,0)","v":"MGC Kahler Sandhasen"},0,0,2]
[null,{"$f":"B9+1","v":2},null,{"$f":"CONCATENATE($R108,\" / Sp \",$P108)","v":"MGC Bad Homburg 1 / Sp 4"},null,{"$f":"CONCATENATE($R109,\" / Sp \",$P109)","v":"MGC Bad Homburg 1 / Sp 5"},null,{"$f":"CONCATENATE($R110,\" / Sp \",$P110)","v":"MGC Bad Homburg 1 / Sp 6"},null,null,null,null,null,null,null,null,null,null,null,null,null,null,null,null,null,0,{"$f":"IF(M2S1p>0,M2S1p,0)","v":0},{"$f":"IF(Ma1_Eing>0,Eing.Mannsch.aufstellung!$C$53,0)","v":2},{"$f":"IF(Ma1_Eing>0,Eing.Mannsch.aufstellung!$C55,0)","v":1},{"$f":"IF(M2S1p>0,M2S1,0)","v":0},{"$f":"IF(Ma1_Eing>0,Eing.Mannsch.aufstellung!$B$54,0)","v":"SG Arheilgen 3"},0,0,2]
[null,null,null,null,null,null,null,null,null,null,null,null,null,null,null,null,null,null,null,null,null,null,null,null,null,0,{"$f":"IF(M1S1p>0,M1S1p,0)","v":0},{"$f":"IF(Ma1_Eing>0,Eing.Mannsch.aufstellung!$C$29,0)","v":1},{"$f":"IF(Ma1_Eing>0,Eing.Mannsch.aufstellung!$C31,0)","v":1},{"$f":"IF(M1S1p>0,M1S1,0)","v":0},{"$f":"IF(Ma1_Eing>0,Eing.Mannsch.aufstellung!B$30,0)","v":"MGC Bad Homburg 1"},0,0,2]
[null,"St.-Gr.",{"$f":"IF(D14=0,1,0)","v":1},{"$f":"$Q111","v":0},{"$f":"IF(F14=0,1,0)","v":1},{"$f":"$Q112","v":0},{"$f":"IF(H14=0,1,0)","v":1},{"$f":"$Q113","v":0},null,null,null,null,null,null,null,null,null,null,null,null,null,null,null,null,null,0,{"$f":"IF(M7S2p>0,M7S2p,0)","v":0},{"$f":"IF(Ma1_Eing>0,Eing.Mannsch.aufstellung!$C$179,0)","v":7},{"$f":"IF(Ma1_Eing>0,Eing.Mannsch.aufstellung!$C182,0)","v":2},{"$f":"IF(M7S2p>0,M7S2,0)","v":0},{"$f":"IF(Ma1_Eing>0,Eing.Mannsch.aufstellung!$B$180,0)","v":"MGC Heringen"},0,0,2]
[null,{"$f":"B12+1","v":3},null,{"$f":"CONCATENATE($R111,\" / Sp \",$P111)","v":"MGC Bad Homburg 1 / Sp 7"},null,{"$f":"CONCATENATE($R112,\" / Sp \",$P112)","v":"MGC Bad Homburg 1 / Sp "},null,{"$f":"CONCATENATE($R113,\" / Sp \",$P113)","v":"MGC Bad Homburg 1 / Sp AK"},null,null,null,null,null,null,null,null,null,null,null,null,null,null,null,null,null,0,{"$f":"IF(M6S2p>0,M6S2p,0)","v":0},{"$f":"IF(Ma1_Eing>0,Eing.Mannsch.aufstellung!$C$154,0)","v":6},{"$f":"IF(Ma1_Eing>0,Eing.Mannsch.aufstellung!$C157,0)","v":2},{"$f":"IF(M6S2p>0,M6S2,0)","v":0},{"$f":"IF(Ma1_Eing>0,Eing.Mannsch.aufstellung!$B$155,0)","v":"SV Dreieichenhain"},0,0,2]
[null,null,null,null,null,null,null,null,null,null,null,null,null,null,null,null,null,null,null,null,null,null,null,null,null,0,{"$f":"IF(M5S2p>0,M5S2p,0)","v":0},{"$f":"IF(Ma1_Eing>0,Eing.Mannsch.aufstellung!$C$129,0)","v":5},{"$f":"IF(Ma1_Eing>0,Eing.Mannsch.aufstellung!$C132,0)","v":2},{"$f":"IF(M5S2p>0,M5S2,0)","v":0},{"$f":"IF(Ma1_Eing>0,Eing.Mannsch.aufstellung!$B$130,0)","v":"MGC Bad Homburg 2"},0,0,2]
[null,"St.-Gr.",{"$f":"IF(D17=0,1,0)","v":1},{"$f":"$Q114","v":0},{"$f":"IF(F17=0,1,0)","v":1},{"$f":"$Q115","v":0},{"$f":"IF(H17=0,1,0)","v":1},{"$f":"$Q116","v":0},null,null,null,null,null,null,null,null,null,null,null,null,null,null,null,null,null,0,{"$f":"IF(M4S2p>0,M4S2p,0)","v":0},{"$f":"IF(Ma1_Eing>0,Eing.Mannsch.aufstellung!$C$103,0)","v":4},{"$f":"IF(Ma1_Eing>0,Eing.Mannsch.aufstellung!$C106,0)","v":2},{"$f":"IF(M4S2p>0,M4S2,0)","v":0},{"$f":"IF(Ma1_Eing>0,Eing.Mannsch.aufstellung!$B$104,0)","v":"SG Weiterstadt"},0,0,2]
[null,{"$f":"B15+1","v":4},null,{"$f":"CONCATENATE($R114,\" / Sp \",$P114)","v":"SG Arheilgen 3 / Sp 1"},null,{"$f":"CONCATENATE($R115,\" / Sp \",$P115)","v":"SG Arheilgen 3 / Sp 2"},null,{"$f":"CONCATENATE($R116,\" / Sp \",$P116)","v":"SG Arheilgen 3 / Sp 3"},null,null,null,null,null,null,null,null,null,null,null,null,null,null,null,null,null,0,{"$f":"IF(M3S2p>0,M3S2p,0)","v":0},{"$f":"IF(Ma1_Eing>0,Eing.Mannsch.aufstellung!$C$78,0)","v":3},{"$f":"IF(Ma1_Eing>0,Eing.Mannsch.aufstellung!$C81,0)","v":2},{"$f":"IF(M3S2p>0,M3S2,0)","v":0},{"$f":"IF(Ma1_Eing>0,Eing.Mannsch.aufstellung!$B$79,0)","v":"MGC Kahler Sandhasen"},0,0,2]
[null,null,null,null,null,null,null,null,null,null,null,null,null,null,null,null,null,null,null,null,null,null,null,null,null,0,{"$f":"IF(M2S2p>0,M2S2p,0)","v":0},{"$f":"IF(Ma1_Eing>0,Eing.Mannsch.aufstellung!$C$53,0)","v":2},{"$f":"IF(Ma1_Eing>0,Eing.Mannsch.aufstellung!$C56,0)","v":2},{"$f":"IF(M2S2p>0,M2S2,0)","v":0},{"$f":"IF(Ma1_Eing>0,Eing.Mannsch.aufstellung!$B$54,0)","v":"SG Arheilgen 3"},0,0,2]
[null,"St.-Gr.",{"$f":"IF(D20=0,1,0)","v":1},{"$f":"$Q117","v":0},{"$f":"IF(F20=0,1,0)","v":1},{"$f":"$Q118","v":0},{"$f":"IF(H20=0,1,0)","v":1},{"$f":"$Q119","v":0},null,null,null,null,null,null,null,null,null,null,null,null,null,null,null,null,null,0,{"$f":"IF(M1S2p>0,M1S2p,0)","v":0},{"$f":"IF(Ma1_Eing>0,Eing.Mannsch.aufstellung!$C$29,0)","v":1},{"$f":"IF(Ma1_Eing>0,Eing.Mannsch.aufstellung!$C32,0)","v":2},{"$f":"IF(M1S2p>0,M1S2,0)","v":0},{"$f":"IF(Ma1_Eing>0,Eing.Mannsch.aufstellung!$B$30,0)","v":"MGC Bad Homburg 1"},0,0,2]
[null,{"$f":"B18+1","v":5},null,{"$f":"CONCATENATE($R117,\" / Sp \",$P117)","v":"SG Arheilgen 3 / Sp 4"},null,{"$f":"CONCATENATE($R118,\" / Sp \",$P118)","v":"SG Arheilgen 3 / Sp 5"},null,{"$f":"CONCATENATE($R119,\" / Sp \",$P119)","v":"SG Arheilgen 3 / Sp 6"},null,null,null,null,null,null,null,null,null,null,null,null,null,null,null,null,null,0,{"$f":"IF(M7S3p>0,M7S3p,0)","v":0},{"$f":"IF(Ma1_Eing>0,Eing.Mannsch.aufstellung!$C$179,0)","v":7},{"$f":"IF(Ma1_Eing>0,Eing.Mannsch.aufstellung!$C183,0)","v":3},{"$f":"IF(M7S3p>0,M7S3,0)","v":0},{"$f":"IF(Ma1_Eing>0,Eing.Mannsch.aufstellung!$B$180,0)","v":"MGC Heringen"},0,0,2]
[null,null,null,null,null,null,null,null,null,null,null,null,null,null,null,null,null,null,null,null,null,null,null,null,null,0,{"$f":"IF(M6S3p>0,M6S3p,0)","v":0},{"$f":"IF(Ma1_Eing>0,Eing.Mannsch.aufstellung!$C$154,0)","v":6},{"$f":"IF(Ma1_Eing>0,Eing.Mannsch.aufstellung!$C158,0)","v":3},{"$f":"IF(M6S3p>0,M6S3,0)","v":0},{"$f":"IF(Ma1_Eing>0,Eing.Mannsch.aufstellung!$B$155,0)","v":"SV Dreieichenhain"},0,0,2]
[null,"St.-Gr.",{"$f":"IF(D23=0,1,0)","v":1},{"$f":"$Q120","v":0},{"$f":"IF(F23=0,1,0)","v":1},{"$f":"$Q121","v":0},{"$f":"IF(H23=0,1,0)","v":1},{"$f":"$Q122","v":0},null,null,null,null,null,null,null,null,null,null,null,null,null,null,null,null,null,0,{"$f":"IF(M5S3p>0,M5S3p,0)","v":0},{"$f":"IF(Ma1_Eing>0,Eing.Mannsch.aufstellung!$C$129,0)","v":5},{"$f":"IF(Ma1_Eing>0,Eing.Mannsch.aufstellung!$C133,0)","v":3},{"$f":"IF(M5S3p>0,M5S3,0)","v":0},{"$f":"IF(Ma1_Eing>0,Eing.Mannsch.aufstellung!$B$130,0)","v":"MGC Bad Homburg 2"},0,0,2]
[null,{"$f":"B21+1","v":6},null,{"$f":"CONCATENATE($R120,\" / Sp \",$P120)","v":"SG Arheilgen 3 / Sp 7"},null,{"$f":"CONCATENATE($R121,\" / Sp \",$P121)","v":"SG Arheilgen 3 / Sp "},null,{"$f":"CONCATENATE($R122,\" / Sp \",$P122)","v":"SG Arheilgen 3 / Sp AK"},null,null,null,null,null,null,null,null,null,null,null,null,null,null,null,null,null,0,{"$f":"IF(M4S3p>0,M4S3p,0)","v":0},{"$f":"IF(Ma1_Eing>0,Eing.Mannsch.aufstellung!$C$103,0)","v":4},{"$f":"IF(Ma1_Eing>0,Eing.Mannsch.aufstellung!$C107,0)","v":3},{"$f":"IF(M4S3p>0,M4S3,0)","v":0},{"$f":"IF(Ma1_Eing>0,Eing.Mannsch.aufstellung!$B$104,0)","v":"SG Weiterstadt"},0,0,2]
[null,null,null,null,null,null,null,null,null,null,null,null,null,null,null,null,null,null,null,null,null,null,null,null,null,0,{"$f":"IF(M3S3p>0,M3S3p,0)","v":0},{"$f":"IF(Ma1_Eing>0,Eing.Mannsch.aufstellung!$C$78,0)","v":3},{"$f":"IF(Ma1_Eing>0,Eing.Mannsch.aufstellung!$C82,0)","v":3},{"$f":"IF(M3S3p>0,M3S3,0)","v":0},{"$f":"IF(Ma1_Eing>0,Eing.Mannsch.aufstellung!$B$79,0)","v":"MGC Kahler Sandhasen"},0,0,2]
[null,"St.-Gr.",{"$f":"IF(D26=0,1,0)","v":1},{"$f":"$Q123","v":0},{"$f":"IF(F26=0,1,0)","v":1},{"$f":"$Q124","v":0},{"$f":"IF(H26=0,1,0)","v":1},{"$f":"$Q125","v":0},null,null,null,null,null,null,null,null,null,null,null,null,null,null,null,null,null,0,{"$f":"IF(M2S3p>0,M2S3p,0)","v":0},{"$f":"IF(Ma1_Eing>0,Eing.Mannsch.aufstellung!$C$53,0)","v":2},{"$f":"IF(Ma1_Eing>0,Eing.Mannsch.aufstellung!$C57,0)","v":3},{"$f":"IF(M2S3p>0,M2S3,0)","v":0},{"$f":"IF(Ma1_Eing>0,Eing.Mannsch.aufstellung!$B$54,0)","v":"SG Arheilgen 3"},0,0,2]
[null,{"$f":"B24+1","v":7},null,{"$f":"CONCATENATE($R123,\" / Sp \",$P123)","v":"MGC Kahler Sandhasen / Sp 1"},null,{"$f":"CONCATENATE($R124,\" / Sp \",$P124)","v":"MGC Kahler Sandhasen / Sp 2"},null,{"$f":"CONCATENATE($R125,\" / Sp \",$P125)","v":"MGC Kahler Sandhasen / Sp 3"},null,null,null,null,null,null,null,null,null,null,null,null,null,null,null,null,null,0,{"$f":"IF(M1S3p>0,M1S3p,0)","v":0},{"$f":"IF(Ma1_Eing>0,Eing.Mannsch.aufstellung!$C$29,0)","v":1},{"$f":"IF(Ma1_Eing>0,Eing.Mannsch.aufstellung!$C33,0)","v":3},{"$f":"IF(M1S3p>0,M1S3,0)","v":0},{"$f":"IF(Ma1_Eing>0,Eing.Mannsch.aufstellung!$B$30,0)","v":"MGC Bad Homburg 1"},0,0,2]
[null,null,null,null,null,null,null,null,null,null,null,null,null,null,null,null,null,null,null,null,null,null,null,null,null,0,{"$f":"IF(M7S4p>0,M7S4p,0)","v":0},{"$f":"IF(Ma1_Eing>0,Eing.Mannsch.aufstellung!$C$179,0)","v":7},{"$f":"IF(Ma1_Eing>0,Eing.Mannsch.aufstellung!$C184,0)","v":4},{"$f":"IF(M7S4p>0,M7S4,0)","v":0},{"$f":"IF(Ma1_Eing>0,Eing.Mannsch.aufstellung!$B$180,0)","v":"MGC Heringen"},0,0,2]
[null,"St.-Gr.",{"$f":"IF(D29=0,1,0)","v":1},{"$f":"$Q126","v":0},{"$f":"IF(F29=0,1,0)","v":1},{"$f":"$Q127","v":0},{"$f":"IF(H29=0,1,0)","v":1},{"$f":"$Q128","v":0},null,null,null,null,null,null,null,null,null,null,null,null,null,null,null,null,null,0,{"$f":"IF(M6S4p>0,M6S4p,0)","v":0},{"$f":"IF(Ma1_Eing>0,Eing.Mannsch.aufstellung!$C$154,0)","v":6},{"$f":"IF(Ma1_Eing>0,Eing.Mannsch.aufstellung!$C159,0)","v":4},{"$f":"IF(M6S4p>0,M6S4,0)","v":0},{"$f":"IF(Ma1_Eing>0,Eing.Mannsch.aufstellung!$B$155,0)","v":"SV Dreieichenhain"},0,0,2]
[null,{"$f":"B27+1","v":8},null,{"$f":"CONCATENATE($R126,\" / Sp \",$P126)","v":"MGC Kahler Sandhasen / Sp 4"},null,{"$f":"CONCATENATE($R127,\" / Sp \",$P127)","v":"MGC Kahler Sandhasen / Sp 5"},null,{"$f":"CONCATENATE($R128,\" / Sp \",$P128)","v":"MGC Kahler Sandhasen / Sp 6"},null,null,null,null,null,null,null,null,null,null,null,null,null,null,null,null,null,0,{"$f":"IF(M5S4p>0,M5S4p,0)","v":0},{"$f":"IF(Ma1_Eing>0,Eing.Mannsch.aufstellung!$C$129,0)","v":5},{"$f":"IF(Ma1_Eing>0,Eing.Mannsch.aufstellung!$C134,0)","v":4},{"$f":"IF(M5S4p>0,M5S4,0)","v":0},{"$f":"IF(Ma1_Eing>0,Eing.Mannsch.aufstellung!$B$130,0)","v":"MGC Bad Homburg 2"},0,0,2]
[null,null,null,null,null,null,null,null,null,null,null,null,null,null,null,null,null,null,null,null,null,null,null,null,null,0,{"$f":"IF(M4S4p>0,M4S4p,0)","v":0},{"$f":"IF(Ma1_Eing>0,Eing.Mannsch.aufstellung!$C$103,0)","v":4},{"$f":"IF(Ma1_Eing>0,Eing.Mannsch.aufstellung!$C108,0)","v":4},{"$f":"IF(M4S4p>0,M4S4,0)","v":0},{"$f":"IF(Ma1_Eing>0,Eing.Mannsch.aufstellung!$B$104,0)","v":"SG Weiterstadt"},0,0,2]
[null,"St.-Gr.",{"$f":"IF(D32=0,1,0)","v":1},{"$f":"$Q129","v":0},{"$f":"IF(F32=0,1,0)","v":1},{"$f":"$Q130","v":0},{"$f":"IF(H32=0,1,0)","v":1},{"$f":"$Q131","v":0},null,null,null,null,null,null,null,null,null,null,null,null,null,null,null,null,null,0,{"$f":"IF(M3S4p>0,M3S4p,0)","v":0},{"$f":"IF(Ma1_Eing>0,Eing.Mannsch.aufstellung!$C$78,0)","v":3},{"$f":"IF(Ma1_Eing>0,Eing.Mannsch.aufstellung!$C83,0)","v":4},{"$f":"IF(M3S4p>0,M3S4,0)","v":0},{"$f":"IF(Ma1_Eing>0,Eing.Mannsch.aufstellung!$B$79,0)","v":"MGC Kahler Sandhasen"},0,0,2]
[null,{"$f":"B30+1","v":9},null,{"$f":"CONCATENATE($R129,\" / Sp \",$P129)","v":"MGC Kahler Sandhasen / Sp 7"},null,{"$f":"CONCATENATE($R130,\" / Sp \",$P130)","v":"MGC Kahler Sandhasen / Sp "},null,{"$f":"CONCATENATE($R131,\" / Sp \",$P131)","v":"MGC Kahler Sandhasen / Sp AK"},null,null,null,null,null,null,null,null,null,null,null,null,null,null,null,null,null,0,{"$f":"IF(M2S4p>0,M2S4p,0)","v":0},{"$f":"IF(Ma1_Eing>0,Eing.Mannsch.aufstellung!$C$53,0)","v":2},{"$f":"IF(Ma1_Eing>0,Eing.Mannsch.aufstellung!$C58,0)","v":4},{"$f":"IF(M2S4p>0,M2S4,0)","v":0},{"$f":"IF(Ma1_Eing>0,Eing.Mannsch.aufstellung!$B$54,0)","v":"SG Arheilgen 3"},0,0,2]
[null,null,null,null,null,null,null,null,null,null,null,null,null,null,null,null,null,null,null,null,null,null,null,null,null,0,{"$f":"IF(M1S4p>0,M1S4p,0)","v":0},{"$f":"IF(Ma1_Eing>0,Eing.Mannsch.aufstellung!$C$29,0)","v":1},{"$f":"IF(Ma1_Eing>0,Eing.Mannsch.aufstellung!$C34,0)","v":4},{"$f":"IF(M1S4p>0,M1S4,0)","v":0},{"$f":"IF(Ma1_Eing>0,Eing.Mannsch.aufstellung!$B$30,0)","v":"MGC Bad Homburg 1"},0,0,2]
[null,"St.-Gr.",{"$f":"IF(D35=0,1,0)","v":1},{"$f":"$Q132","v":0},{"$f":"IF(F35=0,1,0)","v":1},{"$f":"$Q133","v":0},{"$f":"IF(H35=0,1,0)","v":1},{"$f":"$Q134","v":0},null,null,null,null,null,null,null,null,null,null,null,null,null,null,null,null,null,0,{"$f":"IF(M7S5p>0,M7S5p,0)","v":0},{"$f":"IF(Ma1_Eing>0,Eing.Mannsch.aufstellung!$C$179,0)","v":7},{"$f":"IF(Ma1_Eing>0,Eing.Mannsch.aufstellung!$C185,0)","v":5},{"$f":"IF(M7S5p>0,M7S5,0)","v":0},{"$f":"IF(Ma1_Eing>0,Eing.Mannsch.aufstellung!$B$180,0)","v":"MGC Heringen"},0,0,2]
[null,{"$f":"B33+1","v":10},null,{"$f":"CONCATENATE($R132,\" / Sp \",$P132)","v":"SG Weiterstadt / Sp 1"},null,{"$f":"CONCATENATE($R133,\" / Sp \",$P133)","v":"SG Weiterstadt / Sp 2"},null,{"$f":"CONCATENATE($R134,\" / Sp \",$P134)","v":"SG Weiterstadt / Sp 3"},null,null,null,null,null,null,null,null,null,null,null,null,null,null,null,null,null,0,{"$f":"IF(M6S5p>0,M6S5p,0)","v":0},{"$f":"IF(Ma1_Eing>0,Eing.Mannsch.aufstellung!$C$154,0)","v":6},{"$f":"IF(Ma1_Eing>0,Eing.Mannsch.aufstellung!$C160,0)","v":5},{"$f":"IF(M6S5p>0,M6S5,0)","v":0},{"$f":"IF(Ma1_Eing>0,Eing.Mannsch.aufstellung!$B$155,0)","v":"SV Dreieichenhain"},0,0,2]
[null,null,null,null,null,null,null,null,null,null,null,null,null,null,null,null,null,null,null,null,null,null,null,null,null,0,{"$f":"IF(M5S5p>0,M5S5p,0)","v":0},{"$f":"IF(Ma1_Eing>0,Eing.Mannsch.aufstellung!$C$129,0)","v":5},{"$f":"IF(Ma1_Eing>0,Eing.Mannsch.aufstellung!$C135,0)","v":5},{"$f":"IF(M5S5p>0,M5S5,0)","v":0},{"$f":"IF(Ma1_Eing>0,Eing.Mannsch.aufstellung!$B$130,0)","v":"MGC Bad Homburg 2"},0,0,2]
[null,"St.-Gr.",{"$f":"IF(D38=0,1,0)","v":1},{"$f":"$Q135","v":0},{"$f":"IF(F38=0,1,0)","v":1},{"$f":"$Q136","v":0},{"$f":"IF(H38=0,1,0)","v":1},{"$f":"$Q137","v":0},null,null,null,null,null,null,null,null,null,null,null,null,null,null,null,null,null,0,{"$f":"IF(M4S5p>0,M4S5p,0)","v":0},{"$f":"IF(Ma1_Eing>0,Eing.Mannsch.aufstellung!$C$103,0)","v":4},{"$f":"IF(Ma1_Eing>0,Eing.Mannsch.aufstellung!$C109,0)","v":5},{"$f":"IF(M4S5p>0,M4S5,0)","v":0},{"$f":"IF(Ma1_Eing>0,Eing.Mannsch.aufstellung!$B$104,0)","v":"SG Weiterstadt"},0,0,2]
[null,{"$f":"B36+1","v":11},null,{"$f":"CONCATENATE($R135,\" / Sp \",$P135)","v":"SG Weiterstadt / Sp 4"},null,{"$f":"CONCATENATE($R136,\" / Sp \",$P136)","v":"SG Weiterstadt / Sp 5"},null,{"$f":"CONCATENATE($R137,\" / Sp \",$P137)","v":"SG Weiterstadt / Sp 6"},null,null,null,null,null,null,null,null,null,null,null,null,null,null,null,null,null,0,{"$f":"IF(M3S5p>0,M3S5p,0)","v":0},{"$f":"IF(Ma1_Eing>0,Eing.Mannsch.aufstellung!$C$78,0)","v":3},{"$f":"IF(Ma1_Eing>0,Eing.Mannsch.aufstellung!$C84,0)","v":5},{"$f":"IF(M3S5p>0,M3S5,0)","v":0},{"$f":"IF(Ma1_Eing>0,Eing.Mannsch.aufstellung!$B$79,0)","v":"MGC Kahler Sandhasen"},0,0,2]
[null,null,null,null,null,null,null,null,null,null,null,null,null,null,null,null,null,null,null,null,null,null,null,null,null,{"$f":"IF(AA40>0,Z39+1,Z39)","v":0},{"$f":"IF(M2S5p>0,M2S5p,0)","v":0},{"$f":"IF(Ma1_Eing>0,Eing.Mannsch.aufstellung!$C$53,0)","v":2},{"$f":"IF(Ma1_Eing>0,Eing.Mannsch.aufstellung!$C59,0)","v":5},{"$f":"IF(M2S5p>0,M2S5,0)","v":0},{"$f":"IF(Ma1_Eing>0,Eing.Mannsch.aufstellung!$B$54,0)","v":"SG Arheilgen 3"},0,0,2]
[null,"St.-Gr.",{"$f":"IF(D41=0,1,0)","v":1},{"$f":"$Q138","v":0},{"$f":"IF(F41=0,1,0)","v":1},{"$f":"$Q139","v":0},{"$f":"IF(H41=0,1,0)","v":1},{"$f":"$Q140","v":0},null,null,null,null,null,null,null,null,null,null,null,null,null,null,null,null,null,0,{"$f":"IF(M1S5p>0,M1S5p,0)","v":0},{"$f":"IF(Ma1_Eing>0,Eing.Mannsch.aufstellung!$C$29,0)","v":1},{"$f":"IF(Ma1_Eing>0,Eing.Mannsch.aufstellung!$C35,0)","v":5},{"$f":"IF(M1S5p>0,M1S5,0)","v":0},{"$f":"IF(Ma1_Eing>0,Eing.Mannsch.aufstellung!$B$30,0)","v":"MGC Bad Homburg 1"},0,0,2]
[null,{"$f":"B39+1","v":12},null,{"$f":"CONCATENATE($R138,\" / Sp \",$P138)","v":"SG Weiterstadt / Sp 7"},null,{"$f":"CONCATENATE($R139,\" / Sp \",$P139)","v":"SG Weiterstadt / Sp "},null,{"$f":"CONCATENATE($R140,\" / Sp \",$P140)","v":"SG Weiterstadt / Sp AK"},null,null,null,null,null,null,null,null,null,null,null,null,null,null,null,null,null,0,{"$f":"IF(M6S6p>0,M6S6p,0)","v":0},{"$f":"IF(Ma1_Eing>0,Eing.Mannsch.aufstellung!$C$154,0)","v":6},{"$f":"IF(Ma1_Eing>0,Eing.Mannsch.aufstellung!$C161,0)","v":6},{"$f":"IF(M6S6p>0,M6S6,0)","v":0},{"$f":"IF(Ma1_Eing>0,Eing.Mannsch.aufstellung!$B$155,0)","v":"SV Dreieichenhain"},0,0,2]
[null,null,null,null,null,null,null,null,null,null,null,null,null,null,null,null,null,null,null,null,null,null,null,null,null,0,{"$f":"IF(M5S6p>0,M5S6p,0)","v":0},{"$f":"IF(Ma1_Eing>0,Eing.Mannsch.aufstellung!$C$129,0)","v":5},{"$f":"IF(Ma1_Eing>0,Eing.Mannsch.aufstellung!$C136,0)","v":6},{"$f":"IF(M5S6p>0,M5S6,0)","v":0},{"$f":"IF(Ma1_Eing>0,Eing.Mannsch.aufstellung!$B$130,0)","v":"MGC Bad Homburg 2"},0,0,2]
[null,"St.-Gr.",{"$f":"IF(D44=0,1,0)","v":1},{"$f":"$Q141","v":0},{"$f":"IF(F44=0,1,0)","v":1},{"$f":"$Q142","v":0},{"$f":"IF(H44=0,1,0)","v":1},{"$f":"$Q143","v":0},null,null,null,null,null,null,null,null,null,null,null,null,null,null,null,null,null,0,{"$f":"IF(M4S6p>0,M4S6p,0)","v":0},{"$f":"IF(Ma1_Eing>0,Eing.Mannsch.aufstellung!$C$103,0)","v":4},{"$f":"IF(Ma1_Eing>0,Eing.Mannsch.aufstellung!$C110,0)","v":6},{"$f":"IF(M4S6p>0,M4S6,0)","v":0},{"$f":"IF(Ma1_Eing>0,Eing.Mannsch.aufstellung!$B$104,0)","v":"SG Weiterstadt"},0,0,2]
[null,{"$f":"B42+1","v":13},null,{"$f":"CONCATENATE($R141,\" / Sp \",$P141)","v":"MGC Bad Homburg 2 / Sp 1"},null,{"$f":"CONCATENATE($R142,\" / Sp \",$P142)","v":"MGC Bad Homburg 2 / Sp 2"},null,{"$f":"CONCATENATE($R143,\" / Sp \",$P143)","v":"MGC Bad Homburg 2 / Sp 3"},null,null,null,null,null,null,null,null,null,null,null,null,null,null,null,null,null,0,{"$f":"IF(M3S6p>0,M3S6p,0)","v":0},{"$f":"IF(Ma1_Eing>0,Eing.Mannsch.aufstellung!$C$78,0)","v":3},{"$f":"IF(Ma1_Eing>0,Eing.Mannsch.aufstellung!$C85,0)","v":6},{"$f":"IF(M3S6p>0,M3S6,0)","v":0},{"$f":"IF(Ma1_Eing>0,Eing.Mannsch.aufstellung!$B$79,0)","v":"MGC Kahler Sandhasen"},0,0,2]
[null,null,null,null,null,null,null,null,null,null,null,null,null,null,null,null,null,null,null,null,null,null,null,null,null,0,{"$f":"IF(M2S6p>0,M2S6p,0)","v":0},{"$f":"IF(Ma1_Eing>0,Eing.Mannsch.aufstellung!$C$53,0)","v":2},{"$f":"IF(Ma1_Eing>0,Eing.Mannsch.aufstellung!$C60,0)","v":6},{"$f":"IF(M2S6p>0,M2S6,0)","v":0},{"$f":"IF(Ma1_Eing>0,Eing.Mannsch.aufstellung!$B$54,0)","v":"SG Arheilgen 3"},0,0,2]
[null,"St.-Gr.",{"$f":"IF(D47=0,1,0)","v":1},{"$f":"$Q144","v":0},{"$f":"IF(F47=0,1,0)","v":1},{"$f":"$Q145","v":0},{"$f":"IF(H47=0,1,0)","v":1},{"$f":"$Q146","v":0},null,null,null,null,null,null,null,null,null,null,null,null,null,null,null,null,null,0,{"$f":"IF(M1S6p>0,M1S6p,0)","v":0},{"$f":"IF(Ma1_Eing>0,Eing.Mannsch.aufstellung!$C$29,0)","v":1},{"$f":"IF(Ma1_Eing>0,Eing.Mannsch.aufstellung!$C36,0)","v":6},{"$f":"IF(M1S6p>0,M1S6,0)","v":0},{"$f":"IF(Ma1_Eing>0,Eing.Mannsch.aufstellung!$B$30,0)","v":"MGC Bad Homburg 1"},0,0,2]
[null,{"$f":"B45+1","v":14},null,{"$f":"CONCATENATE($R144,\" / Sp \",$P144)","v":"MGC Bad Homburg 2 / Sp 4"},null,{"$f":"CONCATENATE($R145,\" / Sp \",$P145)","v":"MGC Bad Homburg 2 / Sp 5"},null,{"$f":"CONCATENATE($R146,\" / Sp \",$P146)","v":"MGC Bad Homburg 2 / Sp 6"},null,null,null,null,null,null,null,null,null,null,null,null,null,null,null,null,null,0,0,8,null,0,"Füller",{"$f":"IF($AJ$72=$AI$72,VLOOKUP($Z$73,$Z$7:$AH$69,7),0)","v":0},{"$f":"IF($AJ$72=$AI$72,VLOOKUP($Z$73,$Z$5:$AH$69,8,FALSE)-0.5,0)","v":0},{"$f":"IF($AJ$72=$AI$72,1,2)","v":2}]
[null,null,null,null,null,null,null,null,null,null,null,null,null,null,null,null,null,null,null,null,null,null,null,null,null,0,{"$f":"IF(M4S7p>0,M4S7p,0)","v":0},{"$f":"IF(Ma1_Eing>0,Eing.Mannsch.aufstellung!$C$103,0)","v":4},{"$f":"IF(Ma1_Eing>0,Eing.Mannsch.aufstellung!$C111,0)","v":7},{"$f":"IF(M4S7p>0,M4S7,0)","v":0},{"$f":"IF(Ma1_Eing>0,Eing.Mannsch.aufstellung!$B$104,0)","v":"SG Weiterstadt"},{"$f":"IF(AA49>0,IF(AC49=\"AK\",\"9\",AC49),0)","v":0},{"$f":"IF(AA49>0,AB49,0)","v":0},{"$f":"IF(AA49>0,1,2)","v":2}]
[null,"St.-Gr.",{"$f":"IF(D50=0,1,0)","v":1},{"$f":"$Q147","v":0},{"$f":"IF(F50=0,1,0)","v":1},{"$f":"$Q148","v":0},{"$f":"IF(H50=0,1,0)","v":1},{"$f":"$Q149","v":0},null,null,null,null,null,null,null,null,null,null,null,null,null,null,null,null,null,0,{"$f":"IF(M2SAKp>0,M2SAKp,0)","v":0},{"$f":"IF(Ma1_Eing>0,Eing.Mannsch.aufstellung!$C$53,0)","v":2},{"$f":"IF(Ma1_Eing>0,Eing.Mannsch.aufstellung!$C63,0)","v":"AK"},{"$f":"IF(M2SAKp>0,M2SAK,0)","v":0},{"$f":"IF(Ma1_Eing>0,Eing.Mannsch.aufstellung!$B$54,0)","v":"SG Arheilgen 3"},0,0,2]
[null,{"$f":"B48+1","v":15},null,{"$f":"CONCATENATE($R147,\" / Sp \",$P147)","v":"MGC Bad Homburg 2 / Sp 7"},null,{"$f":"CONCATENATE($R148,\" / Sp \",$P148)","v":"MGC Bad Homburg 2 / Sp "},null,{"$f":"CONCATENATE($R149,\" / Sp \",$P149)","v":"MGC Bad Homburg 2 / Sp AK"},null,null,null,null,null,null,null,null,null,null,null,null,null,null,null,null,null,0,{"$f":"IF(M1S7p>0,M1S7p,0)","v":0},{"$f":"IF(Ma1_Eing>0,Eing.Mannsch.aufstellung!$C$29,0)","v":1},{"$f":"IF(Ma1_Eing>0,Eing.Mannsch.aufstellung!$C37,0)","v":7},{"$f":"IF(M1S7p>0,M1S7,0)","v":0},{"$f":"IF(Ma1_Eing>0,Eing.Mannsch.aufstellung!$B$30,0)","v":"MGC Bad Homburg 1"},0,0,2]
[null,null,null,null,null,null,null,null,null,null,null,null,null,null,null,null,null,null,null,null,null,null,null,null,null,0,{"$f":"IF(M1S8p>0,M1S8p,0)","v":0},{"$f":"IF(Ma1_Eing>0,Eing.Mannsch.aufstellung!$C$29,0)","v":1},{"$f":"IF(Ma1_Eing>0,Eing.Mannsch.aufstellung!$C38,0)","v":""},{"$f":"IF(M1S8p>0,M1S8,0)","v":0},{"$f":"IF(Ma1_Eing>0,Eing.Mannsch.aufstellung!$B$30,0)","v":"MGC Bad Homburg 1"},0,0,2]
[null,"St.-Gr.",{"$f":"IF(D53=0,1,0)","v":1},{"$f":"$Q150","v":0},{"$f":"IF(F53=0,1,0)","v":1},{"$f":"$Q151","v":0},{"$f":"IF(H53=0,1,0)","v":1},{"$f":"$Q152","v":0},null,null,null,null,null,null,null,null,null,null,null,null,null,null,null,null,null,0,{"$f":"IF(M1SAKp>0,M1SAKp,0)","v":0},{"$f":"IF(Ma1_Eing>0,Eing.Mannsch.aufstellung!$C$29,0)","v":1},{"$f":"IF(Ma1_Eing>0,Eing.Mannsch.aufstellung!$C39,0)","v":"AK"},{"$f":"IF(M1SAKp>0,M1SAK,0)","v":0},{"$f":"IF(Ma1_Eing>0,Eing.Mannsch.aufstellung!$B$30,0)","v":"MGC Bad Homburg 1"},0,0,2]
[null,{"$f":"B51+1","v":16},null,{"$f":"CONCATENATE($R150,\" / Sp \",$P150)","v":"SV Dreieichenhain / Sp 1"},null,{"$f":"CONCATENATE($R151,\" / Sp \",$P151)","v":"SV Dreieichenhain / Sp 2"},null,{"$f":"CONCATENATE($R152,\" / Sp \",$P152)","v":"SV Dreieichenhain / Sp 3"},null,null,null,null,null,null,null,null,null,null,null,null,null,null,null,null,null,0,{"$f":"IF(M2S7p>0,M2S7p,0)","v":0},{"$f":"IF(Ma1_Eing>0,Eing.Mannsch.aufstellung!$C$53,0)","v":2},{"$f":"IF(Ma1_Eing>0,Eing.Mannsch.aufstellung!$C61,0)","v":7},{"$f":"IF(M2S7p>0,M2S7,0)","v":0},{"$f":"IF(Ma1_Eing>0,Eing.Mannsch.aufstellung!$B$54,0)","v":"SG Arheilgen 3"},0,0,2]
[null,null,null,null,null,null,null,null,null,null,null,null,null,null,null,null,null,null,null,null,null,null,null,null,null,0,{"$f":"IF(M2S8p>0,M2S8p,0)","v":0},{"$f":"IF(Ma1_Eing>0,Eing.Mannsch.aufstellung!$C$53,0)","v":2},{"$f":"IF(Ma1_Eing>0,Eing.Mannsch.aufstellung!$C62,0)","v":""},{"$f":"IF(M2S8p>0,M2S8,0)","v":0},{"$f":"IF(Ma1_Eing>0,Eing.Mannsch.aufstellung!$B$54,0)","v":"SG Arheilgen 3"},0,0,2]
[null,"St.-Gr.",{"$f":"IF(D56=0,1,0)","v":1},{"$f":"$Q153","v":0},{"$f":"IF(F56=0,1,0)","v":1},{"$f":"$Q154","v":0},{"$f":"IF(H56=0,1,0)","v":1},{"$f":"$Q155","v":0},null,null,null,null,null,null,null,null,null,null,null,null,null,null,null,null,null,0,{"$f":"IF(M3S7p>0,M3S7p,0)","v":0},{"$f":"IF(Ma1_Eing>0,Eing.Mannsch.aufstellung!$C$78,0)","v":3},{"$f":"IF(Ma1_Eing>0,Eing.Mannsch.aufstellung!$C86,0)","v":7},{"$f":"IF(M3S7p>0,M3S7,0)","v":0},{"$f":"IF(Ma1_Eing>0,Eing.Mannsch.aufstellung!$B$79,0)","v":"MGC Kahler Sandhasen"},0,0,2]
[null,{"$f":"B54+1","v":17},null,{"$f":"CONCATENATE($R153,\" / Sp \",$P153)","v":"SV Dreieichenhain / Sp 4"},null,{"$f":"CONCATENATE($R154,\" / Sp \",$P154)","v":"SV Dreieichenhain / Sp 5"},null,{"$f":"CONCATENATE($R155,\" / Sp \",$P155)","v":"SV Dreieichenhain / Sp 6"},null,null,null,null,null,null,null,null,null,null,null,null,null,null,null,null,null,0,{"$f":"IF(M3S8p>0,M3S8p,0)","v":0},{"$f":"IF(Ma1_Eing>0,Eing.Mannsch.aufstellung!$C$78,0)","v":3},{"$f":"IF(Ma1_Eing>0,Eing.Mannsch.aufstellung!$C87,0)","v":""},{"$f":"IF(M3S8p>0,M3S8,0)","v":0},{"$f":"IF(Ma1_Eing>0,Eing.Mannsch.aufstellung!$B$79,0)","v":"MGC Kahler Sandhasen"},0,0,2]
[null,null,null,null,null,null,null,null,null,null,null,null,null,null,null,null,null,null,null,null,null,null,null,null,null,0,{"$f":"IF(M3SAKp>0,M3SAKp,0)","v":0},{"$f":"IF(Ma1_Eing>0,Eing.Mannsch.aufstellung!$C$78,0)","v":3},{"$f":"IF(Ma1_Eing>0,Eing.Mannsch.aufstellung!$C88,0)","v":"AK"},{"$f":"IF(M3SAKp>0,M3SAK,0)","v":0},{"$f":"IF(Ma1_Eing>0,Eing.Mannsch.aufstellung!$B$79,0)","v":"MGC Kahler Sandhasen"},0,0,2]
[null,"St.-Gr.",{"$f":"IF(D59=0,1,0)","v":1},{"$f":"$Q156","v":0},{"$f":"IF(F59=0,1,0)","v":1},{"$f":"$Q157","v":0},{"$f":"IF(H59=0,1,0)","v":1},{"$f":"$Q158","v":0},null,null,null,null,null,null,null,null,null,null,null,null,null,null,null,null,null,0,{"$f":"IF(M4S8p>0,M4S8p,0)","v":0},{"$f":"IF(Ma1_Eing>0,Eing.Mannsch.aufstellung!$C$103,0)","v":4},{"$f":"IF(Ma1_Eing>0,Eing.Mannsch.aufstellung!$C112,0)","v":""},{"$f":"IF(M4S8p>0,M4S8,0)","v":0},{"$f":"IF(Ma1_Eing>0,Eing.Mannsch.aufstellung!$B$104,0)","v":"SG Weiterstadt"},0,0,2]
[null,{"$f":"B57+1","v":18},null,{"$f":"CONCATENATE($R156,\" / Sp \",$P156)","v":"SV Dreieichenhain / Sp 7"},null,{"$f":"CONCATENATE($R157,\" / Sp \",$P157)","v":"SV Dreieichenhain / Sp "},null,{"$f":"CONCATENATE($R158,\" / Sp \",$P158)","v":"SV Dreieichenhain / Sp AK"},null,null,null,null,null,null,null,null,null,null,null,null,null,null,null,null,null,0,{"$f":"IF(M4SAKp>0,M4SAKp,0)","v":0},{"$f":"IF(Ma1_Eing>0,Eing.Mannsch.aufstellung!$C$103,0)","v":4},{"$f":"IF(Ma1_Eing>0,Eing.Mannsch.aufstellung!$C113,0)","v":"AK"},{"$f":"IF(M4SAKp>0,M4SAK,0)","v":0},{"$f":"IF(Ma1_Eing>0,Eing.Mannsch.aufstellung!$B$104,0)","v":"SG Weiterstadt"},0,0,2]
[null,null,null,null,null,null,null,null,null,null,null,null,null,null,null,null,null,null,null,null,null,null,null,null,null,0,{"$f":"IF(M5S7p>0,M5S7p,0)","v":0},{"$f":"IF(Ma1_Eing>0,Eing.Mannsch.aufstellung!$C$129,0)","v":5},{"$f":"IF(Ma1_Eing>0,Eing.Mannsch.aufstellung!$C137,0)","v":7},{"$f":"IF(M5S7p>0,M5S7,0)","v":0},{"$f":"IF(Ma1_Eing>0,Eing.Mannsch.aufstellung!$B$130,0)","v":"MGC Bad Homburg 2"},0,0,2]
[null,"St.-Gr.",{"$f":"IF(D62=0,1,0)","v":1},{"$f":"$Q159","v":0},{"$f":"IF(F62=0,1,0)","v":1},{"$f":"$Q160","v":0},{"$f":"IF(H62=0,1,0)","v":1},{"$f":"$Q161","v":0},null,null,null,null,null,null,null,null,null,null,null,null,null,null,null,null,null,0,{"$f":"IF(M5S8p>0,M5S8p,0)","v":0},{"$f":"IF(Ma1_Eing>0,Eing.Mannsch.aufstellung!$C$129,0)","v":5},{"$f":"IF(Ma1_Eing>0,Eing.Mannsch.aufstellung!$C138,0)","v":""},{"$f":"IF(M5S8p>0,M5S8,0)","v":0},{"$f":"IF(Ma1_Eing>0,Eing.Mannsch.aufstellung!$B$130,0)","v":"MGC Bad Homburg 2"},0,0,2]
[null,{"$f":"B60+1","v":19},null,{"$f":"CONCATENATE($R159,\" / Sp \",$P159)","v":"MGC Heringen / Sp 1"},null,{"$f":"CONCATENATE($R160,\" / Sp \",$P160)","v":"MGC Heringen / Sp 2"},null,{"$f":"CONCATENATE($R161,\" / Sp \",$P161)","v":"MGC Heringen / Sp 3"},null,null,null,null,null,null,null,null,null,null,null,null,null,null,null,null,null,0,{"$f":"IF(M5SAKp>0,M5SAKp,0)","v":0},{"$f":"IF(Ma1_Eing>0,Eing.Mannsch.aufstellung!$C$129,0)","v":5},{"$f":"IF(Ma1_Eing>0,Eing.Mannsch.aufstellung!$C139,0)","v":"AK"},{"$f":"IF(M5SAKp>0,M5SAK,0)","v":0},{"$f":"IF(Ma1_Eing>0,Eing.Mannsch.aufstellung!$B$130,0)","v":"MGC Bad Homburg 2"},0,0,2]
[null,null,null,null,null,null,null,null,null,null,null,null,null,null,null,null,null,null,null,null,null,null,null,null,null,0,{"$f":"IF(M6S7p>0,M6S7p,0)","v":0},{"$f":"IF(Ma1_Eing>0,Eing.Mannsch.aufstellung!$C$154,0)","v":6},{"$f":"IF(Ma1_Eing>0,Eing.Mannsch.aufstellung!$C162,0)","v":7},{"$f":"IF(M6S7p>0,M6S7,0)","v":0},{"$f":"IF(Ma1_Eing>0,Eing.Mannsch.aufstellung!$B$155,0)","v":"SV Dreieichenhain"},0,0,2]
[null,"St.-Gr.",{"$f":"IF(D65=0,1,0)","v":1},{"$f":"$Q162","v":0},{"$f":"IF(F65=0,1,0)","v":1},{"$f":"$Q163","v":0},{"$f":"IF(H65=0,1,0)","v":1},{"$f":"$Q164","v":0},null,null,null,null,null,null,null,null,null,null,null,null,null,null,null,null,null,0,{"$f":"IF(M6S8p>0,M6S8p,0)","v":0},{"$f":"IF(Ma1_Eing>0,Eing.Mannsch.aufstellung!$C$154,0)","v":6},{"$f":"IF(Ma1_Eing>0,Eing.Mannsch.aufstellung!$C163,0)","v":""},{"$f":"IF(M6S8p>0,M6S8,0)","v":0},{"$f":"IF(Ma1_Eing>0,Eing.Mannsch.aufstellung!$B$155,0)","v":"SV Dreieichenhain"},0,0,2]
[null,{"$f":"B63+1","v":20},null,{"$f":"CONCATENATE($R162,\" / Sp \",$P162)","v":"MGC Heringen / Sp 4"},null,{"$f":"CONCATENATE($R163,\" / Sp \",$P163)","v":"MGC Heringen / Sp 5"},null,{"$f":"CONCATENATE($R164,\" / Sp \",$P164)","v":"MGC Heringen / Sp 6"},null,null,null,null,null,null,null,null,null,null,null,null,null,null,null,null,null,0,{"$f":"IF(M6SAKp>0,M6SAKp,0)","v":0},{"$f":"IF(Ma1_Eing>0,Eing.Mannsch.aufstellung!$C$154,0)","v":6},{"$f":"IF(Ma1_Eing>0,Eing.Mannsch.aufstellung!$C164,0)","v":"AK"},{"$f":"IF(M6SAKp>0,M6SAK,0)","v":0},{"$f":"IF(Ma1_Eing>0,Eing.Mannsch.aufstellung!$B$155,0)","v":"SV Dreieichenhain"},0,0,2]
[null,null,null,null,null,null,null,null,null,null,null,null,null,null,null,null,null,null,null,null,null,null,null,null,null,0,{"$f":"IF(M7S6p>0,M7S6p,0)","v":0},{"$f":"IF(Ma1_Eing>0,Eing.Mannsch.aufstellung!$C$179,0)","v":7},{"$f":"IF(Ma1_Eing>0,Eing.Mannsch.aufstellung!$C186,0)","v":6},{"$f":"IF(M7S6p>0,M7S6,0)","v":0},{"$f":"IF(Ma1_Eing>0,Eing.Mannsch.aufstellung!$B$180,0)","v":"MGC Heringen"},0,0,2]
[null,"St.-Gr.",{"$f":"IF(D68=0,1,0)","v":1},{"$f":"$Q165","v":0},{"$f":"IF(F68=0,1,0)","v":1},{"$f":"$Q166","v":0},{"$f":"IF(H68=0,1,0)","v":1},{"$f":"$Q167","v":0},null,null,null,null,null,null,null,null,null,null,null,null,null,null,null,null,null,0,{"$f":"IF(M7S7p>0,M7S7p,0)","v":0},{"$f":"IF(Ma1_Eing>0,Eing.Mannsch.aufstellung!$C$179,0)","v":7},{"$f":"IF(Ma1_Eing>0,Eing.Mannsch.aufstellung!$C187,0)","v":7},{"$f":"IF(M7S7p>0,M7S7,0)","v":0},{"$f":"IF(Ma1_Eing>0,Eing.Mannsch.aufstellung!$B$180,0)","v":"MGC Heringen"},0,0,2]
[null,{"$f":"B66+1","v":21},null,{"$f":"CONCATENATE($R165,\" / Sp \",$P165)","v":"MGC Heringen / Sp 7"},null,{"$f":"CONCATENATE($R166,\" / Sp \",$P166)","v":"MGC Heringen / Sp "},null,{"$f":"CONCATENATE($R167,\" / Sp \",$P167)","v":"MGC Heringen / Sp AK"},null,null,null,null,null,null,null,null,null,null,null,null,null,null,null,null,null,0,{"$f":"IF(M7S8p>0,M7S8p,0)","v":0},{"$f":"IF(Ma1_Eing>0,Eing.Mannsch.aufstellung!$C$179,0)","v":7},{"$f":"IF(Ma1_Eing>0,Eing.Mannsch.aufstellung!$C188,0)","v":""},{"$f":"IF(M7S8p>0,M7S8,0)","v":0},{"$f":"IF(Ma1_Eing>0,Eing.Mannsch.aufstellung!$B$180,0)","v":"MGC Heringen"},0,0,2]
[null,null,null,null,null,null,null,null,null,null,null,null,null,null,null,null,null,null,null,null,null,null,null,null,null,0,{"$f":"IF(M7SAKp>0,M7SAKp,0)","v":0},{"$f":"IF(Ma1_Eing>0,Eing.Mannsch.aufstellung!$C$179,0)","v":7},{"$f":"IF(Ma1_Eing>0,Eing.Mannsch.aufstellung!$C189,0)","v":"AK"},{"$f":"IF(M7SAKp>0,M7SAK,0)","v":0},{"$f":"IF(Ma1_Eing>0,Eing.Mannsch.aufstellung!$B$180,0)","v":"MGC Heringen"},0,0,2,null,{"$f":"INT(AJ71)","v":0}]
[null,null,null,null,null,null,null,null,null,null,null,null,null,null,null,null,null,null,null,null,null,null,null,null,null,null,null,null,null,null,null,null,null,null,{"$f":"COUNTIF(AA7:AA69,\">0\")","v":0},{"$f":"AI71/3","v":0}]
[null,null,null,null,null,null,null,null,null,null,null,null,null,null,null,null,null,null,null,null,null,null,null,null,null,null,null,null,null,null,null,{"$f":"AnzMa","v":7},null,null,0.33300000000000002,{"$f":"ROUND(AJ71-AJ70,3)","v":0}]
[null,null,null,null,null,null,null,null,null,null,null,null,null,null,null,null,null,null,null,null,null,null,null,null,null,{"$f":"MAX(Z7:Z69)-2","v":-2},null,null,null,"Sortierreihenfolge",null,"2.","3.","1."]
[]
[]
[]
[]
[]
[]
[]
[]
[]
[]
[]
[]
[]
[]
[]
[]
[]
[]
[]
[]
[]
[]
[]
[]
[]
[]
[null,null,null,null,null,null,null,null,null,null,null,null,null,"",null,null,null,null,". Spieltag         "]
[null,null,null,null,null,null,null,null,null,null,null,null,null,"Paßnr","Mannsch Nr","Spieler Nr","Name","Verein","StNr - Spieler","StNr _Mannsch","Belegt ja/nein"]
[]
[]
[]
[null,null,null,null,null,null,null,null,null,null,null,null,{"$f":"IF(N105>0,1,0)","v":0},{"$f":"IF(M1S1p>0,M1S1p,0)","v":0},{"$f":"IF(Ma1_Eing>0,Eing.Mannsch.aufstellung!$C$29,0)","v":1},{"$f":"IF(Ma1_Eing>0,Eing.Mannsch.aufstellung!$C31,0)","v":1},{"$f":"IF(M1S1p>0,M1S1,0)","v":0},{"$f":"IF(Ma1_Eing>0,Eing.Mannsch.aufstellung!$B$30,0)","v":"MGC Bad Homburg 1"},{"$f":"IF(N105>0,IF(P105=\"AK\",9,P105),0)","v":0},{"$f":"IF(N105>0,O105,0)","v":0},{"$f":"IF(N105>0,1,2)","v":2}]
[null,null,null,null,null,null,null,null,null,null,null,null,{"$f":"IF(N106>0,M105+1,M105)","v":0},{"$f":"IF(M1S2p>0,M1S2p,0)","v":0},{"$f":"IF(Ma1_Eing>0,Eing.Mannsch.aufstellung!$C$29,0)","v":1},{"$f":"IF(Ma1_Eing>0,Eing.Mannsch.aufstellung!$C32,0)","v":2},{"$f":"IF(M1S2p>0,M1S2,0)","v":0},{"$f":"IF(Ma1_Eing>0,Eing.Mannsch.aufstellung!$B$30,0)","v":"MGC Bad Homburg 1"},{"$f":"IF(N106>0,IF(P106=\"AK\",9,P106),0)","v":0},{"$f":"IF(N106>0,O106,0)","v":0},{"$f":"IF(N106>0,1,2)","v":2},1]
[null,null,null,null,null,null,null,null,null,null,null,null,0,{"$f":"IF(M1S3p>0,M1S3p,0)","v":0},{"$f":"IF(Ma1_Eing>0,Eing.Mannsch.aufstellung!$C$29,0)","v":1},{"$f":"IF(Ma1_Eing>0,Eing.Mannsch.aufstellung!$C33,0)","v":3},{"$f":"IF(M1S3p>0,M1S3,0)","v":0},{"$f":"IF(Ma1_Eing>0,Eing.Mannsch.aufstellung!$B$30,0)","v":"MGC Bad Homburg 1"},{"$f":"IF(N107>0,IF(P107=\"AK\",9,P107),0)","v":0},{"$f":"IF(N107>0,O107,0)","v":0},{"$f":"IF(N107>0,1,2)","v":2}]
[null,null,null,null,null,null,null,null,null,null,null,null,0,{"$f":"IF(M1S4p>0,M1S4p,0)","v":0},{"$f":"IF(Ma1_Eing>0,Eing.Mannsch.aufstellung!$C$29,0)","v":1},{"$f":"IF(Ma1_Eing>0,Eing.Mannsch.aufstellung!$C34,0)","v":4},{"$f":"IF(M1S4p>0,M1S4,0)","v":0},{"$f":"IF(Ma1_Eing>0,Eing.Mannsch.aufstellung!$B$30,0)","v":"MGC Bad Homburg 1"},{"$f":"IF(N108>0,IF(P108=\"AK\",9,P108),0)","v":0},{"$f":"IF(N108>0,O108,0)","v":0},{"$f":"IF(N108>0,1,2)","v":2}]
[null,null,null,null,null,null,null,null,null,null,null,null,0,{"$f":"IF(M1S5p>0,M1S5p,0)","v":0},{"$f":"IF(Ma1_Eing>0,Eing.Mannsch.aufstellung!$C$29,0)","v":1},{"$f":"IF(Ma1_Eing>0,Eing.Mannsch.aufstellung!$C35,0)","v":5},{"$f":"IF(M1S5p>0,M1S5,0)","v":0},{"$f":"IF(Ma1_Eing>0,Eing.Mannsch.aufstellung!$B$30,0)","v":"MGC Bad Homburg 1"},{"$f":"IF(N109>0,IF(P109=\"AK\",9,P109),0)","v":0},{"$f":"IF(N109>0,O109,0)","v":0},{"$f":"IF(N109>0,1,2)","v":2},2]
[null,null,null,null,null,null,null,null,null,null,null,null,0,{"$f":"IF(M1S6p>0,M1S6p,0)","v":0},{"$f":"IF(Ma1_Eing>0,Eing.Mannsch.aufstellung!$C$29,0)","v":1},{"$f":"IF(Ma1_Eing>0,Eing.Mannsch.aufstellung!$C36,0)","v":6},{"$f":"IF(M1S6p>0,M1S6,0)","v":0},{"$f":"IF(Ma1_Eing>0,Eing.Mannsch.aufstellung!$B$30,0)","v":"MGC Bad Homburg 1"},{"$f":"IF(N110>0,IF(P110=\"AK\",9,P110),0)","v":0},{"$f":"IF(N110>0,O110,0)","v":0},{"$f":"IF(N110>0,1,2)","v":2}]
[null,null,null,null,null,null,null,null,null,null,null,null,0,{"$f":"IF(M1S7p>0,M1S7p,0)","v":0},{"$f":"IF(Ma1_Eing>0,Eing.Mannsch.aufstellung!$C$29,0)","v":1},{"$f":"IF(Ma1_Eing>0,Eing.Mannsch.aufstellung!$C37,0)","v":7},{"$f":"IF(M1S7p>0,M1S7,0)","v":0},{"$f":"IF(Ma1_Eing>0,Eing.Mannsch.aufstellung!$B$30,0)","v":"MGC Bad Homburg 1"},{"$f":"IF(N111>0,IF(P111=\"AK\",9,P111),0)","v":0},{"$f":"IF(N111>0,O111,0)","v":0},{"$f":"IF(N111>0,1,2)","v":2}]
[null,null,null,null,null,null,null,null,null,null,null,null,0,{"$f":"IF(M1S8p>0,M1S8p,0)","v":0},{"$f":"IF(Ma1_Eing>0,Eing.Mannsch.aufstellung!$C$29,0)","v":1},{"$f":"IF(Ma1_Eing>0,Eing.Mannsch.aufstellung!$C38,0)","v":""},{"$f":"IF(M1S8p>0,M1S8,0)","v":0},{"$f":"IF(Ma1_Eing>0,Eing.Mannsch.aufstellung!$B$30,0)","v":"MGC Bad Homburg 1"},{"$f":"IF(N112>0,IF(P112=\"AK\",9,P112),0)","v":0},{"$f":"IF(N112>0,O112,0)","v":0},{"$f":"IF(N112>0,1,2)","v":2},3]
[null,null,null,null,null,null,null,null,null,null,null,null,0,{"$f":"IF(M1SAKp>0,M1SAKp,0)","v":0},{"$f":"IF(Ma1_Eing>0,Eing.Mannsch.aufstellung!$C$29,0)","v":1},{"$f":"IF(Ma1_Eing>0,Eing.Mannsch.aufstellung!$C39,0)","v":"AK"},{"$f":"IF(M1SAKp>0,M1SAK,0)","v":0},{"$f":"IF(Ma1_Eing>0,Eing.Mannsch.aufstellung!$B$30,0)","v":"MGC Bad Homburg 1"},{"$f":"IF(N113>0,IF(P113=\"AK\",9,P113),0)","v":0},{"$f":"IF(N113>0,O113,0)","v":0},{"$f":"IF(N113>0,1,2)","v":2}]
[null,null,null,null,null,null,null,null,null,null,null,null,0,{"$f":"IF(M2S1p>0,M2S1p,0)","v":0},{"$f":"IF(Ma1_Eing>0,Eing.Mannsch.aufstellung!$C$53,0)","v":2},{"$f":"IF(Ma1_Eing>0,Eing.Mannsch.aufstellung!$C55,0)","v":1},{"$f":"IF(M2S1p>0,M2S1,0)","v":0},{"$f":"IF(Ma1_Eing>0,Eing.Mannsch.aufstellung!$B$54,0)","v":"SG Arheilgen 3"},{"$f":"IF(N114>0,IF(P114=\"AK\",9,P114),0)","v":0},{"$f":"IF(N114>0,O114,0)","v":0},{"$f":"IF(N114>0,1,2)","v":2}]
[null,null,null,null,null,null,null,null,null,null,null,null,0,{"$f":"IF(M2S2p>0,M2S2p,0)","v":0},{"$f":"IF(Ma1_Eing>0,Eing.Mannsch.aufstellung!$C$53,0)","v":2},{"$f":"IF(Ma1_Eing>0,Eing.Mannsch.aufstellung!$C56,0)","v":2},{"$f":"IF(M2S2p>0,M2S2,0)","v":0},{"$f":"IF(Ma1_Eing>0,Eing.Mannsch.aufstellung!$B$54,0)","v":"SG Arheilgen 3"},{"$f":"IF(N115>0,IF(P115=\"AK\",9,P115),0)","v":0},{"$f":"IF(N115>0,O115,0)","v":0},{"$f":"IF(N115>0,1,2)","v":2},4]
[null,null,null,null,null,null,null,null,null,null,null,null,0,{"$f":"IF(M2S3p>0,M2S3p,0)","v":0},{"$f":"IF(Ma1_Eing>0,Eing.Mannsch.aufstellung!$C$53,0)","v":2},{"$f":"IF(Ma1_Eing>0,Eing.Mannsch.aufstellung!$C57,0)","v":3},{"$f":"IF(M2S3p>0,M2S3,0)","v":0},{"$f":"IF(Ma1_Eing>0,Eing.Mannsch.aufstellung!$B$54,0)","v":"SG Arheilgen 3"},{"$f":"IF(N116>0,IF(P116=\"AK\",9,P116),0)","v":0},{"$f":"IF(N116>0,O116,0)","v":0},{"$f":"IF(N116>0,1,2)","v":2}]
[null,null,null,null,null,null,null,null,null,null,null,null,0,{"$f":"IF(M2S4p>0,M2S4p,0)","v":0},{"$f":"IF(Ma1_Eing>0,Eing.Mannsch.aufstellung!$C$53,0)","v":2},{"$f":"IF(Ma1_Eing>0,Eing.Mannsch.aufstellung!$C58,0)","v":4},{"$f":"IF(M2S4p>0,M2S4,0)","v":0},{"$f":"IF(Ma1_Eing>0,Eing.Mannsch.aufstellung!$B$54,0)","v":"SG Arheilgen 3"},{"$f":"IF(N117>0,IF(P117=\"AK\",9,P117),0)","v":0},{"$f":"IF(N117>0,O117,0)","v":0},{"$f":"IF(N117>0,1,2)","v":2}]
[null,null,null,null,null,null,null,null,null,null,null,null,0,{"$f":"IF(M2S5p>0,M2S5p,0)","v":0},{"$f":"IF(Ma1_Eing>0,Eing.Mannsch.aufstellung!$C$53,0)","v":2},{"$f":"IF(Ma1_Eing>0,Eing.Mannsch.aufstellung!$C59,0)","v":5},{"$f":"IF(M2S5p>0,M2S5,0)","v":0},{"$f":"IF(Ma1_Eing>0,Eing.Mannsch.aufstellung!$B$54,0)","v":"SG Arheilgen 3"},{"$f":"IF(N118>0,IF(P118=\"AK\",9,P118),0)","v":0},{"$f":"IF(N118>0,O118,0)","v":0},{"$f":"IF(N118>0,1,2)","v":2},5]
[null,null,null,null,null,null,null,null,null,null,null,null,0,{"$f":"IF(M2S6p>0,M2S6p,0)","v":0},{"$f":"IF(Ma1_Eing>0,Eing.Mannsch.aufstellung!$C$53,0)","v":2},{"$f":"IF(Ma1_Eing>0,Eing.Mannsch.aufstellung!$C60,0)","v":6},{"$f":"IF(M2S6p>0,M2S6,0)","v":0},{"$f":"IF(Ma1_Eing>0,Eing.Mannsch.aufstellung!$B$54,0)","v":"SG Arheilgen 3"},{"$f":"IF(N119>0,IF(P119=\"AK\",9,P119),0)","v":0},{"$f":"IF(N119>0,O119,0)","v":0},{"$f":"IF(N119>0,1,2)","v":2}]
[null,null,null,null,null,null,null,null,null,null,null,null,0,{"$f":"IF(M2S7p>0,M2S7p,0)","v":0},{"$f":"IF(Ma1_Eing>0,Eing.Mannsch.aufstellung!$C$53,0)","v":2},{"$f":"IF(Ma1_Eing>0,Eing.Mannsch.aufstellung!$C61,0)","v":7},{"$f":"IF(M2S7p>0,M2S7,0)","v":0},{"$f":"IF(Ma1_Eing>0,Eing.Mannsch.aufstellung!$B$54,0)","v":"SG Arheilgen 3"},{"$f":"IF(N120>0,IF(P120=\"AK\",9,P120),0)","v":0},{"$f":"IF(N120>0,O120,0)","v":0},{"$f":"IF(N120>0,1,2)","v":2}]
[null,null,null,null,null,null,null,null,null,null,null,null,0,{"$f":"IF(M2S8p>0,M2S8p,0)","v":0},{"$f":"IF(Ma1_Eing>0,Eing.Mannsch.aufstellung!$C$53,0)","v":2},{"$f":"IF(Ma1_Eing>0,Eing.Mannsch.aufstellung!$C62,0)","v":""},{"$f":"IF(M2S8p>0,M2S8,0)","v":0},{"$f":"IF(Ma1_Eing>0,Eing.Mannsch.aufstellung!$B$54,0)","v":"SG Arheilgen 3"},{"$f":"IF(N121>0,IF(P121=\"AK\",9,P121),0)","v":0},{"$f":"IF(N121>0,O121,0)","v":0},{"$f":"IF(N121>0,1,2)","v":2},6]
[null,null,null,null,null,null,null,null,null,null,null,null,0,{"$f":"IF(M2SAKp>0,M2SAKp,0)","v":0},{"$f":"IF(Ma1_Eing>0,Eing.Mannsch.aufstellung!$C$53,0)","v":2},{"$f":"IF(Ma1_Eing>0,Eing.Mannsch.aufstellung!$C63,0)","v":"AK"},{"$f":"IF(M2SAKp>0,M2SAK,0)","v":0},{"$f":"IF(Ma1_Eing>0,Eing.Mannsch.aufstellung!$B$54,0)","v":"SG Arheilgen 3"},{"$f":"IF(N122>0,IF(P122=\"AK\",9,P122),0)","v":0},{"$f":"IF(N122>0,O122,0)","v":0},{"$f":"IF(N122>0,1,2)","v":2}]
[null,null,null,null,null,null,null,null,null,null,null,null,0,{"$f":"IF(M3S1p>0,M3S1p,0)","v":0},{"$f":"IF(Ma3_Eing>0,Eing.Mannsch.aufstellung!$C$78,0)","v":3},{"$f":"IF(Ma3_Eing>0,Eing.Mannsch.aufstellung!$C80,0)","v":1},{"$f":"IF(M3S1p>0,M3S1,0)","v":0},{"$f":"IF(Ma1_Eing>0,Eing.Mannsch.aufstellung!$B$79,0)","v":"MGC Kahler Sandhasen"},{"$f":"IF(N123>0,IF(P123=\"AK\",9,P123),0)","v":0},{"$f":"IF(N123>0,O123,0)","v":0},{"$f":"IF(N123>0,1,2)","v":2}]
[null,null,null,null,null,null,null,null,null,null,null,null,0,{"$f":"IF(M3S2p>0,M3S2p,0)","v":0},{"$f":"IF(Ma3_Eing>0,Eing.Mannsch.aufstellung!$C$78,0)","v":3},{"$f":"IF(Ma3_Eing>0,Eing.Mannsch.aufstellung!$C81,0)","v":2},{"$f":"IF(M3S2p>0,M3S2,0)","v":0},{"$f":"IF(Ma1_Eing>0,Eing.Mannsch.aufstellung!$B$79,0)","v":"MGC Kahler Sandhasen"},{"$f":"IF(N124>0,IF(P124=\"AK\",9,P124),0)","v":0},{"$f":"IF(N124>0,O124,0)","v":0},{"$f":"IF(N124>0,1,2)","v":2},7]
[null,null,null,null,null,null,null,null,null,null,null,null,0,{"$f":"IF(M3S3p>0,M3S3p,0)","v":0},{"$f":"IF(Ma3_Eing>0,Eing.Mannsch.aufstellung!$C$78,0)","v":3},{"$f":"IF(Ma3_Eing>0,Eing.Mannsch.aufstellung!$C82,0)","v":3},{"$f":"IF(M3S3p>0,M3S3,0)","v":0},{"$f":"IF(Ma1_Eing>0,Eing.Mannsch.aufstellung!$B$79,0)","v":"MGC Kahler Sandhasen"},{"$f":"IF(N125>0,IF(P125=\"AK\",9,P125),0)","v":0},{"$f":"IF(N125>0,O125,0)","v":0},{"$f":"IF(N125>0,1,2)","v":2}]
[null,null,null,null,null,null,null,null,null,null,null,null,0,{"$f":"IF(M3S4p>0,M3S4p,0)","v":0},{"$f":"IF(Ma3_Eing>0,Eing.Mannsch.aufstellung!$C$78,0)","v":3},{"$f":"IF(Ma3_Eing>0,Eing.Mannsch.aufstellung!$C83,0)","v":4},{"$f":"IF(M3S4p>0,M3S4,0)","v":0},{"$f":"IF(Ma1_Eing>0,Eing.Mannsch.aufstellung!$B$79,0)","v":"MGC Kahler Sandhasen"},{"$f":"IF(N126>0,IF(P126=\"AK\",9,P126),0)","v":0},{"$f":"IF(N126>0,O126,0)","v":0},{"$f":"IF(N126>0,1,2)","v":2}]
[null,null,null,null,null,null,null,null,null,null,null,null,0,{"$f":"IF(M3S5p>0,M3S5p,0)","v":0},{"$f":"IF(Ma3_Eing>0,Eing.Mannsch.aufstellung!$C$78,0)","v":3},{"$f":"IF(Ma3_Eing>0,Eing.Mannsch.aufstellung!$C84,0)","v":5},{"$f":"IF(M3S5p>0,M3S5,0)","v":0},{"$f":"IF(Ma1_Eing>0,Eing.Mannsch.aufstellung!$B$79,0)","v":"MGC Kahler Sandhasen"},{"$f":"IF(N127>0,IF(P127=\"AK\",9,P127),0)","v":0},{"$f":"IF(N127>0,O127,0)","v":0},{"$f":"IF(N127>0,1,2)","v":2},8]
[null,null,null,null,null,null,null,null,null,null,null,null,0,{"$f":"IF(M3S6p>0,M3S6p,0)","v":0},{"$f":"IF(Ma3_Eing>0,Eing.Mannsch.aufstellung!$C$78,0)","v":3},{"$f":"IF(Ma3_Eing>0,Eing.Mannsch.aufstellung!$C85,0)","v":6},{"$f":"IF(M3S6p>0,M3S6,0)","v":0},{"$f":"IF(Ma1_Eing>0,Eing.Mannsch.aufstellung!$B$79,0)","v":"MGC Kahler Sandhasen"},{"$f":"IF(N128>0,IF(P128=\"AK\",9,P128),0)","v":0},{"$f":"IF(N128>0,O128,0)","v":0},{"$f":"IF(N128>0,1,2)","v":2}]
[null,null,null,null,null,null,null,null,null,null,null,null,0,{"$f":"IF(M3S7p>0,M3S7p,0)","v":0},{"$f":"IF(Ma3_Eing>0,Eing.Mannsch.aufstellung!$C$78,0)","v":3},{"$f":"IF(Ma3_Eing>0,Eing.Mannsch.aufstellung!$C86,0)","v":7},{"$f":"IF(M3S7p>0,M3S7,0)","v":0},{"$f":"IF(Ma1_Eing>0,Eing.Mannsch.aufstellung!$B$79,0)","v":"MGC Kahler Sandhasen"},{"$f":"IF(N129>0,IF(P129=\"AK\",9,P129),0)","v":0},{"$f":"IF(N129>0,O129,0)","v":0},{"$f":"IF(N129>0,1,2)","v":2}]
[null,null,null,null,null,null,null,null,null,null,null,null,0,{"$f":"IF(M3S8p>0,M3S8p,0)","v":0},{"$f":"IF(Ma3_Eing>0,Eing.Mannsch.aufstellung!$C$78,0)","v":3},{"$f":"IF(Ma3_Eing>0,Eing.Mannsch.aufstellung!$C87,0)","v":""},{"$f":"IF(M3S8p>0,M3S8,0)","v":0},{"$f":"IF(Ma1_Eing>0,Eing.Mannsch.aufstellung!$B$79,0)","v":"MGC Kahler Sandhasen"},{"$f":"IF(N130>0,IF(P130=\"AK\",9,P130),0)","v":0},{"$f":"IF(N130>0,O130,0)","v":0},{"$f":"IF(N130>0,1,2)","v":2},9]
[null,null,null,null,null,null,null,null,null,null,null,null,0,{"$f":"IF(M3SAKp>0,M3SAKp,0)","v":0},{"$f":"IF(Ma3_Eing>0,Eing.Mannsch.aufstellung!$C$78,0)","v":3},{"$f":"IF(Ma3_Eing>0,Eing.Mannsch.aufstellung!$C88,0)","v":"AK"},{"$f":"IF(M3SAKp>0,M3SAK,0)","v":0},{"$f":"IF(Ma1_Eing>0,Eing.Mannsch.aufstellung!$B$79,0)","v":"MGC Kahler Sandhasen"},{"$f":"IF(N131>0,IF(P131=\"AK\",9,P131),0)","v":0},{"$f":"IF(N131>0,O131,0)","v":0},{"$f":"IF(N131>0,1,2)","v":2}]
[null,null,null,null,null,null,null,null,null,null,null,null,0,{"$f":"IF(M4S1p>0,M4S1p,0)","v":0},{"$f":"IF(Ma1_Eing>0,Eing.Mannsch.aufstellung!$C$103,0)","v":4},{"$f":"IF(Ma1_Eing>0,Eing.Mannsch.aufstellung!$C105,0)","v":1},{"$f":"IF(M4S1p>0,M4S1,0)","v":0},{"$f":"IF(Ma1_Eing>0,Eing.Mannsch.aufstellung!$B$104,0)","v":"SG Weiterstadt"},{"$f":"IF(N132>0,IF(P132=\"AK\",9,P132),0)","v":0},{"$f":"IF(N132>0,O132,0)","v":0},{"$f":"IF(N132>0,1,2)","v":2}]
[null,null,null,null,null,null,null,null,null,null,null,null,0,{"$f":"IF(M4S2p>0,M4S2p,0)","v":0},{"$f":"IF(Ma1_Eing>0,Eing.Mannsch.aufstellung!$C$103,0)","v":4},{"$f":"IF(Ma1_Eing>0,Eing.Mannsch.aufstellung!$C106,0)","v":2},{"$f":"IF(M4S2p>0,M4S2,0)","v":0},{"$f":"IF(Ma1_Eing>0,Eing.Mannsch.aufstellung!$B$104,0)","v":"SG Weiterstadt"},{"$f":"IF(N133>0,IF(P133=\"AK\",9,P133),0)","v":0},{"$f":"IF(N133>0,O133,0)","v":0},{"$f":"IF(N133>0,1,2)","v":2},10]
[null,null,null,null,null,null,null,null,null,null,null,null,0,{"$f":"IF(M4S3p>0,M4S3p,0)","v":0},{"$f":"IF(Ma1_Eing>0,Eing.Mannsch.aufstellung!$C$103,0)","v":4},{"$f":"IF(Ma1_Eing>0,Eing.Mannsch.aufstellung!$C107,0)","v":3},{"$f":"IF(M4S3p>0,M4S3,0)","v":0},{"$f":"IF(Ma1_Eing>0,Eing.Mannsch.aufstellung!$B$104,0)","v":"SG Weiterstadt"},{"$f":"IF(N134>0,IF(P134=\"AK\",9,P134),0)","v":0},{"$f":"IF(N134>0,O134,0)","v":0},{"$f":"IF(N134>0,1,2)","v":2}]
[null,null,null,null,null,null,null,null,null,null,null,null,0,{"$f":"IF(M4S4p>0,M4S4p,0)","v":0},{"$f":"IF(Ma1_Eing>0,Eing.Mannsch.aufstellung!$C$103,0)","v":4},{"$f":"IF(Ma1_Eing>0,Eing.Mannsch.aufstellung!$C108,0)","v":4},{"$f":"IF(M4S4p>0,M4S4,0)","v":0},{"$f":"IF(Ma1_Eing>0,Eing.Mannsch.aufstellung!$B$104,0)","v":"SG Weiterstadt"},{"$f":"IF(N135>0,IF(P135=\"AK\",9,P135),0)","v":0},{"$f":"IF(N135>0,O135,0)","v":0},{"$f":"IF(N135>0,1,2)","v":2}]
[null,null,null,null,null,null,null,null,null,null,null,null,0,{"$f":"IF(M4S5p>0,M4S5p,0)","v":0},{"$f":"IF(Ma1_Eing>0,Eing.Mannsch.aufstellung!$C$103,0)","v":4},{"$f":"IF(Ma1_Eing>0,Eing.Mannsch.aufstellung!$C109,0)","v":5},{"$f":"IF(M4S5p>0,M4S5,0)","v":0},{"$f":"IF(Ma1_Eing>0,Eing.Mannsch.aufstellung!$B$104,0)","v":"SG Weiterstadt"},{"$f":"IF(N136>0,IF(P136=\"AK\",9,P136),0)","v":0},{"$f":"IF(N136>0,O136,0)","v":0},{"$f":"IF(N136>0,1,2)","v":2},11]
[null,null,null,null,null,null,null,null,null,null,null,null,0,{"$f":"IF(M4S6p>0,M4S6p,0)","v":0},{"$f":"IF(Ma1_Eing>0,Eing.Mannsch.aufstellung!$C$103,0)","v":4},{"$f":"IF(Ma1_Eing>0,Eing.Mannsch.aufstellung!$C110,0)","v":6},{"$f":"IF(M4S6p>0,M4S6,0)","v":0},{"$f":"IF(Ma1_Eing>0,Eing.Mannsch.aufstellung!$B$104,0)","v":"SG Weiterstadt"},{"$f":"IF(N137>0,IF(P137=\"AK\",9,P137),0)","v":0},{"$f":"IF(N137>0,O137,0)","v":0},{"$f":"IF(N137>0,1,2)","v":2}]
[null,null,null,null,null,null,null,null,null,null,null,null,0,{"$f":"IF(M4S7p>0,M4S7p,0)","v":0},{"$f":"IF(Ma1_Eing>0,Eing.Mannsch.aufstellung!$C$103,0)","v":4},{"$f":"IF(Ma1_Eing>0,Eing.Mannsch.aufstellung!$C111,0)","v":7},{"$f":"IF(M4S7p>0,M4S7,0)","v":0},{"$f":"IF(Ma1_Eing>0,Eing.Mannsch.aufstellung!$B$104,0)","v":"SG Weiterstadt"},{"$f":"IF(N138>0,IF(P138=\"AK\",9,P138),0)","v":0},{"$f":"IF(N138>0,O138,0)","v":0},{"$f":"IF(N138>0,1,2)","v":2}]
[null,null,null,null,null,null,null,null,null,null,null,null,0,{"$f":"IF(M4S8p>0,M4S8p,0)","v":0},{"$f":"IF(Ma1_Eing>0,Eing.Mannsch.aufstellung!$C$103,0)","v":4},{"$f":"IF(Ma1_Eing>0,Eing.Mannsch.aufstellung!$C112,0)","v":""},{"$f":"IF(M4S8p>0,M4S8,0)","v":0},{"$f":"IF(Ma1_Eing>0,Eing.Mannsch.aufstellung!$B$104,0)","v":"SG Weiterstadt"},{"$f":"IF(N139>0,IF(P139=\"AK\",9,P139),0)","v":0},{"$f":"IF(N139>0,O139,0)","v":0},{"$f":"IF(N139>0,1,2)","v":2},12]
[null,null,null,null,null,null,null,null,null,null,null,null,0,{"$f":"IF(M4SAKp>0,M4SAKp,0)","v":0},{"$f":"IF(Ma1_Eing>0,Eing.Mannsch.aufstellung!$C$103,0)","v":4},{"$f":"IF(Ma1_Eing>0,Eing.Mannsch.aufstellung!$C113,0)","v":"AK"},{"$f":"IF(M4SAKp>0,M4SAK,0)","v":0},{"$f":"IF(Ma1_Eing>0,Eing.Mannsch.aufstellung!$B$104,0)","v":"SG Weiterstadt"},{"$f":"IF(N140>0,IF(P140=\"AK\",9,P140),0)","v":0},{"$f":"IF(N140>0,O140,0)","v":0},{"$f":"IF(N140>0,1,2)","v":2}]
[null,null,null,null,null,null,null,null,null,null,null,null,0,{"$f":"IF(M5S1p>0,M5S1p,0)","v":0},{"$f":"IF(Ma1_Eing>0,Eing.Mannsch.aufstellung!$C$129,0)","v":5},{"$f":"IF(Ma1_Eing>0,Eing.Mannsch.aufstellung!$C131,0)","v":1},{"$f":"IF(M5S1p>0,M5S1,0)","v":0},{"$f":"IF(Ma1_Eing>0,Eing.Mannsch.aufstellung!$B$130,0)","v":"MGC Bad Homburg 2"},{"$f":"IF(N141>0,IF(P141=\"AK\",9,P141),0)","v":0},{"$f":"IF(N141>0,O141,0)","v":0},{"$f":"IF(N141>0,1,2)","v":2}]
[null,null,null,null,null,null,null,null,null,null,null,null,0,{"$f":"IF(M5S2p>0,M5S2p,0)","v":0},{"$f":"IF(Ma1_Eing>0,Eing.Mannsch.aufstellung!$C$129,0)","v":5},{"$f":"IF(Ma1_Eing>0,Eing.Mannsch.aufstellung!$C132,0)","v":2},{"$f":"IF(M5S2p>0,M5S2,0)","v":0},{"$f":"IF(Ma1_Eing>0,Eing.Mannsch.aufstellung!$B$130,0)","v":"MGC Bad Homburg 2"},{"$f":"IF(N142>0,IF(P142=\"AK\",9,P142),0)","v":0},{"$f":"IF(N142>0,O142,0)","v":0},{"$f":"IF(N142>0,1,2)","v":2},13]
[null,null,null,null,null,null,null,null,null,null,null,null,0,{"$f":"IF(M5S3p>0,M5S3p,0)","v":0},{"$f":"IF(Ma1_Eing>0,Eing.Mannsch.aufstellung!$C$129,0)","v":5},{"$f":"IF(Ma1_Eing>0,Eing.Mannsch.aufstellung!$C133,0)","v":3},{"$f":"IF(M5S3p>0,M5S3,0)","v":0},{"$f":"IF(Ma1_Eing>0,Eing.Mannsch.aufstellung!$B$130,0)","v":"MGC Bad Homburg 2"},{"$f":"IF(N143>0,IF(P143=\"AK\",9,P143),0)","v":0},{"$f":"IF(N143>0,O143,0)","v":0},{"$f":"IF(N143>0,1,2)","v":2}]
[null,null,null,null,null,null,null,null,null,null,null,null,0,{"$f":"IF(M5S4p>0,M5S4p,0)","v":0},{"$f":"IF(Ma1_Eing>0,Eing.Mannsch.aufstellung!$C$129,0)","v":5},{"$f":"IF(Ma1_Eing>0,Eing.Mannsch.aufstellung!$C134,0)","v":4},{"$f":"IF(M5S4p>0,M5S4,0)","v":0},{"$f":"IF(Ma1_Eing>0,Eing.Mannsch.aufstellung!$B$130,0)","v":"MGC Bad Homburg 2"},{"$f":"IF(N144>0,IF(P144=\"AK\",9,P144),0)","v":0},{"$f":"IF(N144>0,O144,0)","v":0},{"$f":"IF(N144>0,1,2)","v":2}]
[null,null,null,null,null,null,null,null,null,null,null,null,0,{"$f":"IF(M5S5p>0,M5S5p,0)","v":0},{"$f":"IF(Ma1_Eing>0,Eing.Mannsch.aufstellung!$C$129,0)","v":5},{"$f":"IF(Ma1_Eing>0,Eing.Mannsch.aufstellung!$C135,0)","v":5},{"$f":"IF(M5S5p>0,M5S5,0)","v":0},{"$f":"IF(Ma1_Eing>0,Eing.Mannsch.aufstellung!$B$130,0)","v":"MGC Bad Homburg 2"},{"$f":"IF(N145>0,IF(P145=\"AK\",9,P145),0)","v":0},{"$f":"IF(N145>0,O145,0)","v":0},{"$f":"IF(N145>0,1,2)","v":2},14]
[null,null,null,null,null,null,null,null,null,null,null,null,0,{"$f":"IF(M5S6p>0,M5S6p,0)","v":0},{"$f":"IF(Ma1_Eing>0,Eing.Mannsch.aufstellung!$C$129,0)","v":5},{"$f":"IF(Ma1_Eing>0,Eing.Mannsch.aufstellung!$C136,0)","v":6},{"$f":"IF(M5S6p>0,M5S6,0)","v":0},{"$f":"IF(Ma1_Eing>0,Eing.Mannsch.aufstellung!$B$130,0)","v":"MGC Bad Homburg 2"},{"$f":"IF(N146>0,IF(P146=\"AK\",9,P146),0)","v":0},{"$f":"IF(N146>0,O146,0)","v":0},{"$f":"IF(N146>0,1,2)","v":2}]
[null,null,null,null,null,null,null,null,null,null,null,null,0,{"$f":"IF(M5S7p>0,M5S7p,0)","v":0},{"$f":"IF(Ma1_Eing>0,Eing.Mannsch.aufstellung!$C$129,0)","v":5},{"$f":"IF(Ma1_Eing>0,Eing.Mannsch.aufstellung!$C137,0)","v":7},{"$f":"IF(M5S7p>0,M5S7,0)","v":0},{"$f":"IF(Ma1_Eing>0,Eing.Mannsch.aufstellung!$B$130,0)","v":"MGC Bad Homburg 2"},{"$f":"IF(N147>0,IF(P147=\"AK\",9,P147),0)","v":0},{"$f":"IF(N147>0,O147,0)","v":0},{"$f":"IF(N147>0,1,2)","v":2}]
[null,null,null,null,null,null,null,null,null,null,null,null,0,{"$f":"IF(M5S8p>0,M5S8p,0)","v":0},{"$f":"IF(Ma1_Eing>0,Eing.Mannsch.aufstellung!$C$129,0)","v":5},{"$f":"IF(Ma1_Eing>0,Eing.Mannsch.aufstellung!$C138,0)","v":""},{"$f":"IF(M5S8p>0,M5S8,0)","v":0},{"$f":"IF(Ma1_Eing>0,Eing.Mannsch.aufstellung!$B$130,0)","v":"MGC Bad Homburg 2"},{"$f":"IF(N148>0,IF(P148=\"AK\",9,P148),0)","v":0},{"$f":"IF(N148>0,O148,0)","v":0},{"$f":"IF(N148>0,1,2)","v":2},15]
[null,null,null,null,null,null,null,null,null,null,null,null,0,{"$f":"IF(M5SAKp>0,M5SAKp,0)","v":0},{"$f":"IF(Ma1_Eing>0,Eing.Mannsch.aufstellung!$C$129,0)","v":5},{"$f":"IF(Ma1_Eing>0,Eing.Mannsch.aufstellung!$C139,0)","v":"AK"},{"$f":"IF(M5SAKp>0,M5SAK,0)","v":0},{"$f":"IF(Ma1_Eing>0,Eing.Mannsch.aufstellung!$B$130,0)","v":"MGC Bad Homburg 2"},{"$f":"IF(N149>0,IF(P149=\"AK\",9,P149),0)","v":0},{"$f":"IF(N149>0,O149,0)","v":0},{"$f":"IF(N149>0,1,2)","v":2}]
[null,null,null,null,null,null,null,null,null,null,null,null,0,{"$f":"IF(M6S1p>0,M6S1p,0)","v":0},{"$f":"IF(Ma1_Eing>0,Eing.Mannsch.aufstellung!$C$154,0)","v":6},{"$f":"IF(Ma1_Eing>0,Eing.Mannsch.aufstellung!$C156,0)","v":1},{"$f":"IF(M6S1p>0,M6S1,0)","v":0},{"$f":"IF(Ma1_Eing>0,Eing.Mannsch.aufstellung!$B$155,0)","v":"SV Dreieichenhain"},{"$f":"IF(N150>0,IF(P150=\"AK\",9,P150),0)","v":0},{"$f":"IF(N150>0,O150,0)","v":0},{"$f":"IF(N150>0,1,2)","v":2}]
[null,null,null,null,null,null,null,null,null,null,null,null,0,{"$f":"IF(M6S2p>0,M6S2p,0)","v":0},{"$f":"IF(Ma1_Eing>0,Eing.Mannsch.aufstellung!$C$154,0)","v":6},{"$f":"IF(Ma1_Eing>0,Eing.Mannsch.aufstellung!$C157,0)","v":2},{"$f":"IF(M6S2p>0,M6S2,0)","v":0},{"$f":"IF(Ma1_Eing>0,Eing.Mannsch.aufstellung!$B$155,0)","v":"SV Dreieichenhain"},{"$f":"IF(N151>0,IF(P151=\"AK\",9,P151),0)","v":0},{"$f":"IF(N151>0,O151,0)","v":0},{"$f":"IF(N151>0,1,2)","v":2},16]
[null,null,null,null,null,null,null,null,null,null,null,null,0,{"$f":"IF(M6S3p>0,M6S3p,0)","v":0},{"$f":"IF(Ma1_Eing>0,Eing.Mannsch.aufstellung!$C$154,0)","v":6},{"$f":"IF(Ma1_Eing>0,Eing.Mannsch.aufstellung!$C158,0)","v":3},{"$f":"IF(M6S3p>0,M6S3,0)","v":0},{"$f":"IF(Ma1_Eing>0,Eing.Mannsch.aufstellung!$B$155,0)","v":"SV Dreieichenhain"},{"$f":"IF(N152>0,IF(P152=\"AK\",9,P152),0)","v":0},{"$f":"IF(N152>0,O152,0)","v":0},{"$f":"IF(N152>0,1,2)","v":2}]
[null,null,null,null,null,null,null,null,null,null,null,null,0,{"$f":"IF(M6S4p>0,M6S4p,0)","v":0},{"$f":"IF(Ma1_Eing>0,Eing.Mannsch.aufstellung!$C$154,0)","v":6},{"$f":"IF(Ma1_Eing>0,Eing.Mannsch.aufstellung!$C159,0)","v":4},{"$f":"IF(M6S4p>0,M6S4,0)","v":0},{"$f":"IF(Ma1_Eing>0,Eing.Mannsch.aufstellung!$B$155,0)","v":"SV Dreieichenhain"},{"$f":"IF(N153>0,IF(P153=\"AK\",9,P153),0)","v":0},{"$f":"IF(N153>0,O153,0)","v":0},{"$f":"IF(N153>0,1,2)","v":2}]
[null,null,null,null,null,null,null,null,null,null,null,null,0,{"$f":"IF(M6S5p>0,M6S5p,0)","v":0},{"$f":"IF(Ma1_Eing>0,Eing.Mannsch.aufstellung!$C$154,0)","v":6},{"$f":"IF(Ma1_Eing>0,Eing.Mannsch.aufstellung!$C160,0)","v":5},{"$f":"IF(M6S5p>0,M6S5,0)","v":0},{"$f":"IF(Ma1_Eing>0,Eing.Mannsch.aufstellung!$B$155,0)","v":"SV Dreieichenhain"},{"$f":"IF(N154>0,IF(P154=\"AK\",9,P154),0)","v":0},{"$f":"IF(N154>0,O154,0)","v":0},{"$f":"IF(N154>0,1,2)","v":2},17]
[null,null,null,null,null,null,null,null,null,null,null,null,0,{"$f":"IF(M6S6p>0,M6S6p,0)","v":0},{"$f":"IF(Ma1_Eing>0,Eing.Mannsch.aufstellung!$C$154,0)","v":6},{"$f":"IF(Ma1_Eing>0,Eing.Mannsch.aufstellung!$C161,0)","v":6},{"$f":"IF(M6S6p>0,M6S6,0)","v":0},{"$f":"IF(Ma1_Eing>0,Eing.Mannsch.aufstellung!$B$155,0)","v":"SV Dreieichenhain"},{"$f":"IF(N155>0,IF(P155=\"AK\",9,P155),0)","v":0},{"$f":"IF(N155>0,O155,0)","v":0},{"$f":"IF(N155>0,1,2)","v":2}]
[null,null,null,null,null,null,null,null,null,null,null,null,0,{"$f":"IF(M6S7p>0,M6S7p,0)","v":0},{"$f":"IF(Ma1_Eing>0,Eing.Mannsch.aufstellung!$C$154,0)","v":6},{"$f":"IF(Ma1_Eing>0,Eing.Mannsch.aufstellung!$C162,0)","v":7},{"$f":"IF(M6S7p>0,M6S7,0)","v":0},{"$f":"IF(Ma1_Eing>0,Eing.Mannsch.aufstellung!$B$155,0)","v":"SV Dreieichenhain"},{"$f":"IF(N156>0,IF(P156=\"AK\",9,P156),0)","v":0},{"$f":"IF(N156>0,O156,0)","v":0},{"$f":"IF(N156>0,1,2)","v":2}]
[null,null,null,null,null,null,null,null,null,null,null,null,0,{"$f":"IF(M6S8p>0,M6S8p,0)","v":0},{"$f":"IF(Ma1_Eing>0,Eing.Mannsch.aufstellung!$C$154,0)","v":6},{"$f":"IF(Ma1_Eing>0,Eing.Mannsch.aufstellung!$C163,0)","v":""},{"$f":"IF(M6S8p>0,M6S8,0)","v":0},{"$f":"IF(Ma1_Eing>0,Eing.Mannsch.aufstellung!$B$155,0)","v":"SV Dreieichenhain"},{"$f":"IF(N157>0,IF(P157=\"AK\",9,P157),0)","v":0},{"$f":"IF(N157>0,O157,0)","v":0},{"$f":"IF(N157>0,1,2)","v":2},18]
[null,null,null,null,null,null,null,null,null,null,null,null,0,{"$f":"IF(M6SAKp>0,M6SAKp,0)","v":0},{"$f":"IF(Ma1_Eing>0,Eing.Mannsch.aufstellung!$C$154,0)","v":6},{"$f":"IF(Ma1_Eing>0,Eing.Mannsch.aufstellung!$C164,0)","v":"AK"},{"$f":"IF(M6SAKp>0,M6SAK,0)","v":0},{"$f":"IF(Ma1_Eing>0,Eing.Mannsch.aufstellung!$B$155,0)","v":"SV Dreieichenhain"},{"$f":"IF(N158>0,IF(P158=\"AK\",9,P158),0)","v":0},{"$f":"IF(N158>0,O158,0)","v":0},{"$f":"IF(N158>0,1,2)","v":2}]
[null,null,null,null,null,null,null,null,null,null,null,null,0,{"$f":"IF(M7S1p>0,M7S1p,0)","v":0},{"$f":"IF(Ma1_Eing>0,Eing.Mannsch.aufstellung!$C$179,0)","v":7},{"$f":"IF(Ma1_Eing>0,Eing.Mannsch.aufstellung!$C181,0)","v":1},{"$f":"IF(M7S1p>0,M7S1,0)","v":0},{"$f":"IF(Ma1_Eing>0,Eing.Mannsch.aufstellung!$B$180,0)","v":"MGC Heringen"},{"$f":"IF(N159>0,IF(P159=\"AK\",9,P159),0)","v":0},{"$f":"IF(N159>0,O159,0)","v":0},{"$f":"IF(N159>0,1,2)","v":2}]
[null,null,null,null,null,null,null,null,null,null,null,null,0,{"$f":"IF(M7S2p>0,M7S2p,0)","v":0},{"$f":"IF(Ma1_Eing>0,Eing.Mannsch.aufstellung!$C$179,0)","v":7},{"$f":"IF(Ma1_Eing>0,Eing.Mannsch.aufstellung!$C182,0)","v":2},{"$f":"IF(M7S2p>0,M7S2,0)","v":0},{"$f":"IF(Ma1_Eing>0,Eing.Mannsch.aufstellung!$B$180,0)","v":"MGC Heringen"},{"$f":"IF(N160>0,IF(P160=\"AK\",9,P160),0)","v":0},{"$f":"IF(N160>0,O160,0)","v":0},{"$f":"IF(N160>0,1,2)","v":2},19]
[null,null,null,null,null,null,null,null,null,null,null,null,0,{"$f":"IF(M7S3p>0,M7S3p,0)","v":0},{"$f":"IF(Ma1_Eing>0,Eing.Mannsch.aufstellung!$C$179,0)","v":7},{"$f":"IF(Ma1_Eing>0,Eing.Mannsch.aufstellung!$C183,0)","v":3},{"$f":"IF(M7S3p>0,M7S3,0)","v":0},{"$f":"IF(Ma1_Eing>0,Eing.Mannsch.aufstellung!$B$180,0)","v":"MGC Heringen"},{"$f":"IF(N161>0,IF(P161=\"AK\",9,P161),0)","v":0},{"$f":"IF(N161>0,O161,0)","v":0},{"$f":"IF(N161>0,1,2)","v":2}]
[null,null,null,null,null,null,null,null,null,null,null,null,0,{"$f":"IF(M7S4p>0,M7S4p,0)","v":0},{"$f":"IF(Ma1_Eing>0,Eing.Mannsch.aufstellung!$C$179,0)","v":7},{"$f":"IF(Ma1_Eing>0,Eing.Mannsch.aufstellung!$C184,0)","v":4},{"$f":"IF(M7S4p>0,M7S4,0)","v":0},{"$f":"IF(Ma1_Eing>0,Eing.Mannsch.aufstellung!$B$180,0)","v":"MGC Heringen"},{"$f":"IF(N162>0,IF(P162=\"AK\",9,P162),0)","v":0},{"$f":"IF(N162>0,O162,0)","v":0},{"$f":"IF(N162>0,1,2)","v":2}]
[null,null,null,null,null,null,null,null,null,null,null,null,0,{"$f":"IF(M7S5p>0,M7S5p,0)","v":0},{"$f":"IF(Ma1_Eing>0,Eing.Mannsch.aufstellung!$C$179,0)","v":7},{"$f":"IF(Ma1_Eing>0,Eing.Mannsch.aufstellung!$C185,0)","v":5},{"$f":"IF(M7S5p>0,M7S5,0)","v":0},{"$f":"IF(Ma1_Eing>0,Eing.Mannsch.aufstellung!$B$180,0)","v":"MGC Heringen"},{"$f":"IF(N163>0,IF(P163=\"AK\",9,P163),0)","v":0},{"$f":"IF(N163>0,O163,0)","v":0},{"$f":"IF(N163>0,1,2)","v":2},20]
[null,null,null,null,null,null,null,null,null,null,null,null,0,{"$f":"IF(M7S6p>0,M7S6p,0)","v":0},{"$f":"IF(Ma1_Eing>0,Eing.Mannsch.aufstellung!$C$179,0)","v":7},{"$f":"IF(Ma1_Eing>0,Eing.Mannsch.aufstellung!$C186,0)","v":6},{"$f":"IF(M7S6p>0,M7S6,0)","v":0},{"$f":"IF(Ma1_Eing>0,Eing.Mannsch.aufstellung!$B$180,0)","v":"MGC Heringen"},{"$f":"IF(N164>0,IF(P164=\"AK\",9,P164),0)","v":0},{"$f":"IF(N164>0,O164,0)","v":0},{"$f":"IF(N164>0,1,2)","v":2}]
[null,null,null,null,null,null,null,null,null,null,null,null,0,{"$f":"IF(M7S7p>0,M7S7p,0)","v":0},{"$f":"IF(Ma1_Eing>0,Eing.Mannsch.aufstellung!$C$179,0)","v":7},{"$f":"IF(Ma1_Eing>0,Eing.Mannsch.aufstellung!$C187,0)","v":7},{"$f":"IF(M7S7p>0,M7S7,0)","v":0},{"$f":"IF(Ma1_Eing>0,Eing.Mannsch.aufstellung!$B$180,0)","v":"MGC Heringen"},{"$f":"IF(N165>0,IF(P165=\"AK\",9,P165),0)","v":0},{"$f":"IF(N165>0,O165,0)","v":0},{"$f":"IF(N165>0,1,2)","v":2}]
[null,null,null,null,null,null,null,null,null,null,null,null,0,{"$f":"IF(M7S8p>0,M7S8p,0)","v":0},{"$f":"IF(Ma1_Eing>0,Eing.Mannsch.aufstellung!$C$179,0)","v":7},{"$f":"IF(Ma1_Eing>0,Eing.Mannsch.aufstellung!$C188,0)","v":""},{"$f":"IF(M7S8p>0,M7S8,0)","v":0},{"$f":"IF(Ma1_Eing>0,Eing.Mannsch.aufstellung!$B$180,0)","v":"MGC Heringen"},{"$f":"IF(N166>0,IF(P166=\"AK\",9,P166),0)","v":0},{"$f":"IF(N166>0,O166,0)","v":0},{"$f":"IF(N166>0,1,2)","v":2}]
[null,null,null,null,null,null,null,null,null,null,null,null,0,{"$f":"IF(M7SAKp>0,M7SAKp,0)","v":0},{"$f":"IF(Ma1_Eing>0,Eing.Mannsch.aufstellung!$C$179,0)","v":7},{"$f":"IF(Ma1_Eing>0,Eing.Mannsch.aufstellung!$C189,0)","v":"AK"},{"$f":"IF(M7SAKp>0,M7SAK,0)","v":0},{"$f":"IF(Ma1_Eing>0,Eing.Mannsch.aufstellung!$B$180,0)","v":"MGC Heringen"},{"$f":"IF(N167>0,IF(P167=\"AK\",9,P167),0)","v":0},{"$f":"IF(N167>0,O167,0)","v":0},{"$f":"IF(N167>0,1,2)","v":2}]
[null,null,null,null,null,null,null,null,null,null,null,null,0,null,7.5,1]
[null,null,null,null,null,null,null,null,null,null,null,null,0,{"$f":"IF(ESES3p>0,ESES3p,0)","v":0},8,{"$f":"IF(ESES3p>0,ESES3,0)","v":0},{"$f":"IF(ESES3p>0,ESES3n,0)","v":0},{"$f":"IF(ESES3p>0,ESES3Ver,0)","v":0},{"$f":"IF(N169>0,9.5,0)","v":0},{"$f":"IF(N169>0,O169,0)","v":0},{"$f":"IF(N169>0,1,2)","v":2}]
[null,null,null,null,null,null,null,null,null,null,null,null,0,{"$f":"IF(ESES4p>0,ESES4p,0)","v":0},8,{"$f":"IF(ESES4p>0,ESES4,0)","v":0},{"$f":"IF(ESES4p>0,ESES4n,0)","v":0},{"$f":"IF(ESES4p>0,ESES4Ver,0)","v":0},{"$f":"IF(N170>0,9.5,0)","v":0},{"$f":"IF(N170>0,O170,0)","v":0},{"$f":"IF(N170>0,1,2)","v":2}]
[null,null,null,null,null,null,null,null,null,null,null,null,0,{"$f":"IF(ESES5p>0,ESES5p,0)","v":0},8,{"$f":"IF(ESES5p>0,ESES5,0)","v":0},{"$f":"IF(ESES5p>0,ESES5n,0)","v":0},{"$f":"IF(ESES5p>0,ESES5Ver,0)","v":0},{"$f":"IF(N171>0,9.5,0)","v":0},{"$f":"IF(N171>0,O171,0)","v":0},{"$f":"IF(N171>0,1,2)","v":2}]
[null,null,null,null,null,null,null,null,null,null,null,null,0,{"$f":"IF(ESES6p>0,ESES6p,0)","v":0},8,{"$f":"IF(ESES6p>0,ESES6,0)","v":0},{"$f":"IF(ESES6p>0,ESES6n,0)","v":0},{"$f":"IF(ESES6p>0,ESES6VER,0)","v":0},{"$f":"IF(N172>0,9.5,0)","v":0},{"$f":"IF(N172>0,O172,0)","v":0},{"$f":"IF(N172>0,1,2)","v":2}]
[null,null,null,null,null,null,null,null,null,null,null,null,0,{"$f":"IF(ESES7p>0,ESES7p,0)","v":0},8,{"$f":"IF(ESES7p>0,ESES7,0)","v":0},{"$f":"IF(ESES7p>0,ESES7n,0)","v":0},{"$f":"IF(ESES7p>0,ESES7VER,0)","v":0},{"$f":"IF(N173>0,9.5,0)","v":0},{"$f":"IF(N173>0,O173,0)","v":0},{"$f":"IF(N173>0,1,2)","v":2}]
[null,null,null,null,null,null,null,null,null,null,null,null,0,{"$f":"IF(ESES8p>0,ESES8p,0)","v":0},8,{"$f":"IF(ESES8p>0,ESES8,0)","v":0},{"$f":"IF(ESES8p>0,ESES8n,0)","v":0},{"$f":"IF(ESES8p>0,ESES8Ver,0)","v":0},{"$f":"IF(N174>0,9.5,0)","v":0},{"$f":"IF(N174>0,O174,0)","v":0},{"$f":"IF(N174>0,1,2)","v":2}]
[null,null,null,null,null,null,null,null,null,null,null,null,0,{"$f":"IF(ESES9p>0,ESES9p,0)","v":0},8,{"$f":"IF(ESES9p>0,ESES9,0)","v":0},{"$f":"IF(ESES9p>0,ESES9n,0)","v":0},{"$f":"IF(ESES9p>0,ESES9Ver,0)","v":0},{"$f":"IF(N175>0,9.5,0)","v":0},{"$f":"IF(N175>0,O175,0)","v":0},{"$f":"IF(N175>0,1,2)","v":2}]
[null,null,null,null,null,null,null,null,null,null,null,null,0,{"$f":"IF(ESES10p>0,ESES10p,0)","v":0},8,{"$f":"IF(ESES10p>0,ESES10,0)","v":0},{"$f":"IF(ESES10p>0,ESES10n,0)","v":0},{"$f":"IF(ESES10p>0,ESES10Ver,0)","v":0},{"$f":"IF(N176>0,9.5,0)","v":0},{"$f":"IF(N176>0,O176,0)","v":0},{"$f":"IF(N176>0,1,2)","v":2}]
[null,null,null,null,null,null,null,null,null,null,null,null,0,{"$f":"IF(ESES11p>0,ESES11p,0)","v":0},8,{"$f":"IF(ESES11p>0,ESES11,0)","v":0},{"$f":"IF(ESES11p>0,ESES11n,0)","v":0},{"$f":"IF(ESES11p>0,ESES11Ver,0)","v":0},{"$f":"IF(N177>0,9.5,0)","v":0},{"$f":"IF(N177>0,O177,0)","v":0},{"$f":"IF(N177>0,1,2)","v":2}]
[null,null,null,null,null,null,null,null,null,null,null,null,0,{"$f":"IF(ESES12p>0,ESES12p,0)","v":0},8,{"$f":"IF(ESES12p>0,ESES12,0)","v":0},{"$f":"IF(ESES12p>0,ESES12n,0)","v":0},{"$f":"IF(ESES12p>0,ESES12Ver,0)","v":0},{"$f":"IF(N178>0,9.5,0)","v":0},{"$f":"IF(N178>0,O178,0)","v":0},{"$f":"IF(N178>0,1,2)","v":2}]
[null,null,null,null,null,null,null,null,null,null,null,null,0,{"$f":"IF(ESES1p>0,ESES1p,0)","v":0},8,{"$f":"IF(ESES1p>0,ESES1,0)","v":0},{"$f":"IF(ESES1p>0,ESES1n,0)","v":0},{"$f":"IF(ESES1p>0,ESES1Ver,0)","v":0},9.5,{"$f":"IF(N179>0,O179,0)","v":0},{"$f":"IF(N179>0,1,2)","v":2}]
[null,null,null,null,null,null,null,null,null,null,null,null,0,{"$f":"IF(ESES2p>0,ESES2p,0)","v":0},8,{"$f":"IF(ESES2p>0,ESES2,0)","v":0},{"$f":"IF(ESES2p>0,ESES2n,0)","v":0},{"$f":"IF(ESES2p>0,ESES2Ver,0)","v":0},9.5,{"$f":"IF(N180>0,O180,0)","v":0},{"$f":"IF(N180>0,1,2)","v":2}]
[null,null,null,null,null,null,null,null,null,null,null,null,0,{"$f":"IF($J$8=\"X\",1,0)","v":0},9,1,null,"frei Gruppe 1",{"$f":"IF($J$8=\"X\",S$107,0)","v":0},{"$f":"IF($J$8=\"X\",T$107+0.1,0)","v":0},{"$f":"IF(N181>0,1,2)","v":2}]
[null,null,null,null,null,null,null,null,null,null,null,null,0,{"$f":"IF($J$11=\"X\",1,0)","v":0},9,2,null,"frei Gruppe 2",{"$f":"IF($J$11=\"X\",S$110,0)","v":0},{"$f":"IF($J$11=\"X\",T$110+0.1,0)","v":0},{"$f":"IF(N182>0,1,2)","v":2}]
[null,null,null,null,null,null,null,null,null,null,null,null,0,{"$f":"IF($J$14=\"X\",1,0)","v":0},9,3,null,"frei Gruppe 3",{"$f":"IF($J$14=\"X\",S$113,0)","v":0},{"$f":"IF($J$14=\"X\",T$113+0.1,0)","v":0},{"$f":"IF(N183>0,1,2)","v":2}]
[null,null,null,null,null,null,null,null,null,null,null,null,0,{"$f":"IF($J$17=\"X\",1,0)","v":0},9,4,null,"frei Gruppe 4",{"$f":"IF($J$17=\"X\",S$116,0)","v":0},{"$f":"IF($J$17=\"X\",T$116+0.1,0)","v":0},{"$f":"IF(N184>0,1,2)","v":2}]
[null,null,null,null,null,null,null,null,null,null,null,null,0,{"$f":"IF($J$20=\"X\",1,0)","v":0},9,5,null,"frei Gruppe 5",{"$f":"IF($J$20=\"X\",S$119,0)","v":0},{"$f":"IF($J$20=\"X\",T$119+0.1,0)","v":0},{"$f":"IF(N185>0,1,2)","v":2}]
[null,null,null,null,null,null,null,null,null,null,null,null,0,{"$f":"IF($J$23=\"X\",1,0)","v":0},9,6,null,"frei Gruppe 6",{"$f":"IF($J$23=\"X\",S$122,0)","v":0},{"$f":"IF($J$23=\"X\",T$122+0.1,0)","v":0},{"$f":"IF(N186>0,1,2)","v":2}]
[null,null,null,null,null,null,null,null,null,null,null,null,0,{"$f":"IF($J$26=\"X\",1,0)","v":0},9,7,null,"frei Gruppe 7",{"$f":"IF($J$26=\"X\",S$125,0)","v":0},{"$f":"IF($J$26=\"X\",T$125+0.1,0)","v":0},{"$f":"IF(N187>0,1,2)","v":2}]
[null,null,null,null,null,null,null,null,null,null,null,null,0,{"$f":"IF($J$29=\"X\",1,0)","v":0},9,8,null,"frei Gruppe 8",{"$f":"IF($J$29=\"X\",S$128,0)","v":0},{"$f":"IF($J$29=\"X\",T$128+0.1,0)","v":0},{"$f":"IF(N188>0,1,2)","v":2}]
[null,null,null,null,null,null,null,null,null,null,null,null,0,{"$f":"IF($J$32=\"X\",1,0)","v":0},9,9,null,"frei Gruppe 9",{"$f":"IF($J$32=\"X\",S$131,0)","v":0},{"$f":"IF($J$32=\"X\",T$131+0.1,0)","v":0},{"$f":"IF(N189>0,1,2)","v":2}]
[null,null,null,null,null,null,null,null,null,null,null,null,0,{"$f":"IF($J$35=\"X\",1,0)","v":0},9,10,null,"frei Gruppe 10",{"$f":"IF($J$35=\"X\",S$134,0)","v":0},{"$f":"IF($J$35=\"X\",T$134+0.1,0)","v":0},{"$f":"IF(N190>0,1,2)","v":2}]
[null,null,null,null,null,null,null,null,null,null,null,null,0,{"$f":"IF($J$38=\"X\",1,0)","v":0},9,11,null,"frei Gruppe 11",{"$f":"IF($J$38=\"X\",S$137,0)","v":0},{"$f":"IF($J$38=\"X\",T$137+0.1,0)","v":0},{"$f":"IF(N191>0,1,2)","v":2}]
[null,null,null,null,null,null,null,null,null,null,null,null,0,{"$f":"IF($J$41=\"X\",1,0)","v":0},9,12,null,"frei Gruppe 12",{"$f":"IF($J$41=\"X\",S$140,0)","v":0},{"$f":"IF($J$41=\"X\",T$140+0.1,0)","v":0},{"$f":"IF(N192>0,1,2)","v":2}]
[null,null,null,null,null,null,null,null,null,null,null,null,0,{"$f":"IF($J$44=\"X\",1,0)","v":0},9,13,null,"frei Gruppe 13",{"$f":"IF($J$44=\"X\",S$143,0)","v":0},{"$f":"IF($J$44=\"X\",T$143+0.1,0)","v":0},{"$f":"IF(N193>0,1,2)","v":2}]
[null,null,null,null,null,null,null,null,null,null,null,null,{"$f":"IF(N194>0,M193+1,M193)","v":0},{"$f":"IF($J$47=\"X\",1,0)","v":0},9,14,null,"frei Gruppe 14",{"$f":"IF($J$47=\"X\",S$146,0)","v":0},{"$f":"IF($J$47=\"X\",T$146+0.1,0)","v":0},{"$f":"IF(N194>0,1,2)","v":2}]
[null,null,null,null,null,null,null,null,null,null,null,null,0,{"$f":"IF($J$50=\"X\",1,0)","v":0},9,15,null,"frei Gruppe 15",{"$f":"IF($J$50=\"X\",S$149,0)","v":0},{"$f":"IF($J$50=\"X\",T$149+0.1,0)","v":0},{"$f":"IF(N195>0,1,2)","v":2}]
[null,null,null,null,null,null,null,null,null,null,null,null,0,{"$f":"IF($J$53=\"X\",1,0)","v":0},9,16,null,"frei Gruppe 16",{"$f":"IF($J$53=\"X\",S$152,0)","v":0},{"$f":"IF($J$53=\"X\",T$152+0.1,0)","v":0},{"$f":"IF(N196>0,1,2)","v":2}]
[null,null,null,null,null,null,null,null,null,null,null,null,0,{"$f":"IF($J$56=\"X\",1,0)","v":0},9,17,null,"frei Gruppe 17",{"$f":"IF($J$56=\"X\",S$155,0)","v":0},{"$f":"IF($J$56=\"X\",T$155+0.1,0)","v":0},{"$f":"IF(N197>0,1,2)","v":2}]
[null,null,null,null,null,null,null,null,null,null,null,null,0,{"$f":"IF($J$59=\"X\",1,0)","v":0},9,18,null,"frei Gruppe 18",{"$f":"IF($J$59=\"X\",S$158,0)","v":0},{"$f":"IF($J$59=\"X\",T$158+0.1,0)","v":0},{"$f":"IF(N198>0,1,2)","v":2}]
[null,null,null,null,null,null,null,null,null,null,null,null,0,{"$f":"IF($J$62=\"X\",1,0)","v":0},9,19,null,"frei Gruppe 19",{"$f":"IF($J$62=\"X\",S$161,0)","v":0},{"$f":"IF($J$62=\"X\",T$161+0.1,0)","v":0},{"$f":"IF(N199>0,1,2)","v":2}]
[null,null,null,null,null,null,null,null,null,null,null,null,0,{"$f":"IF($J$65=\"X\",1,0)","v":0},9,20,null,"frei Gruppe 20",{"$f":"IF($J$65=\"X\",S$164,0)","v":0},{"$f":"IF($J$65=\"X\",T$164+0.1,0)","v":0},{"$f":"IF(N200>0,1,2)","v":2}]
[null,null,null,null,null,null,null,null,null,null,null,null,0,0,10,null,0,"Füller",{"$f":"IF($W$203=$V$203,VLOOKUP($M$204,$M$105:$U$200,7),0)","v":0},{"$f":"IF($W$203=$V$203,VLOOKUP($M$204,$M$105:$U$200,8,FALSE)-0.5,0)","v":0},{"$f":"IF(J$7>0,3,IF($W$203=$V$203,1,2))","v":2},null,{"$f":"INT(W202)","v":0}]
[null,null,null,null,null,null,null,null,null,null,null,null,null,null,null,null,null,null,null,null,null,{"$f":"COUNTIF(N105:N200,\">0\")","v":0},{"$f":"V202/3","v":0}]
[null,null,null,null,null,null,null,null,null,null,null,null,null,null,null,null,null,null,{"$f":"AnzMa","v":7},null,null,0.33300000000000002,{"$f":"ROUND(W202-W201,3)","v":0}]
[null,null,null,null,null,null,null,null,null,null,null,null,{"$f":"MAX(M105:M201)-2","v":-2},null,null,null,"Sortierreihenfolge",null,"2.","3.","1."]
[]
[]
[]
[]
[]
[null,null,null,null,null,null,null,null,null,null,null,null,null,0,10,null,0,"Füller",{"$f":"IF($W$203=$V$203,VLOOKUP($M$204,$M$105:$U$200,7),0)","v":0},{"$f":"IF($W$203=$V$203,VLOOKUP($M$204,$M$105:$U$200,8,FALSE)-0.5,0)","v":0},{"$f":"IF(J$7>0,3,IF($W$203=$V$203,1,2))","v":2}]
[]
[]
[]
[]
[]
[]
[]
[]
[]
[null,null,null,null,null,null,null,null,null,null,null,null,null,null,null,null,null,null,null,null,{"$f":"IF($W$203=$V$203,1,2)","v":2}]
[]
[null,null,null,null,null,null,null,null,"Zeile 167"]

{"sheet":"Aushang","index":3,"n_rows":161,"n_cols":13,"rows_kept":161,"cut":false,"hidden":false,"merged":[[22,2,22,3],[22,4,22,5],[22,6,22,7],[22,8,22,11],[27,3,28,3],[27,5,28,5],[27,7,28,7],[27,9,28,11],[30,2,30,3],[30,4,30,5],[30,6,30,7],[17,9,17,11],[18,9,18,11],[19,9,19,11],[20,9,20,11],[40,9,40,11],[132,9,132,11],[133,9,133,11],[41,9,41,11],[42,9,42,11],[43,9,43,11],[63,9,63,11],[64,9,64,11],[112,9,112,11],[65,9,65,11],[30,8,30,11],[10,6,10,7],[11,2,11,3],[12,2,12,3],[13,2,13,3],[6,4,6,5],[7,4,7,5],[8,4,8,5],[9,4,9,5],[10,4,10,5],[11,4,11,5],[12,4,12,5],[13,4,13,5],[6,2,6,3],[7,2,7,3],[8,2,8,3],[9,2,9,3],[10,2,10,3],[4,12,5,12],[14,2,14,3],[14,4,14,5],[14,6,14,7],[14,8,14,11],[4,3,5,3],[4,5,5,5],[4,7,5,7],[4,9,5,11],[11,6,11,7],[12,6,12,7],[13,6,13,7],[6,8,6,11],[7,8,7,11],[8,8,8,11],[9,8,9,11],[10,8,10,11],[11,8,11,11],[12,8,12,11],[13,8,13,11],[6,6,6,7],[7,6,7,7],[8,6,8,7],[9,6,9,7],[31,2,31,3],[31,4,31,5],[31,6,31,7],[31,8,31,11],[27,12,28,12],[29,2,29,3],[29,4,29,5],[29,6,29,7],[29,8,29,11],[34,2,34,3],[34,4,34,5],[34,6,34,7],[34,8,34,11],[35,2,35,3],[35,4,35,5],[35,6,35,7],[35,8,35,11],[32,2,32,3],[32,4,32,5],[32,6,32,7],[32,8,32,11],[33,2,33,3],[33,4,33,5],[33,6,33,7],[33,8,33,11],[50,12,51,12],[36,2,36,3],[36,4,36,5],[36,6,36,7],[36,8,36,11],[37,2,37,3],[37,4,37,5],[37,6,37,7],[37,8,37,11],[45,2,45,3],[45,4,45,5],[45,6,45,7],[45,8,45,11],[52,2,52,3],[52,4,52,5],[52,6,52,7],[52,8,52,11],[53,2,53,3],[53,4,53,5],[53,6,53,7],[53,8,53,11],[50,3,51,3],[50,5,51,5],[50,7,51,7],[50,9,51,11],[57,2,57,3],[57,4,57,5],[57,6,57,7],[57,8,57,11],[54,2,54,3],[54,4,54,5],[54,6,54,7],[54,8,54,11],[55,2,55,3],[55,4,55,5],[55,6,55,7],[55,8,55,11],[73,3,74,3],[73,5,74,5],[73,7,74,7],[73,9,74,11],[73,12,74,12],[60,2,60,3],[60,4,60,5],[60,6,60,7],[60,8,60,11],[68,2,68,3],[68,4,68,5],[68,6,68,7],[68,8,68,11],[66,9,66,11],[77,2,77,3],[77,4,77,5],[77,6,77,7],[77,8,77,11],[78,2,78,3],[78,4,78,5],[78,6,78,7],[78,8,78,11],[75,2,75,3],[75,4,75,5],[75,6,75,7],[75,8,75,11],[76,2,76,3],[76,4,76,5],[76,6,76,7],[76,8,76,11],[81,2,81,3],[81,4,81,5],[81,6,81,7],[81,8,81,11],[82,2,82,3],[82,4,82,5],[82,6,82,7],[82,8,82,11],[79,2,79,3],[79,4,79,5],[79,6,79,7],[79,8,79,11],[80,2,80,3],[80,4,80,5],[80,6,80,7],[80,8,80,11],[96,3,97,3],[96,5,97,5],[96,7,97,7],[96,9,97,11],[96,12,97,12],[83,2,83,3],[83,4,83,5],[83,6,83,7],[83,8,83,11],[91,2,91,3],[91,4,91,5],[91,6,91,7],[91,8,91,11],[89,9,89,11],[86,9,86,11],[87,9,87,11],[88,9,88,11],[84,2,84,3],[84,4,84,5],[84,6,84,7],[84,8,84,11],[100,2,100,3],[100,4,100,5],[100,6,100,7],[100,8,100,11],[101,2,101,3],[101,4,101,5],[101,6,101,7],[101,8,101,11],[98,2,98,3],[98,4,98,5],[98,6,98,7],[98,8,98,11],[99,2,99,3],[99,4,99,5],[99,6,99,7],[99,8,99,11],[104,2,104,3],[104,4,104,5],[104,6,104,7],[104,8,104,11],[105,2,105,3],[105,4,105,5],[105,6,105,7],[105,8,105,11],[102,2,102,3],[102,4,102,5],[102,6,102,7],[102,8,102,11],[103,2,103,3],[103,4,103,5],[103,6,103,7],[103,8,103,11],[119,12,120,12],[106,2,106,3],[106,4,106,5],[106,6,106,7],[106,8,106,11],[114,2,114,3],[114,4,114,5],[114,6,114,7],[114,8,114,11],[109,9,109,11],[110,9,110,11],[111,9,111,11],[107,2,107,3],[107,4,107,5],[107,6,107,7],[107,8,107,11],[121,2,121,3],[121,4,121,5],[121,6,121,7],[121,8,121,11],[122,2,122,3],[122,4,122,5],[122,6,122,7],[122,8,122,11],[119,3,120,3],[119,5,120,5],[119,7,120,7],[119,9,120,11],[125,2,125,3],[125,4,125,5],[125,6,125,7],[125,8,125,11],[126,2,126,3],[126,4,126,5],[126,6,126,7],[126,8,126,11],[123,2,123,3],[123,4,123,5],[123,6,123,7],[123,8,123,11],[124,2,124,3],[124,4,124,5],[124,6,124,7],[124,8,124,11],[127,2,127,3],[127,4,127,5],[127,6,127,7],[127,8,127,11],[128,2,128,3],[128,4,128,5],[128,6,128,7],[128,8,128,11],[137,2,137,3],[137,4,137,5],[137,6,137,7],[137,8,137,11],[134,9,134,11],[142,3,143,3],[142,5,143,5],[142,7,143,7],[142,9,143,11],[142,12,143,12],[129,2,129,3],[129,4,129,5],[129,6,129,7],[129,8,129,11],[135,9,135,11],[130,2,130,3],[130,4,130,5],[130,6,130,7],[130,8,130,11],[147,2,147,3],[147,4,147,5],[147,6,147,7],[147,8,147,11],[148,2,148,3],[148,4,148,5],[148,6,148,7],[148,8,148,11],[144,2,144,3],[144,4,144,5],[144,6,144,7],[144,8,144,11],[145,2,145,3],[145,4,145,5],[145,6,145,7],[145,8,145,11],[146,2,146,3],[146,4,146,5],[146,6,146,7],[146,8,146,11],[152,2,152,3],[152,4,152,5],[152,6,152,7],[152,8,152,11],[160,2,160,3],[160,4,160,5],[160,6,160,7],[160,8,160,11],[157,9,157,11],[158,9,158,11],[156,9,156,11],[155,9,155,11],[153,2,153,3],[153,4,153,5],[153,6,153,7],[153,8,153,11],[149,2,149,3],[149,4,149,5],[149,6,149,7],[149,8,149,11],[150,2,150,3],[150,4,150,5],[150,6,150,7],[150,8,150,11],[151,2,151,3],[151,4,151,5],[151,6,151,7],[151,8,151,11],[15,2,15,3],[15,4,15,5],[15,6,15,7],[15,8,15,11],[38,2,38,3],[38,4,38,5],[38,6,38,7],[38,8,38,11],[61,2,61,3],[61,4,61,5],[61,6,61,7],[61,8,61,11],[58,2,58,3],[58,4,58,5],[58,6,58,7],[58,8,58,11],[59,2,59,3],[59,4,59,5],[59,6,59,7],[59,8,59,11],[56,2,56,3],[56,4,56,5],[56,6,56,7],[56,8,56,11]]}
[]
[null,null,null,null,{"$f":"+Seite1!$B$3","v":"Gruppenliga"},null,{"$f":"+Seite1!$C$5","v":3},{"$f":"+Seite1!$D$5","v":". Spieltag         "}]
[]
[null,"M a n n s c h a f t :",null,{"$f":"+Eing.Mannsch.aufstellung!B$30","v":"MGC Bad Homburg 1"}]
["Start","Name / Vorname",null,null,"Übertrag",null,"Übertrag",null,"Übertrag",null,null,null,"Einzel- ergebnisse"]
["Nr.",null,"1. Runde",null,"2. Runde",null,"3. Runde",null,"4. Runde"]
[1,{"$f":"M1S1","v":{"$error":"#N/A"}}]
[2,{"$f":"M1S2","v":{"$error":"#N/A"}}]
[3,{"$f":"M1S3","v":{"$error":"#N/A"}}]
[4,{"$f":"M1S4","v":{"$error":"#N/A"}}]
[5,{"$f":"M1S5","v":{"$error":"#N/A"}}]
[6,{"$f":"M1S6","v":{"$error":"#N/A"}}]
[7,{"$f":"M1S7","v":{"$error":"#N/A"}}]
[8,{"$f":"M1S8","v":{"$error":"#N/A"}}]
[null,"Rundenergebnisse:"]
[null,"Gesamtergebnis:"]
[]
[null,"Mannschaftsführer",null,null,null,null,null,"Platz","Schlagzahl","Punkte"]
[null,{"$f":"M1Ausw","v":{"$error":"#N/A"}},null,null,null,null,"Tabelle ALT :",{"$f":"Seite1!B21","v":1},{"$f":"Seite1!F21","v":964},{"$f":"Seite1!H21","v":22}]
[null,null,null,null,null,null,"Tagesergebnis :"]
[null,null,null,null,null,null,"Tabelle NEU :"]
[null,"Zusätzliche/r Einzelspieler/in"]
["AK",{"$f":"M1SAK","v":{"$error":"#N/A"}}]
[]
[null,null,null,null,{"$f":"+Seite1!$B$3","v":"Gruppenliga"},null,{"$f":"+Seite1!$C$5","v":3},{"$f":"+Seite1!$D$5","v":". Spieltag         "}]
[]
[null,"M a n n s c h a f t :",null,{"$f":"+Eing.Mannsch.aufstellung!B$54","v":"SG Arheilgen 3"}]
["Start","Name / Vorname",null,null,"Übertrag",null,"Übertrag",null,"Übertrag",null,null,null,"Einzel- ergebnisse"]
["Nr.",null,"1. Runde",null,"2. Runde",null,"3. Runde",null,"4. Runde"]
[1,{"$f":"M2S1","v":{"$error":"#N/A"}}]
[2,{"$f":"M2S2","v":{"$error":"#N/A"}}]
[3,{"$f":"M2S3","v":{"$error":"#N/A"}}]
[4,{"$f":"M2S4","v":{"$error":"#N/A"}}]
[5,{"$f":"M2S5","v":{"$error":"#N/A"}}]
[6,{"$f":"M2S6","v":{"$error":"#N/A"}}]
[7,{"$f":"M2S7","v":{"$error":"#N/A"}}]
[8,{"$f":"M2S8","v":{"$error":"#N/A"}}]
[null,"Rundenergebnisse:"]
[null,"Gesamtergebnis:"]
[]
[null,"Mannschaftsführer",null,null,null,null,null,"Platz","Schlagzahl","Punkte"]
[null,{"$f":"M2Ausw","v":{"$error":"#N/A"}},null,null,null,null,"Tabelle ALT :",{"$f":"Seite1!B22","v":1},{"$f":"Seite1!F22","v":967},{"$f":"Seite1!H22","v":22}]
[null,null,null,null,null,null,"Tagesergebnis :"]
[null,null,null,null,null,null,"Tabelle NEU :"]
[null,"Zusätzliche/r Einzelspieler/in"]
["AK",{"$f":"M2SAK","v":{"$error":"#N/A"}}]
[]
[null,null,null,null,{"$f":"+Seite1!$B$3","v":"Gruppenliga"},null,{"$f":"+Seite1!$C$5","v":3},{"$f":"+Seite1!$D$5","v":". Spieltag         "}]
[]
[null,"M a n n s c h a f t :",null,{"$f":"+Eing.Mannsch.aufstellung!B$79","v":"MGC Kahler Sandhasen"}]
["Start","Name / Vorname",null,null,"Übertrag",null,"Übertrag",null,"Übertrag",null,null,null,"Einzel- ergebnisse"]
["Nr.",null,"1. Runde",null,"2. Runde",null,"3. Runde",null,"4. Runde"]
[1,{"$f":"M3S1","v":{"$error":"#N/A"}}]
[2,{"$f":"M3S2","v":{"$error":"#N/A"}}]
[3,{"$f":"M3S3","v":{"$error":"#N/A"}}]
[4,{"$f":"M3S4","v":{"$error":"#N/A"}}]
[5,{"$f":"M3S5","v":{"$error":"#N/A"}}]
[6,{"$f":"M3S6","v":{"$error":"#N/A"}}]
[7,{"$f":"M3S7","v":{"$error":"#N/A"}}]
[8,{"$f":"M3S8","v":{"$error":"#N/A"}}]
[null,"Rundenergebnisse:"]
[null,"Gesamtergebnis:"]
[]
[null,"Mannschaftsführer",null,null,null,null,null,"Platz","Schlagzahl","Punkte"]
[null,{"$f":"M3Ausw","v":{"$error":"#N/A"}},null,null,null,null,"Tabelle ALT :",{"$f":"Seite1!B23","v":3},{"$f":"Seite1!F23","v":1085},{"$f":"Seite1!H23","v":10}]
[null,null,null,null,null,null,"Tagesergebnis :"]
[null,null,null,null,null,null,"Tabelle NEU :"]
[null,"Zusätzliche/r Einzelspieler/in"]
["AK",{"$f":"M3SAK","v":{"$error":"#N/A"}}]
[]
[null,null,null,null,{"$f":"+Seite1!$B$3","v":"Gruppenliga"},null,{"$f":"+Seite1!$C$5","v":3},{"$f":"+Seite1!$D$5","v":". Spieltag         "}]
[]
[null,"M a n n s c h a f t :",null,{"$f":"+Eing.Mannsch.aufstellung!B$104","v":"SG Weiterstadt"}]
["Start","Name / Vorname",null,null,"Übertrag",null,"Übertrag",null,"Übertrag",null,null,null,"Einzel- ergebnisse"]
["Nr.",null,"1. Runde",null,"2. Runde",null,"3. Runde",null,"4. Runde"]
[1,{"$f":"M4S1","v":{"$error":"#N/A"}}]
[2,{"$f":"M4S2","v":{"$error":"#N/A"}}]
[3,{"$f":"M4S3","v":{"$error":"#N/A"}}]
[4,{"$f":"M4S4","v":{"$error":"#N/A"}}]
[5,{"$f":"M4S5","v":{"$error":"#N/A"}}]
[6,{"$f":"M4S6","v":{"$error":"#N/A"}}]
[7,{"$f":"M4S7","v":{"$error":"#N/A"}}]
[8,{"$f":"M4S8","v":{"$error":"#N/A"}}]
[null,"Rundenergebnisse:"]
[null,"Gesamtergebnis:"]
[]
[null,"Mannschaftsführer",null,null,null,null,null,"Platz","Schlagzahl","Punkte"]
[null,{"$f":"M4Ausw","v":{"$error":"#N/A"}},null,null,null,null,"Tabelle ALT :",{"$f":"Seite1!B24","v":3},{"$f":"Seite1!F24","v":1086},{"$f":"Seite1!H24","v":10}]
[null,null,null,null,null,null,"Tagesergebnis :"]
[null,null,null,null,null,null,"Tabelle NEU :"]
[null,"Zusätzliche/r Einzelspieler/in"]
["AK",{"$f":"M4SAK","v":{"$error":"#N/A"}}]
[]
[null,null,null,null,{"$f":"+Seite1!$B$3","v":"Gruppenliga"},null,{"$f":"+Seite1!$C$5","v":3},{"$f":"+Seite1!$D$5","v":". Spieltag         "}]
[]
[null,"M a n n s c h a f t :",null,{"$f":"+Eing.Mannsch.aufstellung!B$130","v":"MGC Bad Homburg 2"}]
["Start","Name / Vorname",null,null,"Übertrag",null,"Übertrag",null,"Übertrag",null,null,null,"Einzel- ergebnisse"]
["Nr.",null,"1. Runde",null,"2. Runde",null,"3. Runde",null,"4. Runde"]
[1,{"$f":"M5S1","v":{"$error":"#N/A"}}]
[2,{"$f":"M5S2","v":{"$error":"#N/A"}}]
[3,{"$f":"M5S3","v":{"$error":"#N/A"}}]
[4,{"$f":"M5S4","v":{"$error":"#N/A"}}]
[5,{"$f":"M5S5","v":{"$error":"#N/A"}}]
[6,{"$f":"M5S6","v":{"$error":"#N/A"}}]
[7,{"$f":"M5S7","v":{"$error":"#N/A"}}]
[8,{"$f":"M5S8","v":{"$error":"#N/A"}}]
[null,"Rundenergebnisse:"]
[null,"Gesamtergebnis:"]
[]
[null,"Mannschaftsführer",null,null,null,null,null,"Platz","Schlagzahl","Punkte"]
[null,{"$f":"+M5Ausw","v":{"$error":"#N/A"}},null,null,null,null,"Tabelle ALT :",{"$f":"Seite1!B25","v":3},{"$f":"Seite1!F25","v":1094},{"$f":"Seite1!H25","v":10}]
[null,null,null,null,null,null,"Tagesergebnis :"]
[null,null,null,null,null,null,"Tabelle NEU :"]
[null,"Zusätzliche/r Einzelspieler/in"]
["AK",{"$f":"M5SAK","v":{"$error":"#N/A"}}]
[]
[null,null,null,null,{"$f":"+Seite1!$B$3","v":"Gruppenliga"},null,{"$f":"+Seite1!$C$5","v":3},{"$f":"+Seite1!$D$5","v":". Spieltag         "}]
[]
[null,"M a n n s c h a f t :",null,{"$f":"+Eing.Mannsch.aufstellung!B155","v":"SV Dreieichenhain"}]
["Start","Name / Vorname",null,null,"Übertrag",null,"Übertrag",null,"Übertrag",null,null,null,"Einzel- ergebnisse"]
["Nr.",null,"1. Runde",null,"2. Runde",null,"3. Runde",null,"4. Runde"]
[1,{"$f":"M6S1","v":{"$error":"#N/A"}}]
[2,{"$f":"M6S2","v":{"$error":"#N/A"}}]
[3,{"$f":"M6S3","v":{"$error":"#N/A"}}]
[4,{"$f":"M6S4","v":{"$error":"#N/A"}}]
[5,{"$f":"M6S5","v":{"$error":"#N/A"}}]
[6,{"$f":"M6S6","v":{"$error":"#N/A"}}]
[7,{"$f":"M6S7","v":{"$error":"#N/A"}}]
[8,{"$f":"M6S8","v":{"$error":"#N/A"}}]
[null,"Rundenergebnisse:"]
[null,"Gesamtergebnis:"]
[]
[null,"Mannschaftsführer",null,null,null,null,null,"Platz","Schlagzahl","Punkte"]
[null,{"$f":"M6Ausw","v":{"$error":"#N/A"}},null,null,null,null,"Tabelle ALT :",{"$f":"Seite1!B26","v":3},{"$f":"Seite1!F26","v":1100},{"$f":"Seite1!H26","v":10}]
[null,null,null,null,null,null,"Tagesergebnis :"]
[null,null,null,null,null,null,"Tabelle NEU :"]
[null,"Zusätzliche/r Einzelspieler/in"]
["AK",{"$f":"M6SAK","v":{"$error":"#N/A"}}]
[]
[null,null,null,null,{"$f":"+Seite1!$B$3","v":"Gruppenliga"},null,{"$f":"+Seite1!$C$5","v":3},{"$f":"+Seite1!$D$5","v":". Spieltag         "}]
[]
[null,"M a n n s c h a f t :",null,{"$f":"+Eing.Mannsch.aufstellung!B180","v":"MGC Heringen"}]
["Start","Name / Vorname",null,null,"Übertrag",null,"Übertrag",null,"Übertrag",null,null,null,"Einzel- ergebnisse"]
["Nr.",null,"1. Runde",null,"2. Runde",null,"3. Runde",null,"4. Runde"]
[1,{"$f":"M7S1","v":{"$error":"#N/A"}}]
[2,{"$f":"M7S2","v":{"$error":"#N/A"}}]
[3,{"$f":"M7S3","v":{"$error":"#N/A"}}]
[4,{"$f":"M7S4","v":{"$error":"#N/A"}}]
[5,{"$f":"M7S5","v":{"$error":"#N/A"}}]
[6,{"$f":"M7S6","v":{"$error":"#N/A"}}]
[7,{"$f":"M7S7","v":{"$error":"#N/A"}}]
[8,{"$f":"M7S8","v":{"$error":"#N/A"}}]
[null,"Rundenergebnisse:"]
[null,"Gesamtergebnis:"]
[]
[null,"Mannschaftsführer",null,null,null,null,null,"Platz","Schlagzahl","Punkte"]
[null,{"$f":"M7Ausw","v":{"$error":"#N/A"}},null,null,null,null,"Tabelle ALT :",{"$f":"Seite1!B27","v":7},{"$f":"Seite1!F27","v":1211},{"$f":"Seite1!H27","v":0}]
[null,null,null,null,null,null,"Tagesergebnis :"]
[null,null,null,null,null,null,"Tabelle NEU :"]
[null,"Zusätzliche/r Einzelspieler/in"]
["AK",{"$f":"M7SAK","v":{"$error":"#N/A"}}]

{"sheet":"Seite1","index":4,"n_rows":66,"n_cols":46,"rows_kept":66,"cut":false,"hidden":false,"merged":[[6,3,6,4],[4,7,4,8],[26,3,26,4],[28,3,28,4],[29,3,29,4],[21,3,21,4],[22,3,22,4],[23,3,23,4],[24,3,24,4],[25,3,25,4],[65,0,65,8],[59,0,59,8],[64,0,64,8],[58,0,58,8],[1,0,3,0],[2,1,2,8],[7,3,7,6],[12,3,12,4],[18,3,18,4],[19,3,19,4],[20,3,20,4],[30,3,30,4],[31,3,31,4],[32,3,32,4],[33,3,33,4],[34,3,34,4],[48,1,48,4],[49,1,54,7],[35,3,35,4],[36,3,36,4],[38,3,38,4],[39,3,39,4]]}
[]
[]
[null,{"$f":"IF(+Eing.Allg..Daten!D2>0,+Eing.Allg..Daten!D2,\"\")","v":"Gruppenliga"},null,null,null,null,null,null,null,null,null,null,null,null,null,null,null,null,null,null,null,null,null,null,null,null,"Tabelle Alt",null,null,null,null,null,"Tagestabelle",null,null,null,null,null,"Tabelle Neu  (unsortiert)"]
[]
[null,"Ergebnisliste vom",{"$f":"IF(+Eing.Allg..Daten!D4>0,+Eing.Allg..Daten!D4,\"\")","v":3},". Spieltag         ","Saison",{"$f":"IF(+Eing.Allg..Daten!D3>0,+Eing.Allg..Daten!D3,\"\")","v":2024},"am",{"$f":"IF(+Eing.Allg..Daten!D7>0,+Eing.Allg..Daten!D7,\"\")","v":"2024-06-09"},null,null,null,null,null,null,null,null,null,null,null,null,null,null,null,null,null,null,{"$f":"IF(+Eing.Mannsch.aufstellung!BC4<>\"\",+Eing.Mannsch.aufstellung!BC4,\"\")","v":"MGC Bad Homburg 1"},{"$f":"IF(+Eing.Mannsch.aufstellung!BC4<>\"\",+Eing.Mannsch.aufstellung!BD4,\"\")","v":964},{"$f":"IF(+Eing.Mannsch.aufstellung!BC4<>\"\",+Eing.Mannsch.aufstellung!BG4,\"\")","v":22},null,null,null,{"$f":"VLOOKUP($AA5,$D$31:$G$37,1,0)","v":"MGC Bad Homburg 1"},{"$f":"VLOOKUP($AA5,$D$31:$G$37,3,0)","v":""},{"$f":"VLOOKUP($AA5,$D$31:$H$37,5,0)","v":12},null,null,null,{"$f":"IF(+Eing.Mannsch.aufstellung!BC4<>\"\",+AA5,\"\")","v":"MGC Bad Homburg 1"},null,{"$f":"IF(+Eing.Mannsch.aufstellung!BC4<>\"\",+AH5+AB5,\"\")","v":{"$error":"#VALUE!"}},{"$f":"IF(+Eing.Mannsch.aufstellung!BC4<>\"\",AO5/AT5,\"\")","v":{"$error":"#VALUE!"}},{"$f":"IF(+Eing.Mannsch.aufstellung!BC4<>\"\",+Eing.Mannsch.aufstellung!BG4+AI5,\"\")","v":34},{"$f":"+AD5","v":0},{"$f":"IF(+Eing.Mannsch.aufstellung!BC4<>\"\",+Eing.Mannsch.aufstellung!BI4+AK5,\"\")","v":2},{"$f":"IF(+Eing.Mannsch.aufstellung!BC4<>\"\",+L31+L21,\"\")","v":40}]
[null,null,null,null,null,null,null,null,null,null,null,null,null,null,null,null,null,null,null,null,null,null,null,null,null,null,{"$f":"IF(+Eing.Mannsch.aufstellung!BC5<>\"\",+Eing.Mannsch.aufstellung!BC5,\"\")","v":"SG Arheilgen 3"},{"$f":"IF(+Eing.Mannsch.aufstellung!BC5<>\"\",+Eing.Mannsch.aufstellung!BD5,\"\")","v":967},{"$f":"IF(+Eing.Mannsch.aufstellung!BC5<>\"\",+Eing.Mannsch.aufstellung!BG5,\"\")","v":22},null,null,null,"SG Arheilgen 3","",10,null,null,null,{"$f":"IF(+Eing.Mannsch.aufstellung!BC5<>\"\",+AA6,\"\")","v":"SG Arheilgen 3"},null,{"$f":"IF(+Eing.Mannsch.aufstellung!BC5<>\"\",+AH6+AB6,\"\")","v":{"$error":"#VALUE!"}},{"$f":"IF(+Eing.Mannsch.aufstellung!BC5<>\"\",AO6/AT6,\"\")","v":{"$error":"#VALUE!"}},{"$f":"IF(+Eing.Mannsch.aufstellung!BC5<>\"\",+Eing.Mannsch.aufstellung!BG5+AI6,\"\")","v":32},0,{"$f":"IF(+Eing.Mannsch.aufstellung!BC5<>\"\",+Eing.Mannsch.aufstellung!BI5+AK6,\"\")","v":2},{"$f":"IF(+Eing.Mannsch.aufstellung!BC5<>\"\",+L32+L22,\"\")","v":40}]
[null,"in :",null,{"$f":"IF(+Eing.Allg..Daten!D6>0,+Eing.Allg..Daten!D6,\"\")","v":"Dreieichenhain"},null,"System :",{"$f":"IF(+Eing.Allg..Daten!D8>0,+Eing.Allg..Daten!D8,\"\")","v":"Miniaturgolf"},null,null,null,null,null,null,null,null,null,null,null,null,null,null,null,null,null,null,null,{"$f":"IF(+Eing.Mannsch.aufstellung!BC6<>\"\",+Eing.Mannsch.aufstellung!BC6,\"\")","v":"MGC Kahler Sandhasen"},{"$f":"IF(+Eing.Mannsch.aufstellung!BC6<>\"\",+Eing.Mannsch.aufstellung!BD6,\"\")","v":1085},{"$f":"IF(+Eing.Mannsch.aufstellung!BC6<>\"\",+Eing.Mannsch.aufstellung!BG6,\"\")","v":10},null,null,null,"MGC Kahler Sandhasen","",8,null,null,null,{"$f":"IF(+Eing.Mannsch.aufstellung!BC6<>\"\",+AA7,\"\")","v":"MGC Kahler Sandhasen"},null,{"$f":"IF(+Eing.Mannsch.aufstellung!BC6<>\"\",+AH7+AB7,\"\")","v":{"$error":"#VALUE!"}},{"$f":"IF(+Eing.Mannsch.aufstellung!BC6<>\"\",AO7/AT7,\"\")","v":{"$error":"#VALUE!"}},{"$f":"IF(+Eing.Mannsch.aufstellung!BC6<>\"\",+Eing.Mannsch.aufstellung!BG6+AI7,\"\")","v":18},0,{"$f":"IF(+Eing.Mannsch.aufstellung!BC6<>\"\",+Eing.Mannsch.aufstellung!BI6+AK7,\"\")","v":14},{"$f":"IF(+Eing.Mannsch.aufstellung!BC6<>\"\",+L33+L23,\"\")","v":40}]
[null,null,null,null,null,null,null,null,null,null,null,null,null,null,null,null,null,null,null,null,null,null,null,null,null,null,{"$f":"IF(+Eing.Mannsch.aufstellung!BC7<>\"\",+Eing.Mannsch.aufstellung!BC7,\"\")","v":"SG Weiterstadt"},{"$f":"IF(+Eing.Mannsch.aufstellung!BC7<>\"\",+Eing.Mannsch.aufstellung!BD7,\"\")","v":1086},{"$f":"IF(+Eing.Mannsch.aufstellung!BC7<>\"\",+Eing.Mannsch.aufstellung!BG7,\"\")","v":10},null,null,null,"SG Weiterstadt","",6,null,null,null,{"$f":"IF(+Eing.Mannsch.aufstellung!BC7<>\"\",+AA8,\"\")","v":"SG Weiterstadt"},null,{"$f":"IF(+Eing.Mannsch.aufstellung!BC7<>\"\",+AH8+AB8,\"\")","v":{"$error":"#VALUE!"}},{"$f":"IF(+Eing.Mannsch.aufstellung!BC7<>\"\",AO8/AT8,\"\")","v":{"$error":"#VALUE!"}},{"$f":"IF(+Eing.Mannsch.aufstellung!BC7<>\"\",+Eing.Mannsch.aufstellung!BG7+AI8,\"\")","v":16},0,{"$f":"IF(+Eing.Mannsch.aufstellung!BC7<>\"\",+Eing.Mannsch.aufstellung!BI7+AK8,\"\")","v":14},{"$f":"IF(+Eing.Mannsch.aufstellung!BC7<>\"\",+L34+L24,\"\")","v":40}]
[null,"Oberschiedsrichter :",null,{"$f":"IF(+Eing.Allg..Daten!D20>0,+Eing.Allg..Daten!D20,\"\")","v":""},null,{"$f":"IF(+Eing.Allg..Daten!D21>0,+Eing.Allg..Daten!D21,\"\")","v":"MGC Kahler Sandhasen"},null,null,null,null,null,null,null,null,null,null,null,null,null,null,null,null,null,null,null,null,{"$f":"IF(+Eing.Mannsch.aufstellung!BC8<>\"\",+Eing.Mannsch.aufstellung!BC8,\"\")","v":"MGC Bad Homburg 2"},{"$f":"IF(+Eing.Mannsch.aufstellung!BC8<>\"\",+Eing.Mannsch.aufstellung!BD8,\"\")","v":1094},{"$f":"IF(+Eing.Mannsch.aufstellung!BC8<>\"\",+Eing.Mannsch.aufstellung!BG8,\"\")","v":10},null,null,null,"MGC Bad Homburg 2","",4,null,null,null,{"$f":"IF(+Eing.Mannsch.aufstellung!BC8<>\"\",+AA9,\"\")","v":"MGC Bad Homburg 2"},null,{"$f":"IF(+Eing.Mannsch.aufstellung!BC8<>\"\",+AH9+AB9,\"\")","v":{"$error":"#VALUE!"}},{"$f":"IF(+Eing.Mannsch.aufstellung!BC8<>\"\",AO9/AT9,\"\")","v":{"$error":"#VALUE!"}},{"$f":"IF(+Eing.Mannsch.aufstellung!BC8<>\"\",+Eing.Mannsch.aufstellung!BG8+AI9,\"\")","v":14},0,{"$f":"IF(+Eing.Mannsch.aufstellung!BC8<>\"\",+Eing.Mannsch.aufstellung!BI8+AK9,\"\")","v":14},{"$f":"IF(+Eing.Mannsch.aufstellung!BC8<>\"\",+L35+L25,\"\")","v":40}]
[null,"Schiedsrichter :",null,{"$f":"IF(+Eing.Allg..Daten!D22>0,+Eing.Allg..Daten!D22,\"\")","v":""},null,{"$f":"IF(+Eing.Allg..Daten!D23>0,+Eing.Allg..Daten!D23,\"\")","v":"SG Weiterstadt"},null,null,null,null,null,null,null,null,null,null,null,null,null,null,null,null,null,null,null,null,{"$f":"IF(+Eing.Mannsch.aufstellung!BC9<>\"\",+Eing.Mannsch.aufstellung!BC9,\"\")","v":"SV Dreieichenhain"},{"$f":"IF(+Eing.Mannsch.aufstellung!BC9<>\"\",+Eing.Mannsch.aufstellung!BD9,\"\")","v":1100},{"$f":"IF(+Eing.Mannsch.aufstellung!BC9<>\"\",+Eing.Mannsch.aufstellung!BG9,\"\")","v":10},null,null,null,"SV Dreieichenhain","",2,null,null,null,{"$f":"IF(+Eing.Mannsch.aufstellung!BC9<>\"\",+AA10,\"\")","v":"SV Dreieichenhain"},null,{"$f":"IF(+Eing.Mannsch.aufstellung!BC9<>\"\",+AH10+AB10,\"\")","v":{"$error":"#VALUE!"}},{"$f":"IF(+Eing.Mannsch.aufstellung!BC9<>\"\",AO10/AT10,\"\")","v":{"$error":"#VALUE!"}},{"$f":"IF(+Eing.Mannsch.aufstellung!BC9<>\"\",+Eing.Mannsch.aufstellung!BG9+AI10,\"\")","v":12},0,{"$f":"IF(+Eing.Mannsch.aufstellung!BC9<>\"\",+Eing.Mannsch.aufstellung!BI9+AK10,\"\")","v":14},{"$f":"IF(+Eing.Mannsch.aufstellung!BC9<>\"\",+L36+L26,\"\")","v":40}]
[null,"Schiedsrichter :",null,{"$f":"IF(+Eing.Allg..Daten!D24>0,+Eing.Allg..Daten!D24,\"\")","v":""},null,{"$f":"IF(+Eing.Allg..Daten!D25>0,+Eing.Allg..Daten!D25,\"\")","v":"MGC Bad Homburg"},null,null,null,null,null,null,null,null,null,null,null,null,null,null,null,null,null,null,null,null,{"$f":"IF(+Eing.Mannsch.aufstellung!BC10<>\"\",+Eing.Mannsch.aufstellung!BC10,\"\")","v":"MGC Heringen"},{"$f":"IF(+Eing.Mannsch.aufstellung!BC10<>\"\",+Eing.Mannsch.aufstellung!BD10,\"\")","v":1211},{"$f":"IF(+Eing.Mannsch.aufstellung!BC10<>\"\",+Eing.Mannsch.aufstellung!BG10,\"\")","v":0},null,null,null,"MGC Heringen","",0,null,null,null,{"$f":"IF(+Eing.Mannsch.aufstellung!BC10<>\"\",+AA11,\"\")","v":"MGC Heringen"},null,{"$f":"IF(+Eing.Mannsch.aufstellung!BC10<>\"\",+AH11+AB11,\"\")","v":{"$error":"#VALUE!"}},{"$f":"IF(+Eing.Mannsch.aufstellung!BC10<>\"\",AO11/AT11,\"\")","v":{"$error":"#VALUE!"}},{"$f":"IF(+Eing.Mannsch.aufstellung!BC10<>\"\",+Eing.Mannsch.aufstellung!BG10+AI11,\"\")","v":0},null,null,{"$f":"IF(+Eing.Mannsch.aufstellung!BC10<>\"\",+L37+L27,\"\")","v":40}]
[]
[null,"Turnierleiter :",null,{"$f":"IF(+Eing.Allg..Daten!D17>0,+Eing.Allg..Daten!D17,\"\")","v":""},null,{"$f":"IF(+Eing.Allg..Daten!D18>0,+Eing.Allg..Daten!D18,\"\")","v":"SV Dreieichenhain"}]
[]
[null,"Turnierbeginn :",null,{"$f":"IF(+Eing.Allg..Daten!D27>0,+Eing.Allg..Daten!D27,\"\")","v":"10:00:00"},"Uhr","Turnierende :",{"$f":"IF(+Eing.Allg..Daten!D28>0,+Eing.Allg..Daten!D28,\"\")","v":""},"Uhr"]
[]
[]
[]
[null,null,null,"Tabelle vor dem",null,{"$f":"+Eing.Allg..Daten!D4","v":3},".  Spieltag"]
[null,"Rang",null,"Mannschaft",null,"Schläge","Schnitt","Punkte"]
[null,{"$f":"IF(+Eing.Mannsch.aufstellung!BD4>0,RANK(H21,H$21:H$27,0),\"\")","v":1},null,{"$f":"IF(+Eing.Mannsch.aufstellung!BC4>0,+Eing.Mannsch.aufstellung!BC4,\"\")","v":"MGC Bad Homburg 1"},"",{"$f":"IF(+Eing.Mannsch.aufstellung!BD4>0,+Eing.Mannsch.aufstellung!BD4,\"\")","v":964},{"$f":"IF(+Eing.Mannsch.aufstellung!BD4>0,F21/L21,\"\")","v":24.1},{"$f":"IF(+Eing.Mannsch.aufstellung!BD4>0,+Eing.Mannsch.aufstellung!BG4,\"\")","v":22},null,null,null,{"$f":"IF(+Eing.Mannsch.aufstellung!BD4<>\"\",+AnzRundenALT,0)","v":40}]
[null,{"$f":"IF(+Eing.Mannsch.aufstellung!BD5>0,RANK(H22,H$21:H$27,0),\"\")","v":1},null,{"$f":"IF(+Eing.Mannsch.aufstellung!BC5>0,+Eing.Mannsch.aufstellung!BC5,\"\")","v":"SG Arheilgen 3"},"",{"$f":"IF(+Eing.Mannsch.aufstellung!BD5>0,+Eing.Mannsch.aufstellung!BD5,\"\")","v":967},{"$f":"IF(+Eing.Mannsch.aufstellung!BD5>0,F22/L22,\"\")","v":24.175000000000001},{"$f":"IF(+Eing.Mannsch.aufstellung!BD5>0,+Eing.Mannsch.aufstellung!BG5,\"\")","v":22},null,null,null,{"$f":"IF(+Eing.Mannsch.aufstellung!BD5<>\"\",+AnzRundenALT,0)","v":40}]
[null,{"$f":"IF(+Eing.Mannsch.aufstellung!BD6>0,RANK(H23,H$21:H$27,0),\"\")","v":3},null,{"$f":"IF(+Eing.Mannsch.aufstellung!BC6>0,+Eing.Mannsch.aufstellung!BC6,\"\")","v":"MGC Kahler Sandhasen"},"",{"$f":"IF(+Eing.Mannsch.aufstellung!BD6>0,+Eing.Mannsch.aufstellung!BD6,\"\")","v":1085},{"$f":"IF(+Eing.Mannsch.aufstellung!BD6>0,F23/L23,\"\")","v":27.125},{"$f":"IF(+Eing.Mannsch.aufstellung!BD6>0,+Eing.Mannsch.aufstellung!BG6,\"\")","v":10},null,null,null,{"$f":"IF(+Eing.Mannsch.aufstellung!BD6<>\"\",+AnzRundenALT,0)","v":40}]
[null,{"$f":"IF(+Eing.Mannsch.aufstellung!BD7>0,RANK(H24,H$21:H$27,0),\"\")","v":3},null,{"$f":"IF(+Eing.Mannsch.aufstellung!BC7>0,+Eing.Mannsch.aufstellung!BC7,\"\")","v":"SG Weiterstadt"},"",{"$f":"IF(+Eing.Mannsch.aufstellung!BD7>0,+Eing.Mannsch.aufstellung!BD7,\"\")","v":1086},{"$f":"IF(+Eing.Mannsch.aufstellung!BD7>0,F24/L24,\"\")","v":27.15},{"$f":"IF(+Eing.Mannsch.aufstellung!BD7>0,+Eing.Mannsch.aufstellung!BG7,\"\")","v":10},null,null,null,{"$f":"IF(+Eing.Mannsch.aufstellung!BD7<>\"\",+AnzRundenALT,0)","v":40}]
[null,{"$f":"IF(+Eing.Mannsch.aufstellung!BD8>0,RANK(H25,H$21:H$27,0),\"\")","v":3},null,{"$f":"IF(+Eing.Mannsch.aufstellung!BC8>0,+Eing.Mannsch.aufstellung!BC8,\"\")","v":"MGC Bad Homburg 2"},"",{"$f":"IF(+Eing.Mannsch.aufstellung!BD8>0,+Eing.Mannsch.aufstellung!BD8,\"\")","v":1094},{"$f":"IF(+Eing.Mannsch.aufstellung!BD8>0,F25/L25,\"\")","v":27.35},{"$f":"IF(+Eing.Mannsch.aufstellung!BD8>0,+Eing.Mannsch.aufstellung!BG8,\"\")","v":10},null,null,null,{"$f":"IF(+Eing.Mannsch.aufstellung!BD8<>\"\",+AnzRundenALT,0)","v":40}]
[null,{"$f":"IF(+Eing.Mannsch.aufstellung!BD9>0,RANK(H26,H$21:H$27,0),\"\")","v":3},null,{"$f":"IF(+Eing.Mannsch.aufstellung!BC9>0,+Eing.Mannsch.aufstellung!BC9,\"\")","v":"SV Dreieichenhain"},"",{"$f":"IF(+Eing.Mannsch.aufstellung!BD9>0,+Eing.Mannsch.aufstellung!BD9,\"\")","v":1100},{"$f":"IF(+Eing.Mannsch.aufstellung!BD9>0,F26/L26,\"\")","v":27.5},{"$f":"IF(+Eing.Mannsch.aufstellung!BD9>0,+Eing.Mannsch.aufstellung!BG9,\"\")","v":10},null,null,null,{"$f":"IF(+Eing.Mannsch.aufstellung!BD9<>\"\",+AnzRundenALT,0)","v":40}]
[null,{"$f":"IF(+Eing.Mannsch.aufstellung!BD10>0,RANK(H27,H$21:H$27,0),\"\")","v":7},null,{"$f":"IF(+Eing.Mannsch.aufstellung!BC10>0,+Eing.Mannsch.aufstellung!BC10,\"\")","v":"MGC Heringen"},"",{"$f":"IF(+Eing.Mannsch.aufstellung!BD10>0,+Eing.Mannsch.aufstellung!BD10,\"\")","v":1211},{"$f":"IF(+Eing.Mannsch.aufstellung!BD10>0,F27/L27,\"\")","v":30.274999999999999},{"$f":"IF(+Eing.Mannsch.aufstellung!BD10>0,+Eing.Mannsch.aufstellung!BG10,\"\")","v":0},null,null,null,{"$f":"IF(+Eing.Mannsch.aufstellung!BD10<>\"\",+AnzRundenALT,0)","v":40}]
[]
[null,null,null,"Tagestabelle"]
[null,"Rang",null,"Mannschaft",null,"Schläge","Schnitt","Punkte"]
[null,{"$f":"IF(F31=\"\",\"\",RANK(F31,F$31:F$37,1))","v":""},null,{"$f":"IF(+Tagestabelle!E5>0,+Tagestabelle!E5,\"\")","v":"MGC Bad Homburg 1"},null,{"$f":"IF(+Tagestabelle!M14>1999,\"\",ROUND(+Tagestabelle!M14,0))","v":""},{"$f":"IF(F31=\"\",\"\",F31/L31)","v":""},{"$f":"IF(+Tagestabelle!E5>0,+Tagestabelle!B5,\"\")","v":12},null,null,null,{"$f":"IF(D31<>\"\",AnzSpieler*Tagestabelle!$N$3,\"\")","v":0}]
[null,"",null,{"$f":"IF(+Tagestabelle!E21>0,+Tagestabelle!E21,\"\")","v":"SG Arheilgen 3"},null,{"$f":"IF(+Tagestabelle!M30>1999,\"\",ROUND(+Tagestabelle!M30,0))","v":""},"",{"$f":"IF(+Tagestabelle!E21>0,+Tagestabelle!B21,\"\")","v":10},null,null,null,{"$f":"IF(D32<>\"\",AnzSpieler*Tagestabelle!$N$3,\"\")","v":0}]
[null,"",null,{"$f":"IF(+Tagestabelle!E37>0,+Tagestabelle!E37,\"\")","v":"MGC Kahler Sandhasen"},null,{"$f":"IF(+Tagestabelle!M46>1999,\"\",ROUND(+Tagestabelle!M46,0))","v":""},"",{"$f":"IF(+Tagestabelle!E37>0,+Tagestabelle!B37,\"\")","v":8},null,null,null,{"$f":"IF(D33<>\"\",AnzSpieler*Tagestabelle!$N$3,\"\")","v":0}]
[null,"",null,{"$f":"IF(+Tagestabelle!E53>0,+Tagestabelle!E53,\"\")","v":"SG Weiterstadt"},null,{"$f":"IF(+Tagestabelle!M62>1999,\"\",ROUND(+Tagestabelle!M62,0))","v":""},"",{"$f":"IF(+Tagestabelle!E53>0,+Tagestabelle!B53,\"\")","v":6},null,null,null,{"$f":"IF(D34<>\"\",AnzSpieler*Tagestabelle!$N$3,\"\")","v":0}]
[null,"",null,{"$f":"IF(+Tagestabelle!E69>0,+Tagestabelle!E69,\"\")","v":"MGC Bad Homburg 2"},null,{"$f":"IF(+Tagestabelle!M78>1999,\"\",ROUND(+Tagestabelle!M78,0))","v":""},"",{"$f":"IF(+Tagestabelle!E69>0,+Tagestabelle!B69,\"\")","v":4},null,null,null,{"$f":"IF(D35<>\"\",AnzSpieler*Tagestabelle!$N$3,\"\")","v":0}]
[null,"",null,{"$f":"IF(+Tagestabelle!E85>0,+Tagestabelle!E85,\"\")","v":"SV Dreieichenhain"},null,{"$f":"IF(+Tagestabelle!M94>1999,\"\",ROUND(+Tagestabelle!M94,0))","v":""},"",{"$f":"IF(+Tagestabelle!E85>0,+Tagestabelle!B85,\"\")","v":2},null,null,null,{"$f":"IF(D36<>\"\",AnzSpieler*Tagestabelle!$N$3,\"\")","v":0}]
[null,"",null,{"$f":"IF(+Tagestabelle!E101>0,+Tagestabelle!E101,\"\")","v":"MGC Heringen"},null,{"$f":"IF(+Tagestabelle!M110>1999,\"\",ROUND(+Tagestabelle!M110,0))","v":""},"",{"$f":"IF(+Tagestabelle!E101>0,+Tagestabelle!B101,\"\")","v":0},null,null,null,{"$f":"IF(D37<>\"\",AnzSpieler*Tagestabelle!$N$3,\"\")","v":0}]
[]
[null,null,null,"Tabelle nach dem",null,{"$f":"F19","v":3},".  Spieltag"]
[null,"Rang",null,"Mannschaft",null,"Schläge","Schnitt","Punkte"]
[null,{"$f":"IF(F41=\"\",\"\",\"1\")","v":""},null,null,null,null,null,null,{"$f":"IF(H41=\"\",-900,H41)","v":-900},null,null,{"$f":"IF(+Eing.Mannsch.aufstellung!BD4<>\"\",+L31+L21,\"\")","v":40}]
[null,{"$f":"IF(F42=\"\",\"\",\"2\")","v":""},null,null,null,null,null,null,-900,null,null,{"$f":"IF(+Eing.Mannsch.aufstellung!BD5<>\"\",+L32+L22,\"\")","v":40}]
[null,{"$f":"IF(F43=\"\",\"\",\"3\")","v":""},null,null,null,null,null,null,-900,null,null,{"$f":"IF(+Eing.Mannsch.aufstellung!BD6<>\"\",+L33+L23,\"\")","v":40}]
[null,{"$f":"IF(F44=\"\",\"\",\"4\")","v":""},null,null,null,null,null,null,-900,null,null,{"$f":"IF(+Eing.Mannsch.aufstellung!BD7<>\"\",+L34+L24,\"\")","v":40}]
[null,{"$f":"IF(F45=\"\",\"\",\"5\")","v":""},null,null,null,null,null,null,-900,null,null,{"$f":"IF(+Eing.Mannsch.aufstellung!BD8<>\"\",+L35+L25,\"\")","v":40}]
[null,{"$f":"IF(F46=\"\",\"\",\"6\")","v":""},null,null,null,null,null,null,-900,null,null,{"$f":"IF(+Eing.Mannsch.aufstellung!BD9<>\"\",+L36+L26,\"\")","v":40}]
[null,{"$f":"IF(F47=\"\",\"\",\"7\")","v":""},null,null,null,null,null,null,-900,null,null,{"$f":"IF(+Eing.Mannsch.aufstellung!BD10<>\"\",+L37+L27,\"\")","v":40}]
[]
[null,"Besondere Vorkommnisse:"]
[null,"Die Mannschaft MGC Heringen wurde zurückgezogen. Die Mannschaft wird bei allen Spieltagen mit 0 Punkten auf den letzten Platz gesetzt."]
[]
[]
[]
[]
[]
[]
[null,null,null,null,null,{"$f":"D7","v":"Dreieichenhain"},", den",{"$f":"H5","v":"2024-06-09"}]
[]
[{"$f":"IF(C5>0,+A65,\"\")","v":"Turnierprogramm für Punkspiele ( 4er, 5er od. 6er Mannschaften mit Streichergebnis). \nBis zu 7 teilnehmende Mannschaften möglich. Das Programm wird ständig aktualisiert. \nNutzung nur mit Einverständnis des Erstellers. Die Nutzung ist bis auf Widerruf kostenfrei. \nEine Spende zu Gunsten der Jugendkasse des HBSV ist angemessen und wird gerne angenommen."}]
[{"$f":"IF(C5>0,+A66,\"\")","v":"Ersteller:    Günter Arnold, Tel: 06434 9336528, Mobil 0172 5779716, email: medienwart@minigolf-hessen.de \n                                  "}]
[]
[]
[]
[]
["Turnierprogramm für Punkspiele ( 4er, 5er od. 6er Mannschaften mit Streichergebnis). \nBis zu 7 teilnehmende Mannschaften möglich. Das Programm wird ständig aktualisiert. \nNutzung nur mit Einverständnis des Erstellers. Die Nutzung ist bis auf Widerruf kostenfrei. \nEine Spende zu Gunsten der Jugendkasse des HBSV ist angemessen und wird gerne angenommen."]
["Ersteller:    Günter Arnold, Tel: 06434 9336528, Mobil 0172 5779716, email: medienwart@minigolf-hessen.de \n                                  "]

{"sheet":"Tagestabelle","index":5,"n_rows":130,"n_cols":40,"rows_kept":130,"cut":false,"hidden":false,"merged":[]}
[]
[{"$f":"IF(+Eing.Allg..Daten!D2>0,+Eing.Allg..Daten!D2,\"\")","v":"Gruppenliga"},null,null,null,null,null,null,{"$f":"+Seite1!C5","v":3},{"$f":"+Seite1!D5","v":". Spieltag         "},null,null,{"$f":"+Seite1!E5","v":"Saison"},{"$f":"+Seite1!F5","v":2024}]
[null,null,null,null,"Spieler pro Team in der Wertung:",{"$f":"AnzSpieler","v":5},null,"Einzelspieler in der Wertung :",{"$f":"COUNTIF(O6:O114,\"FIN\")","v":63},null,null,null,"Runden in der Wertung :",{"$f":"MAX(O14,O30,O46,O62,O78,O94,O110)","v":0}]
[null,null,null,null,null,null,null,null,null,null,null,null,null,null,null,null,{"$f":"$M14","v":2001},1.01,null,null,null,null,null,null,null,null,null,null,null,null,null,null,null,null,null,null,null,null,{"$f":"$M14","v":2001},1.01]
["1.",{"$f":"IF(AND(AnzMa>0,M14>0),2*AnzMa-2+AD14,0)","v":12},"Pkt.",null,{"$f":"+'Ma1'!$D$1","v":"MGC Bad Homburg 1"},null,null,"Kat","R1","R2","R3","R4","Ges","Schnitt",null,null,{"$f":"$M14","v":2001},1.02,null,null,null,null,null,null,null,null,null,null,null,null,null,null,null,null,null,null,null,null,{"$f":"$M14","v":2001},1.02]
[8.0000000000000007E-5,null,null,null,{"$f":"IF(M1S1p>0,M1S1p,\"\")","v":""},null,{"$f":"IF(M1S1p>0,M1S1,\"\")","v":""},{"$f":"IF(M1S1p>0,M1S1Kat,\"\")","v":""},{"$f":"$A6+'Ma1'!$D$25","v":999.00008000000003},{"$f":"$A6+'Ma1'!$E$25","v":999.00008000000003},{"$f":"$A6+'Ma1'!$F$25","v":999.00008000000003},{"$f":"$A6+'Ma1'!$G$25","v":999.00008000000003},{"$f":"IF(L6<>(999+$A6),SUM(I6:L6),IF(K6<>(999+$A6),SUM(I6:K6),IF(J6<>(999+$A6),SUM(I6:J6),IF(I6<>(999+$A6),I6,\"0\"))))","v":"0"},{"$f":"IF(I6>=999,\"\",IF(M6>0,M6/COUNTIF(I6:L6,\"<999\"),\"\"))","v":""},{"$f":"'Ma1'!$H$27","v":"FIN"},null,{"$f":"$M14","v":2001},1.03,null,null,null,null,null,null,null,null,null,null,null,null,null,null,null,null,null,null,null,null,{"$f":"$M14","v":2001},1.03]
[6.9999999999999994E-5,null,null,null,{"$f":"IF(M1S2p>0,M1S2p,\"\")","v":""},null,{"$f":"IF(M1S2p>0,M1S2,\"\")","v":""},{"$f":"IF(M1S2p>0,M1S2Kat,\"\")","v":""},{"$f":"$A7+'Ma1'!$J$25","v":999.00007000000005},{"$f":"$A7+'Ma1'!$K$25","v":999.00007000000005},{"$f":"$A7+'Ma1'!$L$25","v":999.00007000000005},{"$f":"$A7+'Ma1'!$M$25","v":999.00007000000005},"0","",{"$f":"'Ma1'!$N$27","v":"FIN"},null,{"$f":"$M14","v":2001},1.04,null,null,null,null,null,null,null,null,null,null,null,null,null,null,null,null,null,null,null,null,{"$f":"$M14","v":2001},1.04]
[6.0000000000000002E-5,null,null,null,{"$f":"IF(M1S3p>0,M1S3p,\"\")","v":""},null,{"$f":"IF(M1S3p>0,M1S3,\"\")","v":""},{"$f":"IF(M1S3p>0,M1S3Kat,\"\")","v":""},{"$f":"$A8+'Ma1'!$P$25","v":999.00005999999996},{"$f":"$A8+'Ma1'!$Q$25","v":999.00005999999996},{"$f":"$A8+'Ma1'!$R$25","v":999.00005999999996},{"$f":"$A8+'Ma1'!$S$25","v":999.00005999999996},"0","",{"$f":"'Ma1'!$T$27","v":"FIN"},null,{"$f":"$M14","v":2001},1.05,null,null,null,null,null,null,null,null,null,null,null,null,null,null,null,null,null,null,null,null,{"$f":"$M14","v":2001},1.05]
[5.0000000000000002E-5,null,null,null,{"$f":"IF(M1S4p>0,M1S4p,\"\")","v":""},null,{"$f":"IF(M1S4p>0,M1S4,\"\")","v":""},{"$f":"IF(M1S4p>0,M1S4Kat,\"\")","v":""},{"$f":"$A9+'Ma1'!$V$25","v":999.00004999999999},{"$f":"$A9+'Ma1'!$W$25","v":999.00004999999999},{"$f":"$A9+'Ma1'!$X$25","v":999.00004999999999},{"$f":"$A9+'Ma1'!$Y$25","v":999.00004999999999},"0","",{"$f":"'Ma1'!$Z$27","v":"FIN"},null,{"$f":"$M14","v":2001},1.06,null,null,null,null,null,null,null,null,null,null,null,null,null,null,null,null,null,null,null,null,{"$f":"$M14","v":2001},1.06]
[4.0000000000000003E-5,null,null,null,{"$f":"IF(M1S5p>0,M1S5p,\"\")","v":""},null,{"$f":"IF(M1S5p>0,M1S5,\"\")","v":""},{"$f":"IF(M1S5p>0,M1S5Kat,\"\")","v":""},{"$f":"$A10+'Ma1'!$D$51","v":999.00004000000001},{"$f":"$A10+'Ma1'!$E$51","v":999.00004000000001},{"$f":"$A10+'Ma1'!$F$51","v":999.00004000000001},{"$f":"$A10+'Ma1'!$G$51","v":999.00004000000001},"0","",{"$f":"'Ma1'!$H$53","v":"FIN"},null,{"$f":"$M14","v":2001},1.07,null,null,null,null,null,null,null,null,null,null,null,null,null,null,null,null,null,null,null,null,{"$f":"$M14","v":2001},1.07]
[3.0000000000000001E-5,null,null,null,{"$f":"IF(M1S6p>0,M1S6p,\"\")","v":""},null,{"$f":"IF(M1S6p>0,M1S6,\"\")","v":""},{"$f":"IF(M1S6p>0,M1S6Kat,\"\")","v":""},{"$f":"$A11+'Ma1'!$J$51","v":999.00003000000004},{"$f":"$A11+'Ma1'!$K$51","v":999.00003000000004},{"$f":"$A11+'Ma1'!$L$51","v":999.00003000000004},{"$f":"$A11+'Ma1'!$M$51","v":999.00003000000004},"0","",{"$f":"'Ma1'!$N$53","v":"FIN"},null,{"$f":"$M14","v":2001},1.08,null,null,null,null,null,null,null,null,null,null,null,null,null,null,null,null,null,null,null,null,{"$f":"$M14","v":2001},1.08]
[2.0000000000000002E-5,null,null,null,{"$f":"IF(M1S7p>0,M1S7p,\"\")","v":""},null,{"$f":"IF(M1S7p>0,M1S7,\"\")","v":""},{"$f":"IF(M1S7p>0,M1S7Kat,\"\")","v":""},{"$f":"$A12+'Ma1'!$P$51","v":999.00001999999995},{"$f":"$A12+'Ma1'!$Q$51","v":999.00001999999995},{"$f":"$A12+'Ma1'!$R$51","v":999.00001999999995},{"$f":"$A12+'Ma1'!$S$51","v":999.00001999999995},"0","",{"$f":"'Ma1'!$T$53","v":"FIN"},null,{"$f":"$M14","v":2001},1.0900000000000001,null,null,null,null,null,null,null,null,null,null,null,null,null,null,null,null,null,null,null,null,{"$f":"$M14","v":2001},1.0900000000000001]
[1.0000000000000001E-5,null,null,null,{"$f":"IF(M1S8p>0,M1S8p,\"\")","v":""},null,{"$f":"IF(M1S8p>0,M1S8,\"\")","v":""},{"$f":"IF(M1S8p>0,M1S8Kat,\"\")","v":""},{"$f":"A13+'Ma1'!$V$51","v":999.00000999999997},{"$f":"A13+'Ma1'!$W$51","v":999.00000999999997},{"$f":"A13+'Ma1'!$X$51","v":999.00000999999997},{"$f":"A13+'Ma1'!$Y$51","v":999.00000999999997},"0","",{"$f":"'Ma1'!$Z$53","v":"FIN"},null,{"$f":"$M14","v":2001},1.1000000000000001,null,null,null,null,null,null,null,null,null,null,null,null,null,null,null,null,null,null,null,null,{"$f":"$M14","v":2001},1.1000000000000001]
[null,null,null,null,null,null,null,null,{"$f":"IF($F$3=4,I15,IF($F$3=5,I16,IF($F$3=6,I17,\"F2 ist falsch\")))","v":4995.0001499999998},{"$f":"IF($F$3=4,J15,IF($F$3=5,J16,IF($F$3=6,J17,\"F2 ist falsch\")))","v":4995.0001499999998},{"$f":"IF($F$3=4,K15,IF($F$3=5,K16,IF($F$3=6,K17,\"F2 ist falsch\")))","v":4995.0001499999998},{"$f":"IF($F$3=4,L15,IF($F$3=5,L16,IF($F$3=6,L17,\"F2 ist falsch\")))","v":4995.0001499999998},{"$f":"IF(L14<999,SUM(I14:L14),IF(K14<999,SUM(I14:K14),IF(J14<999,SUM(I14:J14),IF(I14<999,SUM(I14),2001))))","v":2001},{"$f":"IF(M14<999,M14/(COUNTIF(I14:L14,\"<999\")*$F$3),\"\")","v":""},{"$f":"IF(L14<3995,4,IF(K14<3995,3,IF(J14<3995,2,IF(I14<3995,1,0))))","v":0},null,{"$f":"$M14","v":2001},1.1100000000000001,null,null,{"$f":"IF(AND(M14>0,M14=M30),1,0)","v":0},null,null,null,null,null,null,null,null,{"$f":"SUM(AE14:AI14)","v":0},{"$f":"IF(INT(M14)=INT(M30),-1,0)","v":0},null,{"$f":"IF(AND(INT(M14)=INT(M30),INT(M30)=INT(M46)),-1,0)","v":0},null,null,null,null,null,{"$f":"$M14","v":2001},1.1100000000000001]
[null,null,null,null,"KKLEINSTE 1 - 4",null,null,null,{"$f":"SUM(SMALL(I6:I13,1),SMALL(I6:I13,2),SMALL(I6:I13,3),SMALL(I6:I13,4))","v":3996.0000999999997},{"$f":"SUM(SMALL(J6:J13,1),SMALL(J6:J13,2),SMALL(J6:J13,3),SMALL(J6:J13,4))","v":3996.0000999999997},{"$f":"SUM(SMALL(K6:K13,1),SMALL(K6:K13,2),SMALL(K6:K13,3),SMALL(K6:K13,4))","v":3996.0000999999997},{"$f":"SUM(SMALL(L6:L13,1),SMALL(L6:L13,2),SMALL(L6:L13,3),SMALL(L6:L13,4))","v":3996.0000999999997},null,null,null,null,{"$f":"$M14","v":2001},1.1200000000000001,null,null,null,null,null,null,null,null,null,null,null,null,null,null,null,null,null,null,null,null,{"$f":"$M14","v":2001},1.1200000000000001]
[null,null,null,null,"KKLEINSTE 1 - 5",null,null,null,{"$f":"SUM(I15,SMALL(I6:I13,5))","v":4995.0001499999998},{"$f":"SUM(J15,SMALL(J6:J13,5))","v":4995.0001499999998},{"$f":"SUM(K15,SMALL(K6:K13,5))","v":4995.0001499999998},{"$f":"SUM(L15,SMALL(L6:L13,5))","v":4995.0001499999998},null,null,null,null,{"$f":"$M14","v":2001},1.1299999999999999,null,null,null,null,null,null,null,null,null,null,null,null,null,null,null,null,null,null,null,null,{"$f":"$M14","v":2001},1.1299999999999999]
[null,null,null,null,"KKLEINSTE 1 - 6",null,null,null,{"$f":"SUM(I16,SMALL(I6:I13,6))","v":5994.0002100000002},{"$f":"SUM(J16,SMALL(J6:J13,6))","v":5994.0002100000002},{"$f":"SUM(K16,SMALL(K6:K13,6))","v":5994.0002100000002},{"$f":"SUM(L16,SMALL(L6:L13,6))","v":5994.0002100000002},null,null,null,null,{"$f":"$M14","v":2001},1.1399999999999999,null,null,null,null,null,null,null,null,null,null,null,null,null,null,null,null,null,null,null,null,{"$f":"$M14","v":2001},1.1399999999999999]
[null,null,"AK",null,{"$f":"IF(M1SAKp>0,M1SAKp,\"\")","v":""},null,{"$f":"IF(M1SAKp>0,M1SAK,\"\")","v":""},{"$f":"IF(M1SAKp>0,M1SAKKat,\"\")","v":""},{"$f":"+'Ma1'!$AB$51","v":999},{"$f":"+'Ma1'!$AC$51","v":999},{"$f":"+'Ma1'!$AD$51","v":999},{"$f":"+'Ma1'!$AE$51","v":999},{"$f":"IF(L18<999,SUM(I18:L18),IF(K18<999,SUM(I18:K18),IF(J18<999,SUM(I18:J18),IF(I18<999,SUM(I18),\"\"))))","v":""},{"$f":"IF(M18<>\"\",M18/COUNTIF(I18:L18,\"<>999\"),\"\")","v":""},{"$f":"'Ma1'!$AF$53","v":"FIN"},null,{"$f":"$M14","v":2001},1.1499999999999999,null,null,null,null,null,null,null,null,null,null,null,null,null,null,null,null,null,null,null,null,{"$f":"$M14","v":2001},1.1499999999999999]
[null,null,null,null,null,null,null,null,null,null,null,null,null,null,null,null,{"$f":"$M14","v":2001},1.1599999999999999,null,null,null,null,null,null,null,null,null,null,null,null,null,null,null,null,null,null,null,null,{"$f":"$M14","v":2001},1.1599999999999999]
[null,null,null,null,null,null,null,null,null,null,null,null,null,null,null,null,{"$f":"$M30","v":2002},2.0099999999999998,null,null,null,null,null,null,null,null,null,null,null,null,null,null,null,null,null,null,null,null,{"$f":"$M30","v":2002},2.0099999999999998]
["2.",{"$f":"IF(AND(AnzMa>0,M30>0),2*AnzMa-4+AD30,0)","v":10},"Pkt.",null,{"$f":"+'Ma2'!$D$1","v":"SG Arheilgen 3"},null,null,"Kat","R1","R2","R3","R4","Ges","Schnitt",null,null,{"$f":"$M30","v":2002},2.02,null,null,null,null,null,null,null,null,null,null,null,null,null,null,null,null,null,null,null,null,{"$f":"$M30","v":2002},2.02]
[8.0000000000000007E-5,null,null,null,{"$f":"IF(M2S1p>0,M2S1p,\"\")","v":""},null,{"$f":"IF(M2S1p>0,M2S1,\"\")","v":""},{"$f":"IF(M2S1p>0,M2S1Kat,\"\")","v":""},{"$f":"$A22+'Ma2'!$D$25","v":999.00008000000003},{"$f":"$A22+'Ma2'!$E$25","v":999.00008000000003},{"$f":"$A22+'Ma2'!$F$25","v":999.00008000000003},{"$f":"$A22+'Ma2'!$G$25","v":999.00008000000003},{"$f":"IF(L22<>(999+$A22),SUM(I22:L22),IF(K22<>(999+$A22),SUM(I22:K22),IF(J22<>(999+$A22),SUM(I22:J22),IF(I22<>(999+$A22),I22,\"0\"))))","v":"0"},{"$f":"IF(I22>=999,\"\",IF(M22>0,M22/COUNTIF(I22:L22,\"<999\"),\"\"))","v":""},{"$f":"'Ma2'!$H$27","v":"Fin"},null,{"$f":"$M30","v":2002},2.0299999999999998,null,null,null,null,null,null,null,null,null,null,null,null,null,null,null,null,null,null,null,null,{"$f":"$M30","v":2002},2.0299999999999998]
[6.9999999999999994E-5,null,null,null,{"$f":"IF(M2S2p>0,M2S2p,\"\")","v":""},null,{"$f":"IF(M2S2p>0,M2S2,\"\")","v":""},{"$f":"IF(M2S2p>0,M2S2Kat,\"\")","v":""},{"$f":"$A23+'Ma2'!$J$25","v":999.00007000000005},{"$f":"$A23+'Ma2'!$K$25","v":999.00007000000005},{"$f":"$A23+'Ma2'!$L$25","v":999.00007000000005},{"$f":"$A23+'Ma2'!$M$25","v":999.00007000000005},"0","",{"$f":"'Ma2'!$N$27","v":"Fin"},null,{"$f":"$M30","v":2002},2.04,null,null,null,null,null,null,null,null,null,null,null,null,null,null,null,null,null,null,null,null,{"$f":"$M30","v":2002},2.04]
[6.0000000000000002E-5,null,null,null,{"$f":"IF(M2S3p>0,M2S3p,\"\")","v":""},null,{"$f":"IF(M2S3p>0,M2S3,\"\")","v":""},{"$f":"IF(M2S3p>0,M2S3Kat,\"\")","v":""},{"$f":"$A24+'Ma2'!$P$25","v":999.00005999999996},{"$f":"$A24+'Ma2'!$Q$25","v":999.00005999999996},{"$f":"$A24+'Ma2'!$R$25","v":999.00005999999996},{"$f":"$A24+'Ma2'!$S$25","v":999.00005999999996},"0","",{"$f":"'Ma2'!$T$27","v":"Fin"},null,{"$f":"$M30","v":2002},2.0499999999999998,null,null,null,null,null,null,null,null,null,null,null,null,null,null,null,null,null,null,null,null,{"$f":"$M30","v":2002},2.0499999999999998]
[5.0000000000000002E-5,null,null,null,{"$f":"IF(M2S4p>0,M2S4p,\"\")","v":""},null,{"$f":"IF(M2S4p>0,M2S4,\"\")","v":""},{"$f":"IF(M2S4p>0,M2S4Kat,\"\")","v":""},{"$f":"$A25+'Ma2'!$V$25","v":999.00004999999999},{"$f":"$A25+'Ma2'!$W$25","v":999.00004999999999},{"$f":"$A25+'Ma2'!$X$25","v":999.00004999999999},{"$f":"$A25+'Ma2'!$Y$25","v":999.00004999999999},"0","",{"$f":"'Ma2'!$Z$27","v":"Fin"},null,{"$f":"$M30","v":2002},2.06,null,null,null,null,null,null,null,null,null,null,null,null,null,null,null,null,null,null,null,null,{"$f":"$M30","v":2002},2.06]
[4.0000000000000003E-5,null,null,null,{"$f":"IF(M2S5p>0,M2S5p,\"\")","v":""},null,{"$f":"IF(M2S5p>0,M2S5,\"\")","v":""},{"$f":"IF(M2S5p>0,M2S5Kat,\"\")","v":""},{"$f":"$A26+'Ma2'!$D$51","v":999.00004000000001},{"$f":"$A26+'Ma2'!$E$51","v":999.00004000000001},{"$f":"$A26+'Ma2'!$F$51","v":999.00004000000001},{"$f":"$A26+'Ma2'!$G$51","v":999.00004000000001},"0","",{"$f":"'Ma2'!$H$53","v":"Fin"},null,{"$f":"$M30","v":2002},2.0699999999999998,null,null,null,null,null,null,null,null,null,null,null,null,null,null,null,null,null,null,null,null,{"$f":"$M30","v":2002},2.0699999999999998]
[3.0000000000000001E-5,null,null,null,{"$f":"IF(M2S6p>0,M2S6p,\"\")","v":""},null,{"$f":"IF(M2S6p>0,M2S6,\"\")","v":""},{"$f":"IF(M2S6p>0,M2S6Kat,\"\")","v":""},{"$f":"$A27+'Ma2'!$J$51","v":999.00003000000004},{"$f":"$A27+'Ma2'!$K$51","v":999.00003000000004},{"$f":"$A27+'Ma2'!$L$51","v":999.00003000000004},{"$f":"$A27+'Ma2'!$M$51","v":999.00003000000004},"0","",{"$f":"'Ma2'!$N$53","v":"Fin"},null,{"$f":"$M30","v":2002},2.08,null,null,null,null,null,null,null,null,null,null,null,null,null,null,null,null,null,null,null,null,{"$f":"$M30","v":2002},2.08]
[2.0000000000000002E-5,null,null,null,{"$f":"IF(M2S7p>0,M2S7p,\"\")","v":""},null,{"$f":"IF(M2S7p>0,M2S7,\"\")","v":""},{"$f":"IF(M2S7p>0,M2S7Kat,\"\")","v":""},{"$f":"$A28+'Ma2'!$P$51","v":999.00001999999995},{"$f":"$A28+'Ma2'!$Q$51","v":999.00001999999995},{"$f":"$A28+'Ma2'!$R$51","v":999.00001999999995},{"$f":"$A28+'Ma2'!$S$51","v":999.00001999999995},"0","",{"$f":"'Ma2'!$T$53","v":"Fin"},null,{"$f":"$M30","v":2002},2.09,null,null,null,null,null,null,null,null,null,null,null,null,null,null,null,null,null,null,null,null,{"$f":"$M30","v":2002},2.09]
[1.0000000000000001E-5,null,null,null,{"$f":"IF(M2S8p>0,M2S8p,\"\")","v":""},null,{"$f":"IF(M2S8p>0,M2S8,\"\")","v":""},{"$f":"IF(M2S8p>0,M2S8Kat,\"\")","v":""},{"$f":"A29+'Ma2'!$V$51","v":999.00000999999997},{"$f":"A29+'Ma2'!$W$51","v":999.00000999999997},{"$f":"A29+'Ma2'!$X$51","v":999.00000999999997},{"$f":"A29+'Ma2'!$Y$51","v":999.00000999999997},"0","",{"$f":"'Ma2'!$Z$53","v":"Fin"},null,{"$f":"$M30","v":2002},2.1,null,null,null,null,null,null,null,null,null,null,null,null,null,null,null,null,null,null,null,null,{"$f":"$M30","v":2002},2.1]
[null,null,null,null,null,null,null,null,{"$f":"IF($F$3=4,I31,IF($F$3=5,I32,IF($F$3=6,I33,\"F2 ist falsch\")))","v":4995.0001499999998},{"$f":"IF($F$3=4,J31,IF($F$3=5,J32,IF($F$3=6,J33,\"F2 ist falsch\")))","v":4995.0001499999998},{"$f":"IF($F$3=4,K31,IF($F$3=5,K32,IF($F$3=6,K33,\"F2 ist falsch\")))","v":4995.0001499999998},{"$f":"IF($F$3=4,L31,IF($F$3=5,L32,IF($F$3=6,L33,\"F2 ist falsch\")))","v":4995.0001499999998},{"$f":"IF(L30<999,SUM(I30:L30),IF(K30<999,SUM(I30:K30),IF(J30<999,SUM(I30:J30),IF(I30<999,SUM(I30),2002))))","v":2002},{"$f":"IF(M30<999,M30/(COUNTIF(I30:L30,\"<999\")*$F$3),\"\")","v":""},{"$f":"IF(L30<3995,4,IF(K30<3995,3,IF(J30<3995,2,IF(I30<3995,1,0))))","v":0},null,{"$f":"$M30","v":2002},2.11,null,null,{"$f":"IF(AND(M30>0,M30=M46),1,0)","v":0},null,null,null,null,null,null,null,null,{"$f":"SUM(AE30:AI30)","v":0},{"$f":"IF(INT(M14)=INT(M30),1,0)","v":0},{"$f":"IF(INT(M30)=INT(M46),-1,0)","v":0},{"$f":"IF(AND(INT(M14)=INT(M30),INT(M30)=INT(M46)),0,0)","v":0},{"$f":"IF(AND(INT(M30)=INT(M46),INT(M46)=INT(M62)),-1,0)","v":0},null,null,null,null,{"$f":"$M30","v":2002},2.11]
[null,null,null,null,"KKLEINSTE 1 - 4",null,null,null,{"$f":"SUM(SMALL(I22:I29,1),SMALL(I22:I29,2),SMALL(I22:I29,3),SMALL(I22:I29,4))","v":3996.0000999999997},{"$f":"SUM(SMALL(J22:J29,1),SMALL(J22:J29,2),SMALL(J22:J29,3),SMALL(J22:J29,4))","v":3996.0000999999997},{"$f":"SUM(SMALL(K22:K29,1),SMALL(K22:K29,2),SMALL(K22:K29,3),SMALL(K22:K29,4))","v":3996.0000999999997},{"$f":"SUM(SMALL(L22:L29,1),SMALL(L22:L29,2),SMALL(L22:L29,3),SMALL(L22:L29,4))","v":3996.0000999999997},null,null,null,null,{"$f":"$M30","v":2002},2.12,null,null,null,null,null,null,null,null,null,null,null,null,null,null,null,null,null,null,null,null,{"$f":"$M30","v":2002},2.12]
[null,null,null,null,"KKLEINSTE 1 - 5",null,null,null,{"$f":"SUM(I31,SMALL(I22:I29,5))","v":4995.0001499999998},{"$f":"SUM(J31,SMALL(J22:J29,5))","v":4995.0001499999998},{"$f":"SUM(K31,SMALL(K22:K29,5))","v":4995.0001499999998},{"$f":"SUM(L31,SMALL(L22:L29,5))","v":4995.0001499999998},null,null,null,null,{"$f":"$M30","v":2002},2.13,null,null,null,null,null,null,null,null,null,null,null,null,null,null,null,null,null,null,null,null,{"$f":"$M30","v":2002},2.13]
[null,null,null,null,"KKLEINSTE 1 - 6",null,null,null,{"$f":"SUM(I32,SMALL(I22:I29,6))","v":5994.0002100000002},{"$f":"SUM(J32,SMALL(J22:J29,6))","v":5994.0002100000002},{"$f":"SUM(K32,SMALL(K22:K29,6))","v":5994.0002100000002},{"$f":"SUM(L32,SMALL(L22:L29,6))","v":5994.0002100000002},null,null,null,null,{"$f":"$M30","v":2002},2.14,null,null,null,null,null,null,null,null,null,null,null,null,null,null,null,null,null,null,null,null,{"$f":"$M30","v":2002},2.14]
[null,null,"AK",null,{"$f":"IF(M2SAKp>0,M2SAKp,\"\")","v":""},null,{"$f":"IF(M2SAKp>0,M2SAK,\"\")","v":""},{"$f":"IF(M2SAKp>0,M2SAKKat,\"\")","v":""},{"$f":"+'Ma2'!$AB$51","v":999},{"$f":"+'Ma2'!$AC$51","v":999},{"$f":"+'Ma2'!$AD$51","v":999},{"$f":"+'Ma2'!$AE$51","v":999},{"$f":"IF(L34<999,SUM(I34:L34),IF(K34<999,SUM(I34:K34),IF(J34<999,SUM(I34:J34),IF(I34<999,SUM(I34),\"\"))))","v":""},{"$f":"IF(M34<>\"\",M34/COUNTIF(I34:L34,\"<>999\"),\"\")","v":""},{"$f":"'Ma2'!$AF$53","v":"Fin"},null,{"$f":"$M30","v":2002},2.15,null,null,null,null,null,null,null,null,null,null,null,null,null,null,null,null,null,null,null,null,{"$f":"$M30","v":2002},2.15]
[null,null,null,null,null,null,null,null,null,null,null,null,null,null,null,null,{"$f":"$M30","v":2002},2.16,null,null,null,null,null,null,null,null,null,null,null,null,null,null,null,null,null,null,null,null,{"$f":"$M30","v":2002},2.16]
[null,null,null,null,null,null,null,null,null,null,null,null,null,null,null,null,{"$f":"$M46","v":2003},3.01,null,null,null,null,null,null,null,null,null,null,null,null,null,null,null,null,null,null,null,null,{"$f":"$M46","v":2003},3.01]
["3.",{"$f":"IF(AND(AnzMa>0,M46>0),2*AnzMa-6+AD46,0)","v":8},"Pkt.",null,{"$f":"+'Ma3'!$D$1","v":"MGC Kahler Sandhasen"},null,null,"Kat","R1","R2","R3","R4","Ges","Schnitt",null,null,{"$f":"$M46","v":2003},3.02,null,null,null,null,null,null,null,null,null,null,null,null,null,null,null,null,null,null,null,null,{"$f":"$M46","v":2003},3.02]
[8.0000000000000007E-5,null,null,null,{"$f":"IF(M3S1p>0,M3S1p,\"\")","v":""},null,{"$f":"IF(M3S1p>0,M3S1,\"\")","v":""},{"$f":"IF(M3S1p>0,M3S1Kat,\"\")","v":""},{"$f":"$A38+'Ma3'!$D$25","v":999.00008000000003},{"$f":"$A38+'Ma3'!$E$25","v":999.00008000000003},{"$f":"$A38+'Ma3'!$F$25","v":999.00008000000003},{"$f":"$A38+'Ma3'!$G$25","v":999.00008000000003},{"$f":"IF(L38<>(999+$A38),SUM(I38:L38),IF(K38<>(999+$A38),SUM(I38:K38),IF(J38<>(999+$A38),SUM(I38:J38),IF(I38<>(999+$A38),I38,\"0\"))))","v":"0"},{"$f":"IF(I38>=999,\"\",IF(M38>0,M38/COUNTIF(I38:L38,\"<999\"),\"\"))","v":""},{"$f":"'Ma3'!$H$27","v":"FIN"},null,{"$f":"$M46","v":2003},3.03,null,null,null,null,null,null,null,null,null,null,null,null,null,null,null,null,null,null,null,null,{"$f":"$M46","v":2003},3.03]
[6.9999999999999994E-5,null,null,null,{"$f":"IF(M3S2p>0,M3S2p,\"\")","v":""},null,{"$f":"IF(M3S2p>0,M3S2,\"\")","v":""},{"$f":"IF(M3S2p>0,M3S2Kat,\"\")","v":""},{"$f":"$A39+'Ma3'!$J$25","v":999.00007000000005},{"$f":"$A39+'Ma3'!$K$25","v":999.00007000000005},{"$f":"$A39+'Ma3'!$L$25","v":999.00007000000005},{"$f":"$A39+'Ma3'!$M$25","v":999.00007000000005},"0","",{"$f":"'Ma3'!$N$27","v":"FIN"},null,{"$f":"$M46","v":2003},3.04,null,null,null,null,null,null,null,null,null,null,null,null,null,null,null,null,null,null,null,null,{"$f":"$M46","v":2003},3.04]
[6.0000000000000002E-5,null,null,null,{"$f":"IF(M3S3p>0,M3S3p,\"\")","v":""},null,{"$f":"IF(M3S3p>0,M3S3,\"\")","v":""},{"$f":"IF(M3S3p>0,M3S3Kat,\"\")","v":""},{"$f":"$A40+'Ma3'!$P$25","v":999.00005999999996},{"$f":"$A40+'Ma3'!$Q$25","v":999.00005999999996},{"$f":"$A40+'Ma3'!$R$25","v":999.00005999999996},{"$f":"$A40+'Ma3'!$S$25","v":999.00005999999996},"0","",{"$f":"'Ma3'!$T$27","v":"FIN"},null,{"$f":"$M46","v":2003},3.05,null,null,null,null,null,null,null,null,null,null,null,null,null,null,null,null,null,null,null,null,{"$f":"$M46","v":2003},3.05]
[5.0000000000000002E-5,null,null,null,{"$f":"IF(M3S4p>0,M3S4p,\"\")","v":""},null,{"$f":"IF(M3S4p>0,M3S4,\"\")","v":""},{"$f":"IF(M3S4p>0,M3S4Kat,\"\")","v":""},{"$f":"$A41+'Ma3'!$V$25","v":999.00004999999999},{"$f":"$A41+'Ma3'!$W$25","v":999.00004999999999},{"$f":"$A41+'Ma3'!$X$25","v":999.00004999999999},{"$f":"$A41+'Ma3'!$Y$25","v":999.00004999999999},"0","",{"$f":"'Ma3'!$Z$27","v":"FIN"},null,{"$f":"$M46","v":2003},3.06,null,null,null,null,null,null,null,null,null,null,null,null,null,null,null,null,null,null,null,null,{"$f":"$M46","v":2003},3.06]
[4.0000000000000003E-5,null,null,null,{"$f":"IF(M3S5p>0,M3S5p,\"\")","v":""},null,{"$f":"IF(M3S5p>0,M3S5,\"\")","v":""},{"$f":"IF(M3S5p>0,M3S5Kat,\"\")","v":""},{"$f":"$A42+'Ma3'!$D$51","v":999.00004000000001},{"$f":"$A42+'Ma3'!$E$51","v":999.00004000000001},{"$f":"$A42+'Ma3'!$F$51","v":999.00004000000001},{"$f":"$A42+'Ma3'!$G$51","v":999.00004000000001},"0","",{"$f":"'Ma3'!$H$53","v":"FIN"},null,{"$f":"$M46","v":2003},3.07,null,null,null,null,null,null,null,null,null,null,null,null,null,null,null,null,null,null,null,null,{"$f":"$M46","v":2003},3.07]
[3.0000000000000001E-5,null,null,null,{"$f":"IF(M3S6p>0,M3S6p,\"\")","v":""},null,{"$f":"IF(M3S6p>0,M3S6,\"\")","v":""},{"$f":"IF(M3S6p>0,M3S6Kat,\"\")","v":""},{"$f":"$A43+'Ma3'!$J$51","v":999.00003000000004},{"$f":"$A43+'Ma3'!$K$51","v":999.00003000000004},{"$f":"$A43+'Ma3'!$L$51","v":999.00003000000004},{"$f":"$A43+'Ma3'!$M$51","v":999.00003000000004},"0","",{"$f":"'Ma3'!$N$53","v":"FIN"},null,{"$f":"$M46","v":2003},3.08,null,null,null,null,null,null,null,null,null,null,null,null,null,null,null,null,null,null,null,null,{"$f":"$M46","v":2003},3.08]
[2.0000000000000002E-5,null,null,null,{"$f":"IF(M3S7p>0,M3S7p,\"\")","v":""},null,{"$f":"IF(M3S7p>0,M3S7,\"\")","v":""},{"$f":"IF(M3S7p>0,M3S7Kat,\"\")","v":""},{"$f":"$A44+'Ma3'!$P$51","v":999.00001999999995},{"$f":"$A44+'Ma3'!$Q$51","v":999.00001999999995},{"$f":"$A44+'Ma3'!$R$51","v":999.00001999999995},{"$f":"$A44+'Ma3'!$S$51","v":999.00001999999995},"0","",{"$f":"'Ma3'!$T$53","v":"FIN"},null,{"$f":"$M46","v":2003},3.09,null,null,null,null,null,null,null,null,null,null,null,null,null,null,null,null,null,null,null,null,{"$f":"$M46","v":2003},3.09]
[1.0000000000000001E-5,null,null,null,{"$f":"IF(M3S8p>0,M3S8p,\"\")","v":""},null,{"$f":"IF(M3S8p>0,M3S8,\"\")","v":""},{"$f":"IF(M3S8p>0,M3S8Kat,\"\")","v":""},{"$f":"A45+'Ma3'!$V$51","v":999.00000999999997},{"$f":"A45+'Ma3'!$W$51","v":999.00000999999997},{"$f":"A45+'Ma3'!$X$51","v":999.00000999999997},{"$f":"A45+'Ma3'!$Y$51","v":999.00000999999997},"0","",{"$f":"'Ma3'!$Z$53","v":"FIN"},null,{"$f":"$M46","v":2003},3.1,null,null,null,null,null,null,null,null,null,null,null,null,null,null,null,null,null,null,null,null,{"$f":"$M46","v":2003},3.1]
[null,null,null,null,null,null,null,null,{"$f":"IF($F$3=4,I47,IF($F$3=5,I48,IF($F$3=6,I49,\"F2 ist falsch\")))","v":4995.0001499999998},{"$f":"IF($F$3=4,J47,IF($F$3=5,J48,IF($F$3=6,J49,\"F2 ist falsch\")))","v":4995.0001499999998},{"$f":"IF($F$3=4,K47,IF($F$3=5,K48,IF($F$3=6,K49,\"F2 ist falsch\")))","v":4995.0001499999998},{"$f":"IF($F$3=4,L47,IF($F$3=5,L48,IF($F$3=6,L49,\"F2 ist falsch\")))","v":4995.0001499999998},{"$f":"IF(L46<999,SUM(I46:L46),IF(K46<999,SUM(I46:K46),IF(J46<999,SUM(I46:J46),IF(I46<999,SUM(I46),2003))))","v":2003},{"$f":"IF(M46<999,M46/(COUNTIF(I46:L46,\"<999\")*$F$3),\"\")","v":""},{"$f":"IF(L46<3995,4,IF(K46<3995,3,IF(J46<3995,2,IF(I46<3995,1,0))))","v":0},null,{"$f":"$M46","v":2003},3.11,null,null,{"$f":"IF(AND(M46>0,M46=M62),1,0)","v":0},null,null,null,null,null,null,null,null,{"$f":"SUM(AE46:AI46)","v":0},{"$f":"IF(INT(M46)=INT(M62),-1,0)","v":0},{"$f":"IF(INT(M30)=INT(M46),1,0)","v":0},{"$f":"IF(AND(INT(M14)=INT(M30),INT(M30)=INT(M46)),1,0)","v":0},{"$f":"IF(AND(INT(M30)=INT(M46),INT(M46)=INT(M62)),0,0)","v":0},{"$f":"IF(AND(INT(M46)=INT(M62),INT(M62)=INT(M78)),-1,0)","v":0},null,null,null,{"$f":"$M46","v":2003},3.11]
[null,null,null,null,"KKLEINSTE 1 - 4",null,null,null,{"$f":"SUM(SMALL(I38:I45,1),SMALL(I38:I45,2),SMALL(I38:I45,3),SMALL(I38:I45,4))","v":3996.0000999999997},{"$f":"SUM(SMALL(J38:J45,1),SMALL(J38:J45,2),SMALL(J38:J45,3),SMALL(J38:J45,4))","v":3996.0000999999997},{"$f":"SUM(SMALL(K38:K45,1),SMALL(K38:K45,2),SMALL(K38:K45,3),SMALL(K38:K45,4))","v":3996.0000999999997},{"$f":"SUM(SMALL(L38:L45,1),SMALL(L38:L45,2),SMALL(L38:L45,3),SMALL(L38:L45,4))","v":3996.0000999999997},null,null,null,null,{"$f":"$M46","v":2003},3.12,null,null,null,null,null,null,null,null,null,null,null,null,null,null,null,null,null,null,null,null,{"$f":"$M46","v":2003},3.12]
[null,null,null,null,"KKLEINSTE 1 - 5",null,null,null,{"$f":"SUM(I47,SMALL(I38:I45,5))","v":4995.0001499999998},{"$f":"SUM(J47,SMALL(J38:J45,5))","v":4995.0001499999998},{"$f":"SUM(K47,SMALL(K38:K45,5))","v":4995.0001499999998},{"$f":"SUM(L47,SMALL(L38:L45,5))","v":4995.0001499999998},null,null,null,null,{"$f":"$M46","v":2003},3.13,null,null,null,null,null,null,null,null,null,null,null,null,null,null,null,null,null,null,null,null,{"$f":"$M46","v":2003},3.13]
[null,null,null,null,"KKLEINSTE 1 - 6",null,null,null,{"$f":"SUM(I48,SMALL(I38:I45,6))","v":5994.0002100000002},{"$f":"SUM(J48,SMALL(J38:J45,6))","v":5994.0002100000002},{"$f":"SUM(K48,SMALL(K38:K45,6))","v":5994.0002100000002},{"$f":"SUM(L48,SMALL(L38:L45,6))","v":5994.0002100000002},null,null,null,null,{"$f":"$M46","v":2003},3.14,null,null,null,null,null,null,null,null,null,null,null,null,null,null,null,null,null,null,null,null,{"$f":"$M46","v":2003},3.14]
[null,null,"AK",null,{"$f":"IF(M3SAKp>0,M3SAKp,\"\")","v":""},null,{"$f":"IF(M3SAKp>0,M3SAK,\"\")","v":""},{"$f":"IF(M3SAKp>0,M3SAKKat,\"\")","v":""},{"$f":"+'Ma3'!$AB$51","v":999},{"$f":"+'Ma3'!$AC$51","v":999},{"$f":"+'Ma3'!$AD$51","v":999},{"$f":"+'Ma3'!$AE$51","v":999},{"$f":"IF(L50<999,SUM(I50:L50),IF(K50<999,SUM(I50:K50),IF(J50<999,SUM(I50:J50),IF(I50<999,SUM(I50),\"\"))))","v":""},{"$f":"IF(M50<>\"\",M50/COUNTIF(I50:L50,\"<>999\"),\"\")","v":""},{"$f":"'Ma3'!$AF$53","v":"FIN"},null,{"$f":"$M46","v":2003},3.15,null,null,null,null,null,null,null,null,null,null,null,null,null,null,null,null,null,null,null,null,{"$f":"$M46","v":2003},3.15]
[null,null,null,null,null,null,null,null,null,null,null,null,null,null,null,null,{"$f":"$M46","v":2003},3.16,null,null,null,null,null,null,null,null,null,null,null,null,null,null,null,null,null,null,null,null,{"$f":"$M46","v":2003},3.16]
[null,null,null,null,null,null,null,null,null,null,null,null,null,null,null,null,{"$f":"$M62","v":2004},4.01,null,null,null,null,null,null,null,null,null,null,null,null,null,null,null,null,null,null,null,null,{"$f":"$M62","v":2004},4.01]
["4.",{"$f":"IF(AND(AnzMa>0,M62>0),2*AnzMa-8+AD62,0)","v":6},"Pkt.",null,{"$f":"+'Ma4'!$D$1","v":"SG Weiterstadt"},null,null,"Kat","R1","R2","R3","R4","Ges","Schnitt",null,null,{"$f":"$M62","v":2004},4.0199999999999996,null,null,null,null,null,null,null,null,null,null,null,null,null,null,null,null,null,null,null,null,{"$f":"$M62","v":2004},4.0199999999999996]
[8.0000000000000007E-5,null,null,null,{"$f":"IF(M4S1p>0,M4S1p,\"\")","v":""},null,{"$f":"IF(M4S1p>0,M4S1,\"\")","v":""},{"$f":"IF(M4S1p>0,M4S1Kat,\"\")","v":""},{"$f":"$A54+'Ma4'!$D$25","v":999.00008000000003},{"$f":"$A54+'Ma4'!$E$25","v":999.00008000000003},{"$f":"$A54+'Ma4'!$F$25","v":999.00008000000003},{"$f":"$A54+'Ma4'!$G$25","v":999.00008000000003},{"$f":"IF(L54<>(999+$A54),SUM(I54:L54),IF(K54<>(999+$A54),SUM(I54:K54),IF(J54<>(999+$A54),SUM(I54:J54),IF(I54<>(999+$A54),I54,\"0\"))))","v":"0"},{"$f":"IF(I54>=999,\"\",IF(M54>0,M54/COUNTIF(I54:L54,\"<999\"),\"\"))","v":""},{"$f":"'Ma4'!$H$27","v":"FIN"},null,{"$f":"$M62","v":2004},4.03,null,null,null,null,null,null,null,null,null,null,null,null,null,null,null,null,null,null,null,null,{"$f":"$M62","v":2004},4.03]
[6.9999999999999994E-5,null,null,null,{"$f":"IF(M4S2p>0,M4S2p,\"\")","v":""},null,{"$f":"IF(M4S2p>0,M4S2,\"\")","v":""},{"$f":"IF(M4S2p>0,M4S2Kat,\"\")","v":""},{"$f":"$A55+'Ma4'!$J$25","v":999.00007000000005},{"$f":"$A55+'Ma4'!$K$25","v":999.00007000000005},{"$f":"$A55+'Ma4'!$L$25","v":999.00007000000005},{"$f":"$A55+'Ma4'!$M$25","v":999.00007000000005},"0","",{"$f":"'Ma4'!$N$27","v":"FIN"},null,{"$f":"$M62","v":2004},4.04,null,null,null,null,null,null,null,null,null,null,null,null,null,null,null,null,null,null,null,null,{"$f":"$M62","v":2004},4.04]
[6.0000000000000002E-5,null,null,null,{"$f":"IF(M4S3p>0,M4S3p,\"\")","v":""},null,{"$f":"IF(M4S3p>0,M4S3,\"\")","v":""},{"$f":"IF(M4S3p>0,M4S3Kat,\"\")","v":""},{"$f":"$A56+'Ma4'!$P$25","v":999.00005999999996},{"$f":"$A56+'Ma4'!$Q$25","v":999.00005999999996},{"$f":"$A56+'Ma4'!$R$25","v":999.00005999999996},{"$f":"$A56+'Ma4'!$S$25","v":999.00005999999996},"0","",{"$f":"'Ma4'!$T$27","v":"FIN"},null,{"$f":"$M62","v":2004},4.05,null,null,null,null,null,null,null,null,null,null,null,null,null,null,null,null,null,null,null,null,{"$f":"$M62","v":2004},4.05]
[5.0000000000000002E-5,null,null,null,{"$f":"IF(M4S4p>0,M4S4p,\"\")","v":""},null,{"$f":"IF(M4S4p>0,M4S4,\"\")","v":""},{"$f":"IF(M4S4p>0,M4S4Kat,\"\")","v":""},{"$f":"$A57+'Ma4'!$V$25","v":999.00004999999999},{"$f":"$A57+'Ma4'!$W$25","v":999.00004999999999},{"$f":"$A57+'Ma4'!$X$25","v":999.00004999999999},{"$f":"$A57+'Ma4'!$Y$25","v":999.00004999999999},"0","",{"$f":"'Ma4'!$Z$27","v":"FIN"},null,{"$f":"$M62","v":2004},4.0599999999999996,null,null,null,null,null,null,null,null,null,null,null,null,null,null,null,null,null,null,null,null,{"$f":"$M62","v":2004},4.0599999999999996]
[4.0000000000000003E-5,null,null,null,{"$f":"IF(M4S5p>0,M4S5p,\"\")","v":""},null,{"$f":"IF(M4S5p>0,M4S5,\"\")","v":""},{"$f":"IF(M4S5p>0,M4S5Kat,\"\")","v":""},{"$f":"$A58+'Ma4'!$D$51","v":999.00004000000001},{"$f":"$A58+'Ma4'!$E$51","v":999.00004000000001},{"$f":"$A58+'Ma4'!$F$51","v":999.00004000000001},{"$f":"$A58+'Ma4'!$G$51","v":999.00004000000001},"0","",{"$f":"'Ma4'!$H$53","v":"FIN"},null,{"$f":"$M62","v":2004},4.07,null,null,null,null,null,null,null,null,null,null,null,null,null,null,null,null,null,null,null,null,{"$f":"$M62","v":2004},4.07]
[3.0000000000000001E-5,null,null,null,{"$f":"IF(M4S6p>0,M4S6p,\"\")","v":""},null,{"$f":"IF(M4S6p>0,M4S6,\"\")","v":""},{"$f":"IF(M4S6p>0,M4S6Kat,\"\")","v":""},{"$f":"$A59+'Ma4'!$J$51","v":999.00003000000004},{"$f":"$A59+'Ma4'!$K$51","v":999.00003000000004},{"$f":"$A59+'Ma4'!$L$51","v":999.00003000000004},{"$f":"$A59+'Ma4'!$M$51","v":999.00003000000004},"0","",{"$f":"'Ma4'!$N$53","v":"FIN"},null,{"$f":"$M62","v":2004},4.08,null,null,null,null,null,null,null,null,null,null,null,null,null,null,null,null,null,null,null,null,{"$f":"$M62","v":2004},4.08]
[2.0000000000000002E-5,null,null,null,{"$f":"IF(M4S7p>0,M4S7p,\"\")","v":""},null,{"$f":"IF(M4S7p>0,M4S7,\"\")","v":""},{"$f":"IF(M4S7p>0,M4S7Kat,\"\")","v":""},{"$f":"$A60+'Ma4'!$P$51","v":999.00001999999995},{"$f":"$A60+'Ma4'!$Q$51","v":999.00001999999995},{"$f":"$A60+'Ma4'!$R$51","v":999.00001999999995},{"$f":"$A60+'Ma4'!$S$51","v":999.00001999999995},"0","",{"$f":"'Ma4'!$T$53","v":"FIN"},null,{"$f":"$M62","v":2004},4.09,null,null,null,null,null,null,null,null,null,null,null,null,null,null,null,null,null,null,null,null,{"$f":"$M62","v":2004},4.09]
[1.0000000000000001E-5,null,null,null,{"$f":"IF(M4S8p>0,M4S8p,\"\")","v":""},null,{"$f":"IF(M4S8p>0,M4S8,\"\")","v":""},{"$f":"IF(M4S8p>0,M4S8Kat,\"\")","v":""},{"$f":"A61+'Ma4'!$V$51","v":999.00000999999997},{"$f":"A61+'Ma4'!$W$51","v":999.00000999999997},{"$f":"A61+'Ma4'!$X$51","v":999.00000999999997},{"$f":"A61+'Ma4'!$Y$51","v":999.00000999999997},"0","",{"$f":"'Ma4'!$Z$53","v":"FIN"},null,{"$f":"$M62","v":2004},4.0999999999999996,null,null,null,null,null,null,null,null,null,null,null,null,null,null,null,null,null,null,null,null,{"$f":"$M62","v":2004},4.0999999999999996]
[null,null,null,null,null,null,null,null,{"$f":"IF($F$3=4,I63,IF($F$3=5,I64,IF($F$3=6,I65,\"F2 ist falsch\")))","v":4995.0001499999998},{"$f":"IF($F$3=4,J63,IF($F$3=5,J64,IF($F$3=6,J65,\"F2 ist falsch\")))","v":4995.0001499999998},{"$f":"IF($F$3=4,K63,IF($F$3=5,K64,IF($F$3=6,K65,\"F2 ist falsch\")))","v":4995.0001499999998},{"$f":"IF($F$3=4,L63,IF($F$3=5,L64,IF($F$3=6,L65,\"F2 ist falsch\")))","v":4995.0001499999998},{"$f":"IF(L62<999,SUM(I62:L62),IF(K62<999,SUM(I62:K62),IF(J62<999,SUM(I62:J62),IF(I62<999,SUM(I62),2004))))","v":2004},{"$f":"IF(M62<999,M62/(COUNTIF(I62:L62,\"<999\")*$F$3),\"\")","v":""},{"$f":"IF(L62<3995,4,IF(K62<3995,3,IF(J62<3995,2,IF(I62<3995,1,0))))","v":0},null,{"$f":"$M62","v":2004},4.1100000000000003,null,null,{"$f":"IF(AND(M62>0,M62=M79),1,0)","v":0},null,null,null,null,null,null,null,null,{"$f":"SUM(AE62:AI62)","v":0},{"$f":"IF(INT(M46)=INT(M62),1,0)","v":0},{"$f":"IF(INT(M62)=INT(M78),-1,0)","v":0},{"$f":"IF(AND(INT(M62)=INT(M78),INT(M78)=INT(M94)),-1,0)","v":0},{"$f":"IF(AND(INT(M30)=INT(M46),INT(M46)=INT(M62)),1,0)","v":0},{"$f":"IF(AND(INT(M46)=INT(M62),INT(M62)=INT(M78)),0,0)","v":0},null,null,null,{"$f":"$M62","v":2004},4.1100000000000003]
[null,null,null,null,"KKLEINSTE 1 - 4",null,null,null,{"$f":"SUM(SMALL(I54:I61,1),SMALL(I54:I61,2),SMALL(I54:I61,3),SMALL(I54:I61,4))","v":3996.0000999999997},{"$f":"SUM(SMALL(J54:J61,1),SMALL(J54:J61,2),SMALL(J54:J61,3),SMALL(J54:J61,4))","v":3996.0000999999997},{"$f":"SUM(SMALL(K54:K61,1),SMALL(K54:K61,2),SMALL(K54:K61,3),SMALL(K54:K61,4))","v":3996.0000999999997},{"$f":"SUM(SMALL(L54:L61,1),SMALL(L54:L61,2),SMALL(L54:L61,3),SMALL(L54:L61,4))","v":3996.0000999999997},null,null,null,null,{"$f":"$M62","v":2004},4.12,null,null,null,null,null,null,null,null,null,null,null,null,null,null,null,null,null,null,null,null,{"$f":"$M62","v":2004},4.12]
[null,null,null,null,"KKLEINSTE 1 - 5",null,null,null,{"$f":"SUM(I63,SMALL(I54:I61,5))","v":4995.0001499999998},{"$f":"SUM(J63,SMALL(J54:J61,5))","v":4995.0001499999998},{"$f":"SUM(K63,SMALL(K54:K61,5))","v":4995.0001499999998},{"$f":"SUM(L63,SMALL(L54:L61,5))","v":4995.0001499999998},null,null,null,null,{"$f":"$M62","v":2004},4.13,null,null,null,null,null,null,null,null,null,null,null,null,null,null,null,null,null,null,null,null,{"$f":"$M62","v":2004},4.13]
[null,null,null,null,"KKLEINSTE 1 - 6",null,null,null,{"$f":"SUM(I64,SMALL(I54:I61,6))","v":5994.0002100000002},{"$f":"SUM(J64,SMALL(J54:J61,6))","v":5994.0002100000002},{"$f":"SUM(K64,SMALL(K54:K61,6))","v":5994.0002100000002},{"$f":"SUM(L64,SMALL(L54:L61,6))","v":5994.0002100000002},null,null,null,null,{"$f":"$M62","v":2004},4.1399999999999997,null,null,null,null,null,null,null,null,null,null,null,null,null,null,null,null,null,null,null,null,{"$f":"$M62","v":2004},4.1399999999999997]
[null,null,"AK",null,{"$f":"IF(M4SAKp>0,M4SAKp,\"\")","v":""},null,{"$f":"IF(M4SAKp>0,M4SAK,\"\")","v":""},{"$f":"IF(M4SAKp>0,M4SAKKat,\"\")","v":""},{"$f":"+'Ma4'!$AB$51","v":999},{"$f":"+'Ma4'!$AC$51","v":999},{"$f":"+'Ma4'!$AD$51","v":999},{"$f":"+'Ma4'!$AE$51","v":999},{"$f":"IF(L66<999,SUM(I66:L66),IF(K66<999,SUM(I66:K66),IF(J66<999,SUM(I66:J66),IF(I66<999,SUM(I66),\"\"))))","v":""},{"$f":"IF(M66<>\"\",M66/COUNTIF(I66:L66,\"<>999\"),\"\")","v":""},{"$f":"'Ma4'!$AF$53","v":"FIN"},null,{"$f":"$M62","v":2004},4.1500000000000004,null,null,null,null,null,null,null,null,null,null,null,null,null,null,null,null,null,null,null,null,{"$f":"$M62","v":2004},4.1500000000000004]
[null,null,null,null,null,null,null,null,null,null,null,null,null,null,null,null,{"$f":"$M62","v":2004},4.16,null,null,null,null,null,null,null,null,null,null,null,null,null,null,null,null,null,null,null,null,{"$f":"$M62","v":2004},4.16]
[null,null,null,null,null,null,null,null,null,null,null,null,null,null,null,null,{"$f":"$M78","v":2005},5.01,null,null,null,null,null,null,null,null,null,null,null,null,null,null,null,null,null,null,null,null,{"$f":"$M78","v":2005},5.01]
["5.",{"$f":"IF(AND(AnzMa>0,M78>0),2*AnzMa-10+AD78,0)","v":4},"Pkt.",null,{"$f":"+'Ma5'!$D$1","v":"MGC Bad Homburg 2"},null,null,"Kat","R1","R2","R3","R4","Ges","Schnitt",null,null,{"$f":"$M78","v":2005},5.0199999999999996,null,null,null,null,null,null,null,null,null,null,null,null,null,null,null,null,null,null,null,null,{"$f":"$M78","v":2005},5.0199999999999996]
[8.0000000000000007E-5,null,null,null,{"$f":"IF(M5S1p>0,M5S1p,\"\")","v":""},null,{"$f":"IF(M5S1p>0,M5S1,\"\")","v":""},{"$f":"IF(M5S1p>0,M5S1Kat,\"\")","v":""},{"$f":"$A70+'Ma5'!$D$25","v":999.00008000000003},{"$f":"$A70+'Ma5'!$E$25","v":999.00008000000003},{"$f":"$A70+'Ma5'!$F$25","v":999.00008000000003},{"$f":"$A70+'Ma5'!$G$25","v":999.00008000000003},{"$f":"IF(L70<>(999+$A70),SUM(I70:L70),IF(K70<>(999+$A70),SUM(I70:K70),IF(J70<>(999+$A70),SUM(I70:J70),IF(I70<>(999+$A70),I70,\"0\"))))","v":"0"},{"$f":"IF(I70>=999,\"\",IF(M70>0,M70/COUNTIF(I70:L70,\"<999\"),\"\"))","v":""},{"$f":"'Ma5'!$H$27","v":"FIN"},null,{"$f":"$M78","v":2005},5.03,null,null,null,null,null,null,null,null,null,null,null,null,null,null,null,null,null,null,null,null,{"$f":"$M78","v":2005},5.03]
[6.9999999999999994E-5,null,null,null,{"$f":"IF(M5S2p>0,M5S2p,\"\")","v":""},null,{"$f":"IF(M5S2p>0,M5S2,\"\")","v":""},{"$f":"IF(M5S2p>0,M5S2Kat,\"\")","v":""},{"$f":"$A71+'Ma5'!$J$25","v":999.00007000000005},{"$f":"$A71+'Ma5'!$K$25","v":999.00007000000005},{"$f":"$A71+'Ma5'!$L$25","v":999.00007000000005},{"$f":"$A71+'Ma5'!$M$25","v":999.00007000000005},"0","",{"$f":"'Ma5'!$N$27","v":"FIN"},null,{"$f":"$M78","v":2005},5.04,null,null,null,null,null,null,null,null,null,null,null,null,null,null,null,null,null,null,null,null,{"$f":"$M78","v":2005},5.04]
[6.0000000000000002E-5,null,null,null,{"$f":"IF(M5S3p>0,M5S3p,\"\")","v":""},null,{"$f":"IF(M5S3p>0,M5S3,\"\")","v":""},{"$f":"IF(M5S3p>0,M5S3Kat,\"\")","v":""},{"$f":"$A72+'Ma5'!$P$25","v":999.00005999999996},{"$f":"$A72+'Ma5'!$Q$25","v":999.00005999999996},{"$f":"$A72+'Ma5'!$R$25","v":999.00005999999996},{"$f":"$A72+'Ma5'!$S$25","v":999.00005999999996},"0","",{"$f":"'Ma5'!$T$27","v":"FIN"},null,{"$f":"$M78","v":2005},5.05,null,null,null,null,null,null,null,null,null,null,null,null,null,null,null,null,null,null,null,null,{"$f":"$M78","v":2005},5.05]
[5.0000000000000002E-5,null,null,null,{"$f":"IF(M5S4p>0,M5S4p,\"\")","v":""},null,{"$f":"IF(M5S4p>0,M5S4,\"\")","v":""},{"$f":"IF(M5S4p>0,M5S4Kat,\"\")","v":""},{"$f":"$A73+'Ma5'!$V$25","v":999.00004999999999},{"$f":"$A73+'Ma5'!$W$25","v":999.00004999999999},{"$f":"$A73+'Ma5'!$X$25","v":999.00004999999999},{"$f":"$A73+'Ma5'!$Y$25","v":999.00004999999999},"0","",{"$f":"'Ma5'!$Z$27","v":"FIN"},null,{"$f":"$M78","v":2005},5.0599999999999996,null,null,null,null,null,null,null,null,null,null,null,null,null,null,null,null,null,null,null,null,{"$f":"$M78","v":2005},5.0599999999999996]
[4.0000000000000003E-5,null,null,null,{"$f":"IF(M5S5p>0,M5S5p,\"\")","v":""},null,{"$f":"IF(M5S5p>0,M5S5,\"\")","v":""},{"$f":"IF(M5S5p>0,M5S5Kat,\"\")","v":""},{"$f":"$A74+'Ma5'!$D$51","v":999.00004000000001},{"$f":"$A74+'Ma5'!$E$51","v":999.00004000000001},{"$f":"$A74+'Ma5'!$F$51","v":999.00004000000001},{"$f":"$A74+'Ma5'!$G$51","v":999.00004000000001},"0","",{"$f":"'Ma5'!$H$53","v":"FIN"},null,{"$f":"$M78","v":2005},5.07,null,null,null,null,null,null,null,null,null,null,null,null,null,null,null,null,null,null,null,null,{"$f":"$M78","v":2005},5.07]
[3.0000000000000001E-5,null,null,null,{"$f":"IF(M5S6p>0,M5S6p,\"\")","v":""},null,{"$f":"IF(M5S6p>0,M5S6,\"\")","v":""},{"$f":"IF(M5S6p>0,M5S6Kat,\"\")","v":""},{"$f":"$A75+'Ma5'!$J$51","v":999.00003000000004},{"$f":"$A75+'Ma5'!$K$51","v":999.00003000000004},{"$f":"$A75+'Ma5'!$L$51","v":999.00003000000004},{"$f":"$A75+'Ma5'!$M$51","v":999.00003000000004},"0","",{"$f":"'Ma5'!$N$53","v":"FIN"},null,{"$f":"$M78","v":2005},5.08,null,null,null,null,null,null,null,null,null,null,null,null,null,null,null,null,null,null,null,null,{"$f":"$M78","v":2005},5.08]
[2.0000000000000002E-5,null,null,null,{"$f":"IF(M5S7p>0,M5S7p,\"\")","v":""},null,{"$f":"IF(M5S7p>0,M5S7,\"\")","v":""},{"$f":"IF(M5S7p>0,M5S7Kat,\"\")","v":""},{"$f":"$A76+'Ma5'!$P$51","v":999.00001999999995},{"$f":"$A76+'Ma5'!$Q$51","v":999.00001999999995},{"$f":"$A76+'Ma5'!$R$51","v":999.00001999999995},{"$f":"$A76+'Ma5'!$S$51","v":999.00001999999995},"0","",{"$f":"'Ma5'!$T$53","v":"FIN"},null,{"$f":"$M78","v":2005},5.09,null,null,null,null,null,null,null,null,null,null,null,null,null,null,null,null,null,null,null,null,{"$f":"$M78","v":2005},5.09]
[1.0000000000000001E-5,null,null,null,{"$f":"IF(M5S8p>0,M5S8p,\"\")","v":""},null,{"$f":"IF(M5S8p>0,M5S8,\"\")","v":""},{"$f":"IF(M5S8p>0,M5S8Kat,\"\")","v":""},{"$f":"A77+'Ma5'!$V$51","v":999.00000999999997},{"$f":"A77+'Ma5'!$W$51","v":999.00000999999997},{"$f":"A77+'Ma5'!$X$51","v":999.00000999999997},{"$f":"A77+'Ma5'!$Y$51","v":999.00000999999997},"0","",{"$f":"'Ma5'!$Z$53","v":"FIN"},null,{"$f":"$M78","v":2005},5.0999999999999996,null,null,null,null,null,null,null,null,null,null,null,null,null,null,null,null,null,null,null,null,{"$f":"$M78","v":2005},5.0999999999999996]
[null,null,null,null,null,null,null,null,{"$f":"IF($F$3=4,I79,IF($F$3=5,I80,IF($F$3=6,I81,\"F2 ist falsch\")))","v":4995.0001499999998},{"$f":"IF($F$3=4,J79,IF($F$3=5,J80,IF($F$3=6,J81,\"F2 ist falsch\")))","v":4995.0001499999998},{"$f":"IF($F$3=4,K79,IF($F$3=5,K80,IF($F$3=6,K81,\"F2 ist falsch\")))","v":4995.0001499999998},{"$f":"IF($F$3=4,L79,IF($F$3=5,L80,IF($F$3=6,L81,\"F2 ist falsch\")))","v":4995.0001499999998},{"$f":"IF(L78<999,SUM(I78:L78),IF(K78<999,SUM(I78:K78),IF(J78<999,SUM(I78:J78),IF(I78<999,SUM(I78),2005))))","v":2005},{"$f":"IF(M78<999,M78/(COUNTIF(I78:L78,\"<999\")*$F$3),\"\")","v":""},{"$f":"IF(L78<3995,4,IF(K78<3995,3,IF(J78<3995,2,IF(I78<3995,1,0))))","v":0},null,{"$f":"$M78","v":2005},5.1100000000000003,null,null,{"$f":"IF(AND(M78>0,M78=M94),1,0)","v":0},null,null,null,null,null,null,null,null,{"$f":"SUM(AE78:AI78)","v":0},{"$f":"IF(INT(M62)=INT(M78),1,0)","v":0},{"$f":"IF(INT(M78)=INT(M94),-1,0)","v":0},{"$f":"IF(AND(INT(M78)=INT(M94),INT(M94)=INT(M110)),-1,0)","v":0},{"$f":"IF(AND(INT(M46)=INT(M62),INT(M62)=INT(M78)),1,0)","v":0},{"$f":"IF(AND(INT(M62)=INT(M78),INT(M78)=INT(M94)),0,0)","v":0},null,null,null,{"$f":"$M78","v":2005},5.1100000000000003]
[null,null,null,null,"KKLEINSTE 1 - 4",null,null,null,{"$f":"SUM(SMALL(I70:I77,1),SMALL(I70:I77,2),SMALL(I70:I77,3),SMALL(I70:I77,4))","v":3996.0000999999997},{"$f":"SUM(SMALL(J70:J77,1),SMALL(J70:J77,2),SMALL(J70:J77,3),SMALL(J70:J77,4))","v":3996.0000999999997},{"$f":"SUM(SMALL(K70:K77,1),SMALL(K70:K77,2),SMALL(K70:K77,3),SMALL(K70:K77,4))","v":3996.0000999999997},{"$f":"SUM(SMALL(L70:L77,1),SMALL(L70:L77,2),SMALL(L70:L77,3),SMALL(L70:L77,4))","v":3996.0000999999997},null,null,null,null,{"$f":"$M78","v":2005},5.12,null,null,null,null,null,null,null,null,null,null,null,null,null,null,null,null,null,null,null,null,{"$f":"$M78","v":2005},5.12]
[null,null,null,null,"KKLEINSTE 1 - 5",null,null,null,{"$f":"SUM(I79,SMALL(I70:I77,5))","v":4995.0001499999998},{"$f":"SUM(J79,SMALL(J70:J77,5))","v":4995.0001499999998},{"$f":"SUM(K79,SMALL(K70:K77,5))","v":4995.0001499999998},{"$f":"SUM(L79,SMALL(L70:L77,5))","v":4995.0001499999998},null,null,null,null,{"$f":"$M78","v":2005},5.13,null,null,null,null,null,null,null,null,null,null,null,null,null,null,null,null,null,null,null,null,{"$f":"$M78","v":2005},5.13]
[null,null,null,null,"KKLEINSTE 1 - 6",null,null,null,{"$f":"SUM(I80,SMALL(I70:I77,6))","v":5994.0002100000002},{"$f":"SUM(J80,SMALL(J70:J77,6))","v":5994.0002100000002},{"$f":"SUM(K80,SMALL(K70:K77,6))","v":5994.0002100000002},{"$f":"SUM(L80,SMALL(L70:L77,6))","v":5994.0002100000002},null,null,null,null,{"$f":"$M78","v":2005},5.14,null,null,null,null,null,null,null,null,null,null,null,null,null,null,null,null,null,null,null,null,{"$f":"$M78","v":2005},5.14]
[null,null,"AK",null,{"$f":"IF(M5SAKp>0,M5SAKp,\"\")","v":""},null,{"$f":"IF(M5SAKp>0,M5SAK,\"\")","v":""},{"$f":"IF(M5SAKp>0,M5SAKKat,\"\")","v":""},{"$f":"+'Ma5'!$AB$51","v":999},{"$f":"+'Ma5'!$AC$51","v":999},{"$f":"+'Ma5'!$AD$51","v":999},{"$f":"+'Ma5'!$AE$51","v":999},{"$f":"IF(L82<999,SUM(I82:L82),IF(K82<999,SUM(I82:K82),IF(J82<999,SUM(I82:J82),IF(I82<999,SUM(I82),\"\"))))","v":""},{"$f":"IF(M82<>\"\",M82/COUNTIF(I82:L82,\"<>999\"),\"\")","v":""},{"$f":"'Ma5'!$AF$53","v":"FIN"},null,{"$f":"$M78","v":2005},5.15,null,null,null,null,null,null,null,null,null,null,null,null,null,null,null,null,null,null,null,null,{"$f":"$M78","v":2005},5.15]
[null,null,null,null,null,null,null,null,null,null,null,null,null,null,null,null,{"$f":"$M78","v":2005},5.16,null,null,null,null,null,null,null,null,null,null,null,null,null,null,null,null,null,null,null,null,{"$f":"$M78","v":2005},5.16]
[null,null,null,null,null,null,null,null,null,null,null,null,null,null,null,null,{"$f":"$M94","v":2006},6.01,null,null,null,null,null,null,null,null,null,null,null,null,null,null,null,null,null,null,null,null,{"$f":"$M94","v":2006},6.01]
["6.",{"$f":"IF(AND(AnzMa>0,M94>0),2*AnzMa-12+AD94,0)","v":2},"Pkt.",null,{"$f":"+'Ma6'!$D$1","v":"SV Dreieichenhain"},null,null,"Kat","R1","R2","R3","R4","Ges","Schnitt",null,null,{"$f":"$M94","v":2006},6.02,null,null,null,null,null,null,null,null,null,null,null,null,null,null,null,null,null,null,null,null,{"$f":"$M94","v":2006},6.02]
[8.0000000000000007E-5,null,null,null,{"$f":"IF(M6S1p>0,M6S1p,\"\")","v":""},null,{"$f":"IF(M6S1p>0,M6S1,\"\")","v":""},{"$f":"IF(M6S1p>0,M6S1Kat,\"\")","v":""},{"$f":"$A86+'Ma6'!$D$25","v":999.00008000000003},{"$f":"$A86+'Ma6'!$E$25","v":999.00008000000003},{"$f":"$A86+'Ma6'!$F$25","v":999.00008000000003},{"$f":"$A86+'Ma6'!$G$25","v":999.00008000000003},{"$f":"IF(L86<>(999+$A86),SUM(I86:L86),IF(K86<>(999+$A86),SUM(I86:K86),IF(J86<>(999+$A86),SUM(I86:J86),IF(I86<>(999+$A86),I86,\"0\"))))","v":"0"},{"$f":"IF(I86>=999,\"\",IF(M86>0,M86/COUNTIF(I86:L86,\"<999\"),\"\"))","v":""},{"$f":"'Ma6'!$H$27","v":"FIN"},null,{"$f":"$M94","v":2006},6.03,null,null,null,null,null,null,null,null,null,null,null,null,null,null,null,null,null,null,null,null,{"$f":"$M94","v":2006},6.03]
[6.9999999999999994E-5,null,null,null,{"$f":"IF(M6S2p>0,M6S2p,\"\")","v":""},null,{"$f":"IF(M6S2p>0,M6S2,\"\")","v":""},{"$f":"IF(M6S2p>0,M6S2Kat,\"\")","v":""},{"$f":"$A87+'Ma6'!$J$25","v":999.00007000000005},{"$f":"$A87+'Ma6'!$K$25","v":999.00007000000005},{"$f":"$A87+'Ma6'!$L$25","v":999.00007000000005},{"$f":"$A87+'Ma6'!$M$25","v":999.00007000000005},"0","",{"$f":"'Ma6'!$N$27","v":"FIN"},null,{"$f":"$M94","v":2006},6.04,null,null,null,null,null,null,null,null,null,null,null,null,null,null,null,null,null,null,null,null,{"$f":"$M94","v":2006},6.04]
[6.0000000000000002E-5,null,null,null,{"$f":"IF(M6S3p>0,M6S3p,\"\")","v":""},null,{"$f":"IF(M6S3p>0,M6S3,\"\")","v":""},{"$f":"IF(M6S3p>0,M6S3Kat,\"\")","v":""},{"$f":"$A88+'Ma6'!$P$25","v":999.00005999999996},{"$f":"$A88+'Ma6'!$Q$25","v":999.00005999999996},{"$f":"$A88+'Ma6'!$R$25","v":999.00005999999996},{"$f":"$A88+'Ma6'!$S$25","v":999.00005999999996},"0","",{"$f":"'Ma6'!$T$27","v":"FIN"},null,{"$f":"$M94","v":2006},6.05,null,null,null,null,null,null,null,null,null,null,null,null,null,null,null,null,null,null,null,null,{"$f":"$M94","v":2006},6.05]
[5.0000000000000002E-5,null,null,null,{"$f":"IF(M6S4p>0,M6S4p,\"\")","v":""},null,{"$f":"IF(M6S4p>0,M6S4,\"\")","v":""},{"$f":"IF(M6S4p>0,M6S4Kat,\"\")","v":""},{"$f":"$A89+'Ma6'!$V$25","v":999.00004999999999},{"$f":"$A89+'Ma6'!$W$25","v":999.00004999999999},{"$f":"$A89+'Ma6'!$X$25","v":999.00004999999999},{"$f":"$A89+'Ma6'!$Y$25","v":999.00004999999999},"0","",{"$f":"'Ma6'!$Z$27","v":"FIN"},null,{"$f":"$M94","v":2006},6.06,null,null,null,null,null,null,null,null,null,null,null,null,null,null,null,null,null,null,null,null,{"$f":"$M94","v":2006},6.06]
[4.0000000000000003E-5,null,null,null,{"$f":"IF(M6S5p>0,M6S5p,\"\")","v":""},null,{"$f":"IF(M6S5p>0,M6S5,\"\")","v":""},{"$f":"IF(M6S5p>0,M6S5Kat,\"\")","v":""},{"$f":"$A90+'Ma6'!$D$51","v":999.00004000000001},{"$f":"$A90+'Ma6'!$E$51","v":999.00004000000001},{"$f":"$A90+'Ma6'!$F$51","v":999.00004000000001},{"$f":"$A90+'Ma6'!$G$51","v":999.00004000000001},"0","",{"$f":"'Ma6'!$H$53","v":"FIN"},null,{"$f":"$M94","v":2006},6.07,null,null,null,null,null,null,null,null,null,null,null,null,null,null,null,null,null,null,null,null,{"$f":"$M94","v":2006},6.07]
[3.0000000000000001E-5,null,null,null,{"$f":"IF(M6S6p>0,M6S6p,\"\")","v":""},null,{"$f":"IF(M6S6p>0,M6S6,\"\")","v":""},{"$f":"IF(M6S6p>0,M6S6Kat,\"\")","v":""},{"$f":"$A91+'Ma6'!$J$51","v":999.00003000000004},{"$f":"$A91+'Ma6'!$K$51","v":999.00003000000004},{"$f":"$A91+'Ma6'!$L$51","v":999.00003000000004},{"$f":"$A91+'Ma6'!$M$51","v":999.00003000000004},"0","",{"$f":"'Ma6'!$N$53","v":"FIN"},null,{"$f":"$M94","v":2006},6.08,null,null,null,null,null,null,null,null,null,null,null,null,null,null,null,null,null,null,null,null,{"$f":"$M94","v":2006},6.08]
[2.0000000000000002E-5,null,null,null,{"$f":"IF(M6S7p>0,M6S7p,\"\")","v":""},null,{"$f":"IF(M6S7p>0,M6S7,\"\")","v":""},{"$f":"IF(M6S7p>0,M6S7Kat,\"\")","v":""},{"$f":"$A92+'Ma6'!$P$51","v":999.00001999999995},{"$f":"$A92+'Ma6'!$Q$51","v":999.00001999999995},{"$f":"$A92+'Ma6'!$R$51","v":999.00001999999995},{"$f":"$A92+'Ma6'!$S$51","v":999.00001999999995},"0","",{"$f":"'Ma6'!$T$53","v":"FIN"},null,{"$f":"$M94","v":2006},6.09,null,null,null,null,null,null,null,null,null,null,null,null,null,null,null,null,null,null,null,null,{"$f":"$M94","v":2006},6.09]
[1.0000000000000001E-5,null,null,null,{"$f":"IF(M6S8p>0,M6S8p,\"\")","v":""},null,{"$f":"IF(M6S8p>0,M6S8,\"\")","v":""},{"$f":"IF(M6S8p>0,M6S8Kat,\"\")","v":""},{"$f":"A93+'Ma6'!$V$51","v":999.00000999999997},{"$f":"A93+'Ma6'!$W$51","v":999.00000999999997},{"$f":"A93+'Ma6'!$X$51","v":999.00000999999997},{"$f":"A93+'Ma6'!$Y$51","v":999.00000999999997},"0","",{"$f":"'Ma6'!$Z$53","v":"FIN"},null,{"$f":"$M94","v":2006},6.1,null,null,null,null,null,null,null,null,null,null,null,null,null,null,null,null,null,null,null,null,{"$f":"$M94","v":2006},6.1]
[null,null,null,null,null,null,null,null,{"$f":"IF($F$3=4,I95,IF($F$3=5,I96,IF($F$3=6,I97,\"F2 ist falsch\")))","v":4995.0001499999998},{"$f":"IF($F$3=4,J95,IF($F$3=5,J96,IF($F$3=6,J97,\"F2 ist falsch\")))","v":4995.0001499999998},{"$f":"IF($F$3=4,K95,IF($F$3=5,K96,IF($F$3=6,K97,\"F2 ist falsch\")))","v":4995.0001499999998},{"$f":"IF($F$3=4,L95,IF($F$3=5,L96,IF($F$3=6,L97,\"F2 ist falsch\")))","v":4995.0001499999998},{"$f":"IF(L94<999,SUM(I94:L94),IF(K94<999,SUM(I94:K94),IF(J94<999,SUM(I94:J94),IF(I94<999,SUM(I94),2006))))","v":2006},{"$f":"IF(M94<999,M94/(COUNTIF(I94:L94,\"<999\")*$F$3),\"\")","v":""},{"$f":"IF(L94<3995,4,IF(K94<3995,3,IF(J94<3995,2,IF(I94<3995,1,0))))","v":0},null,{"$f":"$M94","v":2006},6.11,null,null,{"$f":"IF(AND(M94>0,M94=M110),1,0)","v":0},null,null,null,null,null,null,null,null,{"$f":"SUM(AE94:AI94)","v":0},{"$f":"IF(INT(M78)=INT(M94),1,0)","v":0},{"$f":"IF(INT(M94)=INT(M110),-1,0)","v":0},null,{"$f":"IF(AND(INT(M62)=INT(M78),INT(M78)=INT(M94)),1,0)","v":0},{"$f":"IF(AND(INT(M78)=INT(M94),INT(M94)=INT(M110)),0,0)","v":0},null,null,null,{"$f":"$M94","v":2006},6.11]
[null,null,null,null,"KKLEINSTE 1 - 4",null,null,null,{"$f":"SUM(SMALL(I86:I93,1),SMALL(I86:I93,2),SMALL(I86:I93,3),SMALL(I86:I93,4))","v":3996.0000999999997},{"$f":"SUM(SMALL(J86:J93,1),SMALL(J86:J93,2),SMALL(J86:J93,3),SMALL(J86:J93,4))","v":3996.0000999999997},{"$f":"SUM(SMALL(K86:K93,1),SMALL(K86:K93,2),SMALL(K86:K93,3),SMALL(K86:K93,4))","v":3996.0000999999997},{"$f":"SUM(SMALL(L86:L93,1),SMALL(L86:L93,2),SMALL(L86:L93,3),SMALL(L86:L93,4))","v":3996.0000999999997},null,null,null,null,{"$f":"$M94","v":2006},6.12,null,null,null,null,null,null,null,null,null,null,null,null,null,null,null,null,null,null,null,null,{"$f":"$M94","v":2006},6.12]
[null,null,null,null,"KKLEINSTE 1 - 5",null,null,null,{"$f":"SUM(I95,SMALL(I86:I93,5))","v":4995.0001499999998},{"$f":"SUM(J95,SMALL(J86:J93,5))","v":4995.0001499999998},{"$f":"SUM(K95,SMALL(K86:K93,5))","v":4995.0001499999998},{"$f":"SUM(L95,SMALL(L86:L93,5))","v":4995.0001499999998},null,null,null,null,{"$f":"$M94","v":2006},6.13,null,null,null,null,null,null,null,null,null,null,null,null,null,null,null,null,null,null,null,null,{"$f":"$M94","v":2006},6.13]
[null,null,null,null,"KKLEINSTE 1 - 6",null,null,null,{"$f":"SUM(I96,SMALL(I86:I93,6))","v":5994.0002100000002},{"$f":"SUM(J96,SMALL(J86:J93,6))","v":5994.0002100000002},{"$f":"SUM(K96,SMALL(K86:K93,6))","v":5994.0002100000002},{"$f":"SUM(L96,SMALL(L86:L93,6))","v":5994.0002100000002},null,null,null,null,{"$f":"$M94","v":2006},6.14,null,null,null,null,null,null,null,null,null,null,null,null,null,null,null,null,null,null,null,null,{"$f":"$M94","v":2006},6.14]
[null,null,"AK",null,{"$f":"IF(M6SAKp>0,M6SAKp,\"\")","v":""},null,{"$f":"IF(M6SAKp>0,M6SAK,\"\")","v":""},{"$f":"IF(M6SAKp>0,M6SAKKat,\"\")","v":""},{"$f":"+'Ma6'!$AB$51","v":999},{"$f":"+'Ma6'!$AC$51","v":999},{"$f":"+'Ma6'!$AD$51","v":999},{"$f":"+'Ma6'!$AE$51","v":999},{"$f":"IF(L98<999,SUM(I98:L98),IF(K98<999,SUM(I98:K98),IF(J98<999,SUM(I98:J98),IF(I98<999,SUM(I98),\"\"))))","v":""},{"$f":"IF(M98<>\"\",M98/COUNTIF(I98:L98,\"<>999\"),\"\")","v":""},{"$f":"'Ma6'!$AF$53","v":"FIN"},null,{"$f":"$M94","v":2006},6.15,null,null,null,null,null,null,null,null,null,null,null,null,null,null,null,null,null,null,null,null,{"$f":"$M94","v":2006},6.15]
[null,null,null,null,null,null,null,null,null,null,null,null,null,null,null,null,{"$f":"$M94","v":2006},6.16,null,null,null,null,null,null,null,null,null,null,null,null,null,null,null,null,null,null,null,null,{"$f":"$M94","v":2006},6.16]
[null,null,null,null,null,null,null,null,null,null,null,null,null,null,null,null,{"$f":"$M110","v":2007},7.01,null,null,null,null,null,null,null,null,null,null,null,null,null,null,null,null,null,null,null,null,{"$f":"$M110","v":2007},7.01]
["7.",{"$f":"IF(AND(AnzMa>0,M110>0),2*AnzMa-14+AD110,0)","v":0},"Pkt.",null,{"$f":"+'Ma7'!$D$1","v":"MGC Heringen"},null,null,"Kat","R1","R2","R3","R4","Ges","Schnitt",null,null,{"$f":"$M110","v":2007},7.02,null,null,null,null,null,null,null,null,null,null,null,null,null,null,null,null,null,null,null,null,{"$f":"$M110","v":2007},7.02]
[8.0000000000000007E-5,null,null,null,{"$f":"IF(M7S1p>0,M7S1p,\"\")","v":""},null,{"$f":"IF(M7S1p>0,M7S1,\"\")","v":""},{"$f":"IF(M7S1p>0,M7S1Kat,\"\")","v":""},{"$f":"$A102+'Ma7'!$D$25","v":999.00008000000003},{"$f":"$A102+'Ma7'!$E$25","v":999.00008000000003},{"$f":"$A102+'Ma7'!$F$25","v":999.00008000000003},{"$f":"$A102+'Ma7'!$G$25","v":999.00008000000003},{"$f":"IF(L102<>(999+$A102),SUM(I102:L102),IF(K102<>(999+$A102),SUM(I102:K102),IF(J102<>(999+$A102),SUM(I102:J102),IF(I102<>(999+$A102),I102,\"0\"))))","v":"0"},{"$f":"IF(I102>=999,\"\",IF(M102>0,M102/COUNTIF(I102:L102,\"<999\"),\"\"))","v":""},{"$f":"'Ma7'!$H$27","v":"FIN"},null,{"$f":"$M110","v":2007},7.03,null,null,null,null,null,null,null,null,null,null,null,null,null,null,null,null,null,null,null,null,{"$f":"$M110","v":2007},7.03]
[6.9999999999999994E-5,null,null,null,{"$f":"IF(M7S2p>0,M7S2p,\"\")","v":""},null,{"$f":"IF(M7S2p>0,M7S2,\"\")","v":""},{"$f":"IF(M7S2p>0,M7S2Kat,\"\")","v":""},{"$f":"$A103+'Ma7'!$J$25","v":999.00007000000005},{"$f":"$A103+'Ma7'!$K$25","v":999.00007000000005},{"$f":"$A103+'Ma7'!$L$25","v":999.00007000000005},{"$f":"$A103+'Ma7'!$M$25","v":999.00007000000005},"0","",{"$f":"'Ma7'!$N$27","v":"FIN"},null,{"$f":"$M110","v":2007},7.04,null,null,null,null,null,null,null,null,null,null,null,null,null,null,null,null,null,null,null,null,{"$f":"$M110","v":2007},7.04]
[6.0000000000000002E-5,null,null,null,{"$f":"IF(M7S3p>0,M7S3p,\"\")","v":""},null,{"$f":"IF(M7S3p>0,M7S3,\"\")","v":""},{"$f":"IF(M7S3p>0,M7S3Kat,\"\")","v":""},{"$f":"$A104+'Ma7'!$P$25","v":999.00005999999996},{"$f":"$A104+'Ma7'!$Q$25","v":999.00005999999996},{"$f":"$A104+'Ma7'!$R$25","v":999.00005999999996},{"$f":"$A104+'Ma7'!$S$25","v":999.00005999999996},"0","",{"$f":"'Ma7'!$T$27","v":"FIN"},null,{"$f":"$M110","v":2007},7.05,null,null,null,null,null,null,null,null,null,null,null,null,null,null,null,null,null,null,null,null,{"$f":"$M110","v":2007},7.05]
[5.0000000000000002E-5,null,null,null,{"$f":"IF(M7S4p>0,M7S4p,\"\")","v":""},null,{"$f":"IF(M7S4p>0,M7S4,\"\")","v":""},{"$f":"IF(M7S4p>0,M7S4Kat,\"\")","v":""},{"$f":"$A105+'Ma7'!$V$25","v":999.00004999999999},{"$f":"$A105+'Ma7'!$W$25","v":999.00004999999999},{"$f":"$A105+'Ma7'!$X$25","v":999.00004999999999},{"$f":"$A105+'Ma7'!$Y$25","v":999.00004999999999},"0","",{"$f":"'Ma7'!$Z$27","v":"FIN"},null,{"$f":"$M110","v":2007},7.06,null,null,null,null,null,null,null,null,null,null,null,null,null,null,null,null,null,null,null,null,{"$f":"$M110","v":2007},7.06]
[4.0000000000000003E-5,null,null,null,{"$f":"IF(M7S5p>0,M7S5p,\"\")","v":""},null,{"$f":"IF(M7S5p>0,M7S5,\"\")","v":""},{"$f":"IF(M7S5p>0,M7S5Kat,\"\")","v":""},{"$f":"$A106+'Ma7'!$D$51","v":999.00004000000001},{"$f":"$A106+'Ma7'!$E$51","v":999.00004000000001},{"$f":"$A106+'Ma7'!$F$51","v":999.00004000000001},{"$f":"$A106+'Ma7'!$G$51","v":999.00004000000001},"0","",{"$f":"'Ma7'!$H$53","v":"FIN"},null,{"$f":"$M110","v":2007},7.07,null,null,null,null,null,null,null,null,null,null,null,null,null,null,null,null,null,null,null,null,{"$f":"$M110","v":2007},7.07]
[3.0000000000000001E-5,null,null,null,{"$f":"IF(M7S6p>0,M7S6p,\"\")","v":""},null,{"$f":"IF(M7S6p>0,M7S6,\"\")","v":""},{"$f":"IF(M7S6p>0,M7S6Kat,\"\")","v":""},{"$f":"$A107+'Ma7'!$J$51","v":999.00003000000004},{"$f":"$A107+'Ma7'!$K$51","v":999.00003000000004},{"$f":"$A107+'Ma7'!$L$51","v":999.00003000000004},{"$f":"$A107+'Ma7'!$M$51","v":999.00003000000004},"0","",{"$f":"'Ma7'!$N$53","v":"FIN"},null,{"$f":"$M110","v":2007},7.08,null,null,null,null,null,null,null,null,null,null,null,null,null,null,null,null,null,null,null,null,{"$f":"$M110","v":2007},7.08]
[2.0000000000000002E-5,null,null,null,{"$f":"IF(M7S7p>0,M7S7p,\"\")","v":""},null,{"$f":"IF(M7S7p>0,M7S7,\"\")","v":""},{"$f":"IF(M7S7p>0,M7S7Kat,\"\")","v":""},{"$f":"$A108+'Ma7'!$P$51","v":999.00001999999995},{"$f":"$A108+'Ma7'!$Q$51","v":999.00001999999995},{"$f":"$A108+'Ma7'!$R$51","v":999.00001999999995},{"$f":"$A108+'Ma7'!$S$51","v":999.00001999999995},"0","",{"$f":"'Ma7'!$T$53","v":"FIN"},null,{"$f":"$M110","v":2007},7.09,null,null,null,null,null,null,null,null,null,null,null,null,null,null,null,null,null,null,null,null,{"$f":"$M110","v":2007},7.09]
[1.0000000000000001E-5,null,null,null,{"$f":"IF(M7S8p>0,M7S8p,\"\")","v":""},null,{"$f":"IF(M7S8p>0,M7S8,\"\")","v":""},{"$f":"IF(M7S8p>0,M7S8Kat,\"\")","v":""},{"$f":"A109+'Ma7'!$V$51","v":999.00000999999997},{"$f":"A109+'Ma7'!$W$51","v":999.00000999999997},{"$f":"A109+'Ma7'!$X$51","v":999.00000999999997},{"$f":"A109+'Ma7'!$Y$51","v":999.00000999999997},"0","",{"$f":"'Ma7'!$Z$53","v":"FIN"},null,{"$f":"$M110","v":2007},7.1,null,null,null,null,null,null,null,null,null,null,null,null,null,null,null,null,null,null,null,null,{"$f":"$M110","v":2007},7.1]
[null,null,null,null,null,null,"Mannschaft zurückgezogen",null,{"$f":"IF($F$3=4,I111,IF($F$3=5,I112,IF($F$3=6,I113,\"F2 ist falsch\")))","v":4995.0001499999998},{"$f":"IF($F$3=4,J111,IF($F$3=5,J112,IF($F$3=6,J113,\"F2 ist falsch\")))","v":4995.0001499999998},{"$f":"IF($F$3=4,K111,IF($F$3=5,K112,IF($F$3=6,K113,\"F2 ist falsch\")))","v":4995.0001499999998},{"$f":"IF($F$3=4,L111,IF($F$3=5,L112,IF($F$3=6,L113,\"F2 ist falsch\")))","v":4995.0001499999998},{"$f":"IF(L110<999,SUM(I110:L110),IF(K110<999,SUM(I110:K110),IF(J110<999,SUM(I110:J110),IF(I110<999,SUM(I110),2007))))","v":2007},{"$f":"IF(M110<999,M110/(COUNTIF(I110:L110,\"<999\")*$F$3),\"\")","v":""},{"$f":"IF(L110<3995,4,IF(K110<3995,3,IF(J110<3995,2,IF(I110<3995,1,0))))","v":0},null,{"$f":"$M110","v":2007},7.11,null,null,{"$f":"IF(AND(M111>0,M111=M127),1,0)","v":0},null,null,null,null,null,null,null,null,{"$f":"SUM(AE110:AI110)","v":0},{"$f":"IF(INT(M94)=INT(M110),1,0)","v":0},null,null,{"$f":"IF(AND(INT(M78)=INT(M94),INT(M94)=INT(M110)),1,0)","v":0},null,null,null,null,{"$f":"$M110","v":2007},7.11]
[null,null,null,null,"KKLEINSTE 1 - 4",null,null,null,{"$f":"SUM(SMALL(I102:I109,1),SMALL(I102:I109,2),SMALL(I102:I109,3),SMALL(I102:I109,4))","v":3996.0000999999997},{"$f":"SUM(SMALL(J102:J109,1),SMALL(J102:J109,2),SMALL(J102:J109,3),SMALL(J102:J109,4))","v":3996.0000999999997},{"$f":"SUM(SMALL(K102:K109,1),SMALL(K102:K109,2),SMALL(K102:K109,3),SMALL(K102:K109,4))","v":3996.0000999999997},{"$f":"SUM(SMALL(L102:L109,1),SMALL(L102:L109,2),SMALL(L102:L109,3),SMALL(L102:L109,4))","v":3996.0000999999997},null,null,null,null,{"$f":"$M110","v":2007},7.12,null,null,null,null,null,null,null,null,null,null,null,null,null,null,null,null,null,null,null,null,{"$f":"$M110","v":2007},7.12]
[null,null,null,null,"KKLEINSTE 1 - 5",null,null,null,{"$f":"SUM(I111,SMALL(I102:I109,5))","v":4995.0001499999998},{"$f":"SUM(J111,SMALL(J102:J109,5))","v":4995.0001499999998},{"$f":"SUM(K111,SMALL(K102:K109,5))","v":4995.0001499999998},{"$f":"SUM(L111,SMALL(L102:L109,5))","v":4995.0001499999998},null,null,null,null,{"$f":"$M110","v":2007},7.13,null,null,null,null,null,null,null,null,null,null,null,null,null,null,null,null,null,null,null,null,{"$f":"$M110","v":2007},7.13]
[null,null,null,null,"KKLEINSTE 1 - 6",null,null,null,{"$f":"SUM(I112,SMALL(I102:I109,6))","v":5994.0002100000002},{"$f":"SUM(J112,SMALL(J102:J109,6))","v":5994.0002100000002},{"$f":"SUM(K112,SMALL(K102:K109,6))","v":5994.0002100000002},{"$f":"SUM(L112,SMALL(L102:L109,6))","v":5994.0002100000002},null,null,null,null,{"$f":"$M110","v":2007},7.14,null,null,null,null,null,null,null,null,null,null,null,null,null,null,null,null,null,null,null,null,{"$f":"$M110","v":2007},7.14]
[null,null,"AK",null,{"$f":"IF(M7SAKp>0,M7SAKp,\"\")","v":""},null,{"$f":"IF(M7SAKp>0,M7SAK,\"\")","v":""},{"$f":"IF(M7SAKp>0,M7SAKKat,\"\")","v":""},{"$f":"+'Ma7'!$AB$51","v":999},{"$f":"+'Ma7'!$AC$51","v":999},{"$f":"+'Ma7'!$AD$51","v":999},{"$f":"+'Ma7'!$AE$51","v":999},{"$f":"IF(L114<999,SUM(I114:L114),IF(K114<999,SUM(I114:K114),IF(J114<999,SUM(I114:J114),IF(I114<999,SUM(I114),\"\"))))","v":""},{"$f":"IF(M114<>\"\",M114/COUNTIF(I114:L114,\"<>999\"),\"\")","v":""},{"$f":"'Ma7'!$AF$53","v":"FIN"},null,{"$f":"$M110","v":2007},7.15,null,null,null,null,null,null,null,null,null,null,null,null,null,null,null,null,null,null,null,null,{"$f":"$M110","v":2007},7.15]
[]
[null,null,null,null,null,null,null,null,null,null,null,null,null,null,null,null,{"$f":"$M110","v":2007},7.16,null,null,null,null,null,null,null,null,null,null,null,null,null,null,null,null,null,null,null,null,{"$f":"$M110","v":2007},7.16]
[null,null,"Verein",null,{"$f":"'Ergebn-EINGABE Einzel'!E3","v":"Einzelspieler"},null,"Name","Kat","R1","R2","R3","R4","Ges","Schnitt"]
[null,null,{"$f":"'Ergebn-EINGABE Einzel'!H5","v":""},{"$f":"IF(E118=\"\",1,0)","v":1},{"$f":"'Ergebn-EINGABE Einzel'!E5","v":""},null,{"$f":"'Ergebn-EINGABE Einzel'!G5","v":""},{"$f":"'Ergebn-EINGABE Einzel'!I5","v":""},{"$f":"'Ergebn-EINGABE Einzel'!J5","v":0},{"$f":"'Ergebn-EINGABE Einzel'!K5","v":0},{"$f":"'Ergebn-EINGABE Einzel'!L5","v":0},{"$f":"'Ergebn-EINGABE Einzel'!M5","v":0},{"$f":"'Ergebn-EINGABE Einzel'!N5","v":0},{"$f":"'Ergebn-EINGABE Einzel'!O5","v":""}]
[null,null,{"$f":"'Ergebn-EINGABE Einzel'!H6","v":""},1,{"$f":"'Ergebn-EINGABE Einzel'!E6","v":""},null,{"$f":"'Ergebn-EINGABE Einzel'!G6","v":""},{"$f":"'Ergebn-EINGABE Einzel'!I6","v":""},{"$f":"'Ergebn-EINGABE Einzel'!J6","v":0},{"$f":"'Ergebn-EINGABE Einzel'!K6","v":0},{"$f":"'Ergebn-EINGABE Einzel'!L6","v":0},{"$f":"'Ergebn-EINGABE Einzel'!M6","v":0},{"$f":"'Ergebn-EINGABE Einzel'!N6","v":0},{"$f":"'Ergebn-EINGABE Einzel'!O6","v":""}]
[null,null,{"$f":"'Ergebn-EINGABE Einzel'!H7","v":""},1,{"$f":"'Ergebn-EINGABE Einzel'!E7","v":""},null,{"$f":"'Ergebn-EINGABE Einzel'!G7","v":""},{"$f":"'Ergebn-EINGABE Einzel'!I7","v":""},{"$f":"'Ergebn-EINGABE Einzel'!J7","v":0},{"$f":"'Ergebn-EINGABE Einzel'!K7","v":0},{"$f":"'Ergebn-EINGABE Einzel'!L7","v":0},{"$f":"'Ergebn-EINGABE Einzel'!M7","v":0},{"$f":"'Ergebn-EINGABE Einzel'!N7","v":0},{"$f":"'Ergebn-EINGABE Einzel'!O7","v":""}]
[null,null,{"$f":"'Ergebn-EINGABE Einzel'!H8","v":""},1,{"$f":"'Ergebn-EINGABE Einzel'!E8","v":""},null,{"$f":"'Ergebn-EINGABE Einzel'!G8","v":""},{"$f":"'Ergebn-EINGABE Einzel'!I8","v":""},{"$f":"'Ergebn-EINGABE Einzel'!J8","v":0},{"$f":"'Ergebn-EINGABE Einzel'!K8","v":0},{"$f":"'Ergebn-EINGABE Einzel'!L8","v":0},{"$f":"'Ergebn-EINGABE Einzel'!M8","v":0},{"$f":"'Ergebn-EINGABE Einzel'!N8","v":0},{"$f":"'Ergebn-EINGABE Einzel'!O8","v":0}]
[null,null,{"$f":"'Ergebn-EINGABE Einzel'!H9","v":""},1,{"$f":"'Ergebn-EINGABE Einzel'!E9","v":""},null,{"$f":"'Ergebn-EINGABE Einzel'!G9","v":""},{"$f":"'Ergebn-EINGABE Einzel'!I9","v":""},{"$f":"'Ergebn-EINGABE Einzel'!J9","v":0},{"$f":"'Ergebn-EINGABE Einzel'!K9","v":0},{"$f":"'Ergebn-EINGABE Einzel'!L9","v":0},{"$f":"'Ergebn-EINGABE Einzel'!M9","v":0},{"$f":"'Ergebn-EINGABE Einzel'!N9","v":0},{"$f":"'Ergebn-EINGABE Einzel'!O9","v":0}]
[null,null,{"$f":"'Ergebn-EINGABE Einzel'!H10","v":""},1,{"$f":"'Ergebn-EINGABE Einzel'!E10","v":""},null,{"$f":"'Ergebn-EINGABE Einzel'!G10","v":""},{"$f":"'Ergebn-EINGABE Einzel'!I10","v":""},{"$f":"'Ergebn-EINGABE Einzel'!J10","v":0},{"$f":"'Ergebn-EINGABE Einzel'!K10","v":0},{"$f":"'Ergebn-EINGABE Einzel'!L10","v":0},{"$f":"'Ergebn-EINGABE Einzel'!M10","v":0},{"$f":"'Ergebn-EINGABE Einzel'!N10","v":0},{"$f":"'Ergebn-EINGABE Einzel'!O10","v":""}]
[null,null,{"$f":"'Ergebn-EINGABE Einzel'!H11","v":""},1,{"$f":"'Ergebn-EINGABE Einzel'!E11","v":""},null,{"$f":"'Ergebn-EINGABE Einzel'!G11","v":""},{"$f":"'Ergebn-EINGABE Einzel'!I11","v":""},{"$f":"'Ergebn-EINGABE Einzel'!J11","v":0},{"$f":"'Ergebn-EINGABE Einzel'!K11","v":0},{"$f":"'Ergebn-EINGABE Einzel'!L11","v":0},{"$f":"'Ergebn-EINGABE Einzel'!M11","v":0},{"$f":"'Ergebn-EINGABE Einzel'!N11","v":0},{"$f":"'Ergebn-EINGABE Einzel'!O11","v":""}]
[null,null,{"$f":"'Ergebn-EINGABE Einzel'!H12","v":""},1,{"$f":"'Ergebn-EINGABE Einzel'!E12","v":""},null,{"$f":"'Ergebn-EINGABE Einzel'!G12","v":""},{"$f":"'Ergebn-EINGABE Einzel'!I12","v":""},{"$f":"'Ergebn-EINGABE Einzel'!J12","v":0},{"$f":"'Ergebn-EINGABE Einzel'!K12","v":0},{"$f":"'Ergebn-EINGABE Einzel'!L12","v":0},{"$f":"'Ergebn-EINGABE Einzel'!M12","v":0},{"$f":"'Ergebn-EINGABE Einzel'!N12","v":0},{"$f":"'Ergebn-EINGABE Einzel'!O12","v":""}]
[null,null,{"$f":"'Ergebn-EINGABE Einzel'!H13","v":""},1,{"$f":"'Ergebn-EINGABE Einzel'!E13","v":""},null,{"$f":"'Ergebn-EINGABE Einzel'!G13","v":""},{"$f":"'Ergebn-EINGABE Einzel'!I13","v":""},{"$f":"'Ergebn-EINGABE Einzel'!J13","v":0},{"$f":"'Ergebn-EINGABE Einzel'!K13","v":0},{"$f":"'Ergebn-EINGABE Einzel'!L13","v":0},{"$f":"'Ergebn-EINGABE Einzel'!M13","v":0},{"$f":"'Ergebn-EINGABE Einzel'!N13","v":0},{"$f":"'Ergebn-EINGABE Einzel'!O13","v":""}]
[null,null,{"$f":"'Ergebn-EINGABE Einzel'!H14","v":""},1,{"$f":"'Ergebn-EINGABE Einzel'!E14","v":""},null,{"$f":"'Ergebn-EINGABE Einzel'!G14","v":""},{"$f":"'Ergebn-EINGABE Einzel'!I14","v":""},{"$f":"'Ergebn-EINGABE Einzel'!J14","v":0},{"$f":"'Ergebn-EINGABE Einzel'!K14","v":0},{"$f":"'Ergebn-EINGABE Einzel'!L14","v":0},{"$f":"'Ergebn-EINGABE Einzel'!M14","v":0},{"$f":"'Ergebn-EINGABE Einzel'!N14","v":0},{"$f":"'Ergebn-EINGABE Einzel'!O14","v":""}]
[null,null,{"$f":"'Ergebn-EINGABE Einzel'!H15","v":""},1,{"$f":"'Ergebn-EINGABE Einzel'!E15","v":""},null,{"$f":"'Ergebn-EINGABE Einzel'!G15","v":""},{"$f":"'Ergebn-EINGABE Einzel'!I15","v":""},{"$f":"'Ergebn-EINGABE Einzel'!J15","v":0},{"$f":"'Ergebn-EINGABE Einzel'!K15","v":0},{"$f":"'Ergebn-EINGABE Einzel'!L15","v":0},{"$f":"'Ergebn-EINGABE Einzel'!M15","v":0},{"$f":"'Ergebn-EINGABE Einzel'!N15","v":0},{"$f":"'Ergebn-EINGABE Einzel'!O15","v":""}]
[null,null,{"$f":"'Ergebn-EINGABE Einzel'!H16","v":""},1,{"$f":"'Ergebn-EINGABE Einzel'!E16","v":""},null,{"$f":"'Ergebn-EINGABE Einzel'!G16","v":""},{"$f":"'Ergebn-EINGABE Einzel'!I16","v":""},{"$f":"'Ergebn-EINGABE Einzel'!J16","v":0},{"$f":"'Ergebn-EINGABE Einzel'!K16","v":0},{"$f":"'Ergebn-EINGABE Einzel'!L16","v":0},{"$f":"'Ergebn-EINGABE Einzel'!M16","v":0},{"$f":"'Ergebn-EINGABE Einzel'!N16","v":0},{"$f":"'Ergebn-EINGABE Einzel'!O16","v":""}]
[null,null,{"$f":"'Ergebn-EINGABE Einzel'!H17","v":""},1,{"$f":"'Ergebn-EINGABE Einzel'!E17","v":""},null,{"$f":"'Ergebn-EINGABE Einzel'!G17","v":""},{"$f":"'Ergebn-EINGABE Einzel'!I17","v":""},{"$f":"'Ergebn-EINGABE Einzel'!J17","v":0},{"$f":"'Ergebn-EINGABE Einzel'!K17","v":0},{"$f":"'Ergebn-EINGABE Einzel'!L17","v":0},{"$f":"'Ergebn-EINGABE Einzel'!M17","v":0},{"$f":"'Ergebn-EINGABE Einzel'!N17","v":0},{"$f":"'Ergebn-EINGABE Einzel'!O17","v":""}]

{"sheet":"Bahnstatistik","index":6,"n_rows":43,"n_cols":10,"rows_kept":43,"cut":false,"hidden":false,"merged":[[36,1,37,1],[38,1,39,1],[20,1,21,1],[22,1,23,1],[24,1,25,1],[26,1,27,1],[28,1,29,1],[30,1,31,1],[32,1,33,1],[34,1,35,1],[32,0,33,0],[34,0,35,0],[36,0,37,0],[38,0,39,0],[20,0,21,0],[22,0,23,0],[24,0,25,0],[26,0,27,0],[28,0,29,0],[30,0,31,0],[1,0,1,3],[4,0,5,0],[6,0,7,0],[8,0,9,0],[4,1,5,1],[6,1,7,1],[8,1,9,1],[12,1,13,1],[14,1,15,1],[16,1,17,1],[18,1,19,1],[2,0,2,1],[14,0,15,0],[16,0,17,0],[18,0,19,0],[10,0,11,0],[12,0,13,0],[10,1,11,1]]}
[]
[{"$f":"+Seite1!B3","v":"Gruppenliga"},null,null,null,{"$f":"+Seite1!C5","v":3},{"$f":"+Seite1!D5","v":". Spieltag         "}]
["Bahn",null,{"$f":"IF(Ma1_Eing>0,Ma1_Eing,\"X\")","v":"MGC Bad Homburg 1"},{"$f":"IF(Ma2_Eing>0,Ma2_Eing,\"X\")","v":"SG Arheilgen 3"},{"$f":"IF(Ma3_Eing>0,Ma3_Eing,\"X\")","v":"MGC Kahler Sandhasen"},{"$f":"IF(Ma4_Eing>0,Ma4_Eing,\"X\")","v":"SG Weiterstadt"},{"$f":"IF(Ma5_Eing>0,Ma5_Eing,\"X\")","v":"MGC Bad Homburg 2"},{"$f":"IF(Ma6_Eing>0,Ma6_Eing,\"X\")","v":"SV Dreieichenhain"},{"$f":"IF(Ma7_Eing>0,Ma7_Eing,\"X\")","v":"MGC Heringen"},"Bahnenschnitt am Spieltag"]
["Nr.","Bezeichnung",null,null,null,null,null,null,null,{"$f":"COUNTIF(C5:I5,\">6\")","v":0}]
[1,{"$f":"IF(+Eing.Allg..Daten!$D$8<>\"\",+VLOOKUP(A5,Bahnen!$A$52:$B$144,2,0),\"\")","v":"Gerade Bahn ohne Hindernis"},{"$f":"IF('Ma1'!$AB6>0,'Ma1'!$AB6,\"X\")","v":"X"},{"$f":"IF('Ma2'!$AB6>0,'Ma2'!$AB6,\"X\")","v":"X"},{"$f":"IF('Ma3'!$AB6>0,'Ma3'!$AB6,\"X\")","v":"X"},{"$f":"IF('Ma4'!$AB6>0,'Ma4'!$AB6,\"X\")","v":"X"},{"$f":"IF('Ma5'!$AB6>0,'Ma5'!$AB6,\"X\")","v":"X"},{"$f":"IF('Ma6'!$AB6>0,'Ma6'!$AB6,\"X\")","v":"X"},{"$f":"IF('Ma7'!$AB6>0,'Ma7'!$AB6,\"X\")","v":"X"}]
[null,null,{"$f":"IF(C5=\"X\",\"\",C5/(Tagestabelle!$N$3*AnzSpieler))","v":""},{"$f":"IF(D5=\"X\",\"\",D5/(Tagestabelle!$N$3*AnzSpieler))","v":""},{"$f":"IF(E5=\"X\",\"\",E5/(Tagestabelle!$N$3*AnzSpieler))","v":""},{"$f":"IF(F5=\"X\",\"\",F5/(Tagestabelle!$N$3*AnzSpieler))","v":""},{"$f":"IF(G5=\"X\",\"\",G5/(Tagestabelle!$N$3*AnzSpieler))","v":""},{"$f":"IF(H5=\"X\",\"\",H5/(Tagestabelle!$N$3*AnzSpieler))","v":""},{"$f":"IF(I5=\"X\",\"\",I5/(Tagestabelle!$N$3*AnzSpieler))","v":""},{"$f":"IF(C5=\"X\",\"\",(SUM(C5:I5))/(Tagestabelle!$N$3*AnzSpieler*$J$4))","v":""}]
[2,{"$f":"IF(+Eing.Allg..Daten!$D$8<>\"\",+VLOOKUP(A7,Bahnen!$A$52:$B$144,2,0),\"\")","v":"Salto"},{"$f":"IF('Ma1'!$AB7>0,'Ma1'!$AB7,\"X\")","v":"X"},{"$f":"IF('Ma2'!$AB7>0,'Ma2'!$AB7,\"X\")","v":"X"},{"$f":"IF('Ma3'!$AB7>0,'Ma3'!$AB7,\"X\")","v":"X"},{"$f":"IF('Ma4'!$AB7>0,'Ma4'!$AB7,\"X\")","v":"X"},{"$f":"IF('Ma5'!$AB7>0,'Ma5'!$AB7,\"X\")","v":"X"},{"$f":"IF('Ma6'!$AB7>0,'Ma6'!$AB7,\"X\")","v":"X"},{"$f":"IF('Ma7'!$AB7>0,'Ma7'!$AB7,\"X\")","v":"X"}]
[null,null,{"$f":"IF(C7=\"X\",\"\",C7/(Tagestabelle!$N$3*AnzSpieler))","v":""},{"$f":"IF(D7=\"X\",\"\",D7/(Tagestabelle!$N$3*AnzSpieler))","v":""},{"$f":"IF(E7=\"X\",\"\",E7/(Tagestabelle!$N$3*AnzSpieler))","v":""},{"$f":"IF(F7=\"X\",\"\",F7/(Tagestabelle!$N$3*AnzSpieler))","v":""},{"$f":"IF(G7=\"X\",\"\",G7/(Tagestabelle!$N$3*AnzSpieler))","v":""},{"$f":"IF(H7=\"X\",\"\",H7/(Tagestabelle!$N$3*AnzSpieler))","v":""},{"$f":"IF(I7=\"X\",\"\",I7/(Tagestabelle!$N$3*AnzSpieler))","v":""},{"$f":"IF(C7=\"X\",\"\",(SUM(C7:I7))/(Tagestabelle!$N$3*AnzSpieler*$J$4))","v":""}]
[3,{"$f":"IF(+Eing.Allg..Daten!$D$8<>\"\",+VLOOKUP(A9,Bahnen!$A$52:$B$144,2,0),\"\")","v":"Pyramiden"},{"$f":"IF('Ma1'!$AB8>0,'Ma1'!$AB8,\"X\")","v":"X"},{"$f":"IF('Ma2'!$AB8>0,'Ma2'!$AB8,\"X\")","v":"X"},{"$f":"IF('Ma3'!$AB8>0,'Ma3'!$AB8,\"X\")","v":"X"},{"$f":"IF('Ma4'!$AB8>0,'Ma4'!$AB8,\"X\")","v":"X"},{"$f":"IF('Ma5'!$AB8>0,'Ma5'!$AB8,\"X\")","v":"X"},{"$f":"IF('Ma6'!$AB8>0,'Ma6'!$AB8,\"X\")","v":"X"},{"$f":"IF('Ma7'!$AB8>0,'Ma7'!$AB8,\"X\")","v":"X"}]
[null,null,{"$f":"IF(C9=\"X\",\"\",C9/(Tagestabelle!$N$3*AnzSpieler))","v":""},{"$f":"IF(D9=\"X\",\"\",D9/(Tagestabelle!$N$3*AnzSpieler))","v":""},{"$f":"IF(E9=\"X\",\"\",E9/(Tagestabelle!$N$3*AnzSpieler))","v":""},{"$f":"IF(F9=\"X\",\"\",F9/(Tagestabelle!$N$3*AnzSpieler))","v":""},{"$f":"IF(G9=\"X\",\"\",G9/(Tagestabelle!$N$3*AnzSpieler))","v":""},{"$f":"IF(H9=\"X\",\"\",H9/(Tagestabelle!$N$3*AnzSpieler))","v":""},{"$f":"IF(I9=\"X\",\"\",I9/(Tagestabelle!$N$3*AnzSpieler))","v":""},{"$f":"IF(C9=\"X\",\"\",(SUM(C9:I9))/(Tagestabelle!$N$3*AnzSpieler*$J$4))","v":""}]
[4,{"$f":"IF(+Eing.Allg..Daten!$D$8<>\"\",+VLOOKUP(A11,Bahnen!$A$52:$B$144,2,0),\"\")","v":"Mittelhügel"},{"$f":"IF('Ma1'!$AB9>0,'Ma1'!$AB9,\"X\")","v":"X"},{"$f":"IF('Ma2'!$AB9>0,'Ma2'!$AB9,\"X\")","v":"X"},{"$f":"IF('Ma3'!$AB9>0,'Ma3'!$AB9,\"X\")","v":"X"},{"$f":"IF('Ma4'!$AB9>0,'Ma4'!$AB9,\"X\")","v":"X"},{"$f":"IF('Ma5'!$AB9>0,'Ma5'!$AB9,\"X\")","v":"X"},{"$f":"IF('Ma6'!$AB9>0,'Ma6'!$AB9,\"X\")","v":"X"},{"$f":"IF('Ma7'!$AB9>0,'Ma7'!$AB9,\"X\")","v":"X"}]
[null,null,{"$f":"IF(C11=\"X\",\"\",C11/(Tagestabelle!$N$3*AnzSpieler))","v":""},{"$f":"IF(D11=\"X\",\"\",D11/(Tagestabelle!$N$3*AnzSpieler))","v":""},{"$f":"IF(E11=\"X\",\"\",E11/(Tagestabelle!$N$3*AnzSpieler))","v":""},{"$f":"IF(F11=\"X\",\"\",F11/(Tagestabelle!$N$3*AnzSpieler))","v":""},{"$f":"IF(G11=\"X\",\"\",G11/(Tagestabelle!$N$3*AnzSpieler))","v":""},{"$f":"IF(H11=\"X\",\"\",H11/(Tagestabelle!$N$3*AnzSpieler))","v":""},{"$f":"IF(I11=\"X\",\"\",I11/(Tagestabelle!$N$3*AnzSpieler))","v":""},{"$f":"IF(C11=\"X\",\"\",(SUM(C11:I11))/(Tagestabelle!$N$3*AnzSpieler*$J$4))","v":""}]
[5,{"$f":"IF(+Eing.Allg..Daten!$D$8<>\"\",+VLOOKUP(A13,Bahnen!$A$52:$B$144,2,0),\"\")","v":"\"V\" - Hindernis"},{"$f":"IF('Ma1'!$AB10>0,'Ma1'!$AB10,\"X\")","v":"X"},{"$f":"IF('Ma2'!$AB10>0,'Ma2'!$AB10,\"X\")","v":"X"},{"$f":"IF('Ma3'!$AB10>0,'Ma3'!$AB10,\"X\")","v":"X"},{"$f":"IF('Ma4'!$AB10>0,'Ma4'!$AB10,\"X\")","v":"X"},{"$f":"IF('Ma5'!$AB10>0,'Ma5'!$AB10,\"X\")","v":"X"},{"$f":"IF('Ma6'!$AB10>0,'Ma6'!$AB10,\"X\")","v":"X"},{"$f":"IF('Ma7'!$AB10>0,'Ma7'!$AB10,\"X\")","v":"X"}]
[null,null,{"$f":"IF(C13=\"X\",\"\",C13/(Tagestabelle!$N$3*AnzSpieler))","v":""},{"$f":"IF(D13=\"X\",\"\",D13/(Tagestabelle!$N$3*AnzSpieler))","v":""},{"$f":"IF(E13=\"X\",\"\",E13/(Tagestabelle!$N$3*AnzSpieler))","v":""},{"$f":"IF(F13=\"X\",\"\",F13/(Tagestabelle!$N$3*AnzSpieler))","v":""},{"$f":"IF(G13=\"X\",\"\",G13/(Tagestabelle!$N$3*AnzSpieler))","v":""},{"$f":"IF(H13=\"X\",\"\",H13/(Tagestabelle!$N$3*AnzSpieler))","v":""},{"$f":"IF(I13=\"X\",\"\",I13/(Tagestabelle!$N$3*AnzSpieler))","v":""},{"$f":"IF(C13=\"X\",\"\",(SUM(C13:I13))/(Tagestabelle!$N$3*AnzSpieler*$J$4))","v":""}]
[6,{"$f":"IF(+Eing.Allg..Daten!$D$8<>\"\",+VLOOKUP(A15,Bahnen!$A$52:$B$144,2,0),\"\")","v":"Doppelwellen"},{"$f":"IF('Ma1'!$AB11>0,'Ma1'!$AB11,\"X\")","v":"X"},{"$f":"IF('Ma2'!$AB11>0,'Ma2'!$AB11,\"X\")","v":"X"},{"$f":"IF('Ma3'!$AB11>0,'Ma3'!$AB11,\"X\")","v":"X"},{"$f":"IF('Ma4'!$AB11>0,'Ma4'!$AB11,\"X\")","v":"X"},{"$f":"IF('Ma5'!$AB11>0,'Ma5'!$AB11,\"X\")","v":"X"},{"$f":"IF('Ma6'!$AB11>0,'Ma6'!$AB11,\"X\")","v":"X"},{"$f":"IF('Ma7'!$AB11>0,'Ma7'!$AB11,\"X\")","v":"X"}]
[null,null,{"$f":"IF(C15=\"X\",\"\",C15/(Tagestabelle!$N$3*AnzSpieler))","v":""},{"$f":"IF(D15=\"X\",\"\",D15/(Tagestabelle!$N$3*AnzSpieler))","v":""},{"$f":"IF(E15=\"X\",\"\",E15/(Tagestabelle!$N$3*AnzSpieler))","v":""},{"$f":"IF(F15=\"X\",\"\",F15/(Tagestabelle!$N$3*AnzSpieler))","v":""},{"$f":"IF(G15=\"X\",\"\",G15/(Tagestabelle!$N$3*AnzSpieler))","v":""},{"$f":"IF(H15=\"X\",\"\",H15/(Tagestabelle!$N$3*AnzSpieler))","v":""},{"$f":"IF(I15=\"X\",\"\",I15/(Tagestabelle!$N$3*AnzSpieler))","v":""},{"$f":"IF(C15=\"X\",\"\",(SUM(C15:I15))/(Tagestabelle!$N$3*AnzSpieler*$J$4))","v":""}]
[7,{"$f":"IF(+Eing.Allg..Daten!$D$8<>\"\",+VLOOKUP(A17,Bahnen!$A$52:$B$144,2,0),\"\")","v":"Rohr"},{"$f":"IF('Ma1'!$AB12>0,'Ma1'!$AB12,\"X\")","v":"X"},{"$f":"IF('Ma2'!$AB12>0,'Ma2'!$AB12,\"X\")","v":"X"},{"$f":"IF('Ma3'!$AB12>0,'Ma3'!$AB12,\"X\")","v":"X"},{"$f":"IF('Ma4'!$AB12>0,'Ma4'!$AB12,\"X\")","v":"X"},{"$f":"IF('Ma5'!$AB12>0,'Ma5'!$AB12,\"X\")","v":"X"},{"$f":"IF('Ma6'!$AB12>0,'Ma6'!$AB12,\"X\")","v":"X"},{"$f":"IF('Ma7'!$AB12>0,'Ma7'!$AB12,\"X\")","v":"X"}]
[null,null,{"$f":"IF(C17=\"X\",\"\",C17/(Tagestabelle!$N$3*AnzSpieler))","v":""},{"$f":"IF(D17=\"X\",\"\",D17/(Tagestabelle!$N$3*AnzSpieler))","v":""},{"$f":"IF(E17=\"X\",\"\",E17/(Tagestabelle!$N$3*AnzSpieler))","v":""},{"$f":"IF(F17=\"X\",\"\",F17/(Tagestabelle!$N$3*AnzSpieler))","v":""},{"$f":"IF(G17=\"X\",\"\",G17/(Tagestabelle!$N$3*AnzSpieler))","v":""},{"$f":"IF(H17=\"X\",\"\",H17/(Tagestabelle!$N$3*AnzSpieler))","v":""},{"$f":"IF(I17=\"X\",\"\",I17/(Tagestabelle!$N$3*AnzSpieler))","v":""},{"$f":"IF(C17=\"X\",\"\",(SUM(C17:I17))/(Tagestabelle!$N$3*AnzSpieler*$J$4))","v":""}]
[8,{"$f":"IF(+Eing.Allg..Daten!$D$8<>\"\",+VLOOKUP(A19,Bahnen!$A$52:$B$144,2,0),\"\")","v":"Passagen"},{"$f":"IF('Ma1'!$AB13>0,'Ma1'!$AB13,\"X\")","v":"X"},{"$f":"IF('Ma2'!$AB13>0,'Ma2'!$AB13,\"X\")","v":"X"},{"$f":"IF('Ma3'!$AB13>0,'Ma3'!$AB13,\"X\")","v":"X"},{"$f":"IF('Ma4'!$AB13>0,'Ma4'!$AB13,\"X\")","v":"X"},{"$f":"IF('Ma5'!$AB13>0,'Ma5'!$AB13,\"X\")","v":"X"},{"$f":"IF('Ma6'!$AB13>0,'Ma6'!$AB13,\"X\")","v":"X"},{"$f":"IF('Ma7'!$AB13>0,'Ma7'!$AB13,\"X\")","v":"X"}]
[null,null,{"$f":"IF(C19=\"X\",\"\",C19/(Tagestabelle!$N$3*AnzSpieler))","v":""},{"$f":"IF(D19=\"X\",\"\",D19/(Tagestabelle!$N$3*AnzSpieler))","v":""},{"$f":"IF(E19=\"X\",\"\",E19/(Tagestabelle!$N$3*AnzSpieler))","v":""},{"$f":"IF(F19=\"X\",\"\",F19/(Tagestabelle!$N$3*AnzSpieler))","v":""},{"$f":"IF(G19=\"X\",\"\",G19/(Tagestabelle!$N$3*AnzSpieler))","v":""},{"$f":"IF(H19=\"X\",\"\",H19/(Tagestabelle!$N$3*AnzSpieler))","v":""},{"$f":"IF(I19=\"X\",\"\",I19/(Tagestabelle!$N$3*AnzSpieler))","v":""},{"$f":"IF(C19=\"X\",\"\",(SUM(C19:I19))/(Tagestabelle!$N$3*AnzSpieler*$J$4))","v":""}]
[9,{"$f":"IF(+Eing.Allg..Daten!$D$8<>\"\",+VLOOKUP(A21,Bahnen!$A$52:$B$144,2,0),\"\")","v":"Liegende Schleife"},{"$f":"IF('Ma1'!$AB14>0,'Ma1'!$AB14,\"X\")","v":"X"},{"$f":"IF('Ma2'!$AB14>0,'Ma2'!$AB14,\"X\")","v":"X"},{"$f":"IF('Ma3'!$AB14>0,'Ma3'!$AB14,\"X\")","v":"X"},{"$f":"IF('Ma4'!$AB14>0,'Ma4'!$AB14,\"X\")","v":"X"},{"$f":"IF('Ma5'!$AB14>0,'Ma5'!$AB14,\"X\")","v":"X"},{"$f":"IF('Ma6'!$AB14>0,'Ma6'!$AB14,\"X\")","v":"X"},{"$f":"IF('Ma7'!$AB14>0,'Ma7'!$AB14,\"X\")","v":"X"}]
[null,null,{"$f":"IF(C21=\"X\",\"\",C21/(Tagestabelle!$N$3*AnzSpieler))","v":""},{"$f":"IF(D21=\"X\",\"\",D21/(Tagestabelle!$N$3*AnzSpieler))","v":""},{"$f":"IF(E21=\"X\",\"\",E21/(Tagestabelle!$N$3*AnzSpieler))","v":""},{"$f":"IF(F21=\"X\",\"\",F21/(Tagestabelle!$N$3*AnzSpieler))","v":""},{"$f":"IF(G21=\"X\",\"\",G21/(Tagestabelle!$N$3*AnzSpieler))","v":""},{"$f":"IF(H21=\"X\",\"\",H21/(Tagestabelle!$N$3*AnzSpieler))","v":""},{"$f":"IF(I21=\"X\",\"\",I21/(Tagestabelle!$N$3*AnzSpieler))","v":""},{"$f":"IF(C21=\"X\",\"\",(SUM(C21:I21))/(Tagestabelle!$N$3*AnzSpieler*$J$4))","v":""}]
[10,{"$f":"IF(+Eing.Allg..Daten!$D$8<>\"\",+VLOOKUP(A23,Bahnen!$A$52:$B$144,2,0),\"\")","v":"Winkel"},{"$f":"IF('Ma1'!$AB15>0,'Ma1'!$AB15,\"X\")","v":"X"},{"$f":"IF('Ma2'!$AB15>0,'Ma2'!$AB15,\"X\")","v":"X"},{"$f":"IF('Ma3'!$AB15>0,'Ma3'!$AB15,\"X\")","v":"X"},{"$f":"IF('Ma4'!$AB15>0,'Ma4'!$AB15,\"X\")","v":"X"},{"$f":"IF('Ma5'!$AB15>0,'Ma5'!$AB15,\"X\")","v":"X"},{"$f":"IF('Ma6'!$AB15>0,'Ma6'!$AB15,\"X\")","v":"X"},{"$f":"IF('Ma7'!$AB15>0,'Ma7'!$AB15,\"X\")","v":"X"}]
[null,null,{"$f":"IF(C23=\"X\",\"\",C23/(Tagestabelle!$N$3*AnzSpieler))","v":""},{"$f":"IF(D23=\"X\",\"\",D23/(Tagestabelle!$N$3*AnzSpieler))","v":""},{"$f":"IF(E23=\"X\",\"\",E23/(Tagestabelle!$N$3*AnzSpieler))","v":""},{"$f":"IF(F23=\"X\",\"\",F23/(Tagestabelle!$N$3*AnzSpieler))","v":""},{"$f":"IF(G23=\"X\",\"\",G23/(Tagestabelle!$N$3*AnzSpieler))","v":""},{"$f":"IF(H23=\"X\",\"\",H23/(Tagestabelle!$N$3*AnzSpieler))","v":""},{"$f":"IF(I23=\"X\",\"\",I23/(Tagestabelle!$N$3*AnzSpieler))","v":""},{"$f":"IF(C23=\"X\",\"\",(SUM(C23:I23))/(Tagestabelle!$N$3*AnzSpieler*$J$4))","v":""}]
[11,{"$f":"IF(+Eing.Allg..Daten!$D$8<>\"\",+VLOOKUP(A25,Bahnen!$A$52:$B$144,2,0),\"\")","v":"Netz"},{"$f":"IF('Ma1'!$AB16>0,'Ma1'!$AB16,\"X\")","v":"X"},{"$f":"IF('Ma2'!$AB16>0,'Ma2'!$AB16,\"X\")","v":"X"},{"$f":"IF('Ma3'!$AB16>0,'Ma3'!$AB16,\"X\")","v":"X"},{"$f":"IF('Ma4'!$AB16>0,'Ma4'!$AB16,\"X\")","v":"X"},{"$f":"IF('Ma5'!$AB16>0,'Ma5'!$AB16,\"X\")","v":"X"},{"$f":"IF('Ma6'!$AB16>0,'Ma6'!$AB16,\"X\")","v":"X"},{"$f":"IF('Ma7'!$AB16>0,'Ma7'!$AB16,\"X\")","v":"X"}]
[null,null,{"$f":"IF(C25=\"X\",\"\",C25/(Tagestabelle!$N$3*AnzSpieler))","v":""},{"$f":"IF(D25=\"X\",\"\",D25/(Tagestabelle!$N$3*AnzSpieler))","v":""},{"$f":"IF(E25=\"X\",\"\",E25/(Tagestabelle!$N$3*AnzSpieler))","v":""},{"$f":"IF(F25=\"X\",\"\",F25/(Tagestabelle!$N$3*AnzSpieler))","v":""},{"$f":"IF(G25=\"X\",\"\",G25/(Tagestabelle!$N$3*AnzSpieler))","v":""},{"$f":"IF(H25=\"X\",\"\",H25/(Tagestabelle!$N$3*AnzSpieler))","v":""},{"$f":"IF(I25=\"X\",\"\",I25/(Tagestabelle!$N$3*AnzSpieler))","v":""},{"$f":"IF(C25=\"X\",\"\",(SUM(C25:I25))/(Tagestabelle!$N$3*AnzSpieler*$J$4))","v":""}]
[12,{"$f":"IF(+Eing.Allg..Daten!$D$8<>\"\",+VLOOKUP(A27,Bahnen!$A$52:$B$144,2,0),\"\")","v":"Doppelkeile"},{"$f":"IF('Ma1'!$AB17>0,'Ma1'!$AB17,\"X\")","v":"X"},{"$f":"IF('Ma2'!$AB17>0,'Ma2'!$AB17,\"X\")","v":"X"},{"$f":"IF('Ma3'!$AB17>0,'Ma3'!$AB17,\"X\")","v":"X"},{"$f":"IF('Ma4'!$AB17>0,'Ma4'!$AB17,\"X\")","v":"X"},{"$f":"IF('Ma5'!$AB17>0,'Ma5'!$AB17,\"X\")","v":"X"},{"$f":"IF('Ma6'!$AB17>0,'Ma6'!$AB17,\"X\")","v":"X"},{"$f":"IF('Ma7'!$AB17>0,'Ma7'!$AB17,\"X\")","v":"X"}]
[null,null,{"$f":"IF(C27=\"X\",\"\",C27/(Tagestabelle!$N$3*AnzSpieler))","v":""},{"$f":"IF(D27=\"X\",\"\",D27/(Tagestabelle!$N$3*AnzSpieler))","v":""},{"$f":"IF(E27=\"X\",\"\",E27/(Tagestabelle!$N$3*AnzSpieler))","v":""},{"$f":"IF(F27=\"X\",\"\",F27/(Tagestabelle!$N$3*AnzSpieler))","v":""},{"$f":"IF(G27=\"X\",\"\",G27/(Tagestabelle!$N$3*AnzSpieler))","v":""},{"$f":"IF(H27=\"X\",\"\",H27/(Tagestabelle!$N$3*AnzSpieler))","v":""},{"$f":"IF(I27=\"X\",\"\",I27/(Tagestabelle!$N$3*AnzSpieler))","v":""},{"$f":"IF(C27=\"X\",\"\",(SUM(C27:I27))/(Tagestabelle!$N$3*AnzSpieler*$J$4))","v":""}]
[13,{"$f":"IF(+Eing.Allg..Daten!$D$8<>\"\",+VLOOKUP(A29,Bahnen!$A$52:$B$144,2,0),\"\")","v":"Stumpfe Kegel"},{"$f":"IF('Ma1'!$AB18>0,'Ma1'!$AB18,\"X\")","v":"X"},{"$f":"IF('Ma2'!$AB18>0,'Ma2'!$AB18,\"X\")","v":"X"},{"$f":"IF('Ma3'!$AB18>0,'Ma3'!$AB18,\"X\")","v":"X"},{"$f":"IF('Ma4'!$AB18>0,'Ma4'!$AB18,\"X\")","v":"X"},{"$f":"IF('Ma5'!$AB18>0,'Ma5'!$AB18,\"X\")","v":"X"},{"$f":"IF('Ma6'!$AB18>0,'Ma6'!$AB18,\"X\")","v":"X"},{"$f":"IF('Ma7'!$AB18>0,'Ma7'!$AB18,\"X\")","v":"X"}]
[null,null,{"$f":"IF(C29=\"X\",\"\",C29/(Tagestabelle!$N$3*AnzSpieler))","v":""},{"$f":"IF(D29=\"X\",\"\",D29/(Tagestabelle!$N$3*AnzSpieler))","v":""},{"$f":"IF(E29=\"X\",\"\",E29/(Tagestabelle!$N$3*AnzSpieler))","v":""},{"$f":"IF(F29=\"X\",\"\",F29/(Tagestabelle!$N$3*AnzSpieler))","v":""},{"$f":"IF(G29=\"X\",\"\",G29/(Tagestabelle!$N$3*AnzSpieler))","v":""},{"$f":"IF(H29=\"X\",\"\",H29/(Tagestabelle!$N$3*AnzSpieler))","v":""},{"$f":"IF(I29=\"X\",\"\",I29/(Tagestabelle!$N$3*AnzSpieler))","v":""},{"$f":"IF(C29=\"X\",\"\",(SUM(C29:I29))/(Tagestabelle!$N$3*AnzSpieler*$J$4))","v":""}]
[14,{"$f":"IF(+Eing.Allg..Daten!$D$8<>\"\",+VLOOKUP(A31,Bahnen!$A$52:$B$144,2,0),\"\")","v":"Schrägerkreis mit Niere"},{"$f":"IF('Ma1'!$AB19>0,'Ma1'!$AB19,\"X\")","v":"X"},{"$f":"IF('Ma2'!$AB19>0,'Ma2'!$AB19,\"X\")","v":"X"},{"$f":"IF('Ma3'!$AB19>0,'Ma3'!$AB19,\"X\")","v":"X"},{"$f":"IF('Ma4'!$AB19>0,'Ma4'!$AB19,\"X\")","v":"X"},{"$f":"IF('Ma5'!$AB19>0,'Ma5'!$AB19,\"X\")","v":"X"},{"$f":"IF('Ma6'!$AB19>0,'Ma6'!$AB19,\"X\")","v":"X"},{"$f":"IF('Ma7'!$AB19>0,'Ma7'!$AB19,\"X\")","v":"X"}]
[null,null,{"$f":"IF(C31=\"X\",\"\",C31/(Tagestabelle!$N$3*AnzSpieler))","v":""},{"$f":"IF(D31=\"X\",\"\",D31/(Tagestabelle!$N$3*AnzSpieler))","v":""},{"$f":"IF(E31=\"X\",\"\",E31/(Tagestabelle!$N$3*AnzSpieler))","v":""},{"$f":"IF(F31=\"X\",\"\",F31/(Tagestabelle!$N$3*AnzSpieler))","v":""},{"$f":"IF(G31=\"X\",\"\",G31/(Tagestabelle!$N$3*AnzSpieler))","v":""},{"$f":"IF(H31=\"X\",\"\",H31/(Tagestabelle!$N$3*AnzSpieler))","v":""},{"$f":"IF(I31=\"X\",\"\",I31/(Tagestabelle!$N$3*AnzSpieler))","v":""},{"$f":"IF(C31=\"X\",\"\",(SUM(C31:I31))/(Tagestabelle!$N$3*AnzSpieler*$J$4))","v":""}]
[15,{"$f":"IF(+Eing.Allg..Daten!$D$8<>\"\",+VLOOKUP(A33,Bahnen!$A$52:$B$144,2,0),\"\")","v":"Brücke"},{"$f":"IF('Ma1'!$AB20>0,'Ma1'!$AB20,\"X\")","v":"X"},{"$f":"IF('Ma2'!$AB20>0,'Ma2'!$AB20,\"X\")","v":"X"},{"$f":"IF('Ma3'!$AB20>0,'Ma3'!$AB20,\"X\")","v":"X"},{"$f":"IF('Ma4'!$AB20>0,'Ma4'!$AB20,\"X\")","v":"X"},{"$f":"IF('Ma5'!$AB20>0,'Ma5'!$AB20,\"X\")","v":"X"},{"$f":"IF('Ma6'!$AB20>0,'Ma6'!$AB20,\"X\")","v":"X"},{"$f":"IF('Ma7'!$AB20>0,'Ma7'!$AB20,\"X\")","v":"X"}]
[null,null,{"$f":"IF(C33=\"X\",\"\",C33/(Tagestabelle!$N$3*AnzSpieler))","v":""},{"$f":"IF(D33=\"X\",\"\",D33/(Tagestabelle!$N$3*AnzSpieler))","v":""},{"$f":"IF(E33=\"X\",\"\",E33/(Tagestabelle!$N$3*AnzSpieler))","v":""},{"$f":"IF(F33=\"X\",\"\",F33/(Tagestabelle!$N$3*AnzSpieler))","v":""},{"$f":"IF(G33=\"X\",\"\",G33/(Tagestabelle!$N$3*AnzSpieler))","v":""},{"$f":"IF(H33=\"X\",\"\",H33/(Tagestabelle!$N$3*AnzSpieler))","v":""},{"$f":"IF(I33=\"X\",\"\",I33/(Tagestabelle!$N$3*AnzSpieler))","v":""},{"$f":"IF(C33=\"X\",\"\",(SUM(C33:I33))/(Tagestabelle!$N$3*AnzSpieler*$J$4))","v":""}]
[16,{"$f":"IF(+Eing.Allg..Daten!$D$8<>\"\",+VLOOKUP(A35,Bahnen!$A$52:$B$144,2,0),\"\")","v":"Vulkan"},{"$f":"IF('Ma1'!$AB21>0,'Ma1'!$AB21,\"X\")","v":"X"},{"$f":"IF('Ma2'!$AB21>0,'Ma2'!$AB21,\"X\")","v":"X"},{"$f":"IF('Ma3'!$AB21>0,'Ma3'!$AB21,\"X\")","v":"X"},{"$f":"IF('Ma4'!$AB21>0,'Ma4'!$AB21,\"X\")","v":"X"},{"$f":"IF('Ma5'!$AB21>0,'Ma5'!$AB21,\"X\")","v":"X"},{"$f":"IF('Ma6'!$AB21>0,'Ma6'!$AB21,\"X\")","v":"X"},{"$f":"IF('Ma7'!$AB21>0,'Ma7'!$AB21,\"X\")","v":"X"}]
[null,null,{"$f":"IF(C35=\"X\",\"\",C35/(Tagestabelle!$N$3*AnzSpieler))","v":""},{"$f":"IF(D35=\"X\",\"\",D35/(Tagestabelle!$N$3*AnzSpieler))","v":""},{"$f":"IF(E35=\"X\",\"\",E35/(Tagestabelle!$N$3*AnzSpieler))","v":""},{"$f":"IF(F35=\"X\",\"\",F35/(Tagestabelle!$N$3*AnzSpieler))","v":""},{"$f":"IF(G35=\"X\",\"\",G35/(Tagestabelle!$N$3*AnzSpieler))","v":""},{"$f":"IF(H35=\"X\",\"\",H35/(Tagestabelle!$N$3*AnzSpieler))","v":""},{"$f":"IF(I35=\"X\",\"\",I35/(Tagestabelle!$N$3*AnzSpieler))","v":""},{"$f":"IF(C35=\"X\",\"\",(SUM(C35:I35))/(Tagestabelle!$N$3*AnzSpieler*$J$4))","v":""}]
[17,{"$f":"IF(+Eing.Allg..Daten!$D$8<>\"\",+VLOOKUP(A37,Bahnen!$A$52:$B$144,2,0),\"\")","v":"Auflaufkeil mit Zielfenster"},{"$f":"IF('Ma1'!$AB22>0,'Ma1'!$AB22,\"X\")","v":"X"},{"$f":"IF('Ma2'!$AB22>0,'Ma2'!$AB22,\"X\")","v":"X"},{"$f":"IF('Ma3'!$AB22>0,'Ma3'!$AB22,\"X\")","v":"X"},{"$f":"IF('Ma4'!$AB22>0,'Ma4'!$AB22,\"X\")","v":"X"},{"$f":"IF('Ma5'!$AB22>0,'Ma5'!$AB22,\"X\")","v":"X"},{"$f":"IF('Ma6'!$AB22>0,'Ma6'!$AB22,\"X\")","v":"X"},{"$f":"IF('Ma7'!$AB22>0,'Ma7'!$AB22,\"X\")","v":"X"}]
[null,null,{"$f":"IF(C37=\"X\",\"\",C37/(Tagestabelle!$N$3*AnzSpieler))","v":""},{"$f":"IF(D37=\"X\",\"\",D37/(Tagestabelle!$N$3*AnzSpieler))","v":""},{"$f":"IF(E37=\"X\",\"\",E37/(Tagestabelle!$N$3*AnzSpieler))","v":""},{"$f":"IF(F37=\"X\",\"\",F37/(Tagestabelle!$N$3*AnzSpieler))","v":""},{"$f":"IF(G37=\"X\",\"\",G37/(Tagestabelle!$N$3*AnzSpieler))","v":""},{"$f":"IF(H37=\"X\",\"\",H37/(Tagestabelle!$N$3*AnzSpieler))","v":""},{"$f":"IF(I37=\"X\",\"\",I37/(Tagestabelle!$N$3*AnzSpieler))","v":""},{"$f":"IF(C37=\"X\",\"\",(SUM(C37:I37))/(Tagestabelle!$N$3*AnzSpieler*$J$4))","v":""}]
[18,{"$f":"IF(+Eing.Allg..Daten!$D$8<>\"\",+VLOOKUP(A39,Bahnen!$A$52:$B$144,2,0),\"\")","v":"Blitz"},{"$f":"IF('Ma1'!$AB23>0,'Ma1'!$AB23,\"X\")","v":"X"},{"$f":"IF('Ma2'!$AB23>0,'Ma2'!$AB23,\"X\")","v":"X"},{"$f":"IF('Ma3'!$AB23>0,'Ma3'!$AB23,\"X\")","v":"X"},{"$f":"IF('Ma4'!$AB23>0,'Ma4'!$AB23,\"X\")","v":"X"},{"$f":"IF('Ma5'!$AB23>0,'Ma5'!$AB23,\"X\")","v":"X"},{"$f":"IF('Ma6'!$AB23>0,'Ma6'!$AB23,\"X\")","v":"X"},{"$f":"IF('Ma7'!$AB23>0,'Ma7'!$AB23,\"X\")","v":"X"}]
[null,null,{"$f":"IF(C39=\"X\",\"\",C39/(Tagestabelle!$N$3*AnzSpieler))","v":""},{"$f":"IF(D39=\"X\",\"\",D39/(Tagestabelle!$N$3*AnzSpieler))","v":""},{"$f":"IF(E39=\"X\",\"\",E39/(Tagestabelle!$N$3*AnzSpieler))","v":""},{"$f":"IF(F39=\"X\",\"\",F39/(Tagestabelle!$N$3*AnzSpieler))","v":""},{"$f":"IF(G39=\"X\",\"\",G39/(Tagestabelle!$N$3*AnzSpieler))","v":""},{"$f":"IF(H39=\"X\",\"\",H39/(Tagestabelle!$N$3*AnzSpieler))","v":""},{"$f":"IF(I39=\"X\",\"\",I39/(Tagestabelle!$N$3*AnzSpieler))","v":""},{"$f":"IF(C39=\"X\",\"\",(SUM(C39:I39))/(Tagestabelle!$N$3*AnzSpieler*$J$4))","v":""}]
[null,null,{"$f":"IF(C5=\"X\",0,C5+C7+C9+C11+C13+C15+C17+C19+C21+C23+C25+C27+C29+C31+C33+C35+C37+C39)","v":0},0,0,0,0,0,0]
[null,null,{"$f":"IF(C41=0,\"\",C41/(Tagestabelle!$N$3*AnzSpieler))","v":""},{"$f":"IF(D41=0,\"\",D41/(Tagestabelle!$N$3*AnzSpieler))","v":""},{"$f":"IF(E41=0,\"\",E41/(Tagestabelle!$N$3*AnzSpieler))","v":""},{"$f":"IF(F41=0,\"\",F41/(Tagestabelle!$N$3*AnzSpieler))","v":""},{"$f":"IF(G41=0,\"\",G41/(Tagestabelle!$N$3*AnzSpieler))","v":""},{"$f":"IF(H41=0,\"\",H41/(Tagestabelle!$N$3*AnzSpieler))","v":""},{"$f":"IF(I41=0,\"\",I41/(Tagestabelle!$N$3*AnzSpieler))","v":""},{"$f":"IF(C41=0,\"\",(C41+D41+E41+F41+G41+H41)/(Tagestabelle!$N$3*AnzSpieler*$J$4))","v":""}]
[null,null,{"$f":"IF(C41>0,1,2.01)","v":2.0099999999999998},{"$f":"IF(D41>0,1,2.02)","v":2.02},{"$f":"IF(E41>0,1,2.03)","v":2.0299999999999998},{"$f":"IF(F41>0,1,2.04)","v":2.04},{"$f":"IF(G41>0,1,2.05)","v":2.0499999999999998},{"$f":"IF(H41>0,1,2.06)","v":2.06},{"$f":"IF(I41>0,1,2.07)","v":2.0699999999999998}]

{"sheet":"Ma_d_Tages","index":7,"n_rows":126,"n_cols":283,"rows_kept":126,"cut":false,"hidden":false,"merged":[[1,12,1,15],[1,0,1,8],[3,0,3,1],[4,0,4,1],[5,3,5,4],[5,9,5,10],[5,15,5,16],[51,9,51,13],[51,15,51,19],[26,3,26,7],[26,9,26,13],[26,15,26,19],[30,3,30,4],[30,9,30,10],[30,15,30,16],[25,0,25,1],[50,0,50,1],[28,0,28,1],[29,0,29,1],[51,3,51,7]]}
[{"$f":"AnzSpieler","v":5}]
[{"$f":"Eing.Allg..Daten!D2","v":"Gruppenliga"},null,null,null,null,null,null,null,null,null,null,null,{"$f":"Eing.Allg..Daten!D3","v":2024},null,null,null,{"$f":"Eing.Allg..Daten!D4","v":3},". Spieltag         "]
[]
[null,null,null,{"$f":"D101","v":"MGC Bad Homburg 1"},null,null,null,"Kat.",null,{"$f":"I101","v":"MGC Bad Homburg 1"},null,null,null,"Kat.",null,{"$f":"N101","v":"MGC Bad Homburg 1"},null,null,null,"Kat."]
["Bahn  ",null,null,{"$error":"#N/A"},null,null,null,{"$f":"G102","v":{"$error":"#N/A"}},null,{"$error":"#N/A"},null,null,null,{"$f":"L102","v":{"$error":"#N/A"}},null,{"$error":"#N/A"},null,null,null,{"$f":"Q102","v":{"$error":"#N/A"}}]
["Nr.","Bez. ",null,0,null,null,null,null,null,0,null,null,null,null,null,0]
[1,{"$f":"'Ma1'!B6","v":"Gerade Bahn ohne Hindernis"},null,0,{"$f":"E104","v":0},0,0,{"$f":"SUM(D7:G7)","v":0},null,0,{"$f":"J104","v":0},0,0,{"$f":"SUM(J7:M7)","v":0},null,0,{"$f":"O104","v":0},{"$f":"P104","v":0},{"$f":"Q104","v":0},{"$f":"SUM(P7:S7)","v":0}]
[2,{"$f":"'Ma1'!B7","v":"Salto"},null,0,0,0,0,0,null,0,0,0,0,0,null,0,0,0,0,0]
[3,{"$f":"'Ma1'!B8","v":"Pyramiden"},null,0,0,0,0,0,null,0,0,0,0,0,null,0,0,0,0,0]
[4,{"$f":"'Ma1'!B9","v":"Mittelhügel"},null,0,0,0,0,0,null,0,0,0,0,0,null,0,0,0,0,0]
[5,{"$f":"'Ma1'!B10","v":"\"V\" - Hindernis"},null,0,0,0,0,0,null,0,0,0,0,0,null,0,0,0,0,0]
[6,{"$f":"'Ma1'!B11","v":"Doppelwellen"},null,0,0,0,0,0,null,0,0,0,0,0,null,0,0,0,0,0]
[7,{"$f":"'Ma1'!B12","v":"Rohr"},null,0,0,0,0,0,null,0,0,0,0,0,null,0,0,0,0,0]
[8,{"$f":"'Ma1'!B13","v":"Passagen"},null,0,0,0,0,0,null,0,0,0,0,0,null,0,0,0,0,0]
[9,{"$f":"'Ma1'!B14","v":"Liegende Schleife"},null,0,0,0,0,0,null,0,0,0,0,0,null,0,0,0,0,0]
[10,{"$f":"'Ma1'!B15","v":"Winkel"},null,0,0,0,0,0,null,0,0,0,0,0,null,0,0,0,0,0]
[11,{"$f":"'Ma1'!B16","v":"Netz"},null,0,0,0,0,0,null,0,0,0,0,0,null,0,0,0,0,0]
[12,{"$f":"'Ma1'!B17","v":"Doppelkeile"},null,0,0,0,0,0,null,0,0,0,0,0,null,0,0,0,0,0]
[13,{"$f":"'Ma1'!B18","v":"Stumpfe Kegel"},null,0,0,0,0,0,null,0,0,0,0,0,null,0,0,0,0,0]
[14,{"$f":"'Ma1'!B19","v":"Schrägerkreis mit Niere"},null,0,0,0,0,0,null,0,0,0,0,0,null,0,0,0,0,0]
[15,{"$f":"'Ma1'!B20","v":"Brücke"},null,0,0,0,0,0,null,0,0,0,0,0,null,0,0,0,0,0]
[16,{"$f":"'Ma1'!B21","v":"Vulkan"},null,0,0,0,0,0,null,0,0,0,0,0,null,0,0,0,0,0]
[17,{"$f":"'Ma1'!B22","v":"Auflaufkeil mit Zielfenster"},null,0,0,0,0,0,null,0,0,0,0,0,null,0,0,0,0,0]
[18,{"$f":"'Ma1'!B23","v":"Blitz"},null,0,0,0,0,0,null,0,0,0,0,0,null,0,0,0,0,0]
[null,"Strafpunkte",null,0,0,0,0,0,null,0,0,0,0,0,null,0,0,0,0,0]
[null,null,null,{"$f":"SUM(D7:D25)","v":0},{"$f":"SUM(E7:E25)","v":0},{"$f":"SUM(F7:F25)","v":0},{"$f":"SUM(G7:G25)","v":0},{"$f":"SUM(H7:H25)","v":0},null,{"$f":"SUM(J7:J25)","v":0},{"$f":"SUM(K7:K25)","v":0},{"$f":"SUM(L7:L25)","v":0},{"$f":"SUM(M7:M25)","v":0},{"$f":"SUM(N7:N25)","v":0},null,{"$f":"SUM(P7:P25)","v":0},{"$f":"SUM(Q7:Q25)","v":0},{"$f":"SUM(R7:R25)","v":0},{"$f":"SUM(S7:S25)","v":0},{"$f":"SUM(T7:T25)","v":0}]
[null,null,null,{"$f":"SUM(D26:G26)","v":0},null,null,null,null,null,{"$f":"SUM(J26:M26)","v":0},null,null,null,null,null,{"$f":"SUM(P26:S26)","v":0}]
[]
[null,null,null,{"$f":"S101","v":"MGC Bad Homburg 1"},null,null,null,"Kat.",null,{"$f":"X101","v":"MGC Bad Homburg 1"},null,null,null,"Kat.",null,{"$f":"AC101","v":"MGC Bad Homburg 1"},null,null,null,"Kat."]
["Bahn  ",null,null,{"$error":"#N/A"},null,null,null,{"$f":"V102","v":{"$error":"#N/A"}},null,{"$error":"#N/A"},null,null,null,{"$f":"AA102","v":{"$error":"#N/A"}},null,{"$error":"#N/A"},null,null,null,{"$f":"AF102","v":{"$error":"#N/A"}}]
["Nr.","Bez. ",null,0,null,null,null,null,null,0,null,null,null,null,null,0]
[1,{"$f":"B7","v":"Gerade Bahn ohne Hindernis"},null,0,{"$f":"T104","v":0},{"$f":"U104","v":0},{"$f":"V104","v":0},{"$f":"SUM(D32:G32)","v":0},null,0,{"$f":"Y104","v":0},{"$f":"Z104","v":0},{"$f":"AA104","v":0},{"$f":"SUM(J32:M32)","v":0},null,0,{"$f":"AD104","v":0},{"$f":"AE104","v":0},{"$f":"AF104","v":0},{"$f":"SUM(P32:S32)","v":0}]
[2,{"$f":"B8","v":"Salto"},null,0,0,0,0,0,null,0,0,0,0,0,null,0,0,0,0,0]
[3,{"$f":"B9","v":"Pyramiden"},null,0,0,0,0,0,null,0,0,0,0,0,null,0,0,0,0,0]
[4,"Mittelhügel",null,0,0,0,0,0,null,0,0,0,0,0,null,0,0,0,0,0]
[5,"\"V\" - Hindernis",null,0,0,0,0,0,null,0,0,0,0,0,null,0,0,0,0,0]
[6,"Doppelwellen",null,0,0,0,0,0,null,0,0,0,0,0,null,0,0,0,0,0]
[7,"Rohr",null,0,0,0,0,0,null,0,0,0,0,0,null,0,0,0,0,0]
[8,"Passagen",null,0,0,0,0,0,null,0,0,0,0,0,null,0,0,0,0,0]
[9,"Liegende Schleife",null,0,0,0,0,0,null,0,0,0,0,0,null,0,0,0,0,0]
[10,"Winkel",null,0,0,0,0,0,null,0,0,0,0,0,null,0,0,0,0,0]
[11,"Netz",null,0,0,0,0,0,null,0,0,0,0,0,null,0,0,0,0,0]
[12,"Doppelkeile",null,0,0,0,0,0,null,0,0,0,0,0,null,0,0,0,0,0]
[13,"Stumpfe Kegel",null,0,0,0,0,0,null,0,0,0,0,0,null,0,0,0,0,0]
[14,"Schrägerkreis mit Niere",null,0,0,0,0,0,null,0,0,0,0,0,null,0,0,0,0,0]
[15,"Brücke",null,0,0,0,0,0,null,0,0,0,0,0,null,0,0,0,0,0]
[16,"Vulkan",null,0,0,0,0,0,null,0,0,0,0,0,null,0,0,0,0,0]
[17,"Auflaufkeil mit Zielfenster",null,0,0,0,0,0,null,0,0,0,0,0,null,0,0,0,0,0]
[18,"Blitz",null,0,0,0,0,0,null,0,0,0,0,0,null,0,0,0,0,0]
[null,"Strafpunkte",null,0,0,0,0,0,null,0,0,0,0,0,null,0,0,0,0,0]
[null,null,null,{"$f":"SUM(D32:D50)","v":0},{"$f":"SUM(E32:E50)","v":0},{"$f":"SUM(F32:F50)","v":0},{"$f":"SUM(G32:G50)","v":0},{"$f":"SUM(H32:H50)","v":0},null,{"$f":"SUM(J32:J50)","v":0},{"$f":"SUM(K32:K50)","v":0},{"$f":"SUM(L32:L50)","v":0},{"$f":"SUM(M32:M50)","v":0},{"$f":"SUM(N32:N50)","v":0},null,{"$f":"SUM(P32:P50)","v":0},{"$f":"SUM(Q32:Q50)","v":0},{"$f":"SUM(R32:R50)","v":0},{"$f":"SUM(S32:S50)","v":0},{"$f":"SUM(T32:T50)","v":0}]
[null,null,null,{"$f":"SUM(D51:G51)","v":0},null,null,null,null,null,{"$f":"SUM(J51:M51)","v":0},null,null,null,null,null,{"$f":"SUM(P51:S51)","v":0}]
[]
[]
[]
[]
[]
[]
[]
[]
[]
[]
[]
[]
[]
[]
[]
[]
[]
[]
[]
[]
[]
[]
[]
[]
[]
[]
[]
[]
[]
[]
[]
[]
[]
[]
[]
[]
[]
[]
[]
[]
[]
[]
[]
[]
[]
[]
[null,null,{"$f":"Tagestabelle!N3","v":0}]
[null,null,null,"Ma1.11","Ma1.12","Ma1.13","Ma1.14","Ma1.15","Ma1.21","Ma1.22","Ma1.23","Ma1.24","Ma1.25","Ma1.31","Ma1.32","Ma1.33","Ma1.34","Ma1.35","Ma1.41","Ma1.42","Ma1.43","Ma1.44","Ma1.45","Ma1.51","Ma1.52","Ma1.53","Ma1.54","Ma1.55","Ma1.61","Ma1.62","Ma1.63","Ma1.64","Ma1.65","Ma1.71","Ma1.72","Ma1.73","Ma1.74","Ma1.75","Ma1.81","Ma1.82","Ma1.83","Ma1.84","Ma1.85","Ma2.11","Ma2.12","Ma2.13","Ma2.14","Ma2.15","Ma2.21","Ma2.22","Ma2.23","Ma2.24","Ma2.25","Ma2.31","Ma2.32","Ma2.33","Ma2.34","Ma2.35","Ma2.41","Ma2.42","Ma2.43","Ma2.44","Ma2.45","Ma2.51","Ma2.52","Ma2.53","Ma2.54","Ma2.55","Ma2.61","Ma2.62","Ma2.63","Ma2.64","Ma2.65","Ma2.71","Ma2.72","Ma2.73","Ma2.74","Ma2.75","Ma2.81","Ma2.82","Ma2.83","Ma2.84","Ma2.85","Ma3.11","Ma3.12","Ma3.13","Ma3.14","Ma3.15","Ma3.21","Ma3.22","Ma3.23","Ma3.24","Ma3.25","Ma3.31","Ma3.32","Ma3.33","Ma3.34","Ma3.35","Ma3.41","Ma3.42","Ma3.43","Ma3.44","Ma3.45","Ma3.51","Ma3.52","Ma3.53","Ma3.54","Ma3.55","Ma3.61","Ma3.62","Ma3.63","Ma3.64","Ma3.65","Ma3.71","Ma3.72","Ma3.73","Ma3.74","Ma3.75","Ma3.81","Ma3.82","Ma3.83","Ma3.84","Ma3.85","Ma4.11","Ma4.12","Ma4.13","Ma4.14","Ma4.15","Ma4.21","Ma4.22","Ma4.23","Ma4.24","Ma4.25","Ma4.31","Ma4.32","Ma4.33","Ma4.34","Ma4.35","Ma4.41","Ma4.42","Ma4.43","Ma4.44","Ma4.45","Ma4.51","Ma4.52","Ma4.53","Ma4.54","Ma4.55","Ma4.61","Ma4.62","Ma4.63","Ma4.64","Ma4.65","Ma4.71","Ma4.72","Ma4.73","Ma4.74","Ma4.75","Ma4.81","Ma4.82","Ma4.83","Ma4.84","Ma4.85","Ma5.11","Ma5.12","Ma5.13","Ma5.14","Ma5.15","Ma5.21","Ma5.22","Ma5.23","Ma5.24","Ma5.25","Ma5.31","Ma5.32","Ma5.33","Ma5.34","Ma5.35","Ma5.41","Ma5.42","Ma5.43","Ma5.44","Ma5.45","Ma5.51","Ma5.52","Ma5.53","Ma5.54","Ma5.55","Ma5.61","Ma5.62","Ma5.63","Ma5.64","Ma5.65","Ma5.71","Ma5.72","Ma5.73","Ma5.74","Ma5.75","Ma5.81","Ma5.82","Ma5.83","Ma5.84","Ma5.85","Ma6.11","Ma6.12","Ma6.13","Ma6.14","Ma6.15","Ma6.21","Ma6.22","Ma6.23","Ma6.24","Ma6.25","Ma6.31","Ma6.32","Ma6.33","Ma6.34","Ma6.35","Ma6.41","Ma6.42","Ma6.43","Ma6.44","Ma6.45","Ma6.51","Ma6.52","Ma6.53","Ma6.54","Ma6.55","Ma6.61","Ma6.62","Ma6.63","Ma6.64","Ma6.65","Ma6.71","Ma6.72","Ma6.73","Ma6.74","Ma6.75","Ma6.81","Ma6.82","Ma6.83","Ma6.84","Ma6.85","Ma7.11","Ma7.12","Ma7.13","Ma7.14","Ma7.15","Ma7.21","Ma7.22","Ma7.23","Ma7.24","Ma7.25","Ma7.31","Ma7.32","Ma7.33","Ma7.34","Ma7.35","Ma7.41","Ma7.42","Ma7.43","Ma7.44","Ma7.45","Ma7.51","Ma7.52","Ma7.53","Ma7.54","Ma7.55","Ma7.61","Ma7.62","Ma7.63","Ma7.64","Ma7.65","Ma7.71","Ma7.72","Ma7.73","Ma7.74","Ma7.75","Ma7.81","Ma7.82","Ma7.83","Ma7.84","Ma7.85"]
[null,null,null,{"$f":"'Ma1'!$D$1","v":"MGC Bad Homburg 1"},null,null,null,null,{"$f":"'Ma1'!$D$1","v":"MGC Bad Homburg 1"},null,null,null,null,{"$f":"'Ma1'!$D$1","v":"MGC Bad Homburg 1"},null,null,null,null,{"$f":"'Ma1'!$D$1","v":"MGC Bad Homburg 1"},null,null,null,null,{"$f":"'Ma1'!$D$1","v":"MGC Bad Homburg 1"},null,null,null,null,{"$f":"'Ma1'!$D$1","v":"MGC Bad Homburg 1"},null,null,null,null,{"$f":"'Ma1'!$D$1","v":"MGC Bad Homburg 1"},null,null,null,null,{"$f":"'Ma1'!$D$1","v":"MGC Bad Homburg 1"},null,null,null,null,{"$f":"'Ma2'!$D$1","v":"SG Arheilgen 3"},null,null,null,null,{"$f":"'Ma2'!$D$1","v":"SG Arheilgen 3"},null,null,null,null,{"$f":"'Ma2'!$D$1","v":"SG Arheilgen 3"},null,null,null,null,{"$f":"'Ma2'!$D$1","v":"SG Arheilgen 3"},null,null,null,null,{"$f":"'Ma2'!$D$1","v":"SG Arheilgen 3"},null,null,null,null,{"$f":"'Ma2'!$D$1","v":"SG Arheilgen 3"},null,null,null,null,{"$f":"'Ma2'!$D$1","v":"SG Arheilgen 3"},null,null,null,null,{"$f":"'Ma2'!$D$1","v":"SG Arheilgen 3"},null,null,null,null,{"$f":"'Ma3'!$D$1","v":"MGC Kahler Sandhasen"},null,null,null,null,{"$f":"'Ma3'!$D$1","v":"MGC Kahler Sandhasen"},null,null,null,null,{"$f":"'Ma3'!$D$1","v":"MGC Kahler Sandhasen"},null,null,null,null,{"$f":"'Ma3'!$D$1","v":"MGC Kahler Sandhasen"},null,null,null,null,{"$f":"'Ma3'!$D$1","v":"MGC Kahler Sandhasen"},null,null,null,null,{"$f":"'Ma3'!$D$1","v":"MGC Kahler Sandhasen"},null,null,null,null,{"$f":"'Ma3'!$D$1","v":"MGC Kahler Sandhasen"},null,null,null,null,{"$f":"'Ma3'!$D$1","v":"MGC Kahler Sandhasen"},null,null,null,null,{"$f":"'Ma4'!$D$1","v":"SG Weiterstadt"},null,null,null,null,{"$f":"'Ma4'!$D$1","v":"SG Weiterstadt"},null,null,null,null,{"$f":"'Ma4'!$D$1","v":"SG Weiterstadt"},null,null,null,null,{"$f":"'Ma4'!$D$1","v":"SG Weiterstadt"},null,null,null,null,{"$f":"'Ma4'!$D$1","v":"SG Weiterstadt"},null,null,null,null,{"$f":"'Ma4'!$D$1","v":"SG Weiterstadt"},null,null,null,null,{"$f":"'Ma4'!$D$1","v":"SG Weiterstadt"},null,null,null,null,{"$f":"'Ma4'!$D$1","v":"SG Weiterstadt"},null,null,null,null,{"$f":"'Ma5'!$D$1","v":"MGC Bad Homburg 2"},null,null,null,null,{"$f":"'Ma5'!$D$1","v":"MGC Bad Homburg 2"},null,null,null,null,{"$f":"'Ma5'!$D$1","v":"MGC Bad Homburg 2"},null,null,null,null,{"$f":"'Ma5'!$D$1","v":"MGC Bad Homburg 2"},null,null,null,null,{"$f":"'Ma5'!$D$1","v":"MGC Bad Homburg 2"},null,null,null,null,{"$f":"'Ma5'!$D$1","v":"MGC Bad Homburg 2"},null,null,null,null,{"$f":"'Ma5'!$D$1","v":"MGC Bad Homburg 2"},null,null,null,null,{"$f":"'Ma5'!$D$1","v":"MGC Bad Homburg 2"},null,null,null,null,{"$f":"'Ma6'!$D$1","v":"SV Dreieichenhain"},null,null,null,null,{"$f":"'Ma6'!$D$1","v":"SV Dreieichenhain"},null,null,null,null,{"$f":"'Ma6'!$D$1","v":"SV Dreieichenhain"},null,null,null,null,{"$f":"'Ma6'!$D$1","v":"SV Dreieichenhain"},null,null,null,null,{"$f":"'Ma6'!$D$1","v":"SV Dreieichenhain"},null,null,null,null,{"$f":"'Ma6'!$D$1","v":"SV Dreieichenhain"},null,null,null,null,{"$f":"'Ma6'!$D$1","v":"SV Dreieichenhain"},null,null,null,null,{"$f":"'Ma6'!$D$1","v":"SV Dreieichenhain"},null,null,null,null,{"$f":"'Ma7'!$D$1","v":"MGC Heringen"},null,null,null,null,{"$f":"'Ma7'!$D$1","v":"MGC Heringen"},null,null,null,null,{"$f":"'Ma7'!$D$1","v":"MGC Heringen"},null,null,null,null,{"$f":"'Ma7'!$D$1","v":"MGC Heringen"},null,null,null,null,{"$f":"'Ma7'!$D$1","v":"MGC Heringen"},null,null,null,null,{"$f":"'Ma7'!$D$1","v":"MGC Heringen"},null,null,null,null,{"$f":"'Ma7'!$D$1","v":"MGC Heringen"},null,null,null,null,{"$f":"'Ma7'!$D$1","v":"MGC Heringen"}]
[null,null,null,{"$f":"'Ma1'!$D$4","v":{"$error":"#N/A"}},null,null,{"$f":"'Ma1'!$H$4","v":{"$error":"#N/A"}},null,{"$f":"'Ma1'!$J$4","v":{"$error":"#N/A"}},null,null,{"$f":"'Ma1'!$N$4","v":{"$error":"#N/A"}},null,{"$f":"'Ma1'!$P$4","v":{"$error":"#N/A"}},null,null,{"$f":"'Ma1'!$T$4","v":{"$error":"#N/A"}},null,{"$f":"'Ma1'!$V$4","v":{"$error":"#N/A"}},null,null,{"$f":"'Ma1'!$Z$4","v":{"$error":"#N/A"}},null,{"$f":"'Ma1'!$D$30","v":{"$error":"#N/A"}},null,null,{"$f":"'Ma1'!$H$30","v":{"$error":"#N/A"}},null,{"$f":"'Ma1'!$J$30","v":{"$error":"#N/A"}},null,null,{"$f":"'Ma1'!$N$30","v":{"$error":"#N/A"}},null,{"$f":"'Ma1'!$P$30","v":{"$error":"#N/A"}},null,null,{"$f":"'Ma1'!$T$30","v":{"$error":"#N/A"}},null,{"$f":"'Ma1'!$V$30","v":{"$error":"#N/A"}},null,null,{"$f":"'Ma1'!$Z$30","v":{"$error":"#N/A"}},null,{"$f":"'Ma2'!$D$4","v":{"$error":"#N/A"}},null,null,{"$f":"'Ma2'!$H$4","v":{"$error":"#N/A"}},null,{"$f":"'Ma2'!$J$4","v":{"$error":"#N/A"}},null,null,{"$f":"'Ma2'!$N$4","v":{"$error":"#N/A"}},null,{"$f":"'Ma2'!$P$4","v":{"$error":"#N/A"}},null,null,{"$f":"'Ma2'!$T$4","v":{"$error":"#N/A"}},null,{"$f":"'Ma2'!$V$4","v":{"$error":"#N/A"}},null,null,{"$f":"'Ma2'!$Z$4","v":{"$error":"#N/A"}},null,{"$f":"'Ma2'!$D$30","v":{"$error":"#N/A"}},null,null,{"$f":"'Ma2'!$H$30","v":{"$error":"#N/A"}},null,{"$f":"'Ma2'!$J$30","v":{"$error":"#N/A"}},null,null,{"$f":"'Ma2'!$N$30","v":{"$error":"#N/A"}},null,{"$f":"'Ma2'!$P$30","v":{"$error":"#N/A"}},null,null,{"$f":"'Ma2'!$T$30","v":{"$error":"#N/A"}},null,{"$f":"'Ma2'!$V$30","v":{"$error":"#N/A"}},null,null,{"$f":"'Ma2'!$Z$30","v":{"$error":"#N/A"}},null,{"$f":"'Ma3'!$D$4","v":{"$error":"#N/A"}},null,null,{"$f":"'Ma3'!$H$4","v":{"$error":"#N/A"}},null,{"$f":"'Ma3'!$J$4","v":{"$error":"#N/A"}},null,null,{"$f":"'Ma3'!$N$4","v":{"$error":"#N/A"}},null,{"$f":"'Ma3'!$P$4","v":{"$error":"#N/A"}},null,null,{"$f":"'Ma3'!$T$4","v":{"$error":"#N/A"}},null,{"$f":"'Ma3'!$V$4","v":{"$error":"#N/A"}},null,null,{"$f":"'Ma3'!$Z$4","v":{"$error":"#N/A"}},null,{"$f":"'Ma3'!$D$30","v":{"$error":"#N/A"}},null,null,{"$f":"'Ma3'!$H$30","v":{"$error":"#N/A"}},null,{"$f":"'Ma3'!$J$30","v":{"$error":"#N/A"}},null,null,{"$f":"'Ma3'!$N$30","v":{"$error":"#N/A"}},null,{"$f":"'Ma3'!$P$30","v":{"$error":"#N/A"}},null,null,{"$f":"'Ma3'!$T$30","v":{"$error":"#N/A"}},null,{"$f":"'Ma3'!$V$30","v":{"$error":"#N/A"}},null,null,{"$f":"'Ma3'!$Z$30","v":{"$error":"#N/A"}},null,{"$f":"'Ma4'!$D$4","v":{"$error":"#N/A"}},null,null,{"$f":"'Ma4'!$H$4","v":{"$error":"#N/A"}},null,{"$f":"'Ma4'!$J$4","v":{"$error":"#N/A"}},null,null,{"$f":"'Ma4'!$N$4","v":{"$error":"#N/A"}},null,{"$f":"'Ma4'!$P$4","v":{"$error":"#N/A"}},null,null,{"$f":"'Ma4'!$T$4","v":{"$error":"#N/A"}},null,{"$f":"'Ma4'!$V$4","v":{"$error":"#N/A"}},null,null,{"$f":"'Ma4'!$Z$4","v":{"$error":"#N/A"}},null,{"$f":"'Ma4'!$D$30","v":{"$error":"#N/A"}},null,null,{"$f":"'Ma4'!$H$30","v":{"$error":"#N/A"}},null,{"$f":"'Ma4'!$J$30","v":{"$error":"#N/A"}},null,null,{"$f":"'Ma4'!$N$30","v":{"$error":"#N/A"}},null,{"$f":"'Ma4'!$P$30","v":{"$error":"#N/A"}},null,null,{"$f":"'Ma4'!$T$30","v":{"$error":"#N/A"}},null,{"$f":"'Ma4'!$V$30","v":{"$error":"#N/A"}},null,null,{"$f":"'Ma4'!$Z$30","v":{"$error":"#N/A"}},null,{"$f":"'Ma5'!$D$4","v":{"$error":"#N/A"}},null,null,{"$f":"'Ma5'!$H$4","v":{"$error":"#N/A"}},null,{"$f":"'Ma5'!$J$4","v":{"$error":"#N/A"}},null,null,{"$f":"'Ma5'!$N$4","v":{"$error":"#N/A"}},null,{"$f":"'Ma5'!$P$4","v":{"$error":"#N/A"}},null,null,{"$f":"'Ma5'!$T$4","v":{"$error":"#N/A"}},null,{"$f":"'Ma5'!$V$4","v":{"$error":"#N/A"}},null,null,{"$f":"'Ma5'!$Z$4","v":{"$error":"#N/A"}},null,{"$f":"'Ma5'!$D$30","v":{"$error":"#N/A"}},null,null,{"$f":"'Ma5'!$H$30","v":{"$error":"#N/A"}},null,{"$f":"'Ma5'!$J$30","v":{"$error":"#N/A"}},null,null,{"$f":"'Ma5'!$N$30","v":{"$error":"#N/A"}},null,{"$f":"'Ma5'!$P$30","v":{"$error":"#N/A"}},null,null,{"$f":"'Ma5'!$T$30","v":{"$error":"#N/A"}},null,{"$f":"'Ma5'!$V$30","v":{"$error":"#N/A"}},null,null,{"$f":"'Ma5'!$Z$30","v":{"$error":"#N/A"}},null,{"$f":"'Ma6'!$D$4","v":{"$error":"#N/A"}},null,null,{"$f":"'Ma6'!$H$4","v":{"$error":"#N/A"}},null,{"$f":"'Ma6'!$J$4","v":{"$error":"#N/A"}},null,null,{"$f":"'Ma6'!$N$4","v":{"$error":"#N/A"}},null,{"$f":"'Ma6'!$P$4","v":{"$error":"#N/A"}},null,null,{"$f":"'Ma6'!$T$4","v":{"$error":"#N/A"}},null,{"$f":"'Ma6'!$V$4","v":{"$error":"#N/A"}},null,null,{"$f":"'Ma6'!$Z$4","v":{"$error":"#N/A"}},null,{"$f":"'Ma6'!$D$30","v":{"$error":"#N/A"}},null,null,{"$f":"'Ma6'!$H$30","v":{"$error":"#N/A"}},null,{"$f":"'Ma6'!$J$30","v":{"$error":"#N/A"}},null,null,{"$f":"'Ma6'!$N$30","v":{"$error":"#N/A"}},null,{"$f":"'Ma6'!$P$30","v":{"$error":"#N/A"}},null,null,{"$f":"'Ma6'!$T$30","v":{"$error":"#N/A"}},null,{"$f":"'Ma6'!$V$30","v":{"$error":"#N/A"}},null,null,{"$f":"'Ma6'!$Z$30","v":{"$error":"#N/A"}},null,{"$f":"'Ma7'!$D$4","v":{"$error":"#N/A"}},null,null,{"$f":"'Ma7'!$H$4","v":{"$error":"#N/A"}},null,{"$f":"'Ma7'!$J$4","v":{"$error":"#N/A"}},null,null,{"$f":"'Ma7'!$N$4","v":{"$error":"#N/A"}},null,{"$f":"'Ma7'!$P$4","v":{"$error":"#N/A"}},null,null,{"$f":"'Ma7'!$T$4","v":{"$error":"#N/A"}},null,{"$f":"'Ma7'!$V$4","v":{"$error":"#N/A"}},null,null,{"$f":"'Ma7'!$Z$4","v":{"$error":"#N/A"}},null,{"$f":"'Ma7'!$D$30","v":{"$error":"#N/A"}},null,null,{"$f":"'Ma7'!$H$30","v":{"$error":"#N/A"}},null,{"$f":"'Ma7'!$J$30","v":{"$error":"#N/A"}},null,null,{"$f":"'Ma7'!$N$30","v":{"$error":"#N/A"}},null,{"$f":"'Ma7'!$P$30","v":{"$error":"#N/A"}},null,null,{"$f":"'Ma7'!$T$30","v":{"$error":"#N/A"}},null,{"$f":"'Ma7'!$V$30","v":{"$error":"#N/A"}},null,null,{"$f":"'Ma7'!$Z$30","v":{"$error":"#N/A"}}]
[null,null,null,{"$f":"'Ma1'!$D$5","v":0},null,null,null,null,{"$f":"'Ma1'!$J$5","v":0},null,null,null,null,{"$f":"'Ma1'!$P$5","v":0},null,null,null,null,{"$f":"'Ma1'!$V$5","v":0},null,null,null,null,{"$f":"'Ma1'!$D$31","v":0},null,null,null,null,{"$f":"'Ma1'!$J$31","v":0},null,null,null,null,{"$f":"'Ma1'!$P$31","v":0},null,null,null,null,{"$f":"'Ma1'!$P$31","v":0},null,null,null,null,{"$f":"'Ma2'!$D$5","v":0},null,null,null,null,{"$f":"'Ma2'!$J$5","v":0},null,null,null,null,{"$f":"'Ma2'!$P$5","v":0},null,null,null,null,{"$f":"'Ma2'!$V$5","v":0},null,null,null,null,{"$f":"'Ma2'!$D$31","v":0},null,null,null,null,{"$f":"'Ma2'!$J$31","v":0},null,null,null,null,{"$f":"'Ma2'!$P$31","v":0},null,null,null,null,{"$f":"'Ma2'!$V$31","v":0},null,null,null,null,{"$f":"'Ma3'!$D$5","v":0},null,null,null,null,{"$f":"'Ma3'!$J$5","v":0},null,null,null,null,{"$f":"'Ma3'!$P$5","v":0},null,null,null,null,{"$f":"'Ma3'!$V$5","v":0},null,null,null,null,{"$f":"'Ma3'!$D$31","v":0},null,null,null,null,{"$f":"'Ma3'!$J$31","v":0},null,null,null,null,{"$f":"'Ma3'!$P$31","v":0},null,null,null,null,{"$f":"'Ma3'!$V$31","v":0},null,null,null,null,{"$f":"'Ma4'!$D$5","v":0},null,null,null,null,{"$f":"'Ma4'!$J$5","v":0},null,null,null,null,{"$f":"'Ma4'!$P$5","v":0},null,null,null,null,{"$f":"'Ma4'!$V$5","v":0},null,null,null,null,{"$f":"'Ma4'!$D$31","v":0},null,null,null,null,{"$f":"'Ma4'!$J$31","v":0},null,null,null,null,{"$f":"'Ma4'!$P$31","v":0},null,null,null,null,{"$f":"'Ma4'!$V$31","v":0},null,null,null,null,{"$f":"'Ma5'!$D$5","v":0},null,null,null,null,{"$f":"'Ma5'!$J$5","v":0},null,null,null,null,{"$f":"'Ma5'!$P$5","v":0},null,null,null,null,{"$f":"'Ma5'!$V$5","v":0},null,null,null,null,{"$f":"'Ma5'!$D$31","v":0},null,null,null,null,{"$f":"'Ma5'!$J$31","v":0},null,null,null,null,{"$f":"'Ma5'!$P$31","v":0},null,null,null,null,{"$f":"'Ma5'!$V$31","v":0},null,null,null,null,{"$f":"'Ma6'!$D$5","v":0},null,null,null,null,{"$f":"'Ma6'!$J$5","v":0},null,null,null,null,{"$f":"'Ma6'!$P$5","v":0},null,null,null,null,{"$f":"'Ma6'!$V$5","v":0},null,null,null,null,{"$f":"'Ma6'!$D$31","v":0},null,null,null,null,{"$f":"'Ma6'!$J$31","v":0},null,null,null,null,{"$f":"'Ma6'!$P$31","v":0},null,null,null,null,{"$f":"'Ma6'!$V$31","v":0},null,null,null,null,{"$f":"'Ma7'!$D$5","v":0},null,null,null,null,{"$f":"'Ma7'!$J$5","v":0},null,null,null,null,{"$f":"'Ma7'!$P$5","v":0},null,null,null,null,{"$f":"'Ma7'!$V$5","v":0},null,null,null,null,{"$f":"'Ma7'!$D$31","v":0},null,null,null,null,{"$f":"'Ma7'!$J$31","v":0},null,null,null,null,{"$f":"'Ma7'!$P$31","v":0},null,null,null,null,{"$f":"'Ma7'!$V$31","v":0}]
[null,{"$f":"B32","v":"Gerade Bahn ohne Hindernis"},null,{"$f":"'Ma1'!$D$6","v":0},{"$f":"'Ma1'!$E$6","v":0},{"$f":"'Ma1'!$F$6","v":0},{"$f":"'Ma1'!$G$6","v":0},null,{"$f":"'Ma1'!$J$6","v":0},{"$f":"'Ma1'!$K$6","v":0},{"$f":"'Ma1'!$L$6","v":0},{"$f":"'Ma1'!$M$6","v":0},null,{"$f":"'Ma1'!$P$6","v":0},{"$f":"'Ma1'!$Q$6","v":0},{"$f":"'Ma1'!$R$6","v":0},{"$f":"'Ma1'!$S$6","v":0},null,{"$f":"'Ma1'!$V$6","v":0},{"$f":"'Ma1'!$W$6","v":0},{"$f":"'Ma1'!$X$6","v":0},{"$f":"'Ma1'!$Y$6","v":0},null,{"$f":"'Ma1'!$D$32","v":0},{"$f":"'Ma1'!$E$32","v":0},{"$f":"'Ma1'!$F$32","v":0},{"$f":"'Ma1'!$G$32","v":0},null,{"$f":"'Ma1'!$J$32","v":0},{"$f":"'Ma1'!$K$32","v":0},{"$f":"'Ma1'!$L$32","v":0},{"$f":"'Ma1'!$M$32","v":0},null,{"$f":"'Ma1'!$P$32","v":0},{"$f":"'Ma1'!$Q$32","v":0},{"$f":"'Ma1'!$R$32","v":0},{"$f":"'Ma1'!$S$32","v":0},null,{"$f":"'Ma1'!$V$32","v":0},{"$f":"'Ma1'!$W$32","v":0},{"$f":"'Ma1'!$X$32","v":0},{"$f":"'Ma1'!$Y$32","v":0},null,{"$f":"'Ma2'!$D$6","v":0},{"$f":"'Ma2'!$E$6","v":0},{"$f":"'Ma2'!$F$6","v":0},{"$f":"'Ma2'!$G$6","v":0},null,{"$f":"'Ma2'!$J$6","v":0},{"$f":"'Ma2'!$K$6","v":0},{"$f":"'Ma2'!$L$6","v":0},{"$f":"'Ma2'!$M$6","v":0},null,{"$f":"'Ma2'!$P$6","v":0},{"$f":"'Ma2'!$Q$6","v":0},{"$f":"'Ma2'!$R$6","v":0},{"$f":"'Ma2'!$S$6","v":0},null,{"$f":"'Ma2'!$V$6","v":0},{"$f":"'Ma2'!$W$6","v":0},{"$f":"'Ma2'!$X$6","v":0},{"$f":"'Ma2'!$Y$6","v":0},null,{"$f":"'Ma2'!$D$32","v":0},{"$f":"'Ma2'!$E$32","v":0},{"$f":"'Ma2'!$F$32","v":0},{"$f":"'Ma2'!$G$32","v":0},null,{"$f":"'Ma2'!$J$32","v":0},{"$f":"'Ma2'!$K$32","v":0},{"$f":"'Ma2'!$L$32","v":0},{"$f":"'Ma2'!$M$32","v":0},null,{"$f":"'Ma2'!$P$32","v":0},{"$f":"'Ma2'!$Q$32","v":0},{"$f":"'Ma2'!$R$32","v":0},{"$f":"'Ma2'!$S$32","v":0},null,{"$f":"'Ma2'!$V$32","v":0},{"$f":"'Ma2'!$W$32","v":0},{"$f":"'Ma2'!$X$32","v":0},{"$f":"'Ma2'!$Y$32","v":0},null,{"$f":"'Ma3'!$D$6","v":0},{"$f":"'Ma3'!$E$6","v":0},{"$f":"'Ma3'!$F$6","v":0},{"$f":"'Ma3'!$G$6","v":0},null,{"$f":"'Ma3'!$J$6","v":0},{"$f":"'Ma3'!$K$6","v":0},{"$f":"'Ma3'!$L$6","v":0},{"$f":"'Ma3'!$M$6","v":0},null,{"$f":"'Ma3'!$P$6","v":0},{"$f":"'Ma3'!$Q$6","v":0},{"$f":"'Ma3'!$R$6","v":0},{"$f":"'Ma3'!$S$6","v":0},null,{"$f":"'Ma3'!$V$6","v":0},{"$f":"'Ma3'!$W$6","v":0},{"$f":"'Ma3'!$X$6","v":0},{"$f":"'Ma3'!$Y$6","v":0},null,{"$f":"'Ma3'!$D$32","v":0},{"$f":"'Ma3'!$E$32","v":0},{"$f":"'Ma3'!$F$32","v":0},{"$f":"'Ma3'!$G$32","v":0},null,{"$f":"'Ma3'!$J$32","v":0},{"$f":"'Ma3'!$K$32","v":0},{"$f":"'Ma3'!$L$32","v":0},{"$f":"'Ma3'!$M$32","v":0},null,{"$f":"'Ma3'!$P$32","v":0},{"$f":"'Ma3'!$Q$32","v":0},{"$f":"'Ma3'!$R$32","v":0},{"$f":"'Ma3'!$S$32","v":0},null,{"$f":"'Ma3'!$V$32","v":0},{"$f":"'Ma3'!$W$32","v":0},{"$f":"'Ma3'!$X$32","v":0},{"$f":"'Ma3'!$Y$32","v":0},null,{"$f":"'Ma4'!$D$6","v":0},{"$f":"'Ma4'!$E$6","v":0},{"$f":"'Ma4'!$F$6","v":0},{"$f":"'Ma4'!$G$6","v":0},null,{"$f":"'Ma4'!$J$6","v":0},{"$f":"'Ma4'!$K$6","v":0},{"$f":"'Ma4'!$L$6","v":0},{"$f":"'Ma4'!$M$6","v":0},null,{"$f":"'Ma4'!$P$6","v":0},{"$f":"'Ma4'!$Q$6","v":0},{"$f":"'Ma4'!$R$6","v":0},{"$f":"'Ma4'!$S$6","v":0},null,{"$f":"'Ma4'!$V$6","v":0},{"$f":"'Ma4'!$W$6","v":0},{"$f":"'Ma4'!$X$6","v":0},{"$f":"'Ma4'!$Y$6","v":0},null,{"$f":"'Ma4'!$D$32","v":0},{"$f":"'Ma4'!$E$32","v":0},{"$f":"'Ma4'!$F$32","v":0},{"$f":"'Ma4'!$G$32","v":0},null,{"$f":"'Ma4'!$J$32","v":0},{"$f":"'Ma4'!$K$32","v":0},{"$f":"'Ma4'!$L$32","v":0},{"$f":"'Ma4'!$M$32","v":0},null,{"$f":"'Ma4'!$P$32","v":0},{"$f":"'Ma4'!$Q$32","v":0},{"$f":"'Ma4'!$R$32","v":0},{"$f":"'Ma4'!$S$32","v":0},null,{"$f":"'Ma4'!$V$32","v":0},{"$f":"'Ma4'!$W$32","v":0},{"$f":"'Ma4'!$X$32","v":0},{"$f":"'Ma4'!$Y$32","v":0},null,{"$f":"'Ma5'!$D$6","v":0},{"$f":"'Ma5'!$E$6","v":0},{"$f":"'Ma5'!$F$6","v":0},{"$f":"'Ma5'!$G$6","v":0},null,{"$f":"'Ma5'!$J$6","v":0},{"$f":"'Ma5'!$K$6","v":0},{"$f":"'Ma5'!$L$6","v":0},{"$f":"'Ma5'!$M$6","v":0},null,{"$f":"'Ma5'!$P$6","v":0},{"$f":"'Ma5'!$Q$6","v":0},{"$f":"'Ma5'!$R$6","v":0},{"$f":"'Ma5'!$S$6","v":0},null,{"$f":"'Ma5'!$V$6","v":0},{"$f":"'Ma5'!$W$6","v":0},{"$f":"'Ma5'!$X$6","v":0},{"$f":"'Ma5'!$Y$6","v":0},null,{"$f":"'Ma5'!$D$32","v":0},{"$f":"'Ma5'!$E$32","v":0},{"$f":"'Ma5'!$F$32","v":0},{"$f":"'Ma5'!$G$32","v":0},null,{"$f":"'Ma5'!$J$32","v":0},{"$f":"'Ma5'!$K$32","v":0},{"$f":"'Ma5'!$L$32","v":0},{"$f":"'Ma5'!$M$32","v":0},null,{"$f":"'Ma5'!$P$32","v":0},{"$f":"'Ma5'!$Q$32","v":0},{"$f":"'Ma5'!$R$32","v":0},{"$f":"'Ma5'!$S$32","v":0},null,{"$f":"'Ma5'!$V$32","v":0},{"$f":"'Ma5'!$W$32","v":0},{"$f":"'Ma5'!$X$32","v":0},{"$f":"'Ma5'!$Y$32","v":0},null,{"$f":"'Ma6'!$D$6","v":0},{"$f":"'Ma6'!$E$6","v":0},{"$f":"'Ma6'!$F$6","v":0},{"$f":"'Ma6'!$G$6","v":0},null,{"$f":"'Ma6'!$J$6","v":0},{"$f":"'Ma6'!$K$6","v":0},{"$f":"'Ma6'!$L$6","v":0},{"$f":"'Ma6'!$M$6","v":0},null,{"$f":"'Ma6'!$P$6","v":0},{"$f":"'Ma6'!$Q$6","v":0},{"$f":"'Ma6'!$R$6","v":0},{"$f":"'Ma6'!$S$6","v":0},null,{"$f":"'Ma6'!$V$6","v":0},{"$f":"'Ma6'!$W$6","v":0},{"$f":"'Ma6'!$X$6","v":0},{"$f":"'Ma6'!$Y$6","v":0},null,{"$f":"'Ma6'!$D$32","v":0},{"$f":"'Ma6'!$E$32","v":0},{"$f":"'Ma6'!$F$32","v":0},{"$f":"'Ma6'!$G$32","v":0},null,{"$f":"'Ma6'!$J$32","v":0},{"$f":"'Ma6'!$K$32","v":0},{"$f":"'Ma6'!$L$32","v":0},{"$f":"'Ma6'!$M$32","v":0},null,{"$f":"'Ma6'!$P$32","v":0},{"$f":"'Ma6'!$Q$32","v":0},{"$f":"'Ma6'!$R$32","v":0},{"$f":"'Ma6'!$S$32","v":0},null,{"$f":"'Ma6'!$V$32","v":0},{"$f":"'Ma6'!$W$32","v":0},{"$f":"'Ma6'!$X$32","v":0},{"$f":"'Ma6'!$Y$32","v":0},null,{"$f":"'Ma7'!$D$6","v":0},{"$f":"'Ma7'!$E$6","v":0},{"$f":"'Ma7'!$F$6","v":0},{"$f":"'Ma7'!$G$6","v":0},null,{"$f":"'Ma7'!$J$6","v":0},{"$f":"'Ma7'!$K$6","v":0},{"$f":"'Ma7'!$L$6","v":0},{"$f":"'Ma7'!$M$6","v":0},null,{"$f":"'Ma7'!$P$6","v":0},{"$f":"'Ma7'!$Q$6","v":0},{"$f":"'Ma7'!$R$6","v":0},{"$f":"'Ma7'!$S$6","v":0},null,{"$f":"'Ma7'!$V$6","v":0},{"$f":"'Ma7'!$W$6","v":0},{"$f":"'Ma7'!$X$6","v":0},{"$f":"'Ma7'!$Y$6","v":0},null,{"$f":"'Ma7'!$D$32","v":0},{"$f":"'Ma7'!$E$32","v":0},{"$f":"'Ma7'!$F$32","v":0},{"$f":"'Ma7'!$G$32","v":0},null,{"$f":"'Ma7'!$J$32","v":0},{"$f":"'Ma7'!$K$32","v":0},{"$f":"'Ma7'!$L$32","v":0},{"$f":"'Ma7'!$M$32","v":0},null,{"$f":"'Ma7'!$P$32","v":0},{"$f":"'Ma7'!$Q$32","v":0},{"$f":"'Ma7'!$R$32","v":0},{"$f":"'Ma7'!$S$32","v":0},null,{"$f":"'Ma7'!$V$32","v":0},{"$f":"'Ma7'!$W$32","v":0},{"$f":"'Ma7'!$X$32","v":0},{"$f":"'Ma7'!$Y$32","v":0}]
[null,"Salto",null,{"$f":"'Ma1'!$D$7","v":0},{"$f":"'Ma1'!$E$7","v":0},{"$f":"'Ma1'!$F$7","v":0},{"$f":"'Ma1'!$G$7","v":0},null,{"$f":"'Ma1'!$J$7","v":0},{"$f":"'Ma1'!$K$7","v":0},{"$f":"'Ma1'!$L$7","v":0},{"$f":"'Ma1'!$M$7","v":0},null,{"$f":"'Ma1'!$P$7","v":0},{"$f":"'Ma1'!$Q$7","v":0},{"$f":"'Ma1'!$R$7","v":0},{"$f":"'Ma1'!$S$7","v":0},null,{"$f":"'Ma1'!$V$7","v":0},{"$f":"'Ma1'!$W$7","v":0},{"$f":"'Ma1'!$X$7","v":0},{"$f":"'Ma1'!$Y$7","v":0},null,{"$f":"'Ma1'!$D$33","v":0},{"$f":"'Ma1'!$E$33","v":0},{"$f":"'Ma1'!$F$33","v":0},{"$f":"'Ma1'!$G$33","v":0},null,{"$f":"'Ma1'!$J$33","v":0},{"$f":"'Ma1'!$K$33","v":0},{"$f":"'Ma1'!$L$33","v":0},{"$f":"'Ma1'!$M$33","v":0},null,{"$f":"'Ma1'!$P$33","v":0},{"$f":"'Ma1'!$Q$33","v":0},{"$f":"'Ma1'!$R$33","v":0},{"$f":"'Ma1'!$S$33","v":0},null,{"$f":"'Ma1'!$V$33","v":0},{"$f":"'Ma1'!$W$33","v":0},{"$f":"'Ma1'!$X$33","v":0},{"$f":"'Ma1'!$Y$33","v":0},null,{"$f":"'Ma2'!$D$7","v":0},{"$f":"'Ma2'!$E$7","v":0},{"$f":"'Ma2'!$F$7","v":0},{"$f":"'Ma2'!$G$7","v":0},null,{"$f":"'Ma2'!$J$7","v":0},{"$f":"'Ma2'!$K$7","v":0},{"$f":"'Ma2'!$L$7","v":0},{"$f":"'Ma2'!$M$7","v":0},null,{"$f":"'Ma2'!$P$7","v":0},{"$f":"'Ma2'!$Q$7","v":0},{"$f":"'Ma2'!$R$7","v":0},{"$f":"'Ma2'!$S$7","v":0},null,{"$f":"'Ma2'!$V$7","v":0},{"$f":"'Ma2'!$W$7","v":0},{"$f":"'Ma2'!$X$7","v":0},{"$f":"'Ma2'!$Y$7","v":0},null,{"$f":"'Ma2'!$D$33","v":0},{"$f":"'Ma2'!$E$33","v":0},{"$f":"'Ma2'!$F$33","v":0},{"$f":"'Ma2'!$G$33","v":0},null,{"$f":"'Ma2'!$J$33","v":0},{"$f":"'Ma2'!$K$33","v":0},{"$f":"'Ma2'!$L$33","v":0},{"$f":"'Ma2'!$M$33","v":0},null,{"$f":"'Ma2'!$P$33","v":0},{"$f":"'Ma2'!$Q$33","v":0},{"$f":"'Ma2'!$R$33","v":0},{"$f":"'Ma2'!$S$33","v":0},null,{"$f":"'Ma2'!$V$33","v":0},{"$f":"'Ma2'!$W$33","v":0},{"$f":"'Ma2'!$X$33","v":0},{"$f":"'Ma2'!$Y$33","v":0},null,{"$f":"'Ma3'!$D$7","v":0},{"$f":"'Ma3'!$E$7","v":0},{"$f":"'Ma3'!$F$7","v":0},{"$f":"'Ma3'!$G$7","v":0},null,{"$f":"'Ma3'!$J$7","v":0},{"$f":"'Ma3'!$K$7","v":0},{"$f":"'Ma3'!$L$7","v":0},{"$f":"'Ma3'!$M$7","v":0},null,{"$f":"'Ma3'!$P$7","v":0},{"$f":"'Ma3'!$Q$7","v":0},{"$f":"'Ma3'!$R$7","v":0},{"$f":"'Ma3'!$S$7","v":0},null,{"$f":"'Ma3'!$V$7","v":0},{"$f":"'Ma3'!$W$7","v":0},{"$f":"'Ma3'!$X$7","v":0},{"$f":"'Ma3'!$Y$7","v":0},null,{"$f":"'Ma3'!$D$33","v":0},{"$f":"'Ma3'!$E$33","v":0},{"$f":"'Ma3'!$F$33","v":0},{"$f":"'Ma3'!$G$33","v":0},null,{"$f":"'Ma3'!$J$33","v":0},{"$f":"'Ma3'!$K$33","v":0},{"$f":"'Ma3'!$L$33","v":0},{"$f":"'Ma3'!$M$33","v":0},null,{"$f":"'Ma3'!$P$33","v":0},{"$f":"'Ma3'!$Q$33","v":0},{"$f":"'Ma3'!$R$33","v":0},{"$f":"'Ma3'!$S$33","v":0},null,{"$f":"'Ma3'!$V$33","v":0},{"$f":"'Ma3'!$W$33","v":0},{"$f":"'Ma3'!$X$33","v":0},{"$f":"'Ma3'!$Y$33","v":0},null,{"$f":"'Ma4'!$D$7","v":0},{"$f":"'Ma4'!$E$7","v":0},{"$f":"'Ma4'!$F$7","v":0},{"$f":"'Ma4'!$G$7","v":0},null,{"$f":"'Ma4'!$J$7","v":0},{"$f":"'Ma4'!$K$7","v":0},{"$f":"'Ma4'!$L$7","v":0},{"$f":"'Ma4'!$M$7","v":0},null,{"$f":"'Ma4'!$P$7","v":0},{"$f":"'Ma4'!$Q$7","v":0},{"$f":"'Ma4'!$R$7","v":0},{"$f":"'Ma4'!$S$7","v":0},null,{"$f":"'Ma4'!$V$7","v":0},{"$f":"'Ma4'!$W$7","v":0},{"$f":"'Ma4'!$X$7","v":0},{"$f":"'Ma4'!$Y$7","v":0},null,{"$f":"'Ma4'!$D$33","v":0},{"$f":"'Ma4'!$E$33","v":0},{"$f":"'Ma4'!$F$33","v":0},{"$f":"'Ma4'!$G$33","v":0},null,{"$f":"'Ma4'!$J$33","v":0},{"$f":"'Ma4'!$K$33","v":0},{"$f":"'Ma4'!$L$33","v":0},{"$f":"'Ma4'!$M$33","v":0},null,{"$f":"'Ma4'!$P$33","v":0},{"$f":"'Ma4'!$Q$33","v":0},{"$f":"'Ma4'!$R$33","v":0},{"$f":"'Ma4'!$S$33","v":0},null,{"$f":"'Ma4'!$V$33","v":0},{"$f":"'Ma4'!$W$33","v":0},{"$f":"'Ma4'!$X$33","v":0},{"$f":"'Ma4'!$Y$33","v":0},null,{"$f":"'Ma5'!$D$7","v":0},{"$f":"'Ma5'!$E$7","v":0},{"$f":"'Ma5'!$F$7","v":0},{"$f":"'Ma5'!$G$7","v":0},null,{"$f":"'Ma5'!$J$7","v":0},{"$f":"'Ma5'!$K$7","v":0},{"$f":"'Ma5'!$L$7","v":0},{"$f":"'Ma5'!$M$7","v":0},null,{"$f":"'Ma5'!$P$7","v":0},{"$f":"'Ma5'!$Q$7","v":0},{"$f":"'Ma5'!$R$7","v":0},{"$f":"'Ma5'!$S$7","v":0},null,{"$f":"'Ma5'!$V$7","v":0},{"$f":"'Ma5'!$W$7","v":0},{"$f":"'Ma5'!$X$7","v":0},{"$f":"'Ma5'!$Y$7","v":0},null,{"$f":"'Ma5'!$D$33","v":0},{"$f":"'Ma5'!$E$33","v":0},{"$f":"'Ma5'!$F$33","v":0},{"$f":"'Ma5'!$G$33","v":0},null,{"$f":"'Ma5'!$J$33","v":0},{"$f":"'Ma5'!$K$33","v":0},{"$f":"'Ma5'!$L$33","v":0},{"$f":"'Ma5'!$M$33","v":0},null,{"$f":"'Ma5'!$P$33","v":0},{"$f":"'Ma5'!$Q$33","v":0},{"$f":"'Ma5'!$R$33","v":0},{"$f":"'Ma5'!$S$33","v":0},null,{"$f":"'Ma5'!$V$33","v":0},{"$f":"'Ma5'!$W$33","v":0},{"$f":"'Ma5'!$X$33","v":0},{"$f":"'Ma5'!$Y$33","v":0},null,{"$f":"'Ma6'!$D$7","v":0},{"$f":"'Ma6'!$E$7","v":0},{"$f":"'Ma6'!$F$7","v":0},{"$f":"'Ma6'!$G$7","v":0},null,{"$f":"'Ma6'!$J$7","v":0},{"$f":"'Ma6'!$K$7","v":0},{"$f":"'Ma6'!$L$7","v":0},{"$f":"'Ma6'!$M$7","v":0},null,{"$f":"'Ma6'!$P$7","v":0},{"$f":"'Ma6'!$Q$7","v":0},{"$f":"'Ma6'!$R$7","v":0},{"$f":"'Ma6'!$S$7","v":0},null,{"$f":"'Ma6'!$V$7","v":0},{"$f":"'Ma6'!$W$7","v":0},{"$f":"'Ma6'!$X$7","v":0},{"$f":"'Ma6'!$Y$7","v":0},null,{"$f":"'Ma6'!$D$33","v":0},{"$f":"'Ma6'!$E$33","v":0},{"$f":"'Ma6'!$F$33","v":0},{"$f":"'Ma6'!$G$33","v":0},null,{"$f":"'Ma6'!$J$33","v":0},{"$f":"'Ma6'!$K$33","v":0},{"$f":"'Ma6'!$L$33","v":0},{"$f":"'Ma6'!$M$33","v":0},null,{"$f":"'Ma6'!$P$33","v":0},{"$f":"'Ma6'!$Q$33","v":0},{"$f":"'Ma6'!$R$33","v":0},{"$f":"'Ma6'!$S$33","v":0},null,{"$f":"'Ma6'!$V$33","v":0},{"$f":"'Ma6'!$W$33","v":0},{"$f":"'Ma6'!$X$33","v":0},{"$f":"'Ma6'!$Y$33","v":0},null,{"$f":"'Ma7'!$D$7","v":0},{"$f":"'Ma7'!$E$7","v":0},{"$f":"'Ma7'!$F$7","v":0},{"$f":"'Ma7'!$G$7","v":0},null,{"$f":"'Ma7'!$J$7","v":0},{"$f":"'Ma7'!$K$7","v":0},{"$f":"'Ma7'!$L$7","v":0},{"$f":"'Ma7'!$M$7","v":0},null,{"$f":"'Ma7'!$P$7","v":0},{"$f":"'Ma7'!$Q$7","v":0},{"$f":"'Ma7'!$R$7","v":0},{"$f":"'Ma7'!$S$7","v":0},null,{"$f":"'Ma7'!$V$7","v":0},{"$f":"'Ma7'!$W$7","v":0},{"$f":"'Ma7'!$X$7","v":0},{"$f":"'Ma7'!$Y$7","v":0},null,{"$f":"'Ma7'!$D$33","v":0},{"$f":"'Ma7'!$E$33","v":0},{"$f":"'Ma7'!$F$33","v":0},{"$f":"'Ma7'!$G$33","v":0},null,{"$f":"'Ma7'!$J$33","v":0},{"$f":"'Ma7'!$K$33","v":0},{"$f":"'Ma7'!$L$33","v":0},{"$f":"'Ma7'!$M$33","v":0},null,{"$f":"'Ma7'!$P$33","v":0},{"$f":"'Ma7'!$Q$33","v":0},{"$f":"'Ma7'!$R$33","v":0},{"$f":"'Ma7'!$S$33","v":0},null,{"$f":"'Ma7'!$V$33","v":0},{"$f":"'Ma7'!$W$33","v":0},{"$f":"'Ma7'!$X$33","v":0},{"$f":"'Ma7'!$Y$33","v":0}]
[null,"Pyramiden",null,{"$f":"'Ma1'!$D$8","v":0},{"$f":"'Ma1'!$E$8","v":0},{"$f":"'Ma1'!$F$8","v":0},{"$f":"'Ma1'!$G$8","v":0},null,{"$f":"'Ma1'!$J$8","v":0},{"$f":"'Ma1'!$K$8","v":0},{"$f":"'Ma1'!$L$8","v":0},{"$f":"'Ma1'!$M$8","v":0},null,{"$f":"'Ma1'!$P$8","v":0},{"$f":"'Ma1'!$Q$8","v":0},{"$f":"'Ma1'!$R$8","v":0},{"$f":"'Ma1'!$S$8","v":0},null,{"$f":"'Ma1'!$V$8","v":0},{"$f":"'Ma1'!$W$8","v":0},{"$f":"'Ma1'!$X$8","v":0},{"$f":"'Ma1'!$Y$8","v":0},null,{"$f":"'Ma1'!$D$34","v":0},{"$f":"'Ma1'!$E$34","v":0},{"$f":"'Ma1'!$F$34","v":0},{"$f":"'Ma1'!$G$34","v":0},null,{"$f":"'Ma1'!$J$34","v":0},{"$f":"'Ma1'!$K$34","v":0},{"$f":"'Ma1'!$L$34","v":0},{"$f":"'Ma1'!$M$34","v":0},null,{"$f":"'Ma1'!$P$34","v":0},{"$f":"'Ma1'!$Q$34","v":0},{"$f":"'Ma1'!$R$34","v":0},{"$f":"'Ma1'!$S$34","v":0},null,{"$f":"'Ma1'!$V$34","v":0},{"$f":"'Ma1'!$W$34","v":0},{"$f":"'Ma1'!$X$34","v":0},{"$f":"'Ma1'!$Y$34","v":0},null,{"$f":"'Ma2'!$D$8","v":0},{"$f":"'Ma2'!$E$8","v":0},{"$f":"'Ma2'!$F$8","v":0},{"$f":"'Ma2'!$G$8","v":0},null,{"$f":"'Ma2'!$J$8","v":0},{"$f":"'Ma2'!$K$8","v":0},{"$f":"'Ma2'!$L$8","v":0},{"$f":"'Ma2'!$M$8","v":0},null,{"$f":"'Ma2'!$P$8","v":0},{"$f":"'Ma2'!$Q$8","v":0},{"$f":"'Ma2'!$R$8","v":0},{"$f":"'Ma2'!$S$8","v":0},null,{"$f":"'Ma2'!$V$8","v":0},{"$f":"'Ma2'!$W$8","v":0},{"$f":"'Ma2'!$X$8","v":0},{"$f":"'Ma2'!$Y$8","v":0},null,{"$f":"'Ma2'!$D$34","v":0},{"$f":"'Ma2'!$E$34","v":0},{"$f":"'Ma2'!$F$34","v":0},{"$f":"'Ma2'!$G$34","v":0},null,{"$f":"'Ma2'!$J$34","v":0},{"$f":"'Ma2'!$K$34","v":0},{"$f":"'Ma2'!$L$34","v":0},{"$f":"'Ma2'!$M$34","v":0},null,{"$f":"'Ma2'!$P$34","v":0},{"$f":"'Ma2'!$Q$34","v":0},{"$f":"'Ma2'!$R$34","v":0},{"$f":"'Ma2'!$S$34","v":0},null,{"$f":"'Ma2'!$V$34","v":0},{"$f":"'Ma2'!$W$34","v":0},{"$f":"'Ma2'!$X$34","v":0},{"$f":"'Ma2'!$Y$34","v":0},null,{"$f":"'Ma3'!$D$8","v":0},{"$f":"'Ma3'!$E$8","v":0},{"$f":"'Ma3'!$F$8","v":0},{"$f":"'Ma3'!$G$8","v":0},null,{"$f":"'Ma3'!$J$8","v":0},{"$f":"'Ma3'!$K$8","v":0},{"$f":"'Ma3'!$L$8","v":0},{"$f":"'Ma3'!$M$8","v":0},null,{"$f":"'Ma3'!$P$8","v":0},{"$f":"'Ma3'!$Q$8","v":0},{"$f":"'Ma3'!$R$8","v":0},{"$f":"'Ma3'!$S$8","v":0},null,{"$f":"'Ma3'!$V$8","v":0},{"$f":"'Ma3'!$W$8","v":0},{"$f":"'Ma3'!$X$8","v":0},{"$f":"'Ma3'!$Y$8","v":0},null,{"$f":"'Ma3'!$D$34","v":0},{"$f":"'Ma3'!$E$34","v":0},{"$f":"'Ma3'!$F$34","v":0},{"$f":"'Ma3'!$G$34","v":0},null,{"$f":"'Ma3'!$J$34","v":0},{"$f":"'Ma3'!$K$34","v":0},{"$f":"'Ma3'!$L$34","v":0},{"$f":"'Ma3'!$M$34","v":0},null,{"$f":"'Ma3'!$P$34","v":0},{"$f":"'Ma3'!$Q$34","v":0},{"$f":"'Ma3'!$R$34","v":0},{"$f":"'Ma3'!$S$34","v":0},null,{"$f":"'Ma3'!$V$34","v":0},{"$f":"'Ma3'!$W$34","v":0},{"$f":"'Ma3'!$X$34","v":0},{"$f":"'Ma3'!$Y$34","v":0},null,{"$f":"'Ma4'!$D$8","v":0},{"$f":"'Ma4'!$E$8","v":0},{"$f":"'Ma4'!$F$8","v":0},{"$f":"'Ma4'!$G$8","v":0},null,{"$f":"'Ma4'!$J$8","v":0},{"$f":"'Ma4'!$K$8","v":0},{"$f":"'Ma4'!$L$8","v":0},{"$f":"'Ma4'!$M$8","v":0},null,{"$f":"'Ma4'!$P$8","v":0},{"$f":"'Ma4'!$Q$8","v":0},{"$f":"'Ma4'!$R$8","v":0},{"$f":"'Ma4'!$S$8","v":0},null,{"$f":"'Ma4'!$V$8","v":0},{"$f":"'Ma4'!$W$8","v":0},{"$f":"'Ma4'!$X$8","v":0},{"$f":"'Ma4'!$Y$8","v":0},null,{"$f":"'Ma4'!$D$34","v":0},{"$f":"'Ma4'!$E$34","v":0},{"$f":"'Ma4'!$F$34","v":0},{"$f":"'Ma4'!$G$34","v":0},null,{"$f":"'Ma4'!$J$34","v":0},{"$f":"'Ma4'!$K$34","v":0},{"$f":"'Ma4'!$L$34","v":0},{"$f":"'Ma4'!$M$34","v":0},null,{"$f":"'Ma4'!$P$34","v":0},{"$f":"'Ma4'!$Q$34","v":0},{"$f":"'Ma4'!$R$34","v":0},{"$f":"'Ma4'!$S$34","v":0},null,{"$f":"'Ma4'!$V$34","v":0},{"$f":"'Ma4'!$W$34","v":0},{"$f":"'Ma4'!$X$34","v":0},{"$f":"'Ma4'!$Y$34","v":0},null,{"$f":"'Ma5'!$D$8","v":0},{"$f":"'Ma5'!$E$8","v":0},{"$f":"'Ma5'!$F$8","v":0},{"$f":"'Ma5'!$G$8","v":0},null,{"$f":"'Ma5'!$J$8","v":0},{"$f":"'Ma5'!$K$8","v":0},{"$f":"'Ma5'!$L$8","v":0},{"$f":"'Ma5'!$M$8","v":0},null,{"$f":"'Ma5'!$P$8","v":0},{"$f":"'Ma5'!$Q$8","v":0},{"$f":"'Ma5'!$R$8","v":0},{"$f":"'Ma5'!$S$8","v":0},null,{"$f":"'Ma5'!$V$8","v":0},{"$f":"'Ma5'!$W$8","v":0},{"$f":"'Ma5'!$X$8","v":0},{"$f":"'Ma5'!$Y$8","v":0},null,{"$f":"'Ma5'!$D$34","v":0},{"$f":"'Ma5'!$E$34","v":0},{"$f":"'Ma5'!$F$34","v":0},{"$f":"'Ma5'!$G$34","v":0},null,{"$f":"'Ma5'!$J$34","v":0},{"$f":"'Ma5'!$K$34","v":0},{"$f":"'Ma5'!$L$34","v":0},{"$f":"'Ma5'!$M$34","v":0},null,{"$f":"'Ma5'!$P$34","v":0},{"$f":"'Ma5'!$Q$34","v":0},{"$f":"'Ma5'!$R$34","v":0},{"$f":"'Ma5'!$S$34","v":0},null,{"$f":"'Ma5'!$V$34","v":0},{"$f":"'Ma5'!$W$34","v":0},{"$f":"'Ma5'!$X$34","v":0},{"$f":"'Ma5'!$Y$34","v":0},null,{"$f":"'Ma6'!$D$8","v":0},{"$f":"'Ma6'!$E$8","v":0},{"$f":"'Ma6'!$F$8","v":0},{"$f":"'Ma6'!$G$8","v":0},null,{"$f":"'Ma6'!$J$8","v":0},{"$f":"'Ma6'!$K$8","v":0},{"$f":"'Ma6'!$L$8","v":0},{"$f":"'Ma6'!$M$8","v":0},null,{"$f":"'Ma6'!$P$8","v":0},{"$f":"'Ma6'!$Q$8","v":0},{"$f":"'Ma6'!$R$8","v":0},{"$f":"'Ma6'!$S$8","v":0},null,{"$f":"'Ma6'!$V$8","v":0},{"$f":"'Ma6'!$W$8","v":0},{"$f":"'Ma6'!$X$8","v":0},{"$f":"'Ma6'!$Y$8","v":0},null,{"$f":"'Ma6'!$D$34","v":0},{"$f":"'Ma6'!$E$34","v":0},{"$f":"'Ma6'!$F$34","v":0},{"$f":"'Ma6'!$G$34","v":0},null,{"$f":"'Ma6'!$J$34","v":0},{"$f":"'Ma6'!$K$34","v":0},{"$f":"'Ma6'!$L$34","v":0},{"$f":"'Ma6'!$M$34","v":0},null,{"$f":"'Ma6'!$P$34","v":0},{"$f":"'Ma6'!$Q$34","v":0},{"$f":"'Ma6'!$R$34","v":0},{"$f":"'Ma6'!$S$34","v":0},null,{"$f":"'Ma6'!$V$34","v":0},{"$f":"'Ma6'!$W$34","v":0},{"$f":"'Ma6'!$X$34","v":0},{"$f":"'Ma6'!$Y$34","v":0},null,{"$f":"'Ma7'!$D$8","v":0},{"$f":"'Ma7'!$E$8","v":0},{"$f":"'Ma7'!$F$8","v":0},{"$f":"'Ma7'!$G$8","v":0},null,{"$f":"'Ma7'!$J$8","v":0},{"$f":"'Ma7'!$K$8","v":0},{"$f":"'Ma7'!$L$8","v":0},{"$f":"'Ma7'!$M$8","v":0},null,{"$f":"'Ma7'!$P$8","v":0},{"$f":"'Ma7'!$Q$8","v":0},{"$f":"'Ma7'!$R$8","v":0},{"$f":"'Ma7'!$S$8","v":0},null,{"$f":"'Ma7'!$V$8","v":0},{"$f":"'Ma7'!$W$8","v":0},{"$f":"'Ma7'!$X$8","v":0},{"$f":"'Ma7'!$Y$8","v":0},null,{"$f":"'Ma7'!$D$34","v":0},{"$f":"'Ma7'!$E$34","v":0},{"$f":"'Ma7'!$F$34","v":0},{"$f":"'Ma7'!$G$34","v":0},null,{"$f":"'Ma7'!$J$34","v":0},{"$f":"'Ma7'!$K$34","v":0},{"$f":"'Ma7'!$L$34","v":0},{"$f":"'Ma7'!$M$34","v":0},null,{"$f":"'Ma7'!$P$34","v":0},{"$f":"'Ma7'!$Q$34","v":0},{"$f":"'Ma7'!$R$34","v":0},{"$f":"'Ma7'!$S$34","v":0},null,{"$f":"'Ma7'!$V$34","v":0},{"$f":"'Ma7'!$W$34","v":0},{"$f":"'Ma7'!$X$34","v":0},{"$f":"'Ma7'!$Y$34","v":0}]
[null,"Mittelhügel",null,{"$f":"'Ma1'!$D$9","v":0},{"$f":"'Ma1'!$E$9","v":0},{"$f":"'Ma1'!$F$9","v":0},{"$f":"'Ma1'!$G$9","v":0},null,{"$f":"'Ma1'!$J$9","v":0},{"$f":"'Ma1'!$K$9","v":0},{"$f":"'Ma1'!$L$9","v":0},{"$f":"'Ma1'!$M$9","v":0},null,{"$f":"'Ma1'!$P$9","v":0},{"$f":"'Ma1'!$Q$9","v":0},{"$f":"'Ma1'!$R$9","v":0},{"$f":"'Ma1'!$S$9","v":0},null,{"$f":"'Ma1'!$V$9","v":0},{"$f":"'Ma1'!$W$9","v":0},{"$f":"'Ma1'!$X$9","v":0},{"$f":"'Ma1'!$Y$9","v":0},null,{"$f":"'Ma1'!$D$35","v":0},{"$f":"'Ma1'!$E$35","v":0},{"$f":"'Ma1'!$F$35","v":0},{"$f":"'Ma1'!$G$35","v":0},null,{"$f":"'Ma1'!$J$35","v":0},{"$f":"'Ma1'!$K$35","v":0},{"$f":"'Ma1'!$L$35","v":0},{"$f":"'Ma1'!$M$35","v":0},null,{"$f":"'Ma1'!$P$35","v":0},{"$f":"'Ma1'!$Q$35","v":0},{"$f":"'Ma1'!$R$35","v":0},{"$f":"'Ma1'!$S$35","v":0},null,{"$f":"'Ma1'!$V$35","v":0},{"$f":"'Ma1'!$W$35","v":0},{"$f":"'Ma1'!$X$35","v":0},{"$f":"'Ma1'!$Y$35","v":0},null,{"$f":"'Ma2'!$D$9","v":0},{"$f":"'Ma2'!$E$9","v":0},{"$f":"'Ma2'!$F$9","v":0},{"$f":"'Ma2'!$G$9","v":0},null,{"$f":"'Ma2'!$J$9","v":0},{"$f":"'Ma2'!$K$9","v":0},{"$f":"'Ma2'!$L$9","v":0},{"$f":"'Ma2'!$M$9","v":0},null,{"$f":"'Ma2'!$P$9","v":0},{"$f":"'Ma2'!$Q$9","v":0},{"$f":"'Ma2'!$R$9","v":0},{"$f":"'Ma2'!$S$9","v":0},null,{"$f":"'Ma2'!$V$9","v":0},{"$f":"'Ma2'!$W$9","v":0},{"$f":"'Ma2'!$X$9","v":0},{"$f":"'Ma2'!$Y$9","v":0},null,{"$f":"'Ma2'!$D$35","v":0},{"$f":"'Ma2'!$E$35","v":0},{"$f":"'Ma2'!$F$35","v":0},{"$f":"'Ma2'!$G$35","v":0},null,{"$f":"'Ma2'!$J$35","v":0},{"$f":"'Ma2'!$K$35","v":0},{"$f":"'Ma2'!$L$35","v":0},{"$f":"'Ma2'!$M$35","v":0},null,{"$f":"'Ma2'!$P$35","v":0},{"$f":"'Ma2'!$Q$35","v":0},{"$f":"'Ma2'!$R$35","v":0},{"$f":"'Ma2'!$S$35","v":0},null,{"$f":"'Ma2'!$V$35","v":0},{"$f":"'Ma2'!$W$35","v":0},{"$f":"'Ma2'!$X$35","v":0},{"$f":"'Ma2'!$Y$35","v":0},null,{"$f":"'Ma3'!$D$9","v":0},{"$f":"'Ma3'!$E$9","v":0},{"$f":"'Ma3'!$F$9","v":0},{"$f":"'Ma3'!$G$9","v":0},null,{"$f":"'Ma3'!$J$9","v":0},{"$f":"'Ma3'!$K$9","v":0},{"$f":"'Ma3'!$L$9","v":0},{"$f":"'Ma3'!$M$9","v":0},null,{"$f":"'Ma3'!$P$9","v":0},{"$f":"'Ma3'!$Q$9","v":0},{"$f":"'Ma3'!$R$9","v":0},{"$f":"'Ma3'!$S$9","v":0},null,{"$f":"'Ma3'!$V$9","v":0},{"$f":"'Ma3'!$W$9","v":0},{"$f":"'Ma3'!$X$9","v":0},{"$f":"'Ma3'!$Y$9","v":0},null,{"$f":"'Ma3'!$D$35","v":0},{"$f":"'Ma3'!$E$35","v":0},{"$f":"'Ma3'!$F$35","v":0},{"$f":"'Ma3'!$G$35","v":0},null,{"$f":"'Ma3'!$J$35","v":0},{"$f":"'Ma3'!$K$35","v":0},{"$f":"'Ma3'!$L$35","v":0},{"$f":"'Ma3'!$M$35","v":0},null,{"$f":"'Ma3'!$P$35","v":0},{"$f":"'Ma3'!$Q$35","v":0},{"$f":"'Ma3'!$R$35","v":0},{"$f":"'Ma3'!$S$35","v":0},null,{"$f":"'Ma3'!$V$35","v":0},{"$f":"'Ma3'!$W$35","v":0},{"$f":"'Ma3'!$X$35","v":0},{"$f":"'Ma3'!$Y$35","v":0},null,{"$f":"'Ma4'!$D$9","v":0},{"$f":"'Ma4'!$E$9","v":0},{"$f":"'Ma4'!$F$9","v":0},{"$f":"'Ma4'!$G$9","v":0},null,{"$f":"'Ma4'!$J$9","v":0},{"$f":"'Ma4'!$K$9","v":0},{"$f":"'Ma4'!$L$9","v":0},{"$f":"'Ma4'!$M$9","v":0},null,{"$f":"'Ma4'!$P$9","v":0},{"$f":"'Ma4'!$Q$9","v":0},{"$f":"'Ma4'!$R$9","v":0},{"$f":"'Ma4'!$S$9","v":0},null,{"$f":"'Ma4'!$V$9","v":0},{"$f":"'Ma4'!$W$9","v":0},{"$f":"'Ma4'!$X$9","v":0},{"$f":"'Ma4'!$Y$9","v":0},null,{"$f":"'Ma4'!$D$35","v":0},{"$f":"'Ma4'!$E$35","v":0},{"$f":"'Ma4'!$F$35","v":0},{"$f":"'Ma4'!$G$35","v":0},null,{"$f":"'Ma4'!$J$35","v":0},{"$f":"'Ma4'!$K$35","v":0},{"$f":"'Ma4'!$L$35","v":0},{"$f":"'Ma4'!$M$35","v":0},null,{"$f":"'Ma4'!$P$35","v":0},{"$f":"'Ma4'!$Q$35","v":0},{"$f":"'Ma4'!$R$35","v":0},{"$f":"'Ma4'!$S$35","v":0},null,{"$f":"'Ma4'!$V$35","v":0},{"$f":"'Ma4'!$W$35","v":0},{"$f":"'Ma4'!$X$35","v":0},{"$f":"'Ma4'!$Y$35","v":0},null,{"$f":"'Ma5'!$D$9","v":0},{"$f":"'Ma5'!$E$9","v":0},{"$f":"'Ma5'!$F$9","v":0},{"$f":"'Ma5'!$G$9","v":0},null,{"$f":"'Ma5'!$J$9","v":0},{"$f":"'Ma5'!$K$9","v":0},{"$f":"'Ma5'!$L$9","v":0},{"$f":"'Ma5'!$M$9","v":0},null,{"$f":"'Ma5'!$P$9","v":0},{"$f":"'Ma5'!$Q$9","v":0},{"$f":"'Ma5'!$R$9","v":0},{"$f":"'Ma5'!$S$9","v":0},null,{"$f":"'Ma5'!$V$9","v":0},{"$f":"'Ma5'!$W$9","v":0},{"$f":"'Ma5'!$X$9","v":0},{"$f":"'Ma5'!$Y$9","v":0},null,{"$f":"'Ma5'!$D$35","v":0},{"$f":"'Ma5'!$E$35","v":0},{"$f":"'Ma5'!$F$35","v":0},{"$f":"'Ma5'!$G$35","v":0},null,{"$f":"'Ma5'!$J$35","v":0},{"$f":"'Ma5'!$K$35","v":0},{"$f":"'Ma5'!$L$35","v":0},{"$f":"'Ma5'!$M$35","v":0},null,{"$f":"'Ma5'!$P$35","v":0},{"$f":"'Ma5'!$Q$35","v":0},{"$f":"'Ma5'!$R$35","v":0},{"$f":"'Ma5'!$S$35","v":0},null,{"$f":"'Ma5'!$V$35","v":0},{"$f":"'Ma5'!$W$35","v":0},{"$f":"'Ma5'!$X$35","v":0},{"$f":"'Ma5'!$Y$35","v":0},null,{"$f":"'Ma6'!$D$9","v":0},{"$f":"'Ma6'!$E$9","v":0},{"$f":"'Ma6'!$F$9","v":0},{"$f":"'Ma6'!$G$9","v":0},null,{"$f":"'Ma6'!$J$9","v":0},{"$f":"'Ma6'!$K$9","v":0},{"$f":"'Ma6'!$L$9","v":0},{"$f":"'Ma6'!$M$9","v":0},null,{"$f":"'Ma6'!$P$9","v":0},{"$f":"'Ma6'!$Q$9","v":0},{"$f":"'Ma6'!$R$9","v":0},{"$f":"'Ma6'!$S$9","v":0},null,{"$f":"'Ma6'!$V$9","v":0},{"$f":"'Ma6'!$W$9","v":0},{"$f":"'Ma6'!$X$9","v":0},{"$f":"'Ma6'!$Y$9","v":0},null,{"$f":"'Ma6'!$D$35","v":0},{"$f":"'Ma6'!$E$35","v":0},{"$f":"'Ma6'!$F$35","v":0},{"$f":"'Ma6'!$G$35","v":0},null,{"$f":"'Ma6'!$J$35","v":0},{"$f":"'Ma6'!$K$35","v":0},{"$f":"'Ma6'!$L$35","v":0},{"$f":"'Ma6'!$M$35","v":0},null,{"$f":"'Ma6'!$P$35","v":0},{"$f":"'Ma6'!$Q$35","v":0},{"$f":"'Ma6'!$R$35","v":0},{"$f":"'Ma6'!$S$35","v":0},null,{"$f":"'Ma6'!$V$35","v":0},{"$f":"'Ma6'!$W$35","v":0},{"$f":"'Ma6'!$X$35","v":0},{"$f":"'Ma6'!$Y$35","v":0},null,{"$f":"'Ma7'!$D$9","v":0},{"$f":"'Ma7'!$E$9","v":0},{"$f":"'Ma7'!$F$9","v":0},{"$f":"'Ma7'!$G$9","v":0},null,{"$f":"'Ma7'!$J$9","v":0},{"$f":"'Ma7'!$K$9","v":0},{"$f":"'Ma7'!$L$9","v":0},{"$f":"'Ma7'!$M$9","v":0},null,{"$f":"'Ma7'!$P$9","v":0},{"$f":"'Ma7'!$Q$9","v":0},{"$f":"'Ma7'!$R$9","v":0},{"$f":"'Ma7'!$S$9","v":0},null,{"$f":"'Ma7'!$V$9","v":0},{"$f":"'Ma7'!$W$9","v":0},{"$f":"'Ma7'!$X$9","v":0},{"$f":"'Ma7'!$Y$9","v":0},null,{"$f":"'Ma7'!$D$35","v":0},{"$f":"'Ma7'!$E$35","v":0},{"$f":"'Ma7'!$F$35","v":0},{"$f":"'Ma7'!$G$35","v":0},null,{"$f":"'Ma7'!$J$35","v":0},{"$f":"'Ma7'!$K$35","v":0},{"$f":"'Ma7'!$L$35","v":0},{"$f":"'Ma7'!$M$35","v":0},null,{"$f":"'Ma7'!$P$35","v":0},{"$f":"'Ma7'!$Q$35","v":0},{"$f":"'Ma7'!$R$35","v":0},{"$f":"'Ma7'!$S$35","v":0},null,{"$f":"'Ma7'!$V$35","v":0},{"$f":"'Ma7'!$W$35","v":0},{"$f":"'Ma7'!$X$35","v":0},{"$f":"'Ma7'!$Y$35","v":0}]
[null,"\"V\" - Hindernis",null,{"$f":"'Ma1'!$D$10","v":0},{"$f":"'Ma1'!$E$10","v":0},{"$f":"'Ma1'!$F$10","v":0},{"$f":"'Ma1'!$G$10","v":0},null,{"$f":"'Ma1'!$J$10","v":0},{"$f":"'Ma1'!$K$10","v":0},{"$f":"'Ma1'!$L$10","v":0},{"$f":"'Ma1'!$M$10","v":0},null,{"$f":"'Ma1'!$P$10","v":0},{"$f":"'Ma1'!$Q$10","v":0},{"$f":"'Ma1'!$R$10","v":0},{"$f":"'Ma1'!$S$10","v":0},null,{"$f":"'Ma1'!$V$10","v":0},{"$f":"'Ma1'!$W$10","v":0},{"$f":"'Ma1'!$X$10","v":0},{"$f":"'Ma1'!$Y$10","v":0},null,{"$f":"'Ma1'!$D$36","v":0},{"$f":"'Ma1'!$E$36","v":0},{"$f":"'Ma1'!$F$36","v":0},{"$f":"'Ma1'!$G$36","v":0},null,{"$f":"'Ma1'!$J$36","v":0},{"$f":"'Ma1'!$K$36","v":0},{"$f":"'Ma1'!$L$36","v":0},{"$f":"'Ma1'!$M$36","v":0},null,{"$f":"'Ma1'!$P$36","v":0},{"$f":"'Ma1'!$Q$36","v":0},{"$f":"'Ma1'!$R$36","v":0},{"$f":"'Ma1'!$S$36","v":0},null,{"$f":"'Ma1'!$V$36","v":0},{"$f":"'Ma1'!$W$36","v":0},{"$f":"'Ma1'!$X$36","v":0},{"$f":"'Ma1'!$Y$36","v":0},null,{"$f":"'Ma2'!$D$10","v":0},{"$f":"'Ma2'!$E$10","v":0},{"$f":"'Ma2'!$F$10","v":0},{"$f":"'Ma2'!$G$10","v":0},null,{"$f":"'Ma2'!$J$10","v":0},{"$f":"'Ma2'!$K$10","v":0},{"$f":"'Ma2'!$L$10","v":0},{"$f":"'Ma2'!$M$10","v":0},null,{"$f":"'Ma2'!$P$10","v":0},{"$f":"'Ma2'!$Q$10","v":0},{"$f":"'Ma2'!$R$10","v":0},{"$f":"'Ma2'!$S$10","v":0},null,{"$f":"'Ma2'!$V$10","v":0},{"$f":"'Ma2'!$W$10","v":0},{"$f":"'Ma2'!$X$10","v":0},{"$f":"'Ma2'!$Y$10","v":0},null,{"$f":"'Ma2'!$D$36","v":0},{"$f":"'Ma2'!$E$36","v":0},{"$f":"'Ma2'!$F$36","v":0},{"$f":"'Ma2'!$G$36","v":0},null,{"$f":"'Ma2'!$J$36","v":0},{"$f":"'Ma2'!$K$36","v":0},{"$f":"'Ma2'!$L$36","v":0},{"$f":"'Ma2'!$M$36","v":0},null,{"$f":"'Ma2'!$P$36","v":0},{"$f":"'Ma2'!$Q$36","v":0},{"$f":"'Ma2'!$R$36","v":0},{"$f":"'Ma2'!$S$36","v":0},null,{"$f":"'Ma2'!$V$36","v":0},{"$f":"'Ma2'!$W$36","v":0},{"$f":"'Ma2'!$X$36","v":0},{"$f":"'Ma2'!$Y$36","v":0},null,{"$f":"'Ma3'!$D$10","v":0},{"$f":"'Ma3'!$E$10","v":0},{"$f":"'Ma3'!$F$10","v":0},{"$f":"'Ma3'!$G$10","v":0},null,{"$f":"'Ma3'!$J$10","v":0},{"$f":"'Ma3'!$K$10","v":0},{"$f":"'Ma3'!$L$10","v":0},{"$f":"'Ma3'!$M$10","v":0},null,{"$f":"'Ma3'!$P$10","v":0},{"$f":"'Ma3'!$Q$10","v":0},{"$f":"'Ma3'!$R$10","v":0},{"$f":"'Ma3'!$S$10","v":0},null,{"$f":"'Ma3'!$V$10","v":0},{"$f":"'Ma3'!$W$10","v":0},{"$f":"'Ma3'!$X$10","v":0},{"$f":"'Ma3'!$Y$10","v":0},null,{"$f":"'Ma3'!$D$36","v":0},{"$f":"'Ma3'!$E$36","v":0},{"$f":"'Ma3'!$F$36","v":0},{"$f":"'Ma3'!$G$36","v":0},null,{"$f":"'Ma3'!$J$36","v":0},{"$f":"'Ma3'!$K$36","v":0},{"$f":"'Ma3'!$L$36","v":0},{"$f":"'Ma3'!$M$36","v":0},null,{"$f":"'Ma3'!$P$36","v":0},{"$f":"'Ma3'!$Q$36","v":0},{"$f":"'Ma3'!$R$36","v":0},{"$f":"'Ma3'!$S$36","v":0},null,{"$f":"'Ma3'!$V$36","v":0},{"$f":"'Ma3'!$W$36","v":0},{"$f":"'Ma3'!$X$36","v":0},{"$f":"'Ma3'!$Y$36","v":0},null,{"$f":"'Ma4'!$D$10","v":0},{"$f":"'Ma4'!$E$10","v":0},{"$f":"'Ma4'!$F$10","v":0},{"$f":"'Ma4'!$G$10","v":0},null,{"$f":"'Ma4'!$J$10","v":0},{"$f":"'Ma4'!$K$10","v":0},{"$f":"'Ma4'!$L$10","v":0},{"$f":"'Ma4'!$M$10","v":0},null,{"$f":"'Ma4'!$P$10","v":0},{"$f":"'Ma4'!$Q$10","v":0},{"$f":"'Ma4'!$R$10","v":0},{"$f":"'Ma4'!$S$10","v":0},null,{"$f":"'Ma4'!$V$10","v":0},{"$f":"'Ma4'!$W$10","v":0},{"$f":"'Ma4'!$X$10","v":0},{"$f":"'Ma4'!$Y$10","v":0},null,{"$f":"'Ma4'!$D$36","v":0},{"$f":"'Ma4'!$E$36","v":0},{"$f":"'Ma4'!$F$36","v":0},{"$f":"'Ma4'!$G$36","v":0},null,{"$f":"'Ma4'!$J$36","v":0},{"$f":"'Ma4'!$K$36","v":0},{"$f":"'Ma4'!$L$36","v":0},{"$f":"'Ma4'!$M$36","v":0},null,{"$f":"'Ma4'!$P$36","v":0},{"$f":"'Ma4'!$Q$36","v":0},{"$f":"'Ma4'!$R$36","v":0},{"$f":"'Ma4'!$S$36","v":0},null,{"$f":"'Ma4'!$V$36","v":0},{"$f":"'Ma4'!$W$36","v":0},{"$f":"'Ma4'!$X$36","v":0},{"$f":"'Ma4'!$Y$36","v":0},null,{"$f":"'Ma5'!$D$10","v":0},{"$f":"'Ma5'!$E$10","v":0},{"$f":"'Ma5'!$F$10","v":0},{"$f":"'Ma5'!$G$10","v":0},null,{"$f":"'Ma5'!$J$10","v":0},{"$f":"'Ma5'!$K$10","v":0},{"$f":"'Ma5'!$L$10","v":0},{"$f":"'Ma5'!$M$10","v":0},null,{"$f":"'Ma5'!$P$10","v":0},{"$f":"'Ma5'!$Q$10","v":0},{"$f":"'Ma5'!$R$10","v":0},{"$f":"'Ma5'!$S$10","v":0},null,{"$f":"'Ma5'!$V$10","v":0},{"$f":"'Ma5'!$W$10","v":0},{"$f":"'Ma5'!$X$10","v":0},{"$f":"'Ma5'!$Y$10","v":0},null,{"$f":"'Ma5'!$D$36","v":0},{"$f":"'Ma5'!$E$36","v":0},{"$f":"'Ma5'!$F$36","v":0},{"$f":"'Ma5'!$G$36","v":0},null,{"$f":"'Ma5'!$J$36","v":0},{"$f":"'Ma5'!$K$36","v":0},{"$f":"'Ma5'!$L$36","v":0},{"$f":"'Ma5'!$M$36","v":0},null,{"$f":"'Ma5'!$P$36","v":0},{"$f":"'Ma5'!$Q$36","v":0},{"$f":"'Ma5'!$R$36","v":0},{"$f":"'Ma5'!$S$36","v":0},null,{"$f":"'Ma5'!$V$36","v":0},{"$f":"'Ma5'!$W$36","v":0},{"$f":"'Ma5'!$X$36","v":0},{"$f":"'Ma5'!$Y$36","v":0},null,{"$f":"'Ma6'!$D$10","v":0},{"$f":"'Ma6'!$E$10","v":0},{"$f":"'Ma6'!$F$10","v":0},{"$f":"'Ma6'!$G$10","v":0},null,{"$f":"'Ma6'!$J$10","v":0},{"$f":"'Ma6'!$K$10","v":0},{"$f":"'Ma6'!$L$10","v":0},{"$f":"'Ma6'!$M$10","v":0},null,{"$f":"'Ma6'!$P$10","v":0},{"$f":"'Ma6'!$Q$10","v":0},{"$f":"'Ma6'!$R$10","v":0},{"$f":"'Ma6'!$S$10","v":0},null,{"$f":"'Ma6'!$V$10","v":0},{"$f":"'Ma6'!$W$10","v":0},{"$f":"'Ma6'!$X$10","v":0},{"$f":"'Ma6'!$Y$10","v":0},null,{"$f":"'Ma6'!$D$36","v":0},{"$f":"'Ma6'!$E$36","v":0},{"$f":"'Ma6'!$F$36","v":0},{"$f":"'Ma6'!$G$36","v":0},null,{"$f":"'Ma6'!$J$36","v":0},{"$f":"'Ma6'!$K$36","v":0},{"$f":"'Ma6'!$L$36","v":0},{"$f":"'Ma6'!$M$36","v":0},null,{"$f":"'Ma6'!$P$36","v":0},{"$f":"'Ma6'!$Q$36","v":0},{"$f":"'Ma6'!$R$36","v":0},{"$f":"'Ma6'!$S$36","v":0},null,{"$f":"'Ma6'!$V$36","v":0},{"$f":"'Ma6'!$W$36","v":0},{"$f":"'Ma6'!$X$36","v":0},{"$f":"'Ma6'!$Y$36","v":0},null,{"$f":"'Ma7'!$D$10","v":0},{"$f":"'Ma7'!$E$10","v":0},{"$f":"'Ma7'!$F$10","v":0},{"$f":"'Ma7'!$G$10","v":0},null,{"$f":"'Ma7'!$J$10","v":0},{"$f":"'Ma7'!$K$10","v":0},{"$f":"'Ma7'!$L$10","v":0},{"$f":"'Ma7'!$M$10","v":0},null,{"$f":"'Ma7'!$P$10","v":0},{"$f":"'Ma7'!$Q$10","v":0},{"$f":"'Ma7'!$R$10","v":0},{"$f":"'Ma7'!$S$10","v":0},null,{"$f":"'Ma7'!$V$10","v":0},{"$f":"'Ma7'!$W$10","v":0},{"$f":"'Ma7'!$X$10","v":0},{"$f":"'Ma7'!$Y$10","v":0},null,{"$f":"'Ma7'!$D$36","v":0},{"$f":"'Ma7'!$E$36","v":0},{"$f":"'Ma7'!$F$36","v":0},{"$f":"'Ma7'!$G$36","v":0},null,{"$f":"'Ma7'!$J$36","v":0},{"$f":"'Ma7'!$K$36","v":0},{"$f":"'Ma7'!$L$36","v":0},{"$f":"'Ma7'!$M$36","v":0},null,{"$f":"'Ma7'!$P$36","v":0},{"$f":"'Ma7'!$Q$36","v":0},{"$f":"'Ma7'!$R$36","v":0},{"$f":"'Ma7'!$S$36","v":0},null,{"$f":"'Ma7'!$V$36","v":0},{"$f":"'Ma7'!$W$36","v":0},{"$f":"'Ma7'!$X$36","v":0},{"$f":"'Ma7'!$Y$36","v":0}]
[null,"Doppelwellen",null,{"$f":"'Ma1'!$D$11","v":0},{"$f":"'Ma1'!$E$11","v":0},{"$f":"'Ma1'!$F$11","v":0},{"$f":"'Ma1'!$G$11","v":0},null,{"$f":"'Ma1'!$J$11","v":0},{"$f":"'Ma1'!$K$11","v":0},{"$f":"'Ma1'!$L$11","v":0},{"$f":"'Ma1'!$M$11","v":0},null,{"$f":"'Ma1'!$P$11","v":0},{"$f":"'Ma1'!$Q$11","v":0},{"$f":"'Ma1'!$R$11","v":0},{"$f":"'Ma1'!$S$11","v":0},null,{"$f":"'Ma1'!$V$11","v":0},{"$f":"'Ma1'!$W$11","v":0},{"$f":"'Ma1'!$X$11","v":0},{"$f":"'Ma1'!$Y$11","v":0},null,{"$f":"'Ma1'!$D$37","v":0},{"$f":"'Ma1'!$E$37","v":0},{"$f":"'Ma1'!$F$37","v":0},{"$f":"'Ma1'!$G$37","v":0},null,{"$f":"'Ma1'!$J$37","v":0},{"$f":"'Ma1'!$K$37","v":0},{"$f":"'Ma1'!$L$37","v":0},{"$f":"'Ma1'!$M$37","v":0},null,{"$f":"'Ma1'!$P$37","v":0},{"$f":"'Ma1'!$Q$37","v":0},{"$f":"'Ma1'!$R$37","v":0},{"$f":"'Ma1'!$S$37","v":0},null,{"$f":"'Ma1'!$V$37","v":0},{"$f":"'Ma1'!$W$37","v":0},{"$f":"'Ma1'!$X$37","v":0},{"$f":"'Ma1'!$Y$37","v":0},null,{"$f":"'Ma2'!$D$11","v":0},{"$f":"'Ma2'!$E$11","v":0},{"$f":"'Ma2'!$F$11","v":0},{"$f":"'Ma2'!$G$11","v":0},null,{"$f":"'Ma2'!$J$11","v":0},{"$f":"'Ma2'!$K$11","v":0},{"$f":"'Ma2'!$L$11","v":0},{"$f":"'Ma2'!$M$11","v":0},null,{"$f":"'Ma2'!$P$11","v":0},{"$f":"'Ma2'!$Q$11","v":0},{"$f":"'Ma2'!$R$11","v":0},{"$f":"'Ma2'!$S$11","v":0},null,{"$f":"'Ma2'!$V$11","v":0},{"$f":"'Ma2'!$W$11","v":0},{"$f":"'Ma2'!$X$11","v":0},{"$f":"'Ma2'!$Y$11","v":0},null,{"$f":"'Ma2'!$D$37","v":0},{"$f":"'Ma2'!$E$37","v":0},{"$f":"'Ma2'!$F$37","v":0},{"$f":"'Ma2'!$G$37","v":0},null,{"$f":"'Ma2'!$J$37","v":0},{"$f":"'Ma2'!$K$37","v":0},{"$f":"'Ma2'!$L$37","v":0},{"$f":"'Ma2'!$M$37","v":0},null,{"$f":"'Ma2'!$P$37","v":0},{"$f":"'Ma2'!$Q$37","v":0},{"$f":"'Ma2'!$R$37","v":0},{"$f":"'Ma2'!$S$37","v":0},null,{"$f":"'Ma2'!$V$37","v":0},{"$f":"'Ma2'!$W$37","v":0},{"$f":"'Ma2'!$X$37","v":0},{"$f":"'Ma2'!$Y$37","v":0},null,{"$f":"'Ma3'!$D$11","v":0},{"$f":"'Ma3'!$E$11","v":0},{"$f":"'Ma3'!$F$11","v":0},{"$f":"'Ma3'!$G$11","v":0},null,{"$f":"'Ma3'!$J$11","v":0},{"$f":"'Ma3'!$K$11","v":0},{"$f":"'Ma3'!$L$11","v":0},{"$f":"'Ma3'!$M$11","v":0},null,{"$f":"'Ma3'!$P$11","v":0},{"$f":"'Ma3'!$Q$11","v":0},{"$f":"'Ma3'!$R$11","v":0},{"$f":"'Ma3'!$S$11","v":0},null,{"$f":"'Ma3'!$V$11","v":0},{"$f":"'Ma3'!$W$11","v":0},{"$f":"'Ma3'!$X$11","v":0},{"$f":"'Ma3'!$Y$11","v":0},null,{"$f":"'Ma3'!$D$37","v":0},{"$f":"'Ma3'!$E$37","v":0},{"$f":"'Ma3'!$F$37","v":0},{"$f":"'Ma3'!$G$37","v":0},null,{"$f":"'Ma3'!$J$37","v":0},{"$f":"'Ma3'!$K$37","v":0},{"$f":"'Ma3'!$L$37","v":0},{"$f":"'Ma3'!$M$37","v":0},null,{"$f":"'Ma3'!$P$37","v":0},{"$f":"'Ma3'!$Q$37","v":0},{"$f":"'Ma3'!$R$37","v":0},{"$f":"'Ma3'!$S$37","v":0},null,{"$f":"'Ma3'!$V$37","v":0},{"$f":"'Ma3'!$W$37","v":0},{"$f":"'Ma3'!$X$37","v":0},{"$f":"'Ma3'!$Y$37","v":0},null,{"$f":"'Ma4'!$D$11","v":0},{"$f":"'Ma4'!$E$11","v":0},{"$f":"'Ma4'!$F$11","v":0},{"$f":"'Ma4'!$G$11","v":0},null,{"$f":"'Ma4'!$J$11","v":0},{"$f":"'Ma4'!$K$11","v":0},{"$f":"'Ma4'!$L$11","v":0},{"$f":"'Ma4'!$M$11","v":0},null,{"$f":"'Ma4'!$P$11","v":0},{"$f":"'Ma4'!$Q$11","v":0},{"$f":"'Ma4'!$R$11","v":0},{"$f":"'Ma4'!$S$11","v":0},null,{"$f":"'Ma4'!$V$11","v":0},{"$f":"'Ma4'!$W$11","v":0},{"$f":"'Ma4'!$X$11","v":0},{"$f":"'Ma4'!$Y$11","v":0},null,{"$f":"'Ma4'!$D$37","v":0},{"$f":"'Ma4'!$E$37","v":0},{"$f":"'Ma4'!$F$37","v":0},{"$f":"'Ma4'!$G$37","v":0},null,{"$f":"'Ma4'!$J$37","v":0},{"$f":"'Ma4'!$K$37","v":0},{"$f":"'Ma4'!$L$37","v":0},{"$f":"'Ma4'!$M$37","v":0},null,{"$f":"'Ma4'!$P$37","v":0},{"$f":"'Ma4'!$Q$37","v":0},{"$f":"'Ma4'!$R$37","v":0},{"$f":"'Ma4'!$S$37","v":0},null,{"$f":"'Ma4'!$V$37","v":0},{"$f":"'Ma4'!$W$37","v":0},{"$f":"'Ma4'!$X$37","v":0},{"$f":"'Ma4'!$Y$37","v":0},null,{"$f":"'Ma5'!$D$11","v":0},{"$f":"'Ma5'!$E$11","v":0},{"$f":"'Ma5'!$F$11","v":0},{"$f":"'Ma5'!$G$11","v":0},null,{"$f":"'Ma5'!$J$11","v":0},{"$f":"'Ma5'!$K$11","v":0},{"$f":"'Ma5'!$L$11","v":0},{"$f":"'Ma5'!$M$11","v":0},null,{"$f":"'Ma5'!$P$11","v":0},{"$f":"'Ma5'!$Q$11","v":0},{"$f":"'Ma5'!$R$11","v":0},{"$f":"'Ma5'!$S$11","v":0},null,{"$f":"'Ma5'!$V$11","v":0},{"$f":"'Ma5'!$W$11","v":0},{"$f":"'Ma5'!$X$11","v":0},{"$f":"'Ma5'!$Y$11","v":0},null,{"$f":"'Ma5'!$D$37","v":0},{"$f":"'Ma5'!$E$37","v":0},{"$f":"'Ma5'!$F$37","v":0},{"$f":"'Ma5'!$G$37","v":0},null,{"$f":"'Ma5'!$J$37","v":0},{"$f":"'Ma5'!$K$37","v":0},{"$f":"'Ma5'!$L$37","v":0},{"$f":"'Ma5'!$M$37","v":0},null,{"$f":"'Ma5'!$P$37","v":0},{"$f":"'Ma5'!$Q$37","v":0},{"$f":"'Ma5'!$R$37","v":0},{"$f":"'Ma5'!$S$37","v":0},null,{"$f":"'Ma5'!$V$37","v":0},{"$f":"'Ma5'!$W$37","v":0},{"$f":"'Ma5'!$X$37","v":0},{"$f":"'Ma5'!$Y$37","v":0},null,{"$f":"'Ma6'!$D$11","v":0},{"$f":"'Ma6'!$E$11","v":0},{"$f":"'Ma6'!$F$11","v":0},{"$f":"'Ma6'!$G$11","v":0},null,{"$f":"'Ma6'!$J$11","v":0},{"$f":"'Ma6'!$K$11","v":0},{"$f":"'Ma6'!$L$11","v":0},{"$f":"'Ma6'!$M$11","v":0},null,{"$f":"'Ma6'!$P$11","v":0},{"$f":"'Ma6'!$Q$11","v":0},{"$f":"'Ma6'!$R$11","v":0},{"$f":"'Ma6'!$S$11","v":0},null,{"$f":"'Ma6'!$V$11","v":0},{"$f":"'Ma6'!$W$11","v":0},{"$f":"'Ma6'!$X$11","v":0},{"$f":"'Ma6'!$Y$11","v":0},null,{"$f":"'Ma6'!$D$37","v":0},{"$f":"'Ma6'!$E$37","v":0},{"$f":"'Ma6'!$F$37","v":0},{"$f":"'Ma6'!$G$37","v":0},null,{"$f":"'Ma6'!$J$37","v":0},{"$f":"'Ma6'!$K$37","v":0},{"$f":"'Ma6'!$L$37","v":0},{"$f":"'Ma6'!$M$37","v":0},null,{"$f":"'Ma6'!$P$37","v":0},{"$f":"'Ma6'!$Q$37","v":0},{"$f":"'Ma6'!$R$37","v":0},{"$f":"'Ma6'!$S$37","v":0},null,{"$f":"'Ma6'!$V$37","v":0},{"$f":"'Ma6'!$W$37","v":0},{"$f":"'Ma6'!$X$37","v":0},{"$f":"'Ma6'!$Y$37","v":0},null,{"$f":"'Ma7'!$D$11","v":0},{"$f":"'Ma7'!$E$11","v":0},{"$f":"'Ma7'!$F$11","v":0},{"$f":"'Ma7'!$G$11","v":0},null,{"$f":"'Ma7'!$J$11","v":0},{"$f":"'Ma7'!$K$11","v":0},{"$f":"'Ma7'!$L$11","v":0},{"$f":"'Ma7'!$M$11","v":0},null,{"$f":"'Ma7'!$P$11","v":0},{"$f":"'Ma7'!$Q$11","v":0},{"$f":"'Ma7'!$R$11","v":0},{"$f":"'Ma7'!$S$11","v":0},null,{"$f":"'Ma7'!$V$11","v":0},{"$f":"'Ma7'!$W$11","v":0},{"$f":"'Ma7'!$X$11","v":0},{"$f":"'Ma7'!$Y$11","v":0},null,{"$f":"'Ma7'!$D$37","v":0},{"$f":"'Ma7'!$E$37","v":0},{"$f":"'Ma7'!$F$37","v":0},{"$f":"'Ma7'!$G$37","v":0},null,{"$f":"'Ma7'!$J$37","v":0},{"$f":"'Ma7'!$K$37","v":0},{"$f":"'Ma7'!$L$37","v":0},{"$f":"'Ma7'!$M$37","v":0},null,{"$f":"'Ma7'!$P$37","v":0},{"$f":"'Ma7'!$Q$37","v":0},{"$f":"'Ma7'!$R$37","v":0},{"$f":"'Ma7'!$S$37","v":0},null,{"$f":"'Ma7'!$V$37","v":0},{"$f":"'Ma7'!$W$37","v":0},{"$f":"'Ma7'!$X$37","v":0},{"$f":"'Ma7'!$Y$37","v":0}]
[null,"Rohr",null,{"$f":"'Ma1'!$D$12","v":0},{"$f":"'Ma1'!$E$12","v":0},{"$f":"'Ma1'!$F$12","v":0},{"$f":"'Ma1'!$G$12","v":0},null,{"$f":"'Ma1'!$J$12","v":0},{"$f":"'Ma1'!$K$12","v":0},{"$f":"'Ma1'!$L$12","v":0},{"$f":"'Ma1'!$M$12","v":0},null,{"$f":"'Ma1'!$P$12","v":0},{"$f":"'Ma1'!$Q$12","v":0},{"$f":"'Ma1'!$R$12","v":0},{"$f":"'Ma1'!$S$12","v":0},null,{"$f":"'Ma1'!$V$12","v":0},{"$f":"'Ma1'!$W$12","v":0},{"$f":"'Ma1'!$X$12","v":0},{"$f":"'Ma1'!$Y$12","v":0},null,{"$f":"'Ma1'!$D$38","v":0},{"$f":"'Ma1'!$E$38","v":0},{"$f":"'Ma1'!$F$38","v":0},{"$f":"'Ma1'!$G$38","v":0},null,{"$f":"'Ma1'!$J$38","v":0},{"$f":"'Ma1'!$K$38","v":0},{"$f":"'Ma1'!$L$38","v":0},{"$f":"'Ma1'!$M$38","v":0},null,{"$f":"'Ma1'!$P$38","v":0},{"$f":"'Ma1'!$Q$38","v":0},{"$f":"'Ma1'!$R$38","v":0},{"$f":"'Ma1'!$S$38","v":0},null,{"$f":"'Ma1'!$V$38","v":0},{"$f":"'Ma1'!$W$38","v":0},{"$f":"'Ma1'!$X$38","v":0},{"$f":"'Ma1'!$Y$38","v":0},null,{"$f":"'Ma2'!$D$12","v":0},{"$f":"'Ma2'!$E$12","v":0},{"$f":"'Ma2'!$F$12","v":0},{"$f":"'Ma2'!$G$12","v":0},null,{"$f":"'Ma2'!$J$12","v":0},{"$f":"'Ma2'!$K$12","v":0},{"$f":"'Ma2'!$L$12","v":0},{"$f":"'Ma2'!$M$12","v":0},null,{"$f":"'Ma2'!$P$12","v":0},{"$f":"'Ma2'!$Q$12","v":0},{"$f":"'Ma2'!$R$12","v":0},{"$f":"'Ma2'!$S$12","v":0},null,{"$f":"'Ma2'!$V$12","v":0},{"$f":"'Ma2'!$W$12","v":0},{"$f":"'Ma2'!$X$12","v":0},{"$f":"'Ma2'!$Y$12","v":0},null,{"$f":"'Ma2'!$D$38","v":0},{"$f":"'Ma2'!$E$38","v":0},{"$f":"'Ma2'!$F$38","v":0},{"$f":"'Ma2'!$G$38","v":0},null,{"$f":"'Ma2'!$J$38","v":0},{"$f":"'Ma2'!$K$38","v":0},{"$f":"'Ma2'!$L$38","v":0},{"$f":"'Ma2'!$M$38","v":0},null,{"$f":"'Ma2'!$P$38","v":0},{"$f":"'Ma2'!$Q$38","v":0},{"$f":"'Ma2'!$R$38","v":0},{"$f":"'Ma2'!$S$38","v":0},null,{"$f":"'Ma2'!$V$38","v":0},{"$f":"'Ma2'!$W$38","v":0},{"$f":"'Ma2'!$X$38","v":0},{"$f":"'Ma2'!$Y$38","v":0},null,{"$f":"'Ma3'!$D$12","v":0},{"$f":"'Ma3'!$E$12","v":0},{"$f":"'Ma3'!$F$12","v":0},{"$f":"'Ma3'!$G$12","v":0},null,{"$f":"'Ma3'!$J$12","v":0},{"$f":"'Ma3'!$K$12","v":0},{"$f":"'Ma3'!$L$12","v":0},{"$f":"'Ma3'!$M$12","v":0},null,{"$f":"'Ma3'!$P$12","v":0},{"$f":"'Ma3'!$Q$12","v":0},{"$f":"'Ma3'!$R$12","v":0},{"$f":"'Ma3'!$S$12","v":0},null,{"$f":"'Ma3'!$V$12","v":0},{"$f":"'Ma3'!$W$12","v":0},{"$f":"'Ma3'!$X$12","v":0},{"$f":"'Ma3'!$Y$12","v":0},null,{"$f":"'Ma3'!$D$38","v":0},{"$f":"'Ma3'!$E$38","v":0},{"$f":"'Ma3'!$F$38","v":0},{"$f":"'Ma3'!$G$38","v":0},null,{"$f":"'Ma3'!$J$38","v":0},{"$f":"'Ma3'!$K$38","v":0},{"$f":"'Ma3'!$L$38","v":0},{"$f":"'Ma3'!$M$38","v":0},null,{"$f":"'Ma3'!$P$38","v":0},{"$f":"'Ma3'!$Q$38","v":0},{"$f":"'Ma3'!$R$38","v":0},{"$f":"'Ma3'!$S$38","v":0},null,{"$f":"'Ma3'!$V$38","v":0},{"$f":"'Ma3'!$W$38","v":0},{"$f":"'Ma3'!$X$38","v":0},{"$f":"'Ma3'!$Y$38","v":0},null,{"$f":"'Ma4'!$D$12","v":0},{"$f":"'Ma4'!$E$12","v":0},{"$f":"'Ma4'!$F$12","v":0},{"$f":"'Ma4'!$G$12","v":0},null,{"$f":"'Ma4'!$J$12","v":0},{"$f":"'Ma4'!$K$12","v":0},{"$f":"'Ma4'!$L$12","v":0},{"$f":"'Ma4'!$M$12","v":0},null,{"$f":"'Ma4'!$P$12","v":0},{"$f":"'Ma4'!$Q$12","v":0},{"$f":"'Ma4'!$R$12","v":0},{"$f":"'Ma4'!$S$12","v":0},null,{"$f":"'Ma4'!$V$12","v":0},{"$f":"'Ma4'!$W$12","v":0},{"$f":"'Ma4'!$X$12","v":0},{"$f":"'Ma4'!$Y$12","v":0},null,{"$f":"'Ma4'!$D$38","v":0},{"$f":"'Ma4'!$E$38","v":0},{"$f":"'Ma4'!$F$38","v":0},{"$f":"'Ma4'!$G$38","v":0},null,{"$f":"'Ma4'!$J$38","v":0},{"$f":"'Ma4'!$K$38","v":0},{"$f":"'Ma4'!$L$38","v":0},{"$f":"'Ma4'!$M$38","v":0},null,{"$f":"'Ma4'!$P$38","v":0},{"$f":"'Ma4'!$Q$38","v":0},{"$f":"'Ma4'!$R$38","v":0},{"$f":"'Ma4'!$S$38","v":0},null,{"$f":"'Ma4'!$V$38","v":0},{"$f":"'Ma4'!$W$38","v":0},{"$f":"'Ma4'!$X$38","v":0},{"$f":"'Ma4'!$Y$38","v":0},null,{"$f":"'Ma5'!$D$12","v":0},{"$f":"'Ma5'!$E$12","v":0},{"$f":"'Ma5'!$F$12","v":0},{"$f":"'Ma5'!$G$12","v":0},null,{"$f":"'Ma5'!$J$12","v":0},{"$f":"'Ma5'!$K$12","v":0},{"$f":"'Ma5'!$L$12","v":0},{"$f":"'Ma5'!$M$12","v":0},null,{"$f":"'Ma5'!$P$12","v":0},{"$f":"'Ma5'!$Q$12","v":0},{"$f":"'Ma5'!$R$12","v":0},{"$f":"'Ma5'!$S$12","v":0},null,{"$f":"'Ma5'!$V$12","v":0},{"$f":"'Ma5'!$W$12","v":0},{"$f":"'Ma5'!$X$12","v":0},{"$f":"'Ma5'!$Y$12","v":0},null,{"$f":"'Ma5'!$D$38","v":0},{"$f":"'Ma5'!$E$38","v":0},{"$f":"'Ma5'!$F$38","v":0},{"$f":"'Ma5'!$G$38","v":0},null,{"$f":"'Ma5'!$J$38","v":0},{"$f":"'Ma5'!$K$38","v":0},{"$f":"'Ma5'!$L$38","v":0},{"$f":"'Ma5'!$M$38","v":0},null,{"$f":"'Ma5'!$P$38","v":0},{"$f":"'Ma5'!$Q$38","v":0},{"$f":"'Ma5'!$R$38","v":0},{"$f":"'Ma5'!$S$38","v":0},null,{"$f":"'Ma5'!$V$38","v":0},{"$f":"'Ma5'!$W$38","v":0},{"$f":"'Ma5'!$X$38","v":0},{"$f":"'Ma5'!$Y$38","v":0},null,{"$f":"'Ma6'!$D$12","v":0},{"$f":"'Ma6'!$E$12","v":0},{"$f":"'Ma6'!$F$12","v":0},{"$f":"'Ma6'!$G$12","v":0},null,{"$f":"'Ma6'!$J$12","v":0},{"$f":"'Ma6'!$K$12","v":0},{"$f":"'Ma6'!$L$12","v":0},{"$f":"'Ma6'!$M$12","v":0},null,{"$f":"'Ma6'!$P$12","v":0},{"$f":"'Ma6'!$Q$12","v":0},{"$f":"'Ma6'!$R$12","v":0},{"$f":"'Ma6'!$S$12","v":0},null,{"$f":"'Ma6'!$V$12","v":0},{"$f":"'Ma6'!$W$12","v":0},{"$f":"'Ma6'!$X$12","v":0},{"$f":"'Ma6'!$Y$12","v":0},null,{"$f":"'Ma6'!$D$38","v":0},{"$f":"'Ma6'!$E$38","v":0},{"$f":"'Ma6'!$F$38","v":0},{"$f":"'Ma6'!$G$38","v":0},null,{"$f":"'Ma6'!$J$38","v":0},{"$f":"'Ma6'!$K$38","v":0},{"$f":"'Ma6'!$L$38","v":0},{"$f":"'Ma6'!$M$38","v":0},null,{"$f":"'Ma6'!$P$38","v":0},{"$f":"'Ma6'!$Q$38","v":0},{"$f":"'Ma6'!$R$38","v":0},{"$f":"'Ma6'!$S$38","v":0},null,{"$f":"'Ma6'!$V$38","v":0},{"$f":"'Ma6'!$W$38","v":0},{"$f":"'Ma6'!$X$38","v":0},{"$f":"'Ma6'!$Y$38","v":0},null,{"$f":"'Ma7'!$D$12","v":0},{"$f":"'Ma7'!$E$12","v":0},{"$f":"'Ma7'!$F$12","v":0},{"$f":"'Ma7'!$G$12","v":0},null,{"$f":"'Ma7'!$J$12","v":0},{"$f":"'Ma7'!$K$12","v":0},{"$f":"'Ma7'!$L$12","v":0},{"$f":"'Ma7'!$M$12","v":0},null,{"$f":"'Ma7'!$P$12","v":0},{"$f":"'Ma7'!$Q$12","v":0},{"$f":"'Ma7'!$R$12","v":0},{"$f":"'Ma7'!$S$12","v":0},null,{"$f":"'Ma7'!$V$12","v":0},{"$f":"'Ma7'!$W$12","v":0},{"$f":"'Ma7'!$X$12","v":0},{"$f":"'Ma7'!$Y$12","v":0},null,{"$f":"'Ma7'!$D$38","v":0},{"$f":"'Ma7'!$E$38","v":0},{"$f":"'Ma7'!$F$38","v":0},{"$f":"'Ma7'!$G$38","v":0},null,{"$f":"'Ma7'!$J$38","v":0},{"$f":"'Ma7'!$K$38","v":0},{"$f":"'Ma7'!$L$38","v":0},{"$f":"'Ma7'!$M$38","v":0},null,{"$f":"'Ma7'!$P$38","v":0},{"$f":"'Ma7'!$Q$38","v":0},{"$f":"'Ma7'!$R$38","v":0},{"$f":"'Ma7'!$S$38","v":0},null,{"$f":"'Ma7'!$V$38","v":0},{"$f":"'Ma7'!$W$38","v":0},{"$f":"'Ma7'!$X$38","v":0},{"$f":"'Ma7'!$Y$38","v":0}]
[null,"Passagen",null,{"$f":"'Ma1'!$D$13","v":0},{"$f":"'Ma1'!$E$13","v":0},{"$f":"'Ma1'!$F$13","v":0},{"$f":"'Ma1'!$G$13","v":0},null,{"$f":"'Ma1'!$J$13","v":0},{"$f":"'Ma1'!$K$13","v":0},{"$f":"'Ma1'!$L$13","v":0},{"$f":"'Ma1'!$M$13","v":0},null,{"$f":"'Ma1'!$P$13","v":0},{"$f":"'Ma1'!$Q$13","v":0},{"$f":"'Ma1'!$R$13","v":0},{"$f":"'Ma1'!$S$13","v":0},null,{"$f":"'Ma1'!$V$13","v":0},{"$f":"'Ma1'!$W$13","v":0},{"$f":"'Ma1'!$X$13","v":0},{"$f":"'Ma1'!$Y$13","v":0},null,{"$f":"'Ma1'!$D$39","v":0},{"$f":"'Ma1'!$E$39","v":0},{"$f":"'Ma1'!$F$39","v":0},{"$f":"'Ma1'!$G$39","v":0},null,{"$f":"'Ma1'!$J$39","v":0},{"$f":"'Ma1'!$K$39","v":0},{"$f":"'Ma1'!$L$39","v":0},{"$f":"'Ma1'!$M$39","v":0},null,{"$f":"'Ma1'!$P$39","v":0},{"$f":"'Ma1'!$Q$39","v":0},{"$f":"'Ma1'!$R$39","v":0},{"$f":"'Ma1'!$S$39","v":0},null,{"$f":"'Ma1'!$V$39","v":0},{"$f":"'Ma1'!$W$39","v":0},{"$f":"'Ma1'!$X$39","v":0},{"$f":"'Ma1'!$Y$39","v":0},null,{"$f":"'Ma2'!$D$13","v":0},{"$f":"'Ma2'!$E$13","v":0},{"$f":"'Ma2'!$F$13","v":0},{"$f":"'Ma2'!$G$13","v":0},null,{"$f":"'Ma2'!$J$13","v":0},{"$f":"'Ma2'!$K$13","v":0},{"$f":"'Ma2'!$L$13","v":0},{"$f":"'Ma2'!$M$13","v":0},null,{"$f":"'Ma2'!$P$13","v":0},{"$f":"'Ma2'!$Q$13","v":0},{"$f":"'Ma2'!$R$13","v":0},{"$f":"'Ma2'!$S$13","v":0},null,{"$f":"'Ma2'!$V$13","v":0},{"$f":"'Ma2'!$W$13","v":0},{"$f":"'Ma2'!$X$13","v":0},{"$f":"'Ma2'!$Y$13","v":0},null,{"$f":"'Ma2'!$D$39","v":0},{"$f":"'Ma2'!$E$39","v":0},{"$f":"'Ma2'!$F$39","v":0},{"$f":"'Ma2'!$G$39","v":0},null,{"$f":"'Ma2'!$J$39","v":0},{"$f":"'Ma2'!$K$39","v":0},{"$f":"'Ma2'!$L$39","v":0},{"$f":"'Ma2'!$M$39","v":0},null,{"$f":"'Ma2'!$P$39","v":0},{"$f":"'Ma2'!$Q$39","v":0},{"$f":"'Ma2'!$R$39","v":0},{"$f":"'Ma2'!$S$39","v":0},null,{"$f":"'Ma2'!$V$39","v":0},{"$f":"'Ma2'!$W$39","v":0},{"$f":"'Ma2'!$X$39","v":0},{"$f":"'Ma2'!$Y$39","v":0},null,{"$f":"'Ma3'!$D$13","v":0},{"$f":"'Ma3'!$E$13","v":0},{"$f":"'Ma3'!$F$13","v":0},{"$f":"'Ma3'!$G$13","v":0},null,{"$f":"'Ma3'!$J$13","v":0},{"$f":"'Ma3'!$K$13","v":0},{"$f":"'Ma3'!$L$13","v":0},{"$f":"'Ma3'!$M$13","v":0},null,{"$f":"'Ma3'!$P$13","v":0},{"$f":"'Ma3'!$Q$13","v":0},{"$f":"'Ma3'!$R$13","v":0},{"$f":"'Ma3'!$S$13","v":0},null,{"$f":"'Ma3'!$V$13","v":0},{"$f":"'Ma3'!$W$13","v":0},{"$f":"'Ma3'!$X$13","v":0},{"$f":"'Ma3'!$Y$13","v":0},null,{"$f":"'Ma3'!$D$39","v":0},{"$f":"'Ma3'!$E$39","v":0},{"$f":"'Ma3'!$F$39","v":0},{"$f":"'Ma3'!$G$39","v":0},null,{"$f":"'Ma3'!$J$39","v":0},{"$f":"'Ma3'!$K$39","v":0},{"$f":"'Ma3'!$L$39","v":0},{"$f":"'Ma3'!$M$39","v":0},null,{"$f":"'Ma3'!$P$39","v":0},{"$f":"'Ma3'!$Q$39","v":0},{"$f":"'Ma3'!$R$39","v":0},{"$f":"'Ma3'!$S$39","v":0},null,{"$f":"'Ma3'!$V$39","v":0},{"$f":"'Ma3'!$W$39","v":0},{"$f":"'Ma3'!$X$39","v":0},{"$f":"'Ma3'!$Y$39","v":0},null,{"$f":"'Ma4'!$D$13","v":0},{"$f":"'Ma4'!$E$13","v":0},{"$f":"'Ma4'!$F$13","v":0},{"$f":"'Ma4'!$G$13","v":0},null,{"$f":"'Ma4'!$J$13","v":0},{"$f":"'Ma4'!$K$13","v":0},{"$f":"'Ma4'!$L$13","v":0},{"$f":"'Ma4'!$M$13","v":0},null,{"$f":"'Ma4'!$P$13","v":0},{"$f":"'Ma4'!$Q$13","v":0},{"$f":"'Ma4'!$R$13","v":0},{"$f":"'Ma4'!$S$13","v":0},null,{"$f":"'Ma4'!$V$13","v":0},{"$f":"'Ma4'!$W$13","v":0},{"$f":"'Ma4'!$X$13","v":0},{"$f":"'Ma4'!$Y$13","v":0},null,{"$f":"'Ma4'!$D$39","v":0},{"$f":"'Ma4'!$E$39","v":0},{"$f":"'Ma4'!$F$39","v":0},{"$f":"'Ma4'!$G$39","v":0},null,{"$f":"'Ma4'!$J$39","v":0},{"$f":"'Ma4'!$K$39","v":0},{"$f":"'Ma4'!$L$39","v":0},{"$f":"'Ma4'!$M$39","v":0},null,{"$f":"'Ma4'!$P$39","v":0},{"$f":"'Ma4'!$Q$39","v":0},{"$f":"'Ma4'!$R$39","v":0},{"$f":"'Ma4'!$S$39","v":0},null,{"$f":"'Ma4'!$V$39","v":0},{"$f":"'Ma4'!$W$39","v":0},{"$f":"'Ma4'!$X$39","v":0},{"$f":"'Ma4'!$Y$39","v":0},null,{"$f":"'Ma5'!$D$13","v":0},{"$f":"'Ma5'!$E$13","v":0},{"$f":"'Ma5'!$F$13","v":0},{"$f":"'Ma5'!$G$13","v":0},null,{"$f":"'Ma5'!$J$13","v":0},{"$f":"'Ma5'!$K$13","v":0},{"$f":"'Ma5'!$L$13","v":0},{"$f":"'Ma5'!$M$13","v":0},null,{"$f":"'Ma5'!$P$13","v":0},{"$f":"'Ma5'!$Q$13","v":0},{"$f":"'Ma5'!$R$13","v":0},{"$f":"'Ma5'!$S$13","v":0},null,{"$f":"'Ma5'!$V$13","v":0},{"$f":"'Ma5'!$W$13","v":0},{"$f":"'Ma5'!$X$13","v":0},{"$f":"'Ma5'!$Y$13","v":0},null,{"$f":"'Ma5'!$D$39","v":0},{"$f":"'Ma5'!$E$39","v":0},{"$f":"'Ma5'!$F$39","v":0},{"$f":"'Ma5'!$G$39","v":0},null,{"$f":"'Ma5'!$J$39","v":0},{"$f":"'Ma5'!$K$39","v":0},{"$f":"'Ma5'!$L$39","v":0},{"$f":"'Ma5'!$M$39","v":0},null,{"$f":"'Ma5'!$P$39","v":0},{"$f":"'Ma5'!$Q$39","v":0},{"$f":"'Ma5'!$R$39","v":0},{"$f":"'Ma5'!$S$39","v":0},null,{"$f":"'Ma5'!$V$39","v":0},{"$f":"'Ma5'!$W$39","v":0},{"$f":"'Ma5'!$X$39","v":0},{"$f":"'Ma5'!$Y$39","v":0},null,{"$f":"'Ma6'!$D$13","v":0},{"$f":"'Ma6'!$E$13","v":0},{"$f":"'Ma6'!$F$13","v":0},{"$f":"'Ma6'!$G$13","v":0},null,{"$f":"'Ma6'!$J$13","v":0},{"$f":"'Ma6'!$K$13","v":0},{"$f":"'Ma6'!$L$13","v":0},{"$f":"'Ma6'!$M$13","v":0},null,{"$f":"'Ma6'!$P$13","v":0},{"$f":"'Ma6'!$Q$13","v":0},{"$f":"'Ma6'!$R$13","v":0},{"$f":"'Ma6'!$S$13","v":0},null,{"$f":"'Ma6'!$V$13","v":0},{"$f":"'Ma6'!$W$13","v":0},{"$f":"'Ma6'!$X$13","v":0},{"$f":"'Ma6'!$Y$13","v":0},null,{"$f":"'Ma6'!$D$39","v":0},{"$f":"'Ma6'!$E$39","v":0},{"$f":"'Ma6'!$F$39","v":0},{"$f":"'Ma6'!$G$39","v":0},null,{"$f":"'Ma6'!$J$39","v":0},{"$f":"'Ma6'!$K$39","v":0},{"$f":"'Ma6'!$L$39","v":0},{"$f":"'Ma6'!$M$39","v":0},null,{"$f":"'Ma6'!$P$39","v":0},{"$f":"'Ma6'!$Q$39","v":0},{"$f":"'Ma6'!$R$39","v":0},{"$f":"'Ma6'!$S$39","v":0},null,{"$f":"'Ma6'!$V$39","v":0},{"$f":"'Ma6'!$W$39","v":0},{"$f":"'Ma6'!$X$39","v":0},{"$f":"'Ma6'!$Y$39","v":0},null,{"$f":"'Ma7'!$D$13","v":0},{"$f":"'Ma7'!$E$13","v":0},{"$f":"'Ma7'!$F$13","v":0},{"$f":"'Ma7'!$G$13","v":0},null,{"$f":"'Ma7'!$J$13","v":0},{"$f":"'Ma7'!$K$13","v":0},{"$f":"'Ma7'!$L$13","v":0},{"$f":"'Ma7'!$M$13","v":0},null,{"$f":"'Ma7'!$P$13","v":0},{"$f":"'Ma7'!$Q$13","v":0},{"$f":"'Ma7'!$R$13","v":0},{"$f":"'Ma7'!$S$13","v":0},null,{"$f":"'Ma7'!$V$13","v":0},{"$f":"'Ma7'!$W$13","v":0},{"$f":"'Ma7'!$X$13","v":0},{"$f":"'Ma7'!$Y$13","v":0},null,{"$f":"'Ma7'!$D$39","v":0},{"$f":"'Ma7'!$E$39","v":0},{"$f":"'Ma7'!$F$39","v":0},{"$f":"'Ma7'!$G$39","v":0},null,{"$f":"'Ma7'!$J$39","v":0},{"$f":"'Ma7'!$K$39","v":0},{"$f":"'Ma7'!$L$39","v":0},{"$f":"'Ma7'!$M$39","v":0},null,{"$f":"'Ma7'!$P$39","v":0},{"$f":"'Ma7'!$Q$39","v":0},{"$f":"'Ma7'!$R$39","v":0},{"$f":"'Ma7'!$S$39","v":0},null,{"$f":"'Ma7'!$V$39","v":0},{"$f":"'Ma7'!$W$39","v":0},{"$f":"'Ma7'!$X$39","v":0},{"$f":"'Ma7'!$Y$39","v":0}]
[null,"Liegende Schleife",null,{"$f":"'Ma1'!$D$14","v":0},{"$f":"'Ma1'!$E$14","v":0},{"$f":"'Ma1'!$F$14","v":0},{"$f":"'Ma1'!$G$14","v":0},null,{"$f":"'Ma1'!$J$14","v":0},{"$f":"'Ma1'!$K$14","v":0},{"$f":"'Ma1'!$L$14","v":0},{"$f":"'Ma1'!$M$14","v":0},null,{"$f":"'Ma1'!$P$14","v":0},{"$f":"'Ma1'!$Q$14","v":0},{"$f":"'Ma1'!$R$14","v":0},{"$f":"'Ma1'!$S$14","v":0},null,{"$f":"'Ma1'!$V$14","v":0},{"$f":"'Ma1'!$W$14","v":0},{"$f":"'Ma1'!$X$14","v":0},{"$f":"'Ma1'!$Y$14","v":0},null,{"$f":"'Ma1'!$D$40","v":0},{"$f":"'Ma1'!$E$40","v":0},{"$f":"'Ma1'!$F$40","v":0},{"$f":"'Ma1'!$G$40","v":0},null,{"$f":"'Ma1'!$J$40","v":0},{"$f":"'Ma1'!$K$40","v":0},{"$f":"'Ma1'!$L$40","v":0},{"$f":"'Ma1'!$M$40","v":0},null,{"$f":"'Ma1'!$P$40","v":0},{"$f":"'Ma1'!$Q$40","v":0},{"$f":"'Ma1'!$R$40","v":0},{"$f":"'Ma1'!$S$40","v":0},null,{"$f":"'Ma1'!$V$40","v":0},{"$f":"'Ma1'!$W$40","v":0},{"$f":"'Ma1'!$X$40","v":0},{"$f":"'Ma1'!$Y$40","v":0},null,{"$f":"'Ma2'!$D$14","v":0},{"$f":"'Ma2'!$E$14","v":0},{"$f":"'Ma2'!$F$14","v":0},{"$f":"'Ma2'!$G$14","v":0},null,{"$f":"'Ma2'!$J$14","v":0},{"$f":"'Ma2'!$K$14","v":0},{"$f":"'Ma2'!$L$14","v":0},{"$f":"'Ma2'!$M$14","v":0},null,{"$f":"'Ma2'!$P$14","v":0},{"$f":"'Ma2'!$Q$14","v":0},{"$f":"'Ma2'!$R$14","v":0},{"$f":"'Ma2'!$S$14","v":0},null,{"$f":"'Ma2'!$V$14","v":0},{"$f":"'Ma2'!$W$14","v":0},{"$f":"'Ma2'!$X$14","v":0},{"$f":"'Ma2'!$Y$14","v":0},null,{"$f":"'Ma2'!$D$40","v":0},{"$f":"'Ma2'!$E$40","v":0},{"$f":"'Ma2'!$F$40","v":0},{"$f":"'Ma2'!$G$40","v":0},null,{"$f":"'Ma2'!$J$40","v":0},{"$f":"'Ma2'!$K$40","v":0},{"$f":"'Ma2'!$L$40","v":0},{"$f":"'Ma2'!$M$40","v":0},null,{"$f":"'Ma2'!$P$40","v":0},{"$f":"'Ma2'!$Q$40","v":0},{"$f":"'Ma2'!$R$40","v":0},{"$f":"'Ma2'!$S$40","v":0},null,{"$f":"'Ma2'!$V$40","v":0},{"$f":"'Ma2'!$W$40","v":0},{"$f":"'Ma2'!$X$40","v":0},{"$f":"'Ma2'!$Y$40","v":0},null,{"$f":"'Ma3'!$D$14","v":0},{"$f":"'Ma3'!$E$14","v":0},{"$f":"'Ma3'!$F$14","v":0},{"$f":"'Ma3'!$G$14","v":0},null,{"$f":"'Ma3'!$J$14","v":0},{"$f":"'Ma3'!$K$14","v":0},{"$f":"'Ma3'!$L$14","v":0},{"$f":"'Ma3'!$M$14","v":0},null,{"$f":"'Ma3'!$P$14","v":0},{"$f":"'Ma3'!$Q$14","v":0},{"$f":"'Ma3'!$R$14","v":0},{"$f":"'Ma3'!$S$14","v":0},null,{"$f":"'Ma3'!$V$14","v":0},{"$f":"'Ma3'!$W$14","v":0},{"$f":"'Ma3'!$X$14","v":0},{"$f":"'Ma3'!$Y$14","v":0},null,{"$f":"'Ma3'!$D$40","v":0},{"$f":"'Ma3'!$E$40","v":0},{"$f":"'Ma3'!$F$40","v":0},{"$f":"'Ma3'!$G$40","v":0},null,{"$f":"'Ma3'!$J$40","v":0},{"$f":"'Ma3'!$K$40","v":0},{"$f":"'Ma3'!$L$40","v":0},{"$f":"'Ma3'!$M$40","v":0},null,{"$f":"'Ma3'!$P$40","v":0},{"$f":"'Ma3'!$Q$40","v":0},{"$f":"'Ma3'!$R$40","v":0},{"$f":"'Ma3'!$S$40","v":0},null,{"$f":"'Ma3'!$V$40","v":0},{"$f":"'Ma3'!$W$40","v":0},{"$f":"'Ma3'!$X$40","v":0},{"$f":"'Ma3'!$Y$40","v":0},null,{"$f":"'Ma4'!$D$14","v":0},{"$f":"'Ma4'!$E$14","v":0},{"$f":"'Ma4'!$F$14","v":0},{"$f":"'Ma4'!$G$14","v":0},null,{"$f":"'Ma4'!$J$14","v":0},{"$f":"'Ma4'!$K$14","v":0},{"$f":"'Ma4'!$L$14","v":0},{"$f":"'Ma4'!$M$14","v":0},null,{"$f":"'Ma4'!$P$14","v":0},{"$f":"'Ma4'!$Q$14","v":0},{"$f":"'Ma4'!$R$14","v":0},{"$f":"'Ma4'!$S$14","v":0},null,{"$f":"'Ma4'!$V$14","v":0},{"$f":"'Ma4'!$W$14","v":0},{"$f":"'Ma4'!$X$14","v":0},{"$f":"'Ma4'!$Y$14","v":0},null,{"$f":"'Ma4'!$D$40","v":0},{"$f":"'Ma4'!$E$40","v":0},{"$f":"'Ma4'!$F$40","v":0},{"$f":"'Ma4'!$G$40","v":0},null,{"$f":"'Ma4'!$J$40","v":0},{"$f":"'Ma4'!$K$40","v":0},{"$f":"'Ma4'!$L$40","v":0},{"$f":"'Ma4'!$M$40","v":0},null,{"$f":"'Ma4'!$P$40","v":0},{"$f":"'Ma4'!$Q$40","v":0},{"$f":"'Ma4'!$R$40","v":0},{"$f":"'Ma4'!$S$40","v":0},null,{"$f":"'Ma4'!$V$40","v":0},{"$f":"'Ma4'!$W$40","v":0},{"$f":"'Ma4'!$X$40","v":0},{"$f":"'Ma4'!$Y$40","v":0},null,{"$f":"'Ma5'!$D$14","v":0},{"$f":"'Ma5'!$E$14","v":0},{"$f":"'Ma5'!$F$14","v":0},{"$f":"'Ma5'!$G$14","v":0},null,{"$f":"'Ma5'!$J$14","v":0},{"$f":"'Ma5'!$K$14","v":0},{"$f":"'Ma5'!$L$14","v":0},{"$f":"'Ma5'!$M$14","v":0},null,{"$f":"'Ma5'!$P$14","v":0},{"$f":"'Ma5'!$Q$14","v":0},{"$f":"'Ma5'!$R$14","v":0},{"$f":"'Ma5'!$S$14","v":0},null,{"$f":"'Ma5'!$V$14","v":0},{"$f":"'Ma5'!$W$14","v":0},{"$f":"'Ma5'!$X$14","v":0},{"$f":"'Ma5'!$Y$14","v":0},null,{"$f":"'Ma5'!$D$40","v":0},{"$f":"'Ma5'!$E$40","v":0},{"$f":"'Ma5'!$F$40","v":0},{"$f":"'Ma5'!$G$40","v":0},null,{"$f":"'Ma5'!$J$40","v":0},{"$f":"'Ma5'!$K$40","v":0},{"$f":"'Ma5'!$L$40","v":0},{"$f":"'Ma5'!$M$40","v":0},null,{"$f":"'Ma5'!$P$40","v":0},{"$f":"'Ma5'!$Q$40","v":0},{"$f":"'Ma5'!$R$40","v":0},{"$f":"'Ma5'!$S$40","v":0},null,{"$f":"'Ma5'!$V$40","v":0},{"$f":"'Ma5'!$W$40","v":0},{"$f":"'Ma5'!$X$40","v":0},{"$f":"'Ma5'!$Y$40","v":0},null,{"$f":"'Ma6'!$D$14","v":0},{"$f":"'Ma6'!$E$14","v":0},{"$f":"'Ma6'!$F$14","v":0},{"$f":"'Ma6'!$G$14","v":0},null,{"$f":"'Ma6'!$J$14","v":0},{"$f":"'Ma6'!$K$14","v":0},{"$f":"'Ma6'!$L$14","v":0},{"$f":"'Ma6'!$M$14","v":0},null,{"$f":"'Ma6'!$P$14","v":0},{"$f":"'Ma6'!$Q$14","v":0},{"$f":"'Ma6'!$R$14","v":0},{"$f":"'Ma6'!$S$14","v":0},null,{"$f":"'Ma6'!$V$14","v":0},{"$f":"'Ma6'!$W$14","v":0},{"$f":"'Ma6'!$X$14","v":0},{"$f":"'Ma6'!$Y$14","v":0},null,{"$f":"'Ma6'!$D$40","v":0},{"$f":"'Ma6'!$E$40","v":0},{"$f":"'Ma6'!$F$40","v":0},{"$f":"'Ma6'!$G$40","v":0},null,{"$f":"'Ma6'!$J$40","v":0},{"$f":"'Ma6'!$K$40","v":0},{"$f":"'Ma6'!$L$40","v":0},{"$f":"'Ma6'!$M$40","v":0},null,{"$f":"'Ma6'!$P$40","v":0},{"$f":"'Ma6'!$Q$40","v":0},{"$f":"'Ma6'!$R$40","v":0},{"$f":"'Ma6'!$S$40","v":0},null,{"$f":"'Ma6'!$V$40","v":0},{"$f":"'Ma6'!$W$40","v":0},{"$f":"'Ma6'!$X$40","v":0},{"$f":"'Ma6'!$Y$40","v":0},null,{"$f":"'Ma7'!$D$14","v":0},{"$f":"'Ma7'!$E$14","v":0},{"$f":"'Ma7'!$F$14","v":0},{"$f":"'Ma7'!$G$14","v":0},null,{"$f":"'Ma7'!$J$14","v":0},{"$f":"'Ma7'!$K$14","v":0},{"$f":"'Ma7'!$L$14","v":0},{"$f":"'Ma7'!$M$14","v":0},null,{"$f":"'Ma7'!$P$14","v":0},{"$f":"'Ma7'!$Q$14","v":0},{"$f":"'Ma7'!$R$14","v":0},{"$f":"'Ma7'!$S$14","v":0},null,{"$f":"'Ma7'!$V$14","v":0},{"$f":"'Ma7'!$W$14","v":0},{"$f":"'Ma7'!$X$14","v":0},{"$f":"'Ma7'!$Y$14","v":0},null,{"$f":"'Ma7'!$D$40","v":0},{"$f":"'Ma7'!$E$40","v":0},{"$f":"'Ma7'!$F$40","v":0},{"$f":"'Ma7'!$G$40","v":0},null,{"$f":"'Ma7'!$J$40","v":0},{"$f":"'Ma7'!$K$40","v":0},{"$f":"'Ma7'!$L$40","v":0},{"$f":"'Ma7'!$M$40","v":0},null,{"$f":"'Ma7'!$P$40","v":0},{"$f":"'Ma7'!$Q$40","v":0},{"$f":"'Ma7'!$R$40","v":0},{"$f":"'Ma7'!$S$40","v":0},null,{"$f":"'Ma7'!$V$40","v":0},{"$f":"'Ma7'!$W$40","v":0},{"$f":"'Ma7'!$X$40","v":0},{"$f":"'Ma7'!$Y$40","v":0}]
[null,"Winkel",null,{"$f":"'Ma1'!$D$15","v":0},{"$f":"'Ma1'!$E$15","v":0},{"$f":"'Ma1'!$F$15","v":0},{"$f":"'Ma1'!$G$15","v":0},null,{"$f":"'Ma1'!$J$15","v":0},{"$f":"'Ma1'!$K$15","v":0},{"$f":"'Ma1'!$L$15","v":0},{"$f":"'Ma1'!$M$15","v":0},null,{"$f":"'Ma1'!$P$15","v":0},{"$f":"'Ma1'!$Q$15","v":0},{"$f":"'Ma1'!$R$15","v":0},{"$f":"'Ma1'!$S$15","v":0},null,{"$f":"'Ma1'!$V$15","v":0},{"$f":"'Ma1'!$W$15","v":0},{"$f":"'Ma1'!$X$15","v":0},{"$f":"'Ma1'!$Y$15","v":0},null,{"$f":"'Ma1'!$D$41","v":0},{"$f":"'Ma1'!$E$41","v":0},{"$f":"'Ma1'!$F$41","v":0},{"$f":"'Ma1'!$G$41","v":0},null,{"$f":"'Ma1'!$J$41","v":0},{"$f":"'Ma1'!$K$41","v":0},{"$f":"'Ma1'!$L$41","v":0},{"$f":"'Ma1'!$M$41","v":0},null,{"$f":"'Ma1'!$P$41","v":0},{"$f":"'Ma1'!$Q$41","v":0},{"$f":"'Ma1'!$R$41","v":0},{"$f":"'Ma1'!$S$41","v":0},null,{"$f":"'Ma1'!$V$41","v":0},{"$f":"'Ma1'!$W$41","v":0},{"$f":"'Ma1'!$X$41","v":0},{"$f":"'Ma1'!$Y$41","v":0},null,{"$f":"'Ma2'!$D$15","v":0},{"$f":"'Ma2'!$E$15","v":0},{"$f":"'Ma2'!$F$15","v":0},{"$f":"'Ma2'!$G$15","v":0},null,{"$f":"'Ma2'!$J$15","v":0},{"$f":"'Ma2'!$K$15","v":0},{"$f":"'Ma2'!$L$15","v":0},{"$f":"'Ma2'!$M$15","v":0},null,{"$f":"'Ma2'!$P$15","v":0},{"$f":"'Ma2'!$Q$15","v":0},{"$f":"'Ma2'!$R$15","v":0},{"$f":"'Ma2'!$S$15","v":0},null,{"$f":"'Ma2'!$V$15","v":0},{"$f":"'Ma2'!$W$15","v":0},{"$f":"'Ma2'!$X$15","v":0},{"$f":"'Ma2'!$Y$15","v":0},null,{"$f":"'Ma2'!$D$41","v":0},{"$f":"'Ma2'!$E$41","v":0},{"$f":"'Ma2'!$F$41","v":0},{"$f":"'Ma2'!$G$41","v":0},null,{"$f":"'Ma2'!$J$41","v":0},{"$f":"'Ma2'!$K$41","v":0},{"$f":"'Ma2'!$L$41","v":0},{"$f":"'Ma2'!$M$41","v":0},null,{"$f":"'Ma2'!$P$41","v":0},{"$f":"'Ma2'!$Q$41","v":0},{"$f":"'Ma2'!$R$41","v":0},{"$f":"'Ma2'!$S$41","v":0},null,{"$f":"'Ma2'!$V$41","v":0},{"$f":"'Ma2'!$W$41","v":0},{"$f":"'Ma2'!$X$41","v":0},{"$f":"'Ma2'!$Y$41","v":0},null,{"$f":"'Ma3'!$D$15","v":0},{"$f":"'Ma3'!$E$15","v":0},{"$f":"'Ma3'!$F$15","v":0},{"$f":"'Ma3'!$G$15","v":0},null,{"$f":"'Ma3'!$J$15","v":0},{"$f":"'Ma3'!$K$15","v":0},{"$f":"'Ma3'!$L$15","v":0},{"$f":"'Ma3'!$M$15","v":0},null,{"$f":"'Ma3'!$P$15","v":0},{"$f":"'Ma3'!$Q$15","v":0},{"$f":"'Ma3'!$R$15","v":0},{"$f":"'Ma3'!$S$15","v":0},null,{"$f":"'Ma3'!$V$15","v":0},{"$f":"'Ma3'!$W$15","v":0},{"$f":"'Ma3'!$X$15","v":0},{"$f":"'Ma3'!$Y$15","v":0},null,{"$f":"'Ma3'!$D$41","v":0},{"$f":"'Ma3'!$E$41","v":0},{"$f":"'Ma3'!$F$41","v":0},{"$f":"'Ma3'!$G$41","v":0},null,{"$f":"'Ma3'!$J$41","v":0},{"$f":"'Ma3'!$K$41","v":0},{"$f":"'Ma3'!$L$41","v":0},{"$f":"'Ma3'!$M$41","v":0},null,{"$f":"'Ma3'!$P$41","v":0},{"$f":"'Ma3'!$Q$41","v":0},{"$f":"'Ma3'!$R$41","v":0},{"$f":"'Ma3'!$S$41","v":0},null,{"$f":"'Ma3'!$V$41","v":0},{"$f":"'Ma3'!$W$41","v":0},{"$f":"'Ma3'!$X$41","v":0},{"$f":"'Ma3'!$Y$41","v":0},null,{"$f":"'Ma4'!$D$15","v":0},{"$f":"'Ma4'!$E$15","v":0},{"$f":"'Ma4'!$F$15","v":0},{"$f":"'Ma4'!$G$15","v":0},null,{"$f":"'Ma4'!$J$15","v":0},{"$f":"'Ma4'!$K$15","v":0},{"$f":"'Ma4'!$L$15","v":0},{"$f":"'Ma4'!$M$15","v":0},null,{"$f":"'Ma4'!$P$15","v":0},{"$f":"'Ma4'!$Q$15","v":0},{"$f":"'Ma4'!$R$15","v":0},{"$f":"'Ma4'!$S$15","v":0},null,{"$f":"'Ma4'!$V$15","v":0},{"$f":"'Ma4'!$W$15","v":0},{"$f":"'Ma4'!$X$15","v":0},{"$f":"'Ma4'!$Y$15","v":0},null,{"$f":"'Ma4'!$D$41","v":0},{"$f":"'Ma4'!$E$41","v":0},{"$f":"'Ma4'!$F$41","v":0},{"$f":"'Ma4'!$G$41","v":0},null,{"$f":"'Ma4'!$J$41","v":0},{"$f":"'Ma4'!$K$41","v":0},{"$f":"'Ma4'!$L$41","v":0},{"$f":"'Ma4'!$M$41","v":0},null,{"$f":"'Ma4'!$P$41","v":0},{"$f":"'Ma4'!$Q$41","v":0},{"$f":"'Ma4'!$R$41","v":0},{"$f":"'Ma4'!$S$41","v":0},null,{"$f":"'Ma4'!$V$41","v":0},{"$f":"'Ma4'!$W$41","v":0},{"$f":"'Ma4'!$X$41","v":0},{"$f":"'Ma4'!$Y$41","v":0},null,{"$f":"'Ma5'!$D$15","v":0},{"$f":"'Ma5'!$E$15","v":0},{"$f":"'Ma5'!$F$15","v":0},{"$f":"'Ma5'!$G$15","v":0},null,{"$f":"'Ma5'!$J$15","v":0},{"$f":"'Ma5'!$K$15","v":0},{"$f":"'Ma5'!$L$15","v":0},{"$f":"'Ma5'!$M$15","v":0},null,{"$f":"'Ma5'!$P$15","v":0},{"$f":"'Ma5'!$Q$15","v":0},{"$f":"'Ma5'!$R$15","v":0},{"$f":"'Ma5'!$S$15","v":0},null,{"$f":"'Ma5'!$V$15","v":0},{"$f":"'Ma5'!$W$15","v":0},{"$f":"'Ma5'!$X$15","v":0},{"$f":"'Ma5'!$Y$15","v":0},null,{"$f":"'Ma5'!$D$41","v":0},{"$f":"'Ma5'!$E$41","v":0},{"$f":"'Ma5'!$F$41","v":0},{"$f":"'Ma5'!$G$41","v":0},null,{"$f":"'Ma5'!$J$41","v":0},{"$f":"'Ma5'!$K$41","v":0},{"$f":"'Ma5'!$L$41","v":0},{"$f":"'Ma5'!$M$41","v":0},null,{"$f":"'Ma5'!$P$41","v":0},{"$f":"'Ma5'!$Q$41","v":0},{"$f":"'Ma5'!$R$41","v":0},{"$f":"'Ma5'!$S$41","v":0},null,{"$f":"'Ma5'!$V$41","v":0},{"$f":"'Ma5'!$W$41","v":0},{"$f":"'Ma5'!$X$41","v":0},{"$f":"'Ma5'!$Y$41","v":0},null,{"$f":"'Ma6'!$D$15","v":0},{"$f":"'Ma6'!$E$15","v":0},{"$f":"'Ma6'!$F$15","v":0},{"$f":"'Ma6'!$G$15","v":0},null,{"$f":"'Ma6'!$J$15","v":0},{"$f":"'Ma6'!$K$15","v":0},{"$f":"'Ma6'!$L$15","v":0},{"$f":"'Ma6'!$M$15","v":0},null,{"$f":"'Ma6'!$P$15","v":0},{"$f":"'Ma6'!$Q$15","v":0},{"$f":"'Ma6'!$R$15","v":0},{"$f":"'Ma6'!$S$15","v":0},null,{"$f":"'Ma6'!$V$15","v":0},{"$f":"'Ma6'!$W$15","v":0},{"$f":"'Ma6'!$X$15","v":0},{"$f":"'Ma6'!$Y$15","v":0},null,{"$f":"'Ma6'!$D$41","v":0},{"$f":"'Ma6'!$E$41","v":0},{"$f":"'Ma6'!$F$41","v":0},{"$f":"'Ma6'!$G$41","v":0},null,{"$f":"'Ma6'!$J$41","v":0},{"$f":"'Ma6'!$K$41","v":0},{"$f":"'Ma6'!$L$41","v":0},{"$f":"'Ma6'!$M$41","v":0},null,{"$f":"'Ma6'!$P$41","v":0},{"$f":"'Ma6'!$Q$41","v":0},{"$f":"'Ma6'!$R$41","v":0},{"$f":"'Ma6'!$S$41","v":0},null,{"$f":"'Ma6'!$V$41","v":0},{"$f":"'Ma6'!$W$41","v":0},{"$f":"'Ma6'!$X$41","v":0},{"$f":"'Ma6'!$Y$41","v":0},null,{"$f":"'Ma7'!$D$15","v":0},{"$f":"'Ma7'!$E$15","v":0},{"$f":"'Ma7'!$F$15","v":0},{"$f":"'Ma7'!$G$15","v":0},null,{"$f":"'Ma7'!$J$15","v":0},{"$f":"'Ma7'!$K$15","v":0},{"$f":"'Ma7'!$L$15","v":0},{"$f":"'Ma7'!$M$15","v":0},null,{"$f":"'Ma7'!$P$15","v":0},{"$f":"'Ma7'!$Q$15","v":0},{"$f":"'Ma7'!$R$15","v":0},{"$f":"'Ma7'!$S$15","v":0},null,{"$f":"'Ma7'!$V$15","v":0},{"$f":"'Ma7'!$W$15","v":0},{"$f":"'Ma7'!$X$15","v":0},{"$f":"'Ma7'!$Y$15","v":0},null,{"$f":"'Ma7'!$D$41","v":0},{"$f":"'Ma7'!$E$41","v":0},{"$f":"'Ma7'!$F$41","v":0},{"$f":"'Ma7'!$G$41","v":0},null,{"$f":"'Ma7'!$J$41","v":0},{"$f":"'Ma7'!$K$41","v":0},{"$f":"'Ma7'!$L$41","v":0},{"$f":"'Ma7'!$M$41","v":0},null,{"$f":"'Ma7'!$P$41","v":0},{"$f":"'Ma7'!$Q$41","v":0},{"$f":"'Ma7'!$R$41","v":0},{"$f":"'Ma7'!$S$41","v":0},null,{"$f":"'Ma7'!$V$41","v":0},{"$f":"'Ma7'!$W$41","v":0},{"$f":"'Ma7'!$X$41","v":0},{"$f":"'Ma7'!$Y$41","v":0}]
[null,"Netz",null,{"$f":"'Ma1'!$D$16","v":0},{"$f":"'Ma1'!$E$16","v":0},{"$f":"'Ma1'!$F$16","v":0},{"$f":"'Ma1'!$G$16","v":0},null,{"$f":"'Ma1'!$J$16","v":0},{"$f":"'Ma1'!$K$16","v":0},{"$f":"'Ma1'!$L$16","v":0},{"$f":"'Ma1'!$M$16","v":0},null,{"$f":"'Ma1'!$P$16","v":0},{"$f":"'Ma1'!$Q$16","v":0},{"$f":"'Ma1'!$R$16","v":0},{"$f":"'Ma1'!$S$16","v":0},null,{"$f":"'Ma1'!$V$16","v":0},{"$f":"'Ma1'!$W$16","v":0},{"$f":"'Ma1'!$X$16","v":0},{"$f":"'Ma1'!$Y$16","v":0},null,{"$f":"'Ma1'!$D$42","v":0},{"$f":"'Ma1'!$E$42","v":0},{"$f":"'Ma1'!$F$42","v":0},{"$f":"'Ma1'!$G$42","v":0},null,{"$f":"'Ma1'!$J$42","v":0},{"$f":"'Ma1'!$K$42","v":0},{"$f":"'Ma1'!$L$42","v":0},{"$f":"'Ma1'!$M$42","v":0},null,{"$f":"'Ma1'!$P$42","v":0},{"$f":"'Ma1'!$Q$42","v":0},{"$f":"'Ma1'!$R$42","v":0},{"$f":"'Ma1'!$S$42","v":0},null,{"$f":"'Ma1'!$V$42","v":0},{"$f":"'Ma1'!$W$42","v":0},{"$f":"'Ma1'!$X$42","v":0},{"$f":"'Ma1'!$Y$42","v":0},null,{"$f":"'Ma2'!$D$16","v":0},{"$f":"'Ma2'!$E$16","v":0},{"$f":"'Ma2'!$F$16","v":0},{"$f":"'Ma2'!$G$16","v":0},null,{"$f":"'Ma2'!$J$16","v":0},{"$f":"'Ma2'!$K$16","v":0},{"$f":"'Ma2'!$L$16","v":0},{"$f":"'Ma2'!$M$16","v":0},null,{"$f":"'Ma2'!$P$16","v":0},{"$f":"'Ma2'!$Q$16","v":0},{"$f":"'Ma2'!$R$16","v":0},{"$f":"'Ma2'!$S$16","v":0},null,{"$f":"'Ma2'!$V$16","v":0},{"$f":"'Ma2'!$W$16","v":0},{"$f":"'Ma2'!$X$16","v":0},{"$f":"'Ma2'!$Y$16","v":0},null,{"$f":"'Ma2'!$D$42","v":0},{"$f":"'Ma2'!$E$42","v":0},{"$f":"'Ma2'!$F$42","v":0},{"$f":"'Ma2'!$G$42","v":0},null,{"$f":"'Ma2'!$J$42","v":0},{"$f":"'Ma2'!$K$42","v":0},{"$f":"'Ma2'!$L$42","v":0},{"$f":"'Ma2'!$M$42","v":0},null,{"$f":"'Ma2'!$P$42","v":0},{"$f":"'Ma2'!$Q$42","v":0},{"$f":"'Ma2'!$R$42","v":0},{"$f":"'Ma2'!$S$42","v":0},null,{"$f":"'Ma2'!$V$42","v":0},{"$f":"'Ma2'!$W$42","v":0},{"$f":"'Ma2'!$X$42","v":0},{"$f":"'Ma2'!$Y$42","v":0},null,{"$f":"'Ma3'!$D$16","v":0},{"$f":"'Ma3'!$E$16","v":0},{"$f":"'Ma3'!$F$16","v":0},{"$f":"'Ma3'!$G$16","v":0},null,{"$f":"'Ma3'!$J$16","v":0},{"$f":"'Ma3'!$K$16","v":0},{"$f":"'Ma3'!$L$16","v":0},{"$f":"'Ma3'!$M$16","v":0},null,{"$f":"'Ma3'!$P$16","v":0},{"$f":"'Ma3'!$Q$16","v":0},{"$f":"'Ma3'!$R$16","v":0},{"$f":"'Ma3'!$S$16","v":0},null,{"$f":"'Ma3'!$V$16","v":0},{"$f":"'Ma3'!$W$16","v":0},{"$f":"'Ma3'!$X$16","v":0},{"$f":"'Ma3'!$Y$16","v":0},null,{"$f":"'Ma3'!$D$42","v":0},{"$f":"'Ma3'!$E$42","v":0},{"$f":"'Ma3'!$F$42","v":0},{"$f":"'Ma3'!$G$42","v":0},null,{"$f":"'Ma3'!$J$42","v":0},{"$f":"'Ma3'!$K$42","v":0},{"$f":"'Ma3'!$L$42","v":0},{"$f":"'Ma3'!$M$42","v":0},null,{"$f":"'Ma3'!$P$42","v":0},{"$f":"'Ma3'!$Q$42","v":0},{"$f":"'Ma3'!$R$42","v":0},{"$f":"'Ma3'!$S$42","v":0},null,{"$f":"'Ma3'!$V$42","v":0},{"$f":"'Ma3'!$W$42","v":0},{"$f":"'Ma3'!$X$42","v":0},{"$f":"'Ma3'!$Y$42","v":0},null,{"$f":"'Ma4'!$D$16","v":0},{"$f":"'Ma4'!$E$16","v":0},{"$f":"'Ma4'!$F$16","v":0},{"$f":"'Ma4'!$G$16","v":0},null,{"$f":"'Ma4'!$J$16","v":0},{"$f":"'Ma4'!$K$16","v":0},{"$f":"'Ma4'!$L$16","v":0},{"$f":"'Ma4'!$M$16","v":0},null,{"$f":"'Ma4'!$P$16","v":0},{"$f":"'Ma4'!$Q$16","v":0},{"$f":"'Ma4'!$R$16","v":0},{"$f":"'Ma4'!$S$16","v":0},null,{"$f":"'Ma4'!$V$16","v":0},{"$f":"'Ma4'!$W$16","v":0},{"$f":"'Ma4'!$X$16","v":0},{"$f":"'Ma4'!$Y$16","v":0},null,{"$f":"'Ma4'!$D$42","v":0},{"$f":"'Ma4'!$E$42","v":0},{"$f":"'Ma4'!$F$42","v":0},{"$f":"'Ma4'!$G$42","v":0},null,{"$f":"'Ma4'!$J$42","v":0},{"$f":"'Ma4'!$K$42","v":0},{"$f":"'Ma4'!$L$42","v":0},{"$f":"'Ma4'!$M$42","v":0},null,{"$f":"'Ma4'!$P$42","v":0},{"$f":"'Ma4'!$Q$42","v":0},{"$f":"'Ma4'!$R$42","v":0},{"$f":"'Ma4'!$S$42","v":0},null,{"$f":"'Ma4'!$V$42","v":0},{"$f":"'Ma4'!$W$42","v":0},{"$f":"'Ma4'!$X$42","v":0},{"$f":"'Ma4'!$Y$42","v":0},null,{"$f":"'Ma5'!$D$16","v":0},{"$f":"'Ma5'!$E$16","v":0},{"$f":"'Ma5'!$F$16","v":0},{"$f":"'Ma5'!$G$16","v":0},null,{"$f":"'Ma5'!$J$16","v":0},{"$f":"'Ma5'!$K$16","v":0},{"$f":"'Ma5'!$L$16","v":0},{"$f":"'Ma5'!$M$16","v":0},null,{"$f":"'Ma5'!$P$16","v":0},{"$f":"'Ma5'!$Q$16","v":0},{"$f":"'Ma5'!$R$16","v":0},{"$f":"'Ma5'!$S$16","v":0},null,{"$f":"'Ma5'!$V$16","v":0},{"$f":"'Ma5'!$W$16","v":0},{"$f":"'Ma5'!$X$16","v":0},{"$f":"'Ma5'!$Y$16","v":0},null,{"$f":"'Ma5'!$D$42","v":0},{"$f":"'Ma5'!$E$42","v":0},{"$f":"'Ma5'!$F$42","v":0},{"$f":"'Ma5'!$G$42","v":0},null,{"$f":"'Ma5'!$J$42","v":0},{"$f":"'Ma5'!$K$42","v":0},{"$f":"'Ma5'!$L$42","v":0},{"$f":"'Ma5'!$M$42","v":0},null,{"$f":"'Ma5'!$P$42","v":0},{"$f":"'Ma5'!$Q$42","v":0},{"$f":"'Ma5'!$R$42","v":0},{"$f":"'Ma5'!$S$42","v":0},null,{"$f":"'Ma5'!$V$42","v":0},{"$f":"'Ma5'!$W$42","v":0},{"$f":"'Ma5'!$X$42","v":0},{"$f":"'Ma5'!$Y$42","v":0},null,{"$f":"'Ma6'!$D$16","v":0},{"$f":"'Ma6'!$E$16","v":0},{"$f":"'Ma6'!$F$16","v":0},{"$f":"'Ma6'!$G$16","v":0},null,{"$f":"'Ma6'!$J$16","v":0},{"$f":"'Ma6'!$K$16","v":0},{"$f":"'Ma6'!$L$16","v":0},{"$f":"'Ma6'!$M$16","v":0},null,{"$f":"'Ma6'!$P$16","v":0},{"$f":"'Ma6'!$Q$16","v":0},{"$f":"'Ma6'!$R$16","v":0},{"$f":"'Ma6'!$S$16","v":0},null,{"$f":"'Ma6'!$V$16","v":0},{"$f":"'Ma6'!$W$16","v":0},{"$f":"'Ma6'!$X$16","v":0},{"$f":"'Ma6'!$Y$16","v":0},null,{"$f":"'Ma6'!$D$42","v":0},{"$f":"'Ma6'!$E$42","v":0},{"$f":"'Ma6'!$F$42","v":0},{"$f":"'Ma6'!$G$42","v":0},null,{"$f":"'Ma6'!$J$42","v":0},{"$f":"'Ma6'!$K$42","v":0},{"$f":"'Ma6'!$L$42","v":0},{"$f":"'Ma6'!$M$42","v":0},null,{"$f":"'Ma6'!$P$42","v":0},{"$f":"'Ma6'!$Q$42","v":0},{"$f":"'Ma6'!$R$42","v":0},{"$f":"'Ma6'!$S$42","v":0},null,{"$f":"'Ma6'!$V$42","v":0},{"$f":"'Ma6'!$W$42","v":0},{"$f":"'Ma6'!$X$42","v":0},{"$f":"'Ma6'!$Y$42","v":0},null,{"$f":"'Ma7'!$D$16","v":0},{"$f":"'Ma7'!$E$16","v":0},{"$f":"'Ma7'!$F$16","v":0},{"$f":"'Ma7'!$G$16","v":0},null,{"$f":"'Ma7'!$J$16","v":0},{"$f":"'Ma7'!$K$16","v":0},{"$f":"'Ma7'!$L$16","v":0},{"$f":"'Ma7'!$M$16","v":0},null,{"$f":"'Ma7'!$P$16","v":0},{"$f":"'Ma7'!$Q$16","v":0},{"$f":"'Ma7'!$R$16","v":0},{"$f":"'Ma7'!$S$16","v":0},null,{"$f":"'Ma7'!$V$16","v":0},{"$f":"'Ma7'!$W$16","v":0},{"$f":"'Ma7'!$X$16","v":0},{"$f":"'Ma7'!$Y$16","v":0},null,{"$f":"'Ma7'!$D$42","v":0},{"$f":"'Ma7'!$E$42","v":0},{"$f":"'Ma7'!$F$42","v":0},{"$f":"'Ma7'!$G$42","v":0},null,{"$f":"'Ma7'!$J$42","v":0},{"$f":"'Ma7'!$K$42","v":0},{"$f":"'Ma7'!$L$42","v":0},{"$f":"'Ma7'!$M$42","v":0},null,{"$f":"'Ma7'!$P$42","v":0},{"$f":"'Ma7'!$Q$42","v":0},{"$f":"'Ma7'!$R$42","v":0},{"$f":"'Ma7'!$S$42","v":0},null,{"$f":"'Ma7'!$V$42","v":0},{"$f":"'Ma7'!$W$42","v":0},{"$f":"'Ma7'!$X$42","v":0},{"$f":"'Ma7'!$Y$42","v":0}]
[null,"Doppelkeile",null,{"$f":"'Ma1'!$D$17","v":0},{"$f":"'Ma1'!$E$17","v":0},{"$f":"'Ma1'!$F$17","v":0},{"$f":"'Ma1'!$G$17","v":0},null,{"$f":"'Ma1'!$J$17","v":0},{"$f":"'Ma1'!$K$17","v":0},{"$f":"'Ma1'!$L$17","v":0},{"$f":"'Ma1'!$M$17","v":0},null,{"$f":"'Ma1'!$P$17","v":0},{"$f":"'Ma1'!$Q$17","v":0},{"$f":"'Ma1'!$R$17","v":0},{"$f":"'Ma1'!$S$17","v":0},null,{"$f":"'Ma1'!$V$17","v":0},{"$f":"'Ma1'!$W$17","v":0},{"$f":"'Ma1'!$X$17","v":0},{"$f":"'Ma1'!$Y$17","v":0},null,{"$f":"'Ma1'!$D$43","v":0},{"$f":"'Ma1'!$E$43","v":0},{"$f":"'Ma1'!$F$43","v":0},{"$f":"'Ma1'!$G$43","v":0},null,{"$f":"'Ma1'!$J$43","v":0},{"$f":"'Ma1'!$K$43","v":0},{"$f":"'Ma1'!$L$43","v":0},{"$f":"'Ma1'!$M$43","v":0},null,{"$f":"'Ma1'!$P$43","v":0},{"$f":"'Ma1'!$Q$43","v":0},{"$f":"'Ma1'!$R$43","v":0},{"$f":"'Ma1'!$S$43","v":0},null,{"$f":"'Ma1'!$V$43","v":0},{"$f":"'Ma1'!$W$43","v":0},{"$f":"'Ma1'!$X$43","v":0},{"$f":"'Ma1'!$Y$43","v":0},null,{"$f":"'Ma2'!$D$17","v":0},{"$f":"'Ma2'!$E$17","v":0},{"$f":"'Ma2'!$F$17","v":0},{"$f":"'Ma2'!$G$17","v":0},null,{"$f":"'Ma2'!$J$17","v":0},{"$f":"'Ma2'!$K$17","v":0},{"$f":"'Ma2'!$L$17","v":0},{"$f":"'Ma2'!$M$17","v":0},null,{"$f":"'Ma2'!$P$17","v":0},{"$f":"'Ma2'!$Q$17","v":0},{"$f":"'Ma2'!$R$17","v":0},{"$f":"'Ma2'!$S$17","v":0},null,{"$f":"'Ma2'!$V$17","v":0},{"$f":"'Ma2'!$W$17","v":0},{"$f":"'Ma2'!$X$17","v":0},{"$f":"'Ma2'!$Y$17","v":0},null,{"$f":"'Ma2'!$D$43","v":0},{"$f":"'Ma2'!$E$43","v":0},{"$f":"'Ma2'!$F$43","v":0},{"$f":"'Ma2'!$G$43","v":0},null,{"$f":"'Ma2'!$J$43","v":0},{"$f":"'Ma2'!$K$43","v":0},{"$f":"'Ma2'!$L$43","v":0},{"$f":"'Ma2'!$M$43","v":0},null,{"$f":"'Ma2'!$P$43","v":0},{"$f":"'Ma2'!$Q$43","v":0},{"$f":"'Ma2'!$R$43","v":0},{"$f":"'Ma2'!$S$43","v":0},null,{"$f":"'Ma2'!$V$43","v":0},{"$f":"'Ma2'!$W$43","v":0},{"$f":"'Ma2'!$X$43","v":0},{"$f":"'Ma2'!$Y$43","v":0},null,{"$f":"'Ma3'!$D$17","v":0},{"$f":"'Ma3'!$E$17","v":0},{"$f":"'Ma3'!$F$17","v":0},{"$f":"'Ma3'!$G$17","v":0},null,{"$f":"'Ma3'!$J$17","v":0},{"$f":"'Ma3'!$K$17","v":0},{"$f":"'Ma3'!$L$17","v":0},{"$f":"'Ma3'!$M$17","v":0},null,{"$f":"'Ma3'!$P$17","v":0},{"$f":"'Ma3'!$Q$17","v":0},{"$f":"'Ma3'!$R$17","v":0},{"$f":"'Ma3'!$S$17","v":0},null,{"$f":"'Ma3'!$V$17","v":0},{"$f":"'Ma3'!$W$17","v":0},{"$f":"'Ma3'!$X$17","v":0},{"$f":"'Ma3'!$Y$17","v":0},null,{"$f":"'Ma3'!$D$43","v":0},{"$f":"'Ma3'!$E$43","v":0},{"$f":"'Ma3'!$F$43","v":0},{"$f":"'Ma3'!$G$43","v":0},null,{"$f":"'Ma3'!$J$43","v":0},{"$f":"'Ma3'!$K$43","v":0},{"$f":"'Ma3'!$L$43","v":0},{"$f":"'Ma3'!$M$43","v":0},null,{"$f":"'Ma3'!$P$43","v":0},{"$f":"'Ma3'!$Q$43","v":0},{"$f":"'Ma3'!$R$43","v":0},{"$f":"'Ma3'!$S$43","v":0},null,{"$f":"'Ma3'!$V$43","v":0},{"$f":"'Ma3'!$W$43","v":0},{"$f":"'Ma3'!$X$43","v":0},{"$f":"'Ma3'!$Y$43","v":0},null,{"$f":"'Ma4'!$D$17","v":0},{"$f":"'Ma4'!$E$17","v":0},{"$f":"'Ma4'!$F$17","v":0},{"$f":"'Ma4'!$G$17","v":0},null,{"$f":"'Ma4'!$J$17","v":0},{"$f":"'Ma4'!$K$17","v":0},{"$f":"'Ma4'!$L$17","v":0},{"$f":"'Ma4'!$M$17","v":0},null,{"$f":"'Ma4'!$P$17","v":0},{"$f":"'Ma4'!$Q$17","v":0},{"$f":"'Ma4'!$R$17","v":0},{"$f":"'Ma4'!$S$17","v":0},null,{"$f":"'Ma4'!$V$17","v":0},{"$f":"'Ma4'!$W$17","v":0},{"$f":"'Ma4'!$X$17","v":0},{"$f":"'Ma4'!$Y$17","v":0},null,{"$f":"'Ma4'!$D$43","v":0},{"$f":"'Ma4'!$E$43","v":0},{"$f":"'Ma4'!$F$43","v":0},{"$f":"'Ma4'!$G$43","v":0},null,{"$f":"'Ma4'!$J$43","v":0},{"$f":"'Ma4'!$K$43","v":0},{"$f":"'Ma4'!$L$43","v":0},{"$f":"'Ma4'!$M$43","v":0},null,{"$f":"'Ma4'!$P$43","v":0},{"$f":"'Ma4'!$Q$43","v":0},{"$f":"'Ma4'!$R$43","v":0},{"$f":"'Ma4'!$S$43","v":0},null,{"$f":"'Ma4'!$V$43","v":0},{"$f":"'Ma4'!$W$43","v":0},{"$f":"'Ma4'!$X$43","v":0},{"$f":"'Ma4'!$Y$43","v":0},null,{"$f":"'Ma5'!$D$17","v":0},{"$f":"'Ma5'!$E$17","v":0},{"$f":"'Ma5'!$F$17","v":0},{"$f":"'Ma5'!$G$17","v":0},null,{"$f":"'Ma5'!$J$17","v":0},{"$f":"'Ma5'!$K$17","v":0},{"$f":"'Ma5'!$L$17","v":0},{"$f":"'Ma5'!$M$17","v":0},null,{"$f":"'Ma5'!$P$17","v":0},{"$f":"'Ma5'!$Q$17","v":0},{"$f":"'Ma5'!$R$17","v":0},{"$f":"'Ma5'!$S$17","v":0},null,{"$f":"'Ma5'!$V$17","v":0},{"$f":"'Ma5'!$W$17","v":0},{"$f":"'Ma5'!$X$17","v":0},{"$f":"'Ma5'!$Y$17","v":0},null,{"$f":"'Ma5'!$D$43","v":0},{"$f":"'Ma5'!$E$43","v":0},{"$f":"'Ma5'!$F$43","v":0},{"$f":"'Ma5'!$G$43","v":0},null,{"$f":"'Ma5'!$J$43","v":0},{"$f":"'Ma5'!$K$43","v":0},{"$f":"'Ma5'!$L$43","v":0},{"$f":"'Ma5'!$M$43","v":0},null,{"$f":"'Ma5'!$P$43","v":0},{"$f":"'Ma5'!$Q$43","v":0},{"$f":"'Ma5'!$R$43","v":0},{"$f":"'Ma5'!$S$43","v":0},null,{"$f":"'Ma5'!$V$43","v":0},{"$f":"'Ma5'!$W$43","v":0},{"$f":"'Ma5'!$X$43","v":0},{"$f":"'Ma5'!$Y$43","v":0},null,{"$f":"'Ma6'!$D$17","v":0},{"$f":"'Ma6'!$E$17","v":0},{"$f":"'Ma6'!$F$17","v":0},{"$f":"'Ma6'!$G$17","v":0},null,{"$f":"'Ma6'!$J$17","v":0},{"$f":"'Ma6'!$K$17","v":0},{"$f":"'Ma6'!$L$17","v":0},{"$f":"'Ma6'!$M$17","v":0},null,{"$f":"'Ma6'!$P$17","v":0},{"$f":"'Ma6'!$Q$17","v":0},{"$f":"'Ma6'!$R$17","v":0},{"$f":"'Ma6'!$S$17","v":0},null,{"$f":"'Ma6'!$V$17","v":0},{"$f":"'Ma6'!$W$17","v":0},{"$f":"'Ma6'!$X$17","v":0},{"$f":"'Ma6'!$Y$17","v":0},null,{"$f":"'Ma6'!$D$43","v":0},{"$f":"'Ma6'!$E$43","v":0},{"$f":"'Ma6'!$F$43","v":0},{"$f":"'Ma6'!$G$43","v":0},null,{"$f":"'Ma6'!$J$43","v":0},{"$f":"'Ma6'!$K$43","v":0},{"$f":"'Ma6'!$L$43","v":0},{"$f":"'Ma6'!$M$43","v":0},null,{"$f":"'Ma6'!$P$43","v":0},{"$f":"'Ma6'!$Q$43","v":0},{"$f":"'Ma6'!$R$43","v":0},{"$f":"'Ma6'!$S$43","v":0},null,{"$f":"'Ma6'!$V$43","v":0},{"$f":"'Ma6'!$W$43","v":0},{"$f":"'Ma6'!$X$43","v":0},{"$f":"'Ma6'!$Y$43","v":0},null,{"$f":"'Ma7'!$D$17","v":0},{"$f":"'Ma7'!$E$17","v":0},{"$f":"'Ma7'!$F$17","v":0},{"$f":"'Ma7'!$G$17","v":0},null,{"$f":"'Ma7'!$J$17","v":0},{"$f":"'Ma7'!$K$17","v":0},{"$f":"'Ma7'!$L$17","v":0},{"$f":"'Ma7'!$M$17","v":0},null,{"$f":"'Ma7'!$P$17","v":0},{"$f":"'Ma7'!$Q$17","v":0},{"$f":"'Ma7'!$R$17","v":0},{"$f":"'Ma7'!$S$17","v":0},null,{"$f":"'Ma7'!$V$17","v":0},{"$f":"'Ma7'!$W$17","v":0},{"$f":"'Ma7'!$X$17","v":0},{"$f":"'Ma7'!$Y$17","v":0},null,{"$f":"'Ma7'!$D$43","v":0},{"$f":"'Ma7'!$E$43","v":0},{"$f":"'Ma7'!$F$43","v":0},{"$f":"'Ma7'!$G$43","v":0},null,{"$f":"'Ma7'!$J$43","v":0},{"$f":"'Ma7'!$K$43","v":0},{"$f":"'Ma7'!$L$43","v":0},{"$f":"'Ma7'!$M$43","v":0},null,{"$f":"'Ma7'!$P$43","v":0},{"$f":"'Ma7'!$Q$43","v":0},{"$f":"'Ma7'!$R$43","v":0},{"$f":"'Ma7'!$S$43","v":0},null,{"$f":"'Ma7'!$V$43","v":0},{"$f":"'Ma7'!$W$43","v":0},{"$f":"'Ma7'!$X$43","v":0},{"$f":"'Ma7'!$Y$43","v":0}]
[null,"Stumpfe Kegel",null,{"$f":"'Ma1'!$D$18","v":0},{"$f":"'Ma1'!$E$18","v":0},{"$f":"'Ma1'!$F$18","v":0},{"$f":"'Ma1'!$G$18","v":0},null,{"$f":"'Ma1'!$J$18","v":0},{"$f":"'Ma1'!$K$18","v":0},{"$f":"'Ma1'!$L$18","v":0},{"$f":"'Ma1'!$M$18","v":0},null,{"$f":"'Ma1'!$P$18","v":0},{"$f":"'Ma1'!$Q$18","v":0},{"$f":"'Ma1'!$R$18","v":0},{"$f":"'Ma1'!$S$18","v":0},null,{"$f":"'Ma1'!$V$18","v":0},{"$f":"'Ma1'!$W$18","v":0},{"$f":"'Ma1'!$X$18","v":0},{"$f":"'Ma1'!$Y$18","v":0},null,{"$f":"'Ma1'!$D$44","v":0},{"$f":"'Ma1'!$E$44","v":0},{"$f":"'Ma1'!$F$44","v":0},{"$f":"'Ma1'!$G$44","v":0},null,{"$f":"'Ma1'!$J$44","v":0},{"$f":"'Ma1'!$K$44","v":0},{"$f":"'Ma1'!$L$44","v":0},{"$f":"'Ma1'!$M$44","v":0},null,{"$f":"'Ma1'!$P$44","v":0},{"$f":"'Ma1'!$Q$44","v":0},{"$f":"'Ma1'!$R$44","v":0},{"$f":"'Ma1'!$S$44","v":0},null,{"$f":"'Ma1'!$V$44","v":0},{"$f":"'Ma1'!$W$44","v":0},{"$f":"'Ma1'!$X$44","v":0},{"$f":"'Ma1'!$Y$44","v":0},null,{"$f":"'Ma2'!$D$18","v":0},{"$f":"'Ma2'!$E$18","v":0},{"$f":"'Ma2'!$F$18","v":0},{"$f":"'Ma2'!$G$18","v":0},null,{"$f":"'Ma2'!$J$18","v":0},{"$f":"'Ma2'!$K$18","v":0},{"$f":"'Ma2'!$L$18","v":0},{"$f":"'Ma2'!$M$18","v":0},null,{"$f":"'Ma2'!$P$18","v":0},{"$f":"'Ma2'!$Q$18","v":0},{"$f":"'Ma2'!$R$18","v":0},{"$f":"'Ma2'!$S$18","v":0},null,{"$f":"'Ma2'!$V$18","v":0},{"$f":"'Ma2'!$W$18","v":0},{"$f":"'Ma2'!$X$18","v":0},{"$f":"'Ma2'!$Y$18","v":0},null,{"$f":"'Ma2'!$D$44","v":0},{"$f":"'Ma2'!$E$44","v":0},{"$f":"'Ma2'!$F$44","v":0},{"$f":"'Ma2'!$G$44","v":0},null,{"$f":"'Ma2'!$J$44","v":0},{"$f":"'Ma2'!$K$44","v":0},{"$f":"'Ma2'!$L$44","v":0},{"$f":"'Ma2'!$M$44","v":0},null,{"$f":"'Ma2'!$P$44","v":0},{"$f":"'Ma2'!$Q$44","v":0},{"$f":"'Ma2'!$R$44","v":0},{"$f":"'Ma2'!$S$44","v":0},null,{"$f":"'Ma2'!$V$44","v":0},{"$f":"'Ma2'!$W$44","v":0},{"$f":"'Ma2'!$X$44","v":0},{"$f":"'Ma2'!$Y$44","v":0},null,{"$f":"'Ma3'!$D$18","v":0},{"$f":"'Ma3'!$E$18","v":0},{"$f":"'Ma3'!$F$18","v":0},{"$f":"'Ma3'!$G$18","v":0},null,{"$f":"'Ma3'!$J$18","v":0},{"$f":"'Ma3'!$K$18","v":0},{"$f":"'Ma3'!$L$18","v":0},{"$f":"'Ma3'!$M$18","v":0},null,{"$f":"'Ma3'!$P$18","v":0},{"$f":"'Ma3'!$Q$18","v":0},{"$f":"'Ma3'!$R$18","v":0},{"$f":"'Ma3'!$S$18","v":0},null,{"$f":"'Ma3'!$V$18","v":0},{"$f":"'Ma3'!$W$18","v":0},{"$f":"'Ma3'!$X$18","v":0},{"$f":"'Ma3'!$Y$18","v":0},null,{"$f":"'Ma3'!$D$44","v":0},{"$f":"'Ma3'!$E$44","v":0},{"$f":"'Ma3'!$F$44","v":0},{"$f":"'Ma3'!$G$44","v":0},null,{"$f":"'Ma3'!$J$44","v":0},{"$f":"'Ma3'!$K$44","v":0},{"$f":"'Ma3'!$L$44","v":0},{"$f":"'Ma3'!$M$44","v":0},null,{"$f":"'Ma3'!$P$44","v":0},{"$f":"'Ma3'!$Q$44","v":0},{"$f":"'Ma3'!$R$44","v":0},{"$f":"'Ma3'!$S$44","v":0},null,{"$f":"'Ma3'!$V$44","v":0},{"$f":"'Ma3'!$W$44","v":0},{"$f":"'Ma3'!$X$44","v":0},{"$f":"'Ma3'!$Y$44","v":0},null,{"$f":"'Ma4'!$D$18","v":0},{"$f":"'Ma4'!$E$18","v":0},{"$f":"'Ma4'!$F$18","v":0},{"$f":"'Ma4'!$G$18","v":0},null,{"$f":"'Ma4'!$J$18","v":0},{"$f":"'Ma4'!$K$18","v":0},{"$f":"'Ma4'!$L$18","v":0},{"$f":"'Ma4'!$M$18","v":0},null,{"$f":"'Ma4'!$P$18","v":0},{"$f":"'Ma4'!$Q$18","v":0},{"$f":"'Ma4'!$R$18","v":0},{"$f":"'Ma4'!$S$18","v":0},null,{"$f":"'Ma4'!$V$18","v":0},{"$f":"'Ma4'!$W$18","v":0},{"$f":"'Ma4'!$X$18","v":0},{"$f":"'Ma4'!$Y$18","v":0},null,{"$f":"'Ma4'!$D$44","v":0},{"$f":"'Ma4'!$E$44","v":0},{"$f":"'Ma4'!$F$44","v":0},{"$f":"'Ma4'!$G$44","v":0},null,{"$f":"'Ma4'!$J$44","v":0},{"$f":"'Ma4'!$K$44","v":0},{"$f":"'Ma4'!$L$44","v":0},{"$f":"'Ma4'!$M$44","v":0},null,{"$f":"'Ma4'!$P$44","v":0},{"$f":"'Ma4'!$Q$44","v":0},{"$f":"'Ma4'!$R$44","v":0},{"$f":"'Ma4'!$S$44","v":0},null,{"$f":"'Ma4'!$V$44","v":0},{"$f":"'Ma4'!$W$44","v":0},{"$f":"'Ma4'!$X$44","v":0},{"$f":"'Ma4'!$Y$44","v":0},null,{"$f":"'Ma5'!$D$18","v":0},{"$f":"'Ma5'!$E$18","v":0},{"$f":"'Ma5'!$F$18","v":0},{"$f":"'Ma5'!$G$18","v":0},null,{"$f":"'Ma5'!$J$18","v":0},{"$f":"'Ma5'!$K$18","v":0},{"$f":"'Ma5'!$L$18","v":0},{"$f":"'Ma5'!$M$18","v":0},null,{"$f":"'Ma5'!$P$18","v":0},{"$f":"'Ma5'!$Q$18","v":0},{"$f":"'Ma5'!$R$18","v":0},{"$f":"'Ma5'!$S$18","v":0},null,{"$f":"'Ma5'!$V$18","v":0},{"$f":"'Ma5'!$W$18","v":0},{"$f":"'Ma5'!$X$18","v":0},{"$f":"'Ma5'!$Y$18","v":0},null,{"$f":"'Ma5'!$D$44","v":0},{"$f":"'Ma5'!$E$44","v":0},{"$f":"'Ma5'!$F$44","v":0},{"$f":"'Ma5'!$G$44","v":0},null,{"$f":"'Ma5'!$J$44","v":0},{"$f":"'Ma5'!$K$44","v":0},{"$f":"'Ma5'!$L$44","v":0},{"$f":"'Ma5'!$M$44","v":0},null,{"$f":"'Ma5'!$P$44","v":0},{"$f":"'Ma5'!$Q$44","v":0},{"$f":"'Ma5'!$R$44","v":0},{"$f":"'Ma5'!$S$44","v":0},null,{"$f":"'Ma5'!$V$44","v":0},{"$f":"'Ma5'!$W$44","v":0},{"$f":"'Ma5'!$X$44","v":0},{"$f":"'Ma5'!$Y$44","v":0},null,{"$f":"'Ma6'!$D$18","v":0},{"$f":"'Ma6'!$E$18","v":0},{"$f":"'Ma6'!$F$18","v":0},{"$f":"'Ma6'!$G$18","v":0},null,{"$f":"'Ma6'!$J$18","v":0},{"$f":"'Ma6'!$K$18","v":0},{"$f":"'Ma6'!$L$18","v":0},{"$f":"'Ma6'!$M$18","v":0},null,{"$f":"'Ma6'!$P$18","v":0},{"$f":"'Ma6'!$Q$18","v":0},{"$f":"'Ma6'!$R$18","v":0},{"$f":"'Ma6'!$S$18","v":0},null,{"$f":"'Ma6'!$V$18","v":0},{"$f":"'Ma6'!$W$18","v":0},{"$f":"'Ma6'!$X$18","v":0},{"$f":"'Ma6'!$Y$18","v":0},null,{"$f":"'Ma6'!$D$44","v":0},{"$f":"'Ma6'!$E$44","v":0},{"$f":"'Ma6'!$F$44","v":0},{"$f":"'Ma6'!$G$44","v":0},null,{"$f":"'Ma6'!$J$44","v":0},{"$f":"'Ma6'!$K$44","v":0},{"$f":"'Ma6'!$L$44","v":0},{"$f":"'Ma6'!$M$44","v":0},null,{"$f":"'Ma6'!$P$44","v":0},{"$f":"'Ma6'!$Q$44","v":0},{"$f":"'Ma6'!$R$44","v":0},{"$f":"'Ma6'!$S$44","v":0},null,{"$f":"'Ma6'!$V$44","v":0},{"$f":"'Ma6'!$W$44","v":0},{"$f":"'Ma6'!$X$44","v":0},{"$f":"'Ma6'!$Y$44","v":0},null,{"$f":"'Ma7'!$D$18","v":0},{"$f":"'Ma7'!$E$18","v":0},{"$f":"'Ma7'!$F$18","v":0},{"$f":"'Ma7'!$G$18","v":0},null,{"$f":"'Ma7'!$J$18","v":0},{"$f":"'Ma7'!$K$18","v":0},{"$f":"'Ma7'!$L$18","v":0},{"$f":"'Ma7'!$M$18","v":0},null,{"$f":"'Ma7'!$P$18","v":0},{"$f":"'Ma7'!$Q$18","v":0},{"$f":"'Ma7'!$R$18","v":0},{"$f":"'Ma7'!$S$18","v":0},null,{"$f":"'Ma7'!$V$18","v":0},{"$f":"'Ma7'!$W$18","v":0},{"$f":"'Ma7'!$X$18","v":0},{"$f":"'Ma7'!$Y$18","v":0},null,{"$f":"'Ma7'!$D$44","v":0},{"$f":"'Ma7'!$E$44","v":0},{"$f":"'Ma7'!$F$44","v":0},{"$f":"'Ma7'!$G$44","v":0},null,{"$f":"'Ma7'!$J$44","v":0},{"$f":"'Ma7'!$K$44","v":0},{"$f":"'Ma7'!$L$44","v":0},{"$f":"'Ma7'!$M$44","v":0},null,{"$f":"'Ma7'!$P$44","v":0},{"$f":"'Ma7'!$Q$44","v":0},{"$f":"'Ma7'!$R$44","v":0},{"$f":"'Ma7'!$S$44","v":0},null,{"$f":"'Ma7'!$V$44","v":0},{"$f":"'Ma7'!$W$44","v":0},{"$f":"'Ma7'!$X$44","v":0},{"$f":"'Ma7'!$Y$44","v":0}]
[null,"Schrägerkreis mit Niere",null,{"$f":"'Ma1'!$D$19","v":0},{"$f":"'Ma1'!$E$19","v":0},{"$f":"'Ma1'!$F$19","v":0},{"$f":"'Ma1'!$G$19","v":0},null,{"$f":"'Ma1'!$J$19","v":0},{"$f":"'Ma1'!$K$19","v":0},{"$f":"'Ma1'!$L$19","v":0},{"$f":"'Ma1'!$M$19","v":0},null,{"$f":"'Ma1'!$P$19","v":0},{"$f":"'Ma1'!$Q$19","v":0},{"$f":"'Ma1'!$R$19","v":0},{"$f":"'Ma1'!$S$19","v":0},null,{"$f":"'Ma1'!$V$19","v":0},{"$f":"'Ma1'!$W$19","v":0},{"$f":"'Ma1'!$X$19","v":0},{"$f":"'Ma1'!$Y$19","v":0},null,{"$f":"'Ma1'!$D$45","v":0},{"$f":"'Ma1'!$E$45","v":0},{"$f":"'Ma1'!$F$45","v":0},{"$f":"'Ma1'!$G$45","v":0},null,{"$f":"'Ma1'!$J$45","v":0},{"$f":"'Ma1'!$K$45","v":0},{"$f":"'Ma1'!$L$45","v":0},{"$f":"'Ma1'!$M$45","v":0},null,{"$f":"'Ma1'!$P$45","v":0},{"$f":"'Ma1'!$Q$45","v":0},{"$f":"'Ma1'!$R$45","v":0},{"$f":"'Ma1'!$S$45","v":0},null,{"$f":"'Ma1'!$V$45","v":0},{"$f":"'Ma1'!$W$45","v":0},{"$f":"'Ma1'!$X$45","v":0},{"$f":"'Ma1'!$Y$45","v":0},null,{"$f":"'Ma2'!$D$19","v":0},{"$f":"'Ma2'!$E$19","v":0},{"$f":"'Ma2'!$F$19","v":0},{"$f":"'Ma2'!$G$19","v":0},null,{"$f":"'Ma2'!$J$19","v":0},{"$f":"'Ma2'!$K$19","v":0},{"$f":"'Ma2'!$L$19","v":0},{"$f":"'Ma2'!$M$19","v":0},null,{"$f":"'Ma2'!$P$19","v":0},{"$f":"'Ma2'!$Q$19","v":0},{"$f":"'Ma2'!$R$19","v":0},{"$f":"'Ma2'!$S$19","v":0},null,{"$f":"'Ma2'!$V$19","v":0},{"$f":"'Ma2'!$W$19","v":0},{"$f":"'Ma2'!$X$19","v":0},{"$f":"'Ma2'!$Y$19","v":0},null,{"$f":"'Ma2'!$D$45","v":0},{"$f":"'Ma2'!$E$45","v":0},{"$f":"'Ma2'!$F$45","v":0},{"$f":"'Ma2'!$G$45","v":0},null,{"$f":"'Ma2'!$J$45","v":0},{"$f":"'Ma2'!$K$45","v":0},{"$f":"'Ma2'!$L$45","v":0},{"$f":"'Ma2'!$M$45","v":0},null,{"$f":"'Ma2'!$P$45","v":0},{"$f":"'Ma2'!$Q$45","v":0},{"$f":"'Ma2'!$R$45","v":0},{"$f":"'Ma2'!$S$45","v":0},null,{"$f":"'Ma2'!$V$45","v":0},{"$f":"'Ma2'!$W$45","v":0},{"$f":"'Ma2'!$X$45","v":0},{"$f":"'Ma2'!$Y$45","v":0},null,{"$f":"'Ma3'!$D$19","v":0},{"$f":"'Ma3'!$E$19","v":0},{"$f":"'Ma3'!$F$19","v":0},{"$f":"'Ma3'!$G$19","v":0},null,{"$f":"'Ma3'!$J$19","v":0},{"$f":"'Ma3'!$K$19","v":0},{"$f":"'Ma3'!$L$19","v":0},{"$f":"'Ma3'!$M$19","v":0},null,{"$f":"'Ma3'!$P$19","v":0},{"$f":"'Ma3'!$Q$19","v":0},{"$f":"'Ma3'!$R$19","v":0},{"$f":"'Ma3'!$S$19","v":0},null,{"$f":"'Ma3'!$V$19","v":0},{"$f":"'Ma3'!$W$19","v":0},{"$f":"'Ma3'!$X$19","v":0},{"$f":"'Ma3'!$Y$19","v":0},null,{"$f":"'Ma3'!$D$45","v":0},{"$f":"'Ma3'!$E$45","v":0},{"$f":"'Ma3'!$F$45","v":0},{"$f":"'Ma3'!$G$45","v":0},null,{"$f":"'Ma3'!$J$45","v":0},{"$f":"'Ma3'!$K$45","v":0},{"$f":"'Ma3'!$L$45","v":0},{"$f":"'Ma3'!$M$45","v":0},null,{"$f":"'Ma3'!$P$45","v":0},{"$f":"'Ma3'!$Q$45","v":0},{"$f":"'Ma3'!$R$45","v":0},{"$f":"'Ma3'!$S$45","v":0},null,{"$f":"'Ma3'!$V$45","v":0},{"$f":"'Ma3'!$W$45","v":0},{"$f":"'Ma3'!$X$45","v":0},{"$f":"'Ma3'!$Y$45","v":0},null,{"$f":"'Ma4'!$D$19","v":0},{"$f":"'Ma4'!$E$19","v":0},{"$f":"'Ma4'!$F$19","v":0},{"$f":"'Ma4'!$G$19","v":0},null,{"$f":"'Ma4'!$J$19","v":0},{"$f":"'Ma4'!$K$19","v":0},{"$f":"'Ma4'!$L$19","v":0},{"$f":"'Ma4'!$M$19","v":0},null,{"$f":"'Ma4'!$P$19","v":0},{"$f":"'Ma4'!$Q$19","v":0},{"$f":"'Ma4'!$R$19","v":0},{"$f":"'Ma4'!$S$19","v":0},null,{"$f":"'Ma4'!$V$19","v":0},{"$f":"'Ma4'!$W$19","v":0},{"$f":"'Ma4'!$X$19","v":0},{"$f":"'Ma4'!$Y$19","v":0},null,{"$f":"'Ma4'!$D$45","v":0},{"$f":"'Ma4'!$E$45","v":0},{"$f":"'Ma4'!$F$45","v":0},{"$f":"'Ma4'!$G$45","v":0},null,{"$f":"'Ma4'!$J$45","v":0},{"$f":"'Ma4'!$K$45","v":0},{"$f":"'Ma4'!$L$45","v":0},{"$f":"'Ma4'!$M$45","v":0},null,{"$f":"'Ma4'!$P$45","v":0},{"$f":"'Ma4'!$Q$45","v":0},{"$f":"'Ma4'!$R$45","v":0},{"$f":"'Ma4'!$S$45","v":0},null,{"$f":"'Ma4'!$V$45","v":0},{"$f":"'Ma4'!$W$45","v":0},{"$f":"'Ma4'!$X$45","v":0},{"$f":"'Ma4'!$Y$45","v":0},null,{"$f":"'Ma5'!$D$19","v":0},{"$f":"'Ma5'!$E$19","v":0},{"$f":"'Ma5'!$F$19","v":0},{"$f":"'Ma5'!$G$19","v":0},null,{"$f":"'Ma5'!$J$19","v":0},{"$f":"'Ma5'!$K$19","v":0},{"$f":"'Ma5'!$L$19","v":0},{"$f":"'Ma5'!$M$19","v":0},null,{"$f":"'Ma5'!$P$19","v":0},{"$f":"'Ma5'!$Q$19","v":0},{"$f":"'Ma5'!$R$19","v":0},{"$f":"'Ma5'!$S$19","v":0},null,{"$f":"'Ma5'!$V$19","v":0},{"$f":"'Ma5'!$W$19","v":0},{"$f":"'Ma5'!$X$19","v":0},{"$f":"'Ma5'!$Y$19","v":0},null,{"$f":"'Ma5'!$D$45","v":0},{"$f":"'Ma5'!$E$45","v":0},{"$f":"'Ma5'!$F$45","v":0},{"$f":"'Ma5'!$G$45","v":0},null,{"$f":"'Ma5'!$J$45","v":0},{"$f":"'Ma5'!$K$45","v":0},{"$f":"'Ma5'!$L$45","v":0},{"$f":"'Ma5'!$M$45","v":0},null,{"$f":"'Ma5'!$P$45","v":0},{"$f":"'Ma5'!$Q$45","v":0},{"$f":"'Ma5'!$R$45","v":0},{"$f":"'Ma5'!$S$45","v":0},null,{"$f":"'Ma5'!$V$45","v":0},{"$f":"'Ma5'!$W$45","v":0},{"$f":"'Ma5'!$X$45","v":0},{"$f":"'Ma5'!$Y$45","v":0},null,{"$f":"'Ma6'!$D$19","v":0},{"$f":"'Ma6'!$E$19","v":0},{"$f":"'Ma6'!$F$19","v":0},{"$f":"'Ma6'!$G$19","v":0},null,{"$f":"'Ma6'!$J$19","v":0},{"$f":"'Ma6'!$K$19","v":0},{"$f":"'Ma6'!$L$19","v":0},{"$f":"'Ma6'!$M$19","v":0},null,{"$f":"'Ma6'!$P$19","v":0},{"$f":"'Ma6'!$Q$19","v":0},{"$f":"'Ma6'!$R$19","v":0},{"$f":"'Ma6'!$S$19","v":0},null,{"$f":"'Ma6'!$V$19","v":0},{"$f":"'Ma6'!$W$19","v":0},{"$f":"'Ma6'!$X$19","v":0},{"$f":"'Ma6'!$Y$19","v":0},null,{"$f":"'Ma6'!$D$45","v":0},{"$f":"'Ma6'!$E$45","v":0},{"$f":"'Ma6'!$F$45","v":0},{"$f":"'Ma6'!$G$45","v":0},null,{"$f":"'Ma6'!$J$45","v":0},{"$f":"'Ma6'!$K$45","v":0},{"$f":"'Ma6'!$L$45","v":0},{"$f":"'Ma6'!$M$45","v":0},null,{"$f":"'Ma6'!$P$45","v":0},{"$f":"'Ma6'!$Q$45","v":0},{"$f":"'Ma6'!$R$45","v":0},{"$f":"'Ma6'!$S$45","v":0},null,{"$f":"'Ma6'!$V$45","v":0},{"$f":"'Ma6'!$W$45","v":0},{"$f":"'Ma6'!$X$45","v":0},{"$f":"'Ma6'!$Y$45","v":0},null,{"$f":"'Ma7'!$D$19","v":0},{"$f":"'Ma7'!$E$19","v":0},{"$f":"'Ma7'!$F$19","v":0},{"$f":"'Ma7'!$G$19","v":0},null,{"$f":"'Ma7'!$J$19","v":0},{"$f":"'Ma7'!$K$19","v":0},{"$f":"'Ma7'!$L$19","v":0},{"$f":"'Ma7'!$M$19","v":0},null,{"$f":"'Ma7'!$P$19","v":0},{"$f":"'Ma7'!$Q$19","v":0},{"$f":"'Ma7'!$R$19","v":0},{"$f":"'Ma7'!$S$19","v":0},null,{"$f":"'Ma7'!$V$19","v":0},{"$f":"'Ma7'!$W$19","v":0},{"$f":"'Ma7'!$X$19","v":0},{"$f":"'Ma7'!$Y$19","v":0},null,{"$f":"'Ma7'!$D$45","v":0},{"$f":"'Ma7'!$E$45","v":0},{"$f":"'Ma7'!$F$45","v":0},{"$f":"'Ma7'!$G$45","v":0},null,{"$f":"'Ma7'!$J$45","v":0},{"$f":"'Ma7'!$K$45","v":0},{"$f":"'Ma7'!$L$45","v":0},{"$f":"'Ma7'!$M$45","v":0},null,{"$f":"'Ma7'!$P$45","v":0},{"$f":"'Ma7'!$Q$45","v":0},{"$f":"'Ma7'!$R$45","v":0},{"$f":"'Ma7'!$S$45","v":0},null,{"$f":"'Ma7'!$V$45","v":0},{"$f":"'Ma7'!$W$45","v":0},{"$f":"'Ma7'!$X$45","v":0},{"$f":"'Ma7'!$Y$45","v":0}]
[null,"Brücke",null,{"$f":"'Ma1'!$D$20","v":0},{"$f":"'Ma1'!$E$20","v":0},{"$f":"'Ma1'!$F$20","v":0},{"$f":"'Ma1'!$G$20","v":0},null,{"$f":"'Ma1'!$J$20","v":0},{"$f":"'Ma1'!$K$20","v":0},{"$f":"'Ma1'!$L$20","v":0},{"$f":"'Ma1'!$M$20","v":0},null,{"$f":"'Ma1'!$P$20","v":0},{"$f":"'Ma1'!$Q$20","v":0},{"$f":"'Ma1'!$R$20","v":0},{"$f":"'Ma1'!$S$20","v":0},null,{"$f":"'Ma1'!$V$20","v":0},{"$f":"'Ma1'!$W$20","v":0},{"$f":"'Ma1'!$X$20","v":0},{"$f":"'Ma1'!$Y$20","v":0},null,{"$f":"'Ma1'!$D$46","v":0},{"$f":"'Ma1'!$E$46","v":0},{"$f":"'Ma1'!$F$46","v":0},{"$f":"'Ma1'!$G$46","v":0},null,{"$f":"'Ma1'!$J$46","v":0},{"$f":"'Ma1'!$K$46","v":0},{"$f":"'Ma1'!$L$46","v":0},{"$f":"'Ma1'!$M$46","v":0},null,{"$f":"'Ma1'!$P$46","v":0},{"$f":"'Ma1'!$Q$46","v":0},{"$f":"'Ma1'!$R$46","v":0},{"$f":"'Ma1'!$S$46","v":0},null,{"$f":"'Ma1'!$V$46","v":0},{"$f":"'Ma1'!$W$46","v":0},{"$f":"'Ma1'!$X$46","v":0},{"$f":"'Ma1'!$Y$46","v":0},null,{"$f":"'Ma2'!$D$20","v":0},{"$f":"'Ma2'!$E$20","v":0},{"$f":"'Ma2'!$F$20","v":0},{"$f":"'Ma2'!$G$20","v":0},null,{"$f":"'Ma2'!$J$20","v":0},{"$f":"'Ma2'!$K$20","v":0},{"$f":"'Ma2'!$L$20","v":0},{"$f":"'Ma2'!$M$20","v":0},null,{"$f":"'Ma2'!$P$20","v":0},{"$f":"'Ma2'!$Q$20","v":0},{"$f":"'Ma2'!$R$20","v":0},{"$f":"'Ma2'!$S$20","v":0},null,{"$f":"'Ma2'!$V$20","v":0},{"$f":"'Ma2'!$W$20","v":0},{"$f":"'Ma2'!$X$20","v":0},{"$f":"'Ma2'!$Y$20","v":0},null,{"$f":"'Ma2'!$D$46","v":0},{"$f":"'Ma2'!$E$46","v":0},{"$f":"'Ma2'!$F$46","v":0},{"$f":"'Ma2'!$G$46","v":0},null,{"$f":"'Ma2'!$J$46","v":0},{"$f":"'Ma2'!$K$46","v":0},{"$f":"'Ma2'!$L$46","v":0},{"$f":"'Ma2'!$M$46","v":0},null,{"$f":"'Ma2'!$P$46","v":0},{"$f":"'Ma2'!$Q$46","v":0},{"$f":"'Ma2'!$R$46","v":0},{"$f":"'Ma2'!$S$46","v":0},null,{"$f":"'Ma2'!$V$46","v":0},{"$f":"'Ma2'!$W$46","v":0},{"$f":"'Ma2'!$X$46","v":0},{"$f":"'Ma2'!$Y$46","v":0},null,{"$f":"'Ma3'!$D$20","v":0},{"$f":"'Ma3'!$E$20","v":0},{"$f":"'Ma3'!$F$20","v":0},{"$f":"'Ma3'!$G$20","v":0},null,{"$f":"'Ma3'!$J$20","v":0},{"$f":"'Ma3'!$K$20","v":0},{"$f":"'Ma3'!$L$20","v":0},{"$f":"'Ma3'!$M$20","v":0},null,{"$f":"'Ma3'!$P$20","v":0},{"$f":"'Ma3'!$Q$20","v":0},{"$f":"'Ma3'!$R$20","v":0},{"$f":"'Ma3'!$S$20","v":0},null,{"$f":"'Ma3'!$V$20","v":0},{"$f":"'Ma3'!$W$20","v":0},{"$f":"'Ma3'!$X$20","v":0},{"$f":"'Ma3'!$Y$20","v":0},null,{"$f":"'Ma3'!$D$46","v":0},{"$f":"'Ma3'!$E$46","v":0},{"$f":"'Ma3'!$F$46","v":0},{"$f":"'Ma3'!$G$46","v":0},null,{"$f":"'Ma3'!$J$46","v":0},{"$f":"'Ma3'!$K$46","v":0},{"$f":"'Ma3'!$L$46","v":0},{"$f":"'Ma3'!$M$46","v":0},null,{"$f":"'Ma3'!$P$46","v":0},{"$f":"'Ma3'!$Q$46","v":0},{"$f":"'Ma3'!$R$46","v":0},{"$f":"'Ma3'!$S$46","v":0},null,{"$f":"'Ma3'!$V$46","v":0},{"$f":"'Ma3'!$W$46","v":0},{"$f":"'Ma3'!$X$46","v":0},{"$f":"'Ma3'!$Y$46","v":0},null,{"$f":"'Ma4'!$D$20","v":0},{"$f":"'Ma4'!$E$20","v":0},{"$f":"'Ma4'!$F$20","v":0},{"$f":"'Ma4'!$G$20","v":0},null,{"$f":"'Ma4'!$J$20","v":0},{"$f":"'Ma4'!$K$20","v":0},{"$f":"'Ma4'!$L$20","v":0},{"$f":"'Ma4'!$M$20","v":0},null,{"$f":"'Ma4'!$P$20","v":0},{"$f":"'Ma4'!$Q$20","v":0},{"$f":"'Ma4'!$R$20","v":0},{"$f":"'Ma4'!$S$20","v":0},null,{"$f":"'Ma4'!$V$20","v":0},{"$f":"'Ma4'!$W$20","v":0},{"$f":"'Ma4'!$X$20","v":0},{"$f":"'Ma4'!$Y$20","v":0},null,{"$f":"'Ma4'!$D$46","v":0},{"$f":"'Ma4'!$E$46","v":0},{"$f":"'Ma4'!$F$46","v":0},{"$f":"'Ma4'!$G$46","v":0},null,{"$f":"'Ma4'!$J$46","v":0},{"$f":"'Ma4'!$K$46","v":0},{"$f":"'Ma4'!$L$46","v":0},{"$f":"'Ma4'!$M$46","v":0},null,{"$f":"'Ma4'!$P$46","v":0},{"$f":"'Ma4'!$Q$46","v":0},{"$f":"'Ma4'!$R$46","v":0},{"$f":"'Ma4'!$S$46","v":0},null,{"$f":"'Ma4'!$V$46","v":0},{"$f":"'Ma4'!$W$46","v":0},{"$f":"'Ma4'!$X$46","v":0},{"$f":"'Ma4'!$Y$46","v":0},null,{"$f":"'Ma5'!$D$20","v":0},{"$f":"'Ma5'!$E$20","v":0},{"$f":"'Ma5'!$F$20","v":0},{"$f":"'Ma5'!$G$20","v":0},null,{"$f":"'Ma5'!$J$20","v":0},{"$f":"'Ma5'!$K$20","v":0},{"$f":"'Ma5'!$L$20","v":0},{"$f":"'Ma5'!$M$20","v":0},null,{"$f":"'Ma5'!$P$20","v":0},{"$f":"'Ma5'!$Q$20","v":0},{"$f":"'Ma5'!$R$20","v":0},{"$f":"'Ma5'!$S$20","v":0},null,{"$f":"'Ma5'!$V$20","v":0},{"$f":"'Ma5'!$W$20","v":0},{"$f":"'Ma5'!$X$20","v":0},{"$f":"'Ma5'!$Y$20","v":0},null,{"$f":"'Ma5'!$D$46","v":0},{"$f":"'Ma5'!$E$46","v":0},{"$f":"'Ma5'!$F$46","v":0},{"$f":"'Ma5'!$G$46","v":0},null,{"$f":"'Ma5'!$J$46","v":0},{"$f":"'Ma5'!$K$46","v":0},{"$f":"'Ma5'!$L$46","v":0},{"$f":"'Ma5'!$M$46","v":0},null,{"$f":"'Ma5'!$P$46","v":0},{"$f":"'Ma5'!$Q$46","v":0},{"$f":"'Ma5'!$R$46","v":0},{"$f":"'Ma5'!$S$46","v":0},null,{"$f":"'Ma5'!$V$46","v":0},{"$f":"'Ma5'!$W$46","v":0},{"$f":"'Ma5'!$X$46","v":0},{"$f":"'Ma5'!$Y$46","v":0},null,{"$f":"'Ma6'!$D$20","v":0},{"$f":"'Ma6'!$E$20","v":0},{"$f":"'Ma6'!$F$20","v":0},{"$f":"'Ma6'!$G$20","v":0},null,{"$f":"'Ma6'!$J$20","v":0},{"$f":"'Ma6'!$K$20","v":0},{"$f":"'Ma6'!$L$20","v":0},{"$f":"'Ma6'!$M$20","v":0},null,{"$f":"'Ma6'!$P$20","v":0},{"$f":"'Ma6'!$Q$20","v":0},{"$f":"'Ma6'!$R$20","v":0},{"$f":"'Ma6'!$S$20","v":0},null,{"$f":"'Ma6'!$V$20","v":0},{"$f":"'Ma6'!$W$20","v":0},{"$f":"'Ma6'!$X$20","v":0},{"$f":"'Ma6'!$Y$20","v":0},null,{"$f":"'Ma6'!$D$46","v":0},{"$f":"'Ma6'!$E$46","v":0},{"$f":"'Ma6'!$F$46","v":0},{"$f":"'Ma6'!$G$46","v":0},null,{"$f":"'Ma6'!$J$46","v":0},{"$f":"'Ma6'!$K$46","v":0},{"$f":"'Ma6'!$L$46","v":0},{"$f":"'Ma6'!$M$46","v":0},null,{"$f":"'Ma6'!$P$46","v":0},{"$f":"'Ma6'!$Q$46","v":0},{"$f":"'Ma6'!$R$46","v":0},{"$f":"'Ma6'!$S$46","v":0},null,{"$f":"'Ma6'!$V$46","v":0},{"$f":"'Ma6'!$W$46","v":0},{"$f":"'Ma6'!$X$46","v":0},{"$f":"'Ma6'!$Y$46","v":0},null,{"$f":"'Ma7'!$D$20","v":0},{"$f":"'Ma7'!$E$20","v":0},{"$f":"'Ma7'!$F$20","v":0},{"$f":"'Ma7'!$G$20","v":0},null,{"$f":"'Ma7'!$J$20","v":0},{"$f":"'Ma7'!$K$20","v":0},{"$f":"'Ma7'!$L$20","v":0},{"$f":"'Ma7'!$M$20","v":0},null,{"$f":"'Ma7'!$P$20","v":0},{"$f":"'Ma7'!$Q$20","v":0},{"$f":"'Ma7'!$R$20","v":0},{"$f":"'Ma7'!$S$20","v":0},null,{"$f":"'Ma7'!$V$20","v":0},{"$f":"'Ma7'!$W$20","v":0},{"$f":"'Ma7'!$X$20","v":0},{"$f":"'Ma7'!$Y$20","v":0},null,{"$f":"'Ma7'!$D$46","v":0},{"$f":"'Ma7'!$E$46","v":0},{"$f":"'Ma7'!$F$46","v":0},{"$f":"'Ma7'!$G$46","v":0},null,{"$f":"'Ma7'!$J$46","v":0},{"$f":"'Ma7'!$K$46","v":0},{"$f":"'Ma7'!$L$46","v":0},{"$f":"'Ma7'!$M$46","v":0},null,{"$f":"'Ma7'!$P$46","v":0},{"$f":"'Ma7'!$Q$46","v":0},{"$f":"'Ma7'!$R$46","v":0},{"$f":"'Ma7'!$S$46","v":0},null,{"$f":"'Ma7'!$V$46","v":0},{"$f":"'Ma7'!$W$46","v":0},{"$f":"'Ma7'!$X$46","v":0},{"$f":"'Ma7'!$Y$46","v":0}]
[null,"Vulkan",null,{"$f":"'Ma1'!$D$21","v":0},{"$f":"'Ma1'!$E$21","v":0},{"$f":"'Ma1'!$F$21","v":0},{"$f":"'Ma1'!$G$21","v":0},null,{"$f":"'Ma1'!$J$21","v":0},{"$f":"'Ma1'!$K$21","v":0},{"$f":"'Ma1'!$L$21","v":0},{"$f":"'Ma1'!$M$21","v":0},null,{"$f":"'Ma1'!$P$21","v":0},{"$f":"'Ma1'!$Q$21","v":0},{"$f":"'Ma1'!$R$21","v":0},{"$f":"'Ma1'!$S$21","v":0},null,{"$f":"'Ma1'!$V$21","v":0},{"$f":"'Ma1'!$W$21","v":0},{"$f":"'Ma1'!$X$21","v":0},{"$f":"'Ma1'!$Y$21","v":0},null,{"$f":"'Ma1'!$D$47","v":0},{"$f":"'Ma1'!$E$47","v":0},{"$f":"'Ma1'!$F$47","v":0},{"$f":"'Ma1'!$G$47","v":0},null,{"$f":"'Ma1'!$J$47","v":0},{"$f":"'Ma1'!$K$47","v":0},{"$f":"'Ma1'!$L$47","v":0},{"$f":"'Ma1'!$M$47","v":0},null,{"$f":"'Ma1'!$P$47","v":0},{"$f":"'Ma1'!$Q$47","v":0},{"$f":"'Ma1'!$R$47","v":0},{"$f":"'Ma1'!$S$47","v":0},null,{"$f":"'Ma1'!$V$47","v":0},{"$f":"'Ma1'!$W$47","v":0},{"$f":"'Ma1'!$X$47","v":0},{"$f":"'Ma1'!$Y$47","v":0},null,{"$f":"'Ma2'!$D$21","v":0},{"$f":"'Ma2'!$E$21","v":0},{"$f":"'Ma2'!$F$21","v":0},{"$f":"'Ma2'!$G$21","v":0},null,{"$f":"'Ma2'!$J$21","v":0},{"$f":"'Ma2'!$K$21","v":0},{"$f":"'Ma2'!$L$21","v":0},{"$f":"'Ma2'!$M$21","v":0},null,{"$f":"'Ma2'!$P$21","v":0},{"$f":"'Ma2'!$Q$21","v":0},{"$f":"'Ma2'!$R$21","v":0},{"$f":"'Ma2'!$S$21","v":0},null,{"$f":"'Ma2'!$V$21","v":0},{"$f":"'Ma2'!$W$21","v":0},{"$f":"'Ma2'!$X$21","v":0},{"$f":"'Ma2'!$Y$21","v":0},null,{"$f":"'Ma2'!$D$47","v":0},{"$f":"'Ma2'!$E$47","v":0},{"$f":"'Ma2'!$F$47","v":0},{"$f":"'Ma2'!$G$47","v":0},null,{"$f":"'Ma2'!$J$47","v":0},{"$f":"'Ma2'!$K$47","v":0},{"$f":"'Ma2'!$L$47","v":0},{"$f":"'Ma2'!$M$47","v":0},null,{"$f":"'Ma2'!$P$47","v":0},{"$f":"'Ma2'!$Q$47","v":0},{"$f":"'Ma2'!$R$47","v":0},{"$f":"'Ma2'!$S$47","v":0},null,{"$f":"'Ma2'!$V$47","v":0},{"$f":"'Ma2'!$W$47","v":0},{"$f":"'Ma2'!$X$47","v":0},{"$f":"'Ma2'!$Y$47","v":0},null,{"$f":"'Ma3'!$D$21","v":0},{"$f":"'Ma3'!$E$21","v":0},{"$f":"'Ma3'!$F$21","v":0},{"$f":"'Ma3'!$G$21","v":0},null,{"$f":"'Ma3'!$J$21","v":0},{"$f":"'Ma3'!$K$21","v":0},{"$f":"'Ma3'!$L$21","v":0},{"$f":"'Ma3'!$M$21","v":0},null,{"$f":"'Ma3'!$P$21","v":0},{"$f":"'Ma3'!$Q$21","v":0},{"$f":"'Ma3'!$R$21","v":0},{"$f":"'Ma3'!$S$21","v":0},null,{"$f":"'Ma3'!$V$21","v":0},{"$f":"'Ma3'!$W$21","v":0},{"$f":"'Ma3'!$X$21","v":0},{"$f":"'Ma3'!$Y$21","v":0},null,{"$f":"'Ma3'!$D$47","v":0},{"$f":"'Ma3'!$E$47","v":0},{"$f":"'Ma3'!$F$47","v":0},{"$f":"'Ma3'!$G$47","v":0},null,{"$f":"'Ma3'!$J$47","v":0},{"$f":"'Ma3'!$K$47","v":0},{"$f":"'Ma3'!$L$47","v":0},{"$f":"'Ma3'!$M$47","v":0},null,{"$f":"'Ma3'!$P$47","v":0},{"$f":"'Ma3'!$Q$47","v":0},{"$f":"'Ma3'!$R$47","v":0},{"$f":"'Ma3'!$S$47","v":0},null,{"$f":"'Ma3'!$V$47","v":0},{"$f":"'Ma3'!$W$47","v":0},{"$f":"'Ma3'!$X$47","v":0},{"$f":"'Ma3'!$Y$47","v":0},null,{"$f":"'Ma4'!$D$21","v":0},{"$f":"'Ma4'!$E$21","v":0},{"$f":"'Ma4'!$F$21","v":0},{"$f":"'Ma4'!$G$21","v":0},null,{"$f":"'Ma4'!$J$21","v":0},{"$f":"'Ma4'!$K$21","v":0},{"$f":"'Ma4'!$L$21","v":0},{"$f":"'Ma4'!$M$21","v":0},null,{"$f":"'Ma4'!$P$21","v":0},{"$f":"'Ma4'!$Q$21","v":0},{"$f":"'Ma4'!$R$21","v":0},{"$f":"'Ma4'!$S$21","v":0},null,{"$f":"'Ma4'!$V$21","v":0},{"$f":"'Ma4'!$W$21","v":0},{"$f":"'Ma4'!$X$21","v":0},{"$f":"'Ma4'!$Y$21","v":0},null,{"$f":"'Ma4'!$D$47","v":0},{"$f":"'Ma4'!$E$47","v":0},{"$f":"'Ma4'!$F$47","v":0},{"$f":"'Ma4'!$G$47","v":0},null,{"$f":"'Ma4'!$J$47","v":0},{"$f":"'Ma4'!$K$47","v":0},{"$f":"'Ma4'!$L$47","v":0},{"$f":"'Ma4'!$M$47","v":0},null,{"$f":"'Ma4'!$P$47","v":0},{"$f":"'Ma4'!$Q$47","v":0},{"$f":"'Ma4'!$R$47","v":0},{"$f":"'Ma4'!$S$47","v":0},null,{"$f":"'Ma4'!$V$47","v":0},{"$f":"'Ma4'!$W$47","v":0},{"$f":"'Ma4'!$X$47","v":0},{"$f":"'Ma4'!$Y$47","v":0},null,{"$f":"'Ma5'!$D$21","v":0},{"$f":"'Ma5'!$E$21","v":0},{"$f":"'Ma5'!$F$21","v":0},{"$f":"'Ma5'!$G$21","v":0},null,{"$f":"'Ma5'!$J$21","v":0},{"$f":"'Ma5'!$K$21","v":0},{"$f":"'Ma5'!$L$21","v":0},{"$f":"'Ma5'!$M$21","v":0},null,{"$f":"'Ma5'!$P$21","v":0},{"$f":"'Ma5'!$Q$21","v":0},{"$f":"'Ma5'!$R$21","v":0},{"$f":"'Ma5'!$S$21","v":0},null,{"$f":"'Ma5'!$V$21","v":0},{"$f":"'Ma5'!$W$21","v":0},{"$f":"'Ma5'!$X$21","v":0},{"$f":"'Ma5'!$Y$21","v":0},null,{"$f":"'Ma5'!$D$47","v":0},{"$f":"'Ma5'!$E$47","v":0},{"$f":"'Ma5'!$F$47","v":0},{"$f":"'Ma5'!$G$47","v":0},null,{"$f":"'Ma5'!$J$47","v":0},{"$f":"'Ma5'!$K$47","v":0},{"$f":"'Ma5'!$L$47","v":0},{"$f":"'Ma5'!$M$47","v":0},null,{"$f":"'Ma5'!$P$47","v":0},{"$f":"'Ma5'!$Q$47","v":0},{"$f":"'Ma5'!$R$47","v":0},{"$f":"'Ma5'!$S$47","v":0},null,{"$f":"'Ma5'!$V$47","v":0},{"$f":"'Ma5'!$W$47","v":0},{"$f":"'Ma5'!$X$47","v":0},{"$f":"'Ma5'!$Y$47","v":0},null,{"$f":"'Ma6'!$D$21","v":0},{"$f":"'Ma6'!$E$21","v":0},{"$f":"'Ma6'!$F$21","v":0},{"$f":"'Ma6'!$G$21","v":0},null,{"$f":"'Ma6'!$J$21","v":0},{"$f":"'Ma6'!$K$21","v":0},{"$f":"'Ma6'!$L$21","v":0},{"$f":"'Ma6'!$M$21","v":0},null,{"$f":"'Ma6'!$P$21","v":0},{"$f":"'Ma6'!$Q$21","v":0},{"$f":"'Ma6'!$R$21","v":0},{"$f":"'Ma6'!$S$21","v":0},null,{"$f":"'Ma6'!$V$21","v":0},{"$f":"'Ma6'!$W$21","v":0},{"$f":"'Ma6'!$X$21","v":0},{"$f":"'Ma6'!$Y$21","v":0},null,{"$f":"'Ma6'!$D$47","v":0},{"$f":"'Ma6'!$E$47","v":0},{"$f":"'Ma6'!$F$47","v":0},{"$f":"'Ma6'!$G$47","v":0},null,{"$f":"'Ma6'!$J$47","v":0},{"$f":"'Ma6'!$K$47","v":0},{"$f":"'Ma6'!$L$47","v":0},{"$f":"'Ma6'!$M$47","v":0},null,{"$f":"'Ma6'!$P$47","v":0},{"$f":"'Ma6'!$Q$47","v":0},{"$f":"'Ma6'!$R$47","v":0},{"$f":"'Ma6'!$S$47","v":0},null,{"$f":"'Ma6'!$V$47","v":0},{"$f":"'Ma6'!$W$47","v":0},{"$f":"'Ma6'!$X$47","v":0},{"$f":"'Ma6'!$Y$47","v":0},null,{"$f":"'Ma7'!$D$21","v":0},{"$f":"'Ma7'!$E$21","v":0},{"$f":"'Ma7'!$F$21","v":0},{"$f":"'Ma7'!$G$21","v":0},null,{"$f":"'Ma7'!$J$21","v":0},{"$f":"'Ma7'!$K$21","v":0},{"$f":"'Ma7'!$L$21","v":0},{"$f":"'Ma7'!$M$21","v":0},null,{"$f":"'Ma7'!$P$21","v":0},{"$f":"'Ma7'!$Q$21","v":0},{"$f":"'Ma7'!$R$21","v":0},{"$f":"'Ma7'!$S$21","v":0},null,{"$f":"'Ma7'!$V$21","v":0},{"$f":"'Ma7'!$W$21","v":0},{"$f":"'Ma7'!$X$21","v":0},{"$f":"'Ma7'!$Y$21","v":0},null,{"$f":"'Ma7'!$D$47","v":0},{"$f":"'Ma7'!$E$47","v":0},{"$f":"'Ma7'!$F$47","v":0},{"$f":"'Ma7'!$G$47","v":0},null,{"$f":"'Ma7'!$J$47","v":0},{"$f":"'Ma7'!$K$47","v":0},{"$f":"'Ma7'!$L$47","v":0},{"$f":"'Ma7'!$M$47","v":0},null,{"$f":"'Ma7'!$P$47","v":0},{"$f":"'Ma7'!$Q$47","v":0},{"$f":"'Ma7'!$R$47","v":0},{"$f":"'Ma7'!$S$47","v":0},null,{"$f":"'Ma7'!$V$47","v":0},{"$f":"'Ma7'!$W$47","v":0},{"$f":"'Ma7'!$X$47","v":0},{"$f":"'Ma7'!$Y$47","v":0}]
[null,"Auflaufkeil mit Zielfenster",null,{"$f":"'Ma1'!$D$22","v":0},{"$f":"'Ma1'!$E$22","v":0},{"$f":"'Ma1'!$F$22","v":0},{"$f":"'Ma1'!$G$22","v":0},null,{"$f":"'Ma1'!$J$22","v":0},{"$f":"'Ma1'!$K$22","v":0},{"$f":"'Ma1'!$L$22","v":0},{"$f":"'Ma1'!$M$22","v":0},null,{"$f":"'Ma1'!$P$22","v":0},{"$f":"'Ma1'!$Q$22","v":0},{"$f":"'Ma1'!$R$22","v":0},{"$f":"'Ma1'!$S$22","v":0},null,{"$f":"'Ma1'!$V$22","v":0},{"$f":"'Ma1'!$W$22","v":0},{"$f":"'Ma1'!$X$22","v":0},{"$f":"'Ma1'!$Y$22","v":0},null,{"$f":"'Ma1'!$D$48","v":0},{"$f":"'Ma1'!$E$48","v":0},{"$f":"'Ma1'!$F$48","v":0},{"$f":"'Ma1'!$G$48","v":0},null,{"$f":"'Ma1'!$J$48","v":0},{"$f":"'Ma1'!$K$48","v":0},{"$f":"'Ma1'!$L$48","v":0},{"$f":"'Ma1'!$M$48","v":0},null,{"$f":"'Ma1'!$P$48","v":0},{"$f":"'Ma1'!$Q$48","v":0},{"$f":"'Ma1'!$R$48","v":0},{"$f":"'Ma1'!$S$48","v":0},null,{"$f":"'Ma1'!$V$48","v":0},{"$f":"'Ma1'!$W$48","v":0},{"$f":"'Ma1'!$X$48","v":0},{"$f":"'Ma1'!$Y$48","v":0},null,{"$f":"'Ma2'!$D$22","v":0},{"$f":"'Ma2'!$E$22","v":0},{"$f":"'Ma2'!$F$22","v":0},{"$f":"'Ma2'!$G$22","v":0},null,{"$f":"'Ma2'!$J$22","v":0},{"$f":"'Ma2'!$K$22","v":0},{"$f":"'Ma2'!$L$22","v":0},{"$f":"'Ma2'!$M$22","v":0},null,{"$f":"'Ma2'!$P$22","v":0},{"$f":"'Ma2'!$Q$22","v":0},{"$f":"'Ma2'!$R$22","v":0},{"$f":"'Ma2'!$S$22","v":0},null,{"$f":"'Ma2'!$V$22","v":0},{"$f":"'Ma2'!$W$22","v":0},{"$f":"'Ma2'!$X$22","v":0},{"$f":"'Ma2'!$Y$22","v":0},null,{"$f":"'Ma2'!$D$48","v":0},{"$f":"'Ma2'!$E$48","v":0},{"$f":"'Ma2'!$F$48","v":0},{"$f":"'Ma2'!$G$48","v":0},null,{"$f":"'Ma2'!$J$48","v":0},{"$f":"'Ma2'!$K$48","v":0},{"$f":"'Ma2'!$L$48","v":0},{"$f":"'Ma2'!$M$48","v":0},null,{"$f":"'Ma2'!$P$48","v":0},{"$f":"'Ma2'!$Q$48","v":0},{"$f":"'Ma2'!$R$48","v":0},{"$f":"'Ma2'!$S$48","v":0},null,{"$f":"'Ma2'!$V$48","v":0},{"$f":"'Ma2'!$W$48","v":0},{"$f":"'Ma2'!$X$48","v":0},{"$f":"'Ma2'!$Y$48","v":0},null,{"$f":"'Ma3'!$D$22","v":0},{"$f":"'Ma3'!$E$22","v":0},{"$f":"'Ma3'!$F$22","v":0},{"$f":"'Ma3'!$G$22","v":0},null,{"$f":"'Ma3'!$J$22","v":0},{"$f":"'Ma3'!$K$22","v":0},{"$f":"'Ma3'!$L$22","v":0},{"$f":"'Ma3'!$M$22","v":0},null,{"$f":"'Ma3'!$P$22","v":0},{"$f":"'Ma3'!$Q$22","v":0},{"$f":"'Ma3'!$R$22","v":0},{"$f":"'Ma3'!$S$22","v":0},null,{"$f":"'Ma3'!$V$22","v":0},{"$f":"'Ma3'!$W$22","v":0},{"$f":"'Ma3'!$X$22","v":0},{"$f":"'Ma3'!$Y$22","v":0},null,{"$f":"'Ma3'!$D$48","v":0},{"$f":"'Ma3'!$E$48","v":0},{"$f":"'Ma3'!$F$48","v":0},{"$f":"'Ma3'!$G$48","v":0},null,{"$f":"'Ma3'!$J$48","v":0},{"$f":"'Ma3'!$K$48","v":0},{"$f":"'Ma3'!$L$48","v":0},{"$f":"'Ma3'!$M$48","v":0},null,{"$f":"'Ma3'!$P$48","v":0},{"$f":"'Ma3'!$Q$48","v":0},{"$f":"'Ma3'!$R$48","v":0},{"$f":"'Ma3'!$S$48","v":0},null,{"$f":"'Ma3'!$V$48","v":0},{"$f":"'Ma3'!$W$48","v":0},{"$f":"'Ma3'!$X$48","v":0},{"$f":"'Ma3'!$Y$48","v":0},null,{"$f":"'Ma4'!$D$22","v":0},{"$f":"'Ma4'!$E$22","v":0},{"$f":"'Ma4'!$F$22","v":0},{"$f":"'Ma4'!$G$22","v":0},null,{"$f":"'Ma4'!$J$22","v":0},{"$f":"'Ma4'!$K$22","v":0},{"$f":"'Ma4'!$L$22","v":0},{"$f":"'Ma4'!$M$22","v":0},null,{"$f":"'Ma4'!$P$22","v":0},{"$f":"'Ma4'!$Q$22","v":0},{"$f":"'Ma4'!$R$22","v":0},{"$f":"'Ma4'!$S$22","v":0},null,{"$f":"'Ma4'!$V$22","v":0},{"$f":"'Ma4'!$W$22","v":0},{"$f":"'Ma4'!$X$22","v":0},{"$f":"'Ma4'!$Y$22","v":0},null,{"$f":"'Ma4'!$D$48","v":0},{"$f":"'Ma4'!$E$48","v":0},{"$f":"'Ma4'!$F$48","v":0},{"$f":"'Ma4'!$G$48","v":0},null,{"$f":"'Ma4'!$J$48","v":0},{"$f":"'Ma4'!$K$48","v":0},{"$f":"'Ma4'!$L$48","v":0},{"$f":"'Ma4'!$M$48","v":0},null,{"$f":"'Ma4'!$P$48","v":0},{"$f":"'Ma4'!$Q$48","v":0},{"$f":"'Ma4'!$R$48","v":0},{"$f":"'Ma4'!$S$48","v":0},null,{"$f":"'Ma4'!$V$48","v":0},{"$f":"'Ma4'!$W$48","v":0},{"$f":"'Ma4'!$X$48","v":0},{"$f":"'Ma4'!$Y$48","v":0},null,{"$f":"'Ma5'!$D$22","v":0},{"$f":"'Ma5'!$E$22","v":0},{"$f":"'Ma5'!$F$22","v":0},{"$f":"'Ma5'!$G$22","v":0},null,{"$f":"'Ma5'!$J$22","v":0},{"$f":"'Ma5'!$K$22","v":0},{"$f":"'Ma5'!$L$22","v":0},{"$f":"'Ma5'!$M$22","v":0},null,{"$f":"'Ma5'!$P$22","v":0},{"$f":"'Ma5'!$Q$22","v":0},{"$f":"'Ma5'!$R$22","v":0},{"$f":"'Ma5'!$S$22","v":0},null,{"$f":"'Ma5'!$V$22","v":0},{"$f":"'Ma5'!$W$22","v":0},{"$f":"'Ma5'!$X$22","v":0},{"$f":"'Ma5'!$Y$22","v":0},null,{"$f":"'Ma5'!$D$48","v":0},{"$f":"'Ma5'!$E$48","v":0},{"$f":"'Ma5'!$F$48","v":0},{"$f":"'Ma5'!$G$48","v":0},null,{"$f":"'Ma5'!$J$48","v":0},{"$f":"'Ma5'!$K$48","v":0},{"$f":"'Ma5'!$L$48","v":0},{"$f":"'Ma5'!$M$48","v":0},null,{"$f":"'Ma5'!$P$48","v":0},{"$f":"'Ma5'!$Q$48","v":0},{"$f":"'Ma5'!$R$48","v":0},{"$f":"'Ma5'!$S$48","v":0},null,{"$f":"'Ma5'!$V$48","v":0},{"$f":"'Ma5'!$W$48","v":0},{"$f":"'Ma5'!$X$48","v":0},{"$f":"'Ma5'!$Y$48","v":0},null,{"$f":"'Ma6'!$D$22","v":0},{"$f":"'Ma6'!$E$22","v":0},{"$f":"'Ma6'!$F$22","v":0},{"$f":"'Ma6'!$G$22","v":0},null,{"$f":"'Ma6'!$J$22","v":0},{"$f":"'Ma6'!$K$22","v":0},{"$f":"'Ma6'!$L$22","v":0},{"$f":"'Ma6'!$M$22","v":0},null,{"$f":"'Ma6'!$P$22","v":0},{"$f":"'Ma6'!$Q$22","v":0},{"$f":"'Ma6'!$R$22","v":0},{"$f":"'Ma6'!$S$22","v":0},null,{"$f":"'Ma6'!$V$22","v":0},{"$f":"'Ma6'!$W$22","v":0},{"$f":"'Ma6'!$X$22","v":0},{"$f":"'Ma6'!$Y$22","v":0},null,{"$f":"'Ma6'!$D$48","v":0},{"$f":"'Ma6'!$E$48","v":0},{"$f":"'Ma6'!$F$48","v":0},{"$f":"'Ma6'!$G$48","v":0},null,{"$f":"'Ma6'!$J$48","v":0},{"$f":"'Ma6'!$K$48","v":0},{"$f":"'Ma6'!$L$48","v":0},{"$f":"'Ma6'!$M$48","v":0},null,{"$f":"'Ma6'!$P$48","v":0},{"$f":"'Ma6'!$Q$48","v":0},{"$f":"'Ma6'!$R$48","v":0},{"$f":"'Ma6'!$S$48","v":0},null,{"$f":"'Ma6'!$V$48","v":0},{"$f":"'Ma6'!$W$48","v":0},{"$f":"'Ma6'!$X$48","v":0},{"$f":"'Ma6'!$Y$48","v":0},null,{"$f":"'Ma7'!$D$22","v":0},{"$f":"'Ma7'!$E$22","v":0},{"$f":"'Ma7'!$F$22","v":0},{"$f":"'Ma7'!$G$22","v":0},null,{"$f":"'Ma7'!$J$22","v":0},{"$f":"'Ma7'!$K$22","v":0},{"$f":"'Ma7'!$L$22","v":0},{"$f":"'Ma7'!$M$22","v":0},null,{"$f":"'Ma7'!$P$22","v":0},{"$f":"'Ma7'!$Q$22","v":0},{"$f":"'Ma7'!$R$22","v":0},{"$f":"'Ma7'!$S$22","v":0},null,{"$f":"'Ma7'!$V$22","v":0},{"$f":"'Ma7'!$W$22","v":0},{"$f":"'Ma7'!$X$22","v":0},{"$f":"'Ma7'!$Y$22","v":0},null,{"$f":"'Ma7'!$D$48","v":0},{"$f":"'Ma7'!$E$48","v":0},{"$f":"'Ma7'!$F$48","v":0},{"$f":"'Ma7'!$G$48","v":0},null,{"$f":"'Ma7'!$J$48","v":0},{"$f":"'Ma7'!$K$48","v":0},{"$f":"'Ma7'!$L$48","v":0},{"$f":"'Ma7'!$M$48","v":0},null,{"$f":"'Ma7'!$P$48","v":0},{"$f":"'Ma7'!$Q$48","v":0},{"$f":"'Ma7'!$R$48","v":0},{"$f":"'Ma7'!$S$48","v":0},null,{"$f":"'Ma7'!$V$48","v":0},{"$f":"'Ma7'!$W$48","v":0},{"$f":"'Ma7'!$X$48","v":0},{"$f":"'Ma7'!$Y$48","v":0}]
[null,"Blitz",null,{"$f":"'Ma1'!$D$23","v":0},{"$f":"'Ma1'!$E$23","v":0},{"$f":"'Ma1'!$F$23","v":0},{"$f":"'Ma1'!$G$23","v":0},null,{"$f":"'Ma1'!$J$23","v":0},{"$f":"'Ma1'!$K$23","v":0},{"$f":"'Ma1'!$L$23","v":0},{"$f":"'Ma1'!$M$23","v":0},null,{"$f":"'Ma1'!$P$23","v":0},{"$f":"'Ma1'!$Q$23","v":0},{"$f":"'Ma1'!$R$23","v":0},{"$f":"'Ma1'!$S$23","v":0},null,{"$f":"'Ma1'!$V$23","v":0},{"$f":"'Ma1'!$W$23","v":0},{"$f":"'Ma1'!$X$23","v":0},{"$f":"'Ma1'!$Y$23","v":0},null,{"$f":"'Ma1'!$D$49","v":0},{"$f":"'Ma1'!$E$49","v":0},{"$f":"'Ma1'!$F$49","v":0},{"$f":"'Ma1'!$G$49","v":0},null,{"$f":"'Ma1'!$J$49","v":0},{"$f":"'Ma1'!$K$49","v":0},{"$f":"'Ma1'!$L$49","v":0},{"$f":"'Ma1'!$M$49","v":0},null,{"$f":"'Ma1'!$P$49","v":0},{"$f":"'Ma1'!$Q$49","v":0},{"$f":"'Ma1'!$R$49","v":0},{"$f":"'Ma1'!$S$49","v":0},null,{"$f":"'Ma1'!$V$49","v":0},{"$f":"'Ma1'!$W$49","v":0},{"$f":"'Ma1'!$X$49","v":0},{"$f":"'Ma1'!$Y$49","v":0},null,{"$f":"'Ma2'!$D$23","v":0},{"$f":"'Ma2'!$E$23","v":0},{"$f":"'Ma2'!$F$23","v":0},{"$f":"'Ma2'!$G$23","v":0},null,{"$f":"'Ma2'!$J$23","v":0},{"$f":"'Ma2'!$K$23","v":0},{"$f":"'Ma2'!$L$23","v":0},{"$f":"'Ma2'!$M$23","v":0},null,{"$f":"'Ma2'!$P$23","v":0},{"$f":"'Ma2'!$Q$23","v":0},{"$f":"'Ma2'!$R$23","v":0},{"$f":"'Ma2'!$S$23","v":0},null,{"$f":"'Ma2'!$V$23","v":0},{"$f":"'Ma2'!$W$23","v":0},{"$f":"'Ma2'!$X$23","v":0},{"$f":"'Ma2'!$Y$23","v":0},null,{"$f":"'Ma2'!$D$49","v":0},{"$f":"'Ma2'!$E$49","v":0},{"$f":"'Ma2'!$F$49","v":0},{"$f":"'Ma2'!$G$49","v":0},null,{"$f":"'Ma2'!$J$49","v":0},{"$f":"'Ma2'!$K$49","v":0},{"$f":"'Ma2'!$L$49","v":0},{"$f":"'Ma2'!$M$49","v":0},null,{"$f":"'Ma2'!$P$49","v":0},{"$f":"'Ma2'!$Q$49","v":0},{"$f":"'Ma2'!$R$49","v":0},{"$f":"'Ma2'!$S$49","v":0},null,{"$f":"'Ma2'!$V$49","v":0},{"$f":"'Ma2'!$W$49","v":0},{"$f":"'Ma2'!$X$49","v":0},{"$f":"'Ma2'!$Y$49","v":0},null,{"$f":"'Ma3'!$D$23","v":0},{"$f":"'Ma3'!$E$23","v":0},{"$f":"'Ma3'!$F$23","v":0},{"$f":"'Ma3'!$G$23","v":0},null,{"$f":"'Ma3'!$J$23","v":0},{"$f":"'Ma3'!$K$23","v":0},{"$f":"'Ma3'!$L$23","v":0},{"$f":"'Ma3'!$M$23","v":0},null,{"$f":"'Ma3'!$P$23","v":0},{"$f":"'Ma3'!$Q$23","v":0},{"$f":"'Ma3'!$R$23","v":0},{"$f":"'Ma3'!$S$23","v":0},null,{"$f":"'Ma3'!$V$23","v":0},{"$f":"'Ma3'!$W$23","v":0},{"$f":"'Ma3'!$X$23","v":0},{"$f":"'Ma3'!$Y$23","v":0},null,{"$f":"'Ma3'!$D$49","v":0},{"$f":"'Ma3'!$E$49","v":0},{"$f":"'Ma3'!$F$49","v":0},{"$f":"'Ma3'!$G$49","v":0},null,{"$f":"'Ma3'!$J$49","v":0},{"$f":"'Ma3'!$K$49","v":0},{"$f":"'Ma3'!$L$49","v":0},{"$f":"'Ma3'!$M$49","v":0},null,{"$f":"'Ma3'!$P$49","v":0},{"$f":"'Ma3'!$Q$49","v":0},{"$f":"'Ma3'!$R$49","v":0},{"$f":"'Ma3'!$S$49","v":0},null,{"$f":"'Ma3'!$V$49","v":0},{"$f":"'Ma3'!$W$49","v":0},{"$f":"'Ma3'!$X$49","v":0},{"$f":"'Ma3'!$Y$49","v":0},null,{"$f":"'Ma4'!$D$23","v":0},{"$f":"'Ma4'!$E$23","v":0},{"$f":"'Ma4'!$F$23","v":0},{"$f":"'Ma4'!$G$23","v":0},null,{"$f":"'Ma4'!$J$23","v":0},{"$f":"'Ma4'!$K$23","v":0},{"$f":"'Ma4'!$L$23","v":0},{"$f":"'Ma4'!$M$23","v":0},null,{"$f":"'Ma4'!$P$23","v":0},{"$f":"'Ma4'!$Q$23","v":0},{"$f":"'Ma4'!$R$23","v":0},{"$f":"'Ma4'!$S$23","v":0},null,{"$f":"'Ma4'!$V$23","v":0},{"$f":"'Ma4'!$W$23","v":0},{"$f":"'Ma4'!$X$23","v":0},{"$f":"'Ma4'!$Y$23","v":0},null,{"$f":"'Ma4'!$D$49","v":0},{"$f":"'Ma4'!$E$49","v":0},{"$f":"'Ma4'!$F$49","v":0},{"$f":"'Ma4'!$G$49","v":0},null,{"$f":"'Ma4'!$J$49","v":0},{"$f":"'Ma4'!$K$49","v":0},{"$f":"'Ma4'!$L$49","v":0},{"$f":"'Ma4'!$M$49","v":0},null,{"$f":"'Ma4'!$P$49","v":0},{"$f":"'Ma4'!$Q$49","v":0},{"$f":"'Ma4'!$R$49","v":0},{"$f":"'Ma4'!$S$49","v":0},null,{"$f":"'Ma4'!$V$49","v":0},{"$f":"'Ma4'!$W$49","v":0},{"$f":"'Ma4'!$X$49","v":0},{"$f":"'Ma4'!$Y$49","v":0},null,{"$f":"'Ma5'!$D$23","v":0},{"$f":"'Ma5'!$E$23","v":0},{"$f":"'Ma5'!$F$23","v":0},{"$f":"'Ma5'!$G$23","v":0},null,{"$f":"'Ma5'!$J$23","v":0},{"$f":"'Ma5'!$K$23","v":0},{"$f":"'Ma5'!$L$23","v":0},{"$f":"'Ma5'!$M$23","v":0},null,{"$f":"'Ma5'!$P$23","v":0},{"$f":"'Ma5'!$Q$23","v":0},{"$f":"'Ma5'!$R$23","v":0},{"$f":"'Ma5'!$S$23","v":0},null,{"$f":"'Ma5'!$V$23","v":0},{"$f":"'Ma5'!$W$23","v":0},{"$f":"'Ma5'!$X$23","v":0},{"$f":"'Ma5'!$Y$23","v":0},null,{"$f":"'Ma5'!$D$49","v":0},{"$f":"'Ma5'!$E$49","v":0},{"$f":"'Ma5'!$F$49","v":0},{"$f":"'Ma5'!$G$49","v":0},null,{"$f":"'Ma5'!$J$49","v":0},{"$f":"'Ma5'!$K$49","v":0},{"$f":"'Ma5'!$L$49","v":0},{"$f":"'Ma5'!$M$49","v":0},null,{"$f":"'Ma5'!$P$49","v":0},{"$f":"'Ma5'!$Q$49","v":0},{"$f":"'Ma5'!$R$49","v":0},{"$f":"'Ma5'!$S$49","v":0},null,{"$f":"'Ma5'!$V$49","v":0},{"$f":"'Ma5'!$W$49","v":0},{"$f":"'Ma5'!$X$49","v":0},{"$f":"'Ma5'!$Y$49","v":0},null,{"$f":"'Ma6'!$D$23","v":0},{"$f":"'Ma6'!$E$23","v":0},{"$f":"'Ma6'!$F$23","v":0},{"$f":"'Ma6'!$G$23","v":0},null,{"$f":"'Ma6'!$J$23","v":0},{"$f":"'Ma6'!$K$23","v":0},{"$f":"'Ma6'!$L$23","v":0},{"$f":"'Ma6'!$M$23","v":0},null,{"$f":"'Ma6'!$P$23","v":0},{"$f":"'Ma6'!$Q$23","v":0},{"$f":"'Ma6'!$R$23","v":0},{"$f":"'Ma6'!$S$23","v":0},null,{"$f":"'Ma6'!$V$23","v":0},{"$f":"'Ma6'!$W$23","v":0},{"$f":"'Ma6'!$X$23","v":0},{"$f":"'Ma6'!$Y$23","v":0},null,{"$f":"'Ma6'!$D$49","v":0},{"$f":"'Ma6'!$E$49","v":0},{"$f":"'Ma6'!$F$49","v":0},{"$f":"'Ma6'!$G$49","v":0},null,{"$f":"'Ma6'!$J$49","v":0},{"$f":"'Ma6'!$K$49","v":0},{"$f":"'Ma6'!$L$49","v":0},{"$f":"'Ma6'!$M$49","v":0},null,{"$f":"'Ma6'!$P$49","v":0},{"$f":"'Ma6'!$Q$49","v":0},{"$f":"'Ma6'!$R$49","v":0},{"$f":"'Ma6'!$S$49","v":0},null,{"$f":"'Ma6'!$V$49","v":0},{"$f":"'Ma6'!$W$49","v":0},{"$f":"'Ma6'!$X$49","v":0},{"$f":"'Ma6'!$Y$49","v":0},null,{"$f":"'Ma7'!$D$23","v":0},{"$f":"'Ma7'!$E$23","v":0},{"$f":"'Ma7'!$F$23","v":0},{"$f":"'Ma7'!$G$23","v":0},null,{"$f":"'Ma7'!$J$23","v":0},{"$f":"'Ma7'!$K$23","v":0},{"$f":"'Ma7'!$L$23","v":0},{"$f":"'Ma7'!$M$23","v":0},null,{"$f":"'Ma7'!$P$23","v":0},{"$f":"'Ma7'!$Q$23","v":0},{"$f":"'Ma7'!$R$23","v":0},{"$f":"'Ma7'!$S$23","v":0},null,{"$f":"'Ma7'!$V$23","v":0},{"$f":"'Ma7'!$W$23","v":0},{"$f":"'Ma7'!$X$23","v":0},{"$f":"'Ma7'!$Y$23","v":0},null,{"$f":"'Ma7'!$D$49","v":0},{"$f":"'Ma7'!$E$49","v":0},{"$f":"'Ma7'!$F$49","v":0},{"$f":"'Ma7'!$G$49","v":0},null,{"$f":"'Ma7'!$J$49","v":0},{"$f":"'Ma7'!$K$49","v":0},{"$f":"'Ma7'!$L$49","v":0},{"$f":"'Ma7'!$M$49","v":0},null,{"$f":"'Ma7'!$P$49","v":0},{"$f":"'Ma7'!$Q$49","v":0},{"$f":"'Ma7'!$R$49","v":0},{"$f":"'Ma7'!$S$49","v":0},null,{"$f":"'Ma7'!$V$49","v":0},{"$f":"'Ma7'!$W$49","v":0},{"$f":"'Ma7'!$X$49","v":0},{"$f":"'Ma7'!$Y$49","v":0}]
[null,"Strafe",null,{"$f":"'Ma1'!$D$24","v":0},{"$f":"'Ma1'!$E$24","v":0},{"$f":"'Ma1'!$F$24","v":0},{"$f":"'Ma1'!$G$24","v":0},null,{"$f":"'Ma1'!$J$24","v":0},{"$f":"'Ma1'!$K$24","v":0},{"$f":"'Ma1'!$L$24","v":0},{"$f":"'Ma1'!$M$24","v":0},null,{"$f":"'Ma1'!$P$24","v":0},{"$f":"'Ma1'!$Q$24","v":0},{"$f":"'Ma1'!$R$24","v":0},{"$f":"'Ma1'!$S$24","v":0},null,{"$f":"'Ma1'!$V$24","v":0},{"$f":"'Ma1'!$W$24","v":0},{"$f":"'Ma1'!$X$24","v":0},{"$f":"'Ma1'!$Y$24","v":0},null,{"$f":"'Ma1'!$D$50","v":0},{"$f":"'Ma1'!$E$50","v":0},{"$f":"'Ma1'!$F$50","v":0},{"$f":"'Ma1'!$G$50","v":0},null,{"$f":"'Ma1'!$J$50","v":0},{"$f":"'Ma1'!$K$50","v":0},{"$f":"'Ma1'!$L$50","v":0},{"$f":"'Ma1'!$M$50","v":0},null,{"$f":"'Ma1'!$P$50","v":0},{"$f":"'Ma1'!$Q$50","v":0},{"$f":"'Ma1'!$R$50","v":0},{"$f":"'Ma1'!$S$50","v":0},null,{"$f":"'Ma1'!$V$50","v":0},{"$f":"'Ma1'!$W$50","v":0},{"$f":"'Ma1'!$X$50","v":0},{"$f":"'Ma1'!$Y$50","v":0},null,{"$f":"'Ma2'!$D$24","v":0},{"$f":"'Ma2'!$E$24","v":0},{"$f":"'Ma2'!$F$24","v":0},{"$f":"'Ma2'!$G$24","v":0},null,{"$f":"'Ma2'!$J$24","v":0},{"$f":"'Ma2'!$K$24","v":0},{"$f":"'Ma2'!$L$24","v":0},{"$f":"'Ma2'!$M$24","v":0},null,{"$f":"'Ma2'!$P$24","v":0},{"$f":"'Ma2'!$Q$24","v":0},{"$f":"'Ma2'!$R$24","v":0},{"$f":"'Ma2'!$S$24","v":0},null,{"$f":"'Ma2'!$V$24","v":0},{"$f":"'Ma2'!$W$24","v":0},{"$f":"'Ma2'!$X$24","v":0},{"$f":"'Ma2'!$Y$24","v":0},null,{"$f":"'Ma2'!$D$50","v":0},{"$f":"'Ma2'!$E$50","v":0},{"$f":"'Ma2'!$F$50","v":0},{"$f":"'Ma2'!$G$50","v":0},null,{"$f":"'Ma2'!$J$50","v":0},{"$f":"'Ma2'!$K$50","v":0},{"$f":"'Ma2'!$L$50","v":0},{"$f":"'Ma2'!$M$50","v":0},null,{"$f":"'Ma2'!$P$50","v":0},{"$f":"'Ma2'!$Q$50","v":0},{"$f":"'Ma2'!$R$50","v":0},{"$f":"'Ma2'!$S$50","v":0},null,{"$f":"'Ma2'!$V$50","v":0},{"$f":"'Ma2'!$W$50","v":0},{"$f":"'Ma2'!$X$50","v":0},{"$f":"'Ma2'!$Y$50","v":0},null,{"$f":"'Ma3'!$D$24","v":0},{"$f":"'Ma3'!$E$24","v":0},{"$f":"'Ma3'!$F$24","v":0},{"$f":"'Ma3'!$G$24","v":0},null,{"$f":"'Ma3'!$J$24","v":0},{"$f":"'Ma3'!$K$24","v":0},{"$f":"'Ma3'!$L$24","v":0},{"$f":"'Ma3'!$M$24","v":0},null,{"$f":"'Ma3'!$P$24","v":0},{"$f":"'Ma3'!$Q$24","v":0},{"$f":"'Ma3'!$R$24","v":0},{"$f":"'Ma3'!$S$24","v":0},null,{"$f":"'Ma3'!$V$24","v":0},{"$f":"'Ma3'!$W$24","v":0},{"$f":"'Ma3'!$X$24","v":0},{"$f":"'Ma3'!$Y$24","v":0},null,{"$f":"'Ma3'!$D$50","v":0},{"$f":"'Ma3'!$E$50","v":0},{"$f":"'Ma3'!$F$50","v":0},{"$f":"'Ma3'!$G$50","v":0},null,{"$f":"'Ma3'!$J$50","v":0},{"$f":"'Ma3'!$K$50","v":0},{"$f":"'Ma3'!$L$50","v":0},{"$f":"'Ma3'!$M$50","v":0},null,{"$f":"'Ma3'!$P$50","v":0},{"$f":"'Ma3'!$Q$50","v":0},{"$f":"'Ma3'!$R$50","v":0},{"$f":"'Ma3'!$S$50","v":0},null,{"$f":"'Ma3'!$V$50","v":0},{"$f":"'Ma3'!$W$50","v":0},{"$f":"'Ma3'!$X$50","v":0},{"$f":"'Ma3'!$Y$50","v":0},null,{"$f":"'Ma4'!$D$24","v":0},{"$f":"'Ma4'!$E$24","v":0},{"$f":"'Ma4'!$F$24","v":0},{"$f":"'Ma4'!$G$24","v":0},null,{"$f":"'Ma4'!$J$24","v":0},{"$f":"'Ma4'!$K$24","v":0},{"$f":"'Ma4'!$L$24","v":0},{"$f":"'Ma4'!$M$24","v":0},null,{"$f":"'Ma4'!$P$24","v":0},{"$f":"'Ma4'!$Q$24","v":0},{"$f":"'Ma4'!$R$24","v":0},{"$f":"'Ma4'!$S$24","v":0},null,{"$f":"'Ma4'!$V$24","v":0},{"$f":"'Ma4'!$W$24","v":0},{"$f":"'Ma4'!$X$24","v":0},{"$f":"'Ma4'!$Y$24","v":0},null,{"$f":"'Ma4'!$D$50","v":0},{"$f":"'Ma4'!$E$50","v":0},{"$f":"'Ma4'!$F$50","v":0},{"$f":"'Ma4'!$G$50","v":0},null,{"$f":"'Ma4'!$J$50","v":0},{"$f":"'Ma4'!$K$50","v":0},{"$f":"'Ma4'!$L$50","v":0},{"$f":"'Ma4'!$M$50","v":0},null,{"$f":"'Ma4'!$P$50","v":0},{"$f":"'Ma4'!$Q$50","v":0},{"$f":"'Ma4'!$R$50","v":0},{"$f":"'Ma4'!$S$50","v":0},null,{"$f":"'Ma4'!$V$50","v":0},{"$f":"'Ma4'!$W$50","v":0},{"$f":"'Ma4'!$X$50","v":0},{"$f":"'Ma4'!$Y$50","v":0},null,{"$f":"'Ma5'!$D$24","v":0},{"$f":"'Ma5'!$E$24","v":0},{"$f":"'Ma5'!$F$24","v":0},{"$f":"'Ma5'!$G$24","v":0},null,{"$f":"'Ma5'!$J$24","v":0},{"$f":"'Ma5'!$K$24","v":0},{"$f":"'Ma5'!$L$24","v":0},{"$f":"'Ma5'!$M$24","v":0},null,{"$f":"'Ma5'!$P$24","v":0},{"$f":"'Ma5'!$Q$24","v":0},{"$f":"'Ma5'!$R$24","v":0},{"$f":"'Ma5'!$S$24","v":0},null,{"$f":"'Ma5'!$V$24","v":0},{"$f":"'Ma5'!$W$24","v":0},{"$f":"'Ma5'!$X$24","v":0},{"$f":"'Ma5'!$Y$24","v":0},null,{"$f":"'Ma5'!$D$50","v":0},{"$f":"'Ma5'!$E$50","v":0},{"$f":"'Ma5'!$F$50","v":0},{"$f":"'Ma5'!$G$50","v":0},null,{"$f":"'Ma5'!$J$50","v":0},{"$f":"'Ma5'!$K$50","v":0},{"$f":"'Ma5'!$L$50","v":0},{"$f":"'Ma5'!$M$50","v":0},null,{"$f":"'Ma5'!$P$50","v":0},{"$f":"'Ma5'!$Q$50","v":0},{"$f":"'Ma5'!$R$50","v":0},{"$f":"'Ma5'!$S$50","v":0},null,{"$f":"'Ma5'!$V$50","v":0},{"$f":"'Ma5'!$W$50","v":0},{"$f":"'Ma5'!$X$50","v":0},{"$f":"'Ma5'!$Y$50","v":0},null,{"$f":"'Ma6'!$D$24","v":0},{"$f":"'Ma6'!$E$24","v":0},{"$f":"'Ma6'!$F$24","v":0},{"$f":"'Ma6'!$G$24","v":0},null,{"$f":"'Ma6'!$J$24","v":0},{"$f":"'Ma6'!$K$24","v":0},{"$f":"'Ma6'!$L$24","v":0},{"$f":"'Ma6'!$M$24","v":0},null,{"$f":"'Ma6'!$P$24","v":0},{"$f":"'Ma6'!$Q$24","v":0},{"$f":"'Ma6'!$R$24","v":0},{"$f":"'Ma6'!$S$24","v":0},null,{"$f":"'Ma6'!$V$24","v":0},{"$f":"'Ma6'!$W$24","v":0},{"$f":"'Ma6'!$X$24","v":0},{"$f":"'Ma6'!$Y$24","v":0},null,{"$f":"'Ma6'!$D$50","v":0},{"$f":"'Ma6'!$E$50","v":0},{"$f":"'Ma6'!$F$50","v":0},{"$f":"'Ma6'!$G$50","v":0},null,{"$f":"'Ma6'!$J$50","v":0},{"$f":"'Ma6'!$K$50","v":0},{"$f":"'Ma6'!$L$50","v":0},{"$f":"'Ma6'!$M$50","v":0},null,{"$f":"'Ma6'!$P$50","v":0},{"$f":"'Ma6'!$Q$50","v":0},{"$f":"'Ma6'!$R$50","v":0},{"$f":"'Ma6'!$S$50","v":0},null,{"$f":"'Ma6'!$V$50","v":0},{"$f":"'Ma6'!$W$50","v":0},{"$f":"'Ma6'!$X$50","v":0},{"$f":"'Ma6'!$Y$50","v":0},null,{"$f":"'Ma7'!$D$24","v":0},{"$f":"'Ma7'!$E$24","v":0},{"$f":"'Ma7'!$F$24","v":0},{"$f":"'Ma7'!$G$24","v":0},null,{"$f":"'Ma7'!$J$24","v":0},{"$f":"'Ma7'!$K$24","v":0},{"$f":"'Ma7'!$L$24","v":0},{"$f":"'Ma7'!$M$24","v":0},null,{"$f":"'Ma7'!$P$24","v":0},{"$f":"'Ma7'!$Q$24","v":0},{"$f":"'Ma7'!$R$24","v":0},{"$f":"'Ma7'!$S$24","v":0},null,{"$f":"'Ma7'!$V$24","v":0},{"$f":"'Ma7'!$W$24","v":0},{"$f":"'Ma7'!$X$24","v":0},{"$f":"'Ma7'!$Y$24","v":0},null,{"$f":"'Ma7'!$D$50","v":0},{"$f":"'Ma7'!$E$50","v":0},{"$f":"'Ma7'!$F$50","v":0},{"$f":"'Ma7'!$G$50","v":0},null,{"$f":"'Ma7'!$J$50","v":0},{"$f":"'Ma7'!$K$50","v":0},{"$f":"'Ma7'!$L$50","v":0},{"$f":"'Ma7'!$M$50","v":0},null,{"$f":"'Ma7'!$P$50","v":0},{"$f":"'Ma7'!$Q$50","v":0},{"$f":"'Ma7'!$R$50","v":0},{"$f":"'Ma7'!$S$50","v":0},null,{"$f":"'Ma7'!$V$50","v":0},{"$f":"'Ma7'!$W$50","v":0},{"$f":"'Ma7'!$X$50","v":0},{"$f":"'Ma7'!$Y$50","v":0}]
[null,"Runde",null,{"$f":"IF(D121=\"\",991,IF(D121=0,991,IF($C$99>=1,SUM(D104:D122),991)))","v":991},{"$f":"IF(E121=\"\",991,IF(E121=0,991,IF($C$99>=2,SUM(E104:E122),991)))","v":991},{"$f":"IF(F121=\"\",991,IF(F121=0,991,IF($C$99>=3,SUM(F104:F122),991)))","v":991},{"$f":"IF(G121=\"\",991,IF(G121=0,991,IF($C$99>=3,SUM(G104:G122),991)))","v":991},null,{"$f":"IF(I121=\"\",991,IF(I121=0,991,IF($C$99>=1,SUM(I104:I122),991)))","v":991},{"$f":"IF(J121=\"\",991,IF(J121=0,991,IF($C$99>=2,SUM(J104:J122),991)))","v":991},{"$f":"IF(K121=\"\",991,IF(K121=0,991,IF($C$99>=3,SUM(K104:K122),991)))","v":991},{"$f":"IF(L121=\"\",991,IF(L121=0,991,IF($C$99>=3,SUM(L104:L122),991)))","v":991},null,{"$f":"IF(N121=\"\",991,IF(N121=0,991,IF($C$99>=1,SUM(N104:N122),991)))","v":991},{"$f":"IF(O121=\"\",991,IF(O121=0,991,IF($C$99>=2,SUM(O104:O122),991)))","v":991},{"$f":"IF(P121=\"\",991,IF(P121=0,991,IF($C$99>=3,SUM(P104:P122),991)))","v":991},{"$f":"IF(Q121=\"\",991,IF(Q121=0,991,IF($C$99>=3,SUM(Q104:Q122),991)))","v":991},null,{"$f":"IF(S121=\"\",991,IF(S121=0,991,IF($C$99>=1,SUM(S104:S122),991)))","v":991},{"$f":"IF(T121=\"\",991,IF(T121=0,991,IF($C$99>=2,SUM(T104:T122),991)))","v":991},{"$f":"IF(U121=\"\",991,IF(U121=0,991,IF($C$99>=3,SUM(U104:U122),991)))","v":991},{"$f":"IF(V121=\"\",991,IF(V121=0,991,IF($C$99>=3,SUM(V104:V122),991)))","v":991},null,{"$f":"IF(X121=\"\",991,IF(X121=0,991,IF($C$99>=1,SUM(X104:X122),991)))","v":991},{"$f":"IF(Y121=\"\",991,IF(Y121=0,991,IF($C$99>=2,SUM(Y104:Y122),991)))","v":991},{"$f":"IF(Z121=\"\",991,IF(Z121=0,991,IF($C$99>=3,SUM(Z104:Z122),991)))","v":991},{"$f":"IF(AA121=\"\",991,IF(AA121=0,991,IF($C$99>=3,SUM(AA104:AA122),991)))","v":991},null,{"$f":"IF(AC121=\"\",991,IF(AC121=0,991,IF($C$99>=1,SUM(AC104:AC122),991)))","v":991},{"$f":"IF(AD121=\"\",991,IF(AD121=0,991,IF($C$99>=2,SUM(AD104:AD122),991)))","v":991},{"$f":"IF(AE121=\"\",991,IF(AE121=0,991,IF($C$99>=3,SUM(AE104:AE122),991)))","v":991},{"$f":"IF(AF121=\"\",991,IF(AF121=0,991,IF($C$99>=3,SUM(AF104:AF122),991)))","v":991},null,{"$f":"IF(AH121=\"\",991,IF(AH121=0,991,IF($C$99>=1,SUM(AH104:AH122),991)))","v":991},{"$f":"IF(AI121=\"\",991,IF(AI121=0,991,IF($C$99>=2,SUM(AI104:AI122),991)))","v":991},{"$f":"IF(AJ121=\"\",991,IF(AJ121=0,991,IF($C$99>=3,SUM(AJ104:AJ122),991)))","v":991},{"$f":"IF(AK121=\"\",991,IF(AK121=0,991,IF($C$99>=3,SUM(AK104:AK122),991)))","v":991},null,{"$f":"IF(AM121=\"\",991,IF(AM121=0,991,IF($C$99>=1,SUM(AM104:AM122),991)))","v":991},{"$f":"IF(AN121=\"\",991,IF(AN121=0,991,IF($C$99>=2,SUM(AN104:AN122),991)))","v":991},{"$f":"IF(AO121=\"\",991,IF(AO121=0,991,IF($C$99>=3,SUM(AO104:AO122),991)))","v":991},{"$f":"IF(AP121=\"\",991,IF(AP121=0,991,IF($C$99>=3,SUM(AP104:AP122),991)))","v":991},null,{"$f":"IF(AR121=\"\",992,IF(AR121=0,992,IF($C$99>=1,SUM(AR104:AR122),992)))","v":992},{"$f":"IF(AS121=\"\",992,IF(AS121=0,992,IF($C$99>=2,SUM(AS104:AS122),992)))","v":992},{"$f":"IF(AT121=\"\",992,IF(AT121=0,992,IF($C$99>=3,SUM(AT104:AT122),992)))","v":992},{"$f":"IF(AU121=\"\",992,IF(AU121=0,992,IF($C$99>=3,SUM(AU104:AU122),992)))","v":992},null,{"$f":"IF(AW121=\"\",992,IF(AW121=0,992,IF($C$99>=1,SUM(AW104:AW122),992)))","v":992},{"$f":"IF(AX121=\"\",992,IF(AX121=0,992,IF($C$99>=2,SUM(AX104:AX122),992)))","v":992},{"$f":"IF(AY121=\"\",992,IF(AY121=0,992,IF($C$99>=3,SUM(AY104:AY122),992)))","v":992},{"$f":"IF(AZ121=\"\",992,IF(AZ121=0,992,IF($C$99>=3,SUM(AZ104:AZ122),992)))","v":992},null,{"$f":"IF(BB121=\"\",992,IF(BB121=0,992,IF($C$99>=1,SUM(BB104:BB122),992)))","v":992},{"$f":"IF(BC121=\"\",992,IF(BC121=0,992,IF($C$99>=2,SUM(BC104:BC122),992)))","v":992},{"$f":"IF(BD121=\"\",992,IF(BD121=0,992,IF($C$99>=3,SUM(BD104:BD122),992)))","v":992},{"$f":"IF(BE121=\"\",992,IF(BE121=0,992,IF($C$99>=3,SUM(BE104:BE122),992)))","v":992},null,{"$f":"IF(BG121=\"\",992,IF(BG121=0,992,IF($C$99>=1,SUM(BG104:BG122),992)))","v":992},{"$f":"IF(BH121=\"\",992,IF(BH121=0,992,IF($C$99>=2,SUM(BH104:BH122),992)))","v":992},{"$f":"IF(BI121=\"\",992,IF(BI121=0,992,IF($C$99>=3,SUM(BI104:BI122),992)))","v":992},{"$f":"IF(BJ121=\"\",992,IF(BJ121=0,992,IF($C$99>=3,SUM(BJ104:BJ122),992)))","v":992},null,{"$f":"IF(BL121=\"\",992,IF(BL121=0,992,IF($C$99>=1,SUM(BL104:BL122),992)))","v":992},{"$f":"IF(BM121=\"\",992,IF(BM121=0,992,IF($C$99>=2,SUM(BM104:BM122),992)))","v":992},{"$f":"IF(BN121=\"\",992,IF(BN121=0,992,IF($C$99>=3,SUM(BN104:BN122),992)))","v":992},{"$f":"IF(BO121=\"\",992,IF(BO121=0,992,IF($C$99>=3,SUM(BO104:BO122),992)))","v":992},null,{"$f":"IF(BQ121=\"\",992,IF(BQ121=0,992,IF($C$99>=1,SUM(BQ104:BQ122),992)))","v":992},{"$f":"IF(BR121=\"\",992,IF(BR121=0,992,IF($C$99>=2,SUM(BR104:BR122),992)))","v":992},{"$f":"IF(BS121=\"\",992,IF(BS121=0,992,IF($C$99>=3,SUM(BS104:BS122),992)))","v":992},{"$f":"IF(BT121=\"\",992,IF(BT121=0,992,IF($C$99>=3,SUM(BT104:BT122),992)))","v":992},null,{"$f":"IF(BV121=\"\",992,IF(BV121=0,992,IF($C$99>=1,SUM(BV104:BV122),992)))","v":992},{"$f":"IF(BW121=\"\",992,IF(BW121=0,992,IF($C$99>=2,SUM(BW104:BW122),992)))","v":992},{"$f":"IF(BX121=\"\",992,IF(BX121=0,992,IF($C$99>=3,SUM(BX104:BX122),992)))","v":992},{"$f":"IF(BY121=\"\",992,IF(BY121=0,992,IF($C$99>=3,SUM(BY104:BY122),992)))","v":992},null,{"$f":"IF(CA121=\"\",992,IF(CA121=0,992,IF($C$99>=1,SUM(CA104:CA122),992)))","v":992},{"$f":"IF(CB121=\"\",992,IF(CB121=0,992,IF($C$99>=2,SUM(CB104:CB122),992)))","v":992},{"$f":"IF(CC121=\"\",992,IF(CC121=0,992,IF($C$99>=3,SUM(CC104:CC122),992)))","v":992},{"$f":"IF(CD121=\"\",992,IF(CD121=0,992,IF($C$99>=3,SUM(CD104:CD122),992)))","v":992},null,{"$f":"IF(CF121=\"\",993,IF(CF121=0,993,IF($C$99>=1,SUM(CF104:CF122),993)))","v":993},{"$f":"IF(CG121=\"\",993,IF(CG121=0,993,IF($C$99>=2,SUM(CG104:CG122),993)))","v":993},{"$f":"IF(CH121=\"\",993,IF(CH121=0,993,IF($C$99>=3,SUM(CH104:CH122),993)))","v":993},{"$f":"IF(CI121=\"\",993,IF(CI121=0,993,IF($C$99>=3,SUM(CI104:CI122),993)))","v":993},null,{"$f":"IF(CK121=\"\",993,IF(CK121=0,993,IF($C$99>=1,SUM(CK104:CK122),993)))","v":993},{"$f":"IF(CL121=\"\",993,IF(CL121=0,993,IF($C$99>=2,SUM(CL104:CL122),993)))","v":993},{"$f":"IF(CM121=\"\",993,IF(CM121=0,993,IF($C$99>=3,SUM(CM104:CM122),993)))","v":993},{"$f":"IF(CN121=\"\",993,IF(CN121=0,993,IF($C$99>=3,SUM(CN104:CN122),993)))","v":993},null,{"$f":"IF(CP121=\"\",993,IF(CP121=0,993,IF($C$99>=1,SUM(CP104:CP122),993)))","v":993},{"$f":"IF(CQ121=\"\",993,IF(CQ121=0,993,IF($C$99>=2,SUM(CQ104:CQ122),993)))","v":993},{"$f":"IF(CR121=\"\",993,IF(CR121=0,993,IF($C$99>=3,SUM(CR104:CR122),993)))","v":993},{"$f":"IF(CS121=\"\",993,IF(CS121=0,993,IF($C$99>=3,SUM(CS104:CS122),993)))","v":993},null,{"$f":"IF(CU121=\"\",993,IF(CU121=0,993,IF($C$99>=1,SUM(CU104:CU122),993)))","v":993},{"$f":"IF(CV121=\"\",993,IF(CV121=0,993,IF($C$99>=2,SUM(CV104:CV122),993)))","v":993},{"$f":"IF(CW121=\"\",993,IF(CW121=0,993,IF($C$99>=3,SUM(CW104:CW122),993)))","v":993},{"$f":"IF(CX121=\"\",993,IF(CX121=0,993,IF($C$99>=3,SUM(CX104:CX122),993)))","v":993},null,{"$f":"IF(CZ121=\"\",993,IF(CZ121=0,993,IF($C$99>=1,SUM(CZ104:CZ122),993)))","v":993},{"$f":"IF(DA121=\"\",993,IF(DA121=0,993,IF($C$99>=2,SUM(DA104:DA122),993)))","v":993},{"$f":"IF(DB121=\"\",993,IF(DB121=0,993,IF($C$99>=3,SUM(DB104:DB122),993)))","v":993},{"$f":"IF(DC121=\"\",993,IF(DC121=0,993,IF($C$99>=3,SUM(DC104:DC122),993)))","v":993},null,{"$f":"IF(DE121=\"\",993,IF(DE121=0,993,IF($C$99>=1,SUM(DE104:DE122),993)))","v":993},{"$f":"IF(DF121=\"\",993,IF(DF121=0,993,IF($C$99>=2,SUM(DF104:DF122),993)))","v":993},{"$f":"IF(DG121=\"\",993,IF(DG121=0,993,IF($C$99>=3,SUM(DG104:DG122),993)))","v":993},{"$f":"IF(DH121=\"\",993,IF(DH121=0,993,IF($C$99>=3,SUM(DH104:DH122),993)))","v":993},null,{"$f":"IF(DJ121=\"\",993,IF(DJ121=0,993,IF($C$99>=1,SUM(DJ104:DJ122),993)))","v":993},{"$f":"IF(DK121=\"\",993,IF(DK121=0,993,IF($C$99>=2,SUM(DK104:DK122),993)))","v":993},{"$f":"IF(DL121=\"\",993,IF(DL121=0,993,IF($C$99>=3,SUM(DL104:DL122),993)))","v":993},{"$f":"IF(DM121=\"\",993,IF(DM121=0,993,IF($C$99>=3,SUM(DM104:DM122),993)))","v":993},null,{"$f":"IF(DO121=\"\",993,IF(DO121=0,993,IF($C$99>=1,SUM(DO104:DO122),993)))","v":993},{"$f":"IF(DP121=\"\",993,IF(DP121=0,993,IF($C$99>=2,SUM(DP104:DP122),993)))","v":993},{"$f":"IF(DQ121=\"\",993,IF(DQ121=0,993,IF($C$99>=3,SUM(DQ104:DQ122),993)))","v":993},{"$f":"IF(DR121=\"\",993,IF(DR121=0,993,IF($C$99>=3,SUM(DR104:DR122),993)))","v":993},null,{"$f":"IF(DT121=\"\",994,IF(DT121=0,994,IF($C$99>=1,SUM(DT104:DT122),994)))","v":994},{"$f":"IF(DU121=\"\",994,IF(DU121=0,994,IF($C$99>=2,SUM(DU104:DU122),994)))","v":994},{"$f":"IF(DV121=\"\",994,IF(DV121=0,994,IF($C$99>=3,SUM(DV104:DV122),994)))","v":994},{"$f":"IF(DW121=\"\",994,IF(DW121=0,994,IF($C$99>=3,SUM(DW104:DW122),994)))","v":994},null,{"$f":"IF(DY121=\"\",994,IF(DY121=0,994,IF($C$99>=1,SUM(DY104:DY122),994)))","v":994},{"$f":"IF(DZ121=\"\",994,IF(DZ121=0,994,IF($C$99>=2,SUM(DZ104:DZ122),994)))","v":994},{"$f":"IF(EA121=\"\",994,IF(EA121=0,994,IF($C$99>=3,SUM(EA104:EA122),994)))","v":994},{"$f":"IF(EB121=\"\",994,IF(EB121=0,994,IF($C$99>=3,SUM(EB104:EB122),994)))","v":994},null,{"$f":"IF(ED121=\"\",994,IF(ED121=0,994,IF($C$99>=1,SUM(ED104:ED122),994)))","v":994},{"$f":"IF(EE121=\"\",994,IF(EE121=0,994,IF($C$99>=2,SUM(EE104:EE122),994)))","v":994},{"$f":"IF(EF121=\"\",994,IF(EF121=0,994,IF($C$99>=3,SUM(EF104:EF122),994)))","v":994},{"$f":"IF(EG121=\"\",994,IF(EG121=0,994,IF($C$99>=3,SUM(EG104:EG122),994)))","v":994},null,{"$f":"IF(EI121=\"\",994,IF(EI121=0,994,IF($C$99>=1,SUM(EI104:EI122),994)))","v":994},{"$f":"IF(EJ121=\"\",994,IF(EJ121=0,994,IF($C$99>=2,SUM(EJ104:EJ122),994)))","v":994},{"$f":"IF(EK121=\"\",994,IF(EK121=0,994,IF($C$99>=3,SUM(EK104:EK122),994)))","v":994},{"$f":"IF(EL121=\"\",994,IF(EL121=0,994,IF($C$99>=3,SUM(EL104:EL122),994)))","v":994},null,{"$f":"IF(EN121=\"\",994,IF(EN121=0,994,IF($C$99>=1,SUM(EN104:EN122),994)))","v":994},{"$f":"IF(EO121=\"\",994,IF(EO121=0,994,IF($C$99>=2,SUM(EO104:EO122),994)))","v":994},{"$f":"IF(EP121=\"\",994,IF(EP121=0,994,IF($C$99>=3,SUM(EP104:EP122),994)))","v":994},{"$f":"IF(EQ121=\"\",994,IF(EQ121=0,994,IF($C$99>=3,SUM(EQ104:EQ122),994)))","v":994},null,{"$f":"IF(ES121=\"\",994,IF(ES121=0,994,IF($C$99>=1,SUM(ES104:ES122),994)))","v":994},{"$f":"IF(ET121=\"\",994,IF(ET121=0,994,IF($C$99>=2,SUM(ET104:ET122),994)))","v":994},{"$f":"IF(EU121=\"\",994,IF(EU121=0,994,IF($C$99>=3,SUM(EU104:EU122),994)))","v":994},{"$f":"IF(EV121=\"\",994,IF(EV121=0,994,IF($C$99>=3,SUM(EV104:EV122),994)))","v":994},null,{"$f":"IF(EX121=\"\",994,IF(EX121=0,994,IF($C$99>=1,SUM(EX104:EX122),994)))","v":994},{"$f":"IF(EY121=\"\",994,IF(EY121=0,994,IF($C$99>=2,SUM(EY104:EY122),994)))","v":994},{"$f":"IF(EZ121=\"\",994,IF(EZ121=0,994,IF($C$99>=3,SUM(EZ104:EZ122),994)))","v":994},{"$f":"IF(FA121=\"\",994,IF(FA121=0,994,IF($C$99>=3,SUM(FA104:FA122),994)))","v":994},null,{"$f":"IF(FC121=\"\",994,IF(FC121=0,994,IF($C$99>=1,SUM(FC104:FC122),994)))","v":994},{"$f":"IF(FD121=\"\",994,IF(FD121=0,994,IF($C$99>=2,SUM(FD104:FD122),994)))","v":994},{"$f":"IF(FE121=\"\",994,IF(FE121=0,994,IF($C$99>=3,SUM(FE104:FE122),994)))","v":994},{"$f":"IF(FF121=\"\",994,IF(FF121=0,994,IF($C$99>=3,SUM(FF104:FF122),994)))","v":994},null,{"$f":"IF(FH121=\"\",995,IF(FH121=0,995,IF($C$99>=1,SUM(FH104:FH122),995)))","v":995},{"$f":"IF(FI121=\"\",995,IF(FI121=0,995,IF($C$99>=2,SUM(FI104:FI122),995)))","v":995},{"$f":"IF(FJ121=\"\",995,IF(FJ121=0,995,IF($C$99>=3,SUM(FJ104:FJ122),995)))","v":995},{"$f":"IF(FK121=\"\",995,IF(FK121=0,995,IF($C$99>=3,SUM(FK104:FK122),995)))","v":995},null,{"$f":"IF(FM121=\"\",995,IF(FM121=0,995,IF($C$99>=1,SUM(FM104:FM122),995)))","v":995},{"$f":"IF(FN121=\"\",995,IF(FN121=0,995,IF($C$99>=2,SUM(FN104:FN122),995)))","v":995},{"$f":"IF(FO121=\"\",995,IF(FO121=0,995,IF($C$99>=3,SUM(FO104:FO122),995)))","v":995},{"$f":"IF(FP121=\"\",995,IF(FP121=0,995,IF($C$99>=3,SUM(FP104:FP122),995)))","v":995},null,{"$f":"IF(FR121=\"\",995,IF(FR121=0,995,IF($C$99>=1,SUM(FR104:FR122),995)))","v":995},{"$f":"IF(FS121=\"\",995,IF(FS121=0,995,IF($C$99>=2,SUM(FS104:FS122),995)))","v":995},{"$f":"IF(FT121=\"\",995,IF(FT121=0,995,IF($C$99>=3,SUM(FT104:FT122),995)))","v":995},{"$f":"IF(FU121=\"\",995,IF(FU121=0,995,IF($C$99>=3,SUM(FU104:FU122),995)))","v":995},null,{"$f":"IF(FW121=\"\",995,IF(FW121=0,995,IF($C$99>=1,SUM(FW104:FW122),995)))","v":995},{"$f":"IF(FX121=\"\",995,IF(FX121=0,995,IF($C$99>=2,SUM(FX104:FX122),995)))","v":995},{"$f":"IF(FY121=\"\",995,IF(FY121=0,995,IF($C$99>=3,SUM(FY104:FY122),995)))","v":995},{"$f":"IF(FZ121=\"\",995,IF(FZ121=0,995,IF($C$99>=3,SUM(FZ104:FZ122),995)))","v":995},null,{"$f":"IF(GB121=\"\",995,IF(GB121=0,995,IF($C$99>=1,SUM(GB104:GB122),995)))","v":995},{"$f":"IF(GC121=\"\",995,IF(GC121=0,995,IF($C$99>=2,SUM(GC104:GC122),995)))","v":995},{"$f":"IF(GD121=\"\",995,IF(GD121=0,995,IF($C$99>=3,SUM(GD104:GD122),995)))","v":995},{"$f":"IF(GE121=\"\",995,IF(GE121=0,995,IF($C$99>=3,SUM(GE104:GE122),995)))","v":995},null,{"$f":"IF(GG121=\"\",995,IF(GG121=0,995,IF($C$99>=1,SUM(GG104:GG122),995)))","v":995},{"$f":"IF(GH121=\"\",995,IF(GH121=0,995,IF($C$99>=2,SUM(GH104:GH122),995)))","v":995},{"$f":"IF(GI121=\"\",995,IF(GI121=0,995,IF($C$99>=3,SUM(GI104:GI122),995)))","v":995},{"$f":"IF(GJ121=\"\",995,IF(GJ121=0,995,IF($C$99>=3,SUM(GJ104:GJ122),995)))","v":995},null,{"$f":"IF(GL121=\"\",995,IF(GL121=0,995,IF($C$99>=1,SUM(GL104:GL122),995)))","v":995},{"$f":"IF(GM121=\"\",995,IF(GM121=0,995,IF($C$99>=2,SUM(GM104:GM122),995)))","v":995},{"$f":"IF(GN121=\"\",995,IF(GN121=0,995,IF($C$99>=3,SUM(GN104:GN122),995)))","v":995},{"$f":"IF(GO121=\"\",995,IF(GO121=0,995,IF($C$99>=3,SUM(GO104:GO122),995)))","v":995},null,{"$f":"IF(GQ121=\"\",995,IF(GQ121=0,995,IF($C$99>=1,SUM(GQ104:GQ122),995)))","v":995},{"$f":"IF(GR121=\"\",995,IF(GR121=0,995,IF($C$99>=2,SUM(GR104:GR122),995)))","v":995},{"$f":"IF(GS121=\"\",995,IF(GS121=0,995,IF($C$99>=3,SUM(GS104:GS122),995)))","v":995},{"$f":"IF(GT121=\"\",995,IF(GT121=0,995,IF($C$99>=3,SUM(GT104:GT122),995)))","v":995},null,{"$f":"IF(GV121=\"\",996,IF(GV121=0,996,IF($C$99>=1,SUM(GV104:GV122),996)))","v":996},{"$f":"IF(GW121=\"\",996,IF(GW121=0,996,IF($C$99>=2,SUM(GW104:GW122),996)))","v":996},{"$f":"IF(GX121=\"\",996,IF(GX121=0,996,IF($C$99>=3,SUM(GX104:GX122),996)))","v":996},{"$f":"IF(GY121=\"\",996,IF(GY121=0,996,IF($C$99>=3,SUM(GY104:GY122),996)))","v":996},null,{"$f":"IF(HA121=\"\",996,IF(HA121=0,996,IF($C$99>=1,SUM(HA104:HA122),996)))","v":996},{"$f":"IF(HB121=\"\",996,IF(HB121=0,996,IF($C$99>=2,SUM(HB104:HB122),996)))","v":996},{"$f":"IF(HC121=\"\",996,IF(HC121=0,996,IF($C$99>=3,SUM(HC104:HC122),996)))","v":996},{"$f":"IF(HD121=\"\",996,IF(HD121=0,996,IF($C$99>=3,SUM(HD104:HD122),996)))","v":996},null,{"$f":"IF(HF121=\"\",996,IF(HF121=0,996,IF($C$99>=1,SUM(HF104:HF122),996)))","v":996},{"$f":"IF(HG121=\"\",996,IF(HG121=0,996,IF($C$99>=2,SUM(HG104:HG122),996)))","v":996},{"$f":"IF(HH121=\"\",996,IF(HH121=0,996,IF($C$99>=3,SUM(HH104:HH122),996)))","v":996},{"$f":"IF(HI121=\"\",996,IF(HI121=0,996,IF($C$99>=3,SUM(HI104:HI122),996)))","v":996},null,{"$f":"IF(HK121=\"\",996,IF(HK121=0,996,IF($C$99>=1,SUM(HK104:HK122),996)))","v":996},{"$f":"IF(HL121=\"\",996,IF(HL121=0,996,IF($C$99>=2,SUM(HL104:HL122),996)))","v":996},{"$f":"IF(HM121=\"\",996,IF(HM121=0,996,IF($C$99>=3,SUM(HM104:HM122),996)))","v":996},{"$f":"IF(HN121=\"\",996,IF(HN121=0,996,IF($C$99>=3,SUM(HN104:HN122),996)))","v":996},null,{"$f":"IF(HP121=\"\",996,IF(HP121=0,996,IF($C$99>=1,SUM(HP104:HP122),996)))","v":996},{"$f":"IF(HQ121=\"\",996,IF(HQ121=0,996,IF($C$99>=2,SUM(HQ104:HQ122),996)))","v":996},{"$f":"IF(HR121=\"\",996,IF(HR121=0,996,IF($C$99>=3,SUM(HR104:HR122),996)))","v":996},{"$f":"IF(HS121=\"\",996,IF(HS121=0,996,IF($C$99>=3,SUM(HS104:HS122),996)))","v":996},null,{"$f":"IF(HU121=\"\",996,IF(HU121=0,996,IF($C$99>=1,SUM(HU104:HU122),996)))","v":996},{"$f":"IF(HV121=\"\",996,IF(HV121=0,996,IF($C$99>=2,SUM(HV104:HV122),996)))","v":996},{"$f":"IF(HW121=\"\",996,IF(HW121=0,996,IF($C$99>=3,SUM(HW104:HW122),996)))","v":996},{"$f":"IF(HX121=\"\",996,IF(HX121=0,996,IF($C$99>=3,SUM(HX104:HX122),996)))","v":996},null,{"$f":"IF(HZ121=\"\",996,IF(HZ121=0,996,IF($C$99>=1,SUM(HZ104:HZ122),996)))","v":996},{"$f":"IF(IA121=\"\",996,IF(IA121=0,996,IF($C$99>=2,SUM(IA104:IA122),996)))","v":996},{"$f":"IF(IB121=\"\",996,IF(IB121=0,996,IF($C$99>=3,SUM(IB104:IB122),996)))","v":996},{"$f":"IF(IC121=\"\",996,IF(IC121=0,996,IF($C$99>=3,SUM(IC104:IC122),996)))","v":996},null,{"$f":"IF(IE121=\"\",996,IF(IE121=0,996,IF($C$99>=1,SUM(IE104:IE122),996)))","v":996},{"$f":"IF(IF121=\"\",996,IF(IF121=0,996,IF($C$99>=2,SUM(IF104:IF122),996)))","v":996},{"$f":"IF(IG121=\"\",996,IF(IG121=0,996,IF($C$99>=3,SUM(IG104:IG122),996)))","v":996},{"$f":"IF(IH121=\"\",996,IF(IH121=0,996,IF($C$99>=3,SUM(IH104:IH122),996)))","v":996},null,{"$f":"IF(IJ121=\"\",997,IF(IJ121=0,997,IF($C$99>=1,SUM(IJ104:IJ122),997)))","v":997},{"$f":"IF(IK121=\"\",997,IF(IK121=0,997,IF($C$99>=2,SUM(IK104:IK122),997)))","v":997},{"$f":"IF(IL121=\"\",997,IF(IL121=0,997,IF($C$99>=3,SUM(IL104:IL122),997)))","v":997},{"$f":"IF(IM121=\"\",997,IF(IM121=0,997,IF($C$99>=3,SUM(IM104:IM122),997)))","v":997},null,{"$f":"IF(IO121=\"\",997,IF(IO121=0,997,IF($C$99>=1,SUM(IO104:IO122),997)))","v":997},{"$f":"IF(IP121=\"\",997,IF(IP121=0,997,IF($C$99>=2,SUM(IP104:IP122),997)))","v":997},{"$f":"IF(IQ121=\"\",997,IF(IQ121=0,997,IF($C$99>=3,SUM(IQ104:IQ122),997)))","v":997},{"$f":"IF(IR121=\"\",997,IF(IR121=0,997,IF($C$99>=3,SUM(IR104:IR122),997)))","v":997},null,{"$f":"IF(IT121=\"\",997,IF(IT121=0,997,IF($C$99>=1,SUM(IT104:IT122),997)))","v":997},{"$f":"IF(IU121=\"\",997,IF(IU121=0,997,IF($C$99>=2,SUM(IU104:IU122),997)))","v":997},{"$f":"IF(IV121=\"\",997,IF(IV121=0,997,IF($C$99>=3,SUM(IV104:IV122),997)))","v":997},{"$f":"IF(IW121=\"\",997,IF(IW121=0,997,IF($C$99>=3,SUM(IW104:IW122),997)))","v":997},null,{"$f":"IF(IY121=\"\",997,IF(IY121=0,997,IF($C$99>=1,SUM(IY104:IY122),997)))","v":997},{"$f":"IF(IZ121=\"\",997,IF(IZ121=0,997,IF($C$99>=2,SUM(IZ104:IZ122),997)))","v":997},{"$f":"IF(JA121=\"\",997,IF(JA121=0,997,IF($C$99>=3,SUM(JA104:JA122),997)))","v":997},{"$f":"IF(JB121=\"\",997,IF(JB121=0,997,IF($C$99>=3,SUM(JB104:JB122),997)))","v":997},null,{"$f":"IF(JD121=\"\",997,IF(JD121=0,997,IF($C$99>=1,SUM(JD104:JD122),997)))","v":997},{"$f":"IF(JE121=\"\",997,IF(JE121=0,997,IF($C$99>=2,SUM(JE104:JE122),997)))","v":997},{"$f":"IF(JF121=\"\",997,IF(JF121=0,997,IF($C$99>=3,SUM(JF104:JF122),997)))","v":997},{"$f":"IF(JG121=\"\",997,IF(JG121=0,997,IF($C$99>=3,SUM(JG104:JG122),997)))","v":997},null,{"$f":"IF(JI121=\"\",997,IF(JI121=0,997,IF($C$99>=1,SUM(JI104:JI122),997)))","v":997},{"$f":"IF(JJ121=\"\",997,IF(JJ121=0,997,IF($C$99>=2,SUM(JJ104:JJ122),997)))","v":997},{"$f":"IF(JK121=\"\",997,IF(JK121=0,997,IF($C$99>=3,SUM(JK104:JK122),997)))","v":997},{"$f":"IF(JL121=\"\",997,IF(JL121=0,997,IF($C$99>=3,SUM(JL104:JL122),997)))","v":997},null,{"$f":"IF(JN121=\"\",997,IF(JN121=0,997,IF($C$99>=1,SUM(JN104:JN122),997)))","v":997},{"$f":"IF(JO121=\"\",997,IF(JO121=0,997,IF($C$99>=2,SUM(JO104:JO122),997)))","v":997},{"$f":"IF(JP121=\"\",997,IF(JP121=0,997,IF($C$99>=3,SUM(JP104:JP122),997)))","v":997},{"$f":"IF(JQ121=\"\",997,IF(JQ121=0,997,IF($C$99>=3,SUM(JQ104:JQ122),997)))","v":997},null,{"$f":"IF(JS121=\"\",997,IF(JS121=0,997,IF($C$99>=1,SUM(JS104:JS122),997)))","v":997},{"$f":"IF(JT121=\"\",997,IF(JT121=0,997,IF($C$99>=2,SUM(JT104:JT122),997)))","v":997},{"$f":"IF(JU121=\"\",997,IF(JU121=0,997,IF($C$99>=3,SUM(JU104:JU122),997)))","v":997},{"$f":"IF(JV121=\"\",997,IF(JV121=0,997,IF($C$99>=3,SUM(JV104:JV122),997)))","v":997}]
[null,"Total",null,{"$f":"IF($C$99=2,SUM(D123:E123),IF($C$99=3,SUM(D123:F123),IF($C$99=4,SUM(D123:G123),\"DNF\")))","v":"DNF"},{"$f":"D124","v":"DNF"},{"$f":"E124","v":"DNF"},{"$f":"F124","v":"DNF"},{"$f":"G124","v":"DNF"},{"$f":"IF($C$99=2,SUM(I123:J123),IF($C$99=3,SUM(I123:K123),IF($C$99=4,SUM(I123:L123),\"DNF\")))","v":"DNF"},{"$f":"I124","v":"DNF"},{"$f":"J124","v":"DNF"},{"$f":"K124","v":"DNF"},{"$f":"L124","v":"DNF"},{"$f":"IF($C$99=2,SUM(N123:O123),IF($C$99=3,SUM(N123:P123),IF($C$99=4,SUM(N123:Q123),\"DNF\")))","v":"DNF"},{"$f":"N124","v":"DNF"},{"$f":"O124","v":"DNF"},{"$f":"P124","v":"DNF"},{"$f":"Q124","v":"DNF"},{"$f":"IF($C$99=2,SUM(S123:T123),IF($C$99=3,SUM(S123:U123),IF($C$99=4,SUM(S123:V123),\"DNF\")))","v":"DNF"},{"$f":"S124","v":"DNF"},{"$f":"T124","v":"DNF"},{"$f":"U124","v":"DNF"},{"$f":"V124","v":"DNF"},{"$f":"IF($C$99=2,SUM(X123:Y123),IF($C$99=3,SUM(X123:Z123),IF($C$99=4,SUM(X123:AA123),\"DNF\")))","v":"DNF"},{"$f":"X124","v":"DNF"},{"$f":"Y124","v":"DNF"},{"$f":"Z124","v":"DNF"},{"$f":"AA124","v":"DNF"},{"$f":"IF($C$99=2,SUM(AC123:AD123),IF($C$99=3,SUM(AC123:AE123),IF($C$99=4,SUM(AC123:AF123),\"DNF\")))","v":"DNF"},{"$f":"AC124","v":"DNF"},{"$f":"AD124","v":"DNF"},{"$f":"AE124","v":"DNF"},{"$f":"AF124","v":"DNF"},{"$f":"IF($C$99=2,SUM(AH123:AI123),IF($C$99=3,SUM(AH123:AJ123),IF($C$99=4,SUM(AH123:AK123),\"DNF\")))","v":"DNF"},{"$f":"AH124","v":"DNF"},{"$f":"AI124","v":"DNF"},{"$f":"AJ124","v":"DNF"},{"$f":"AK124","v":"DNF"},{"$f":"IF($C$99=2,SUM(AM123:AN123),IF($C$99=3,SUM(AM123:AO123),IF($C$99=4,SUM(AM123:AP123),\"DNF\")))","v":"DNF"},{"$f":"AM124","v":"DNF"},{"$f":"AN124","v":"DNF"},{"$f":"AO124","v":"DNF"},{"$f":"AP124","v":"DNF"},{"$f":"IF($C$99=2,SUM(AR123:AS123),IF($C$99=3,SUM(AR123:AT123),IF($C$99=4,SUM(AR123:AU123),\"DNF\")))","v":"DNF"},{"$f":"AR124","v":"DNF"},{"$f":"AS124","v":"DNF"},{"$f":"AT124","v":"DNF"},{"$f":"AU124","v":"DNF"},{"$f":"IF($C$99=2,SUM(AW123:AX123),IF($C$99=3,SUM(AW123:AY123),IF($C$99=4,SUM(AW123:AZ123),\"DNF\")))","v":"DNF"},{"$f":"AW124","v":"DNF"},{"$f":"AX124","v":"DNF"},{"$f":"AY124","v":"DNF"},{"$f":"AZ124","v":"DNF"},{"$f":"IF($C$99=2,SUM(BB123:BC123),IF($C$99=3,SUM(BB123:BD123),IF($C$99=4,SUM(BB123:BE123),\"DNF\")))","v":"DNF"},{"$f":"BB124","v":"DNF"},{"$f":"BC124","v":"DNF"},{"$f":"BD124","v":"DNF"},{"$f":"BE124","v":"DNF"},{"$f":"IF($C$99=2,SUM(BG123:BH123),IF($C$99=3,SUM(BG123:BI123),IF($C$99=4,SUM(BG123:BJ123),\"DNF\")))","v":"DNF"},{"$f":"BG124","v":"DNF"},{"$f":"BH124","v":"DNF"},{"$f":"BI124","v":"DNF"},{"$f":"BJ124","v":"DNF"},{"$f":"IF($C$99=2,SUM(BL123:BM123),IF($C$99=3,SUM(BL123:BN123),IF($C$99=4,SUM(BL123:BO123),\"DNF\")))","v":"DNF"},{"$f":"BL124","v":"DNF"},{"$f":"BM124","v":"DNF"},{"$f":"BN124","v":"DNF"},{"$f":"BO124","v":"DNF"},{"$f":"IF($C$99=2,SUM(BQ123:BR123),IF($C$99=3,SUM(BQ123:BS123),IF($C$99=4,SUM(BQ123:BT123),\"DNF\")))","v":"DNF"},{"$f":"BQ124","v":"DNF"},{"$f":"BR124","v":"DNF"},{"$f":"BS124","v":"DNF"},{"$f":"BT124","v":"DNF"},{"$f":"IF($C$99=2,SUM(BV123:BW123),IF($C$99=3,SUM(BV123:BX123),IF($C$99=4,SUM(BV123:BY123),\"DNF\")))","v":"DNF"},{"$f":"BV124","v":"DNF"},{"$f":"BW124","v":"DNF"},{"$f":"BX124","v":"DNF"},{"$f":"BY124","v":"DNF"},{"$f":"IF($C$99=2,SUM(CA123:CB123),IF($C$99=3,SUM(CA123:CC123),IF($C$99=4,SUM(CA123:CD123),\"DNF\")))","v":"DNF"},{"$f":"CA124","v":"DNF"},{"$f":"CB124","v":"DNF"},{"$f":"CC124","v":"DNF"},{"$f":"CD124","v":"DNF"},{"$f":"IF($C$99=2,SUM(CF123:CG123),IF($C$99=3,SUM(CF123:CH123),IF($C$99=4,SUM(CF123:CI123),\"DNF\")))","v":"DNF"},{"$f":"CF124","v":"DNF"},{"$f":"CG124","v":"DNF"},{"$f":"CH124","v":"DNF"},{"$f":"CI124","v":"DNF"},{"$f":"IF($C$99=2,SUM(CK123:CL123),IF($C$99=3,SUM(CK123:CM123),IF($C$99=4,SUM(CK123:CN123),\"DNF\")))","v":"DNF"},{"$f":"CK124","v":"DNF"},{"$f":"CL124","v":"DNF"},{"$f":"CM124","v":"DNF"},{"$f":"CN124","v":"DNF"},{"$f":"IF($C$99=2,SUM(CP123:CQ123),IF($C$99=3,SUM(CP123:CR123),IF($C$99=4,SUM(CP123:CS123),\"DNF\")))","v":"DNF"},{"$f":"CP124","v":"DNF"},{"$f":"CQ124","v":"DNF"},{"$f":"CR124","v":"DNF"},{"$f":"CS124","v":"DNF"},{"$f":"IF($C$99=2,SUM(CU123:CV123),IF($C$99=3,SUM(CU123:CW123),IF($C$99=4,SUM(CU123:CX123),\"DNF\")))","v":"DNF"},{"$f":"CU124","v":"DNF"},{"$f":"CV124","v":"DNF"},{"$f":"CW124","v":"DNF"},{"$f":"CX124","v":"DNF"},{"$f":"IF($C$99=2,SUM(CZ123:DA123),IF($C$99=3,SUM(CZ123:DB123),IF($C$99=4,SUM(CZ123:DC123),\"DNF\")))","v":"DNF"},{"$f":"CZ124","v":"DNF"},{"$f":"DA124","v":"DNF"},{"$f":"DB124","v":"DNF"},{"$f":"DC124","v":"DNF"},{"$f":"IF($C$99=2,SUM(DE123:DF123),IF($C$99=3,SUM(DE123:DG123),IF($C$99=4,SUM(DE123:DH123),\"DNF\")))","v":"DNF"},{"$f":"DE124","v":"DNF"},{"$f":"DF124","v":"DNF"},{"$f":"DG124","v":"DNF"},{"$f":"DH124","v":"DNF"},{"$f":"IF($C$99=2,SUM(DJ123:DK123),IF($C$99=3,SUM(DJ123:DL123),IF($C$99=4,SUM(DJ123:DM123),\"DNF\")))","v":"DNF"},{"$f":"DJ124","v":"DNF"},{"$f":"DK124","v":"DNF"},{"$f":"DL124","v":"DNF"},{"$f":"DM124","v":"DNF"},{"$f":"IF($C$99=2,SUM(DO123:DP123),IF($C$99=3,SUM(DO123:DQ123),IF($C$99=4,SUM(DO123:DR123),\"DNF\")))","v":"DNF"},{"$f":"DO124","v":"DNF"},{"$f":"DP124","v":"DNF"},{"$f":"DQ124","v":"DNF"},{"$f":"DR124","v":"DNF"},{"$f":"IF($C$99=2,SUM(DT123:DU123),IF($C$99=3,SUM(DT123:DV123),IF($C$99=4,SUM(DT123:DW123),\"DNF\")))","v":"DNF"},{"$f":"DT124","v":"DNF"},{"$f":"DU124","v":"DNF"},{"$f":"DV124","v":"DNF"},{"$f":"DW124","v":"DNF"},{"$f":"IF($C$99=2,SUM(DY123:DZ123),IF($C$99=3,SUM(DY123:EA123),IF($C$99=4,SUM(DY123:EB123),\"DNF\")))","v":"DNF"},{"$f":"DY124","v":"DNF"},{"$f":"DZ124","v":"DNF"},{"$f":"EA124","v":"DNF"},{"$f":"EB124","v":"DNF"},{"$f":"IF($C$99=2,SUM(ED123:EE123),IF($C$99=3,SUM(ED123:EF123),IF($C$99=4,SUM(ED123:EG123),\"DNF\")))","v":"DNF"},{"$f":"ED124","v":"DNF"},{"$f":"EE124","v":"DNF"},{"$f":"EF124","v":"DNF"},{"$f":"EG124","v":"DNF"},{"$f":"IF($C$99=2,SUM(EI123:EJ123),IF($C$99=3,SUM(EI123:EK123),IF($C$99=4,SUM(EI123:EL123),\"DNF\")))","v":"DNF"},{"$f":"EI124","v":"DNF"},{"$f":"EJ124","v":"DNF"},{"$f":"EK124","v":"DNF"},{"$f":"EL124","v":"DNF"},{"$f":"IF($C$99=2,SUM(EN123:EO123),IF($C$99=3,SUM(EN123:EP123),IF($C$99=4,SUM(EN123:EQ123),\"DNF\")))","v":"DNF"},{"$f":"EN124","v":"DNF"},{"$f":"EO124","v":"DNF"},{"$f":"EP124","v":"DNF"},{"$f":"EQ124","v":"DNF"},{"$f":"IF($C$99=2,SUM(ES123:ET123),IF($C$99=3,SUM(ES123:EU123),IF($C$99=4,SUM(ES123:EV123),\"DNF\")))","v":"DNF"},{"$f":"ES124","v":"DNF"},{"$f":"ET124","v":"DNF"},{"$f":"EU124","v":"DNF"},{"$f":"EV124","v":"DNF"},{"$f":"IF($C$99=2,SUM(EX123:EY123),IF($C$99=3,SUM(EX123:EZ123),IF($C$99=4,SUM(EX123:FA123),\"DNF\")))","v":"DNF"},{"$f":"EX124","v":"DNF"},{"$f":"EY124","v":"DNF"},{"$f":"EZ124","v":"DNF"},{"$f":"FA124","v":"DNF"},{"$f":"IF($C$99=2,SUM(FC123:FD123),IF($C$99=3,SUM(FC123:FE123),IF($C$99=4,SUM(FC123:FF123),\"DNF\")))","v":"DNF"},{"$f":"FC124","v":"DNF"},{"$f":"FD124","v":"DNF"},{"$f":"FE124","v":"DNF"},{"$f":"FF124","v":"DNF"},{"$f":"IF($C$99=2,SUM(FH123:FI123),IF($C$99=3,SUM(FH123:FJ123),IF($C$99=4,SUM(FH123:FK123),\"DNF\")))","v":"DNF"},{"$f":"FH124","v":"DNF"},{"$f":"FI124","v":"DNF"},{"$f":"FJ124","v":"DNF"},{"$f":"FK124","v":"DNF"},{"$f":"IF($C$99=2,SUM(FM123:FN123),IF($C$99=3,SUM(FM123:FO123),IF($C$99=4,SUM(FM123:FP123),\"DNF\")))","v":"DNF"},{"$f":"FM124","v":"DNF"},{"$f":"FN124","v":"DNF"},{"$f":"FO124","v":"DNF"},{"$f":"FP124","v":"DNF"},{"$f":"IF($C$99=2,SUM(FR123:FS123),IF($C$99=3,SUM(FR123:FT123),IF($C$99=4,SUM(FR123:FU123),\"DNF\")))","v":"DNF"},{"$f":"FR124","v":"DNF"},{"$f":"FS124","v":"DNF"},{"$f":"FT124","v":"DNF"},{"$f":"FU124","v":"DNF"},{"$f":"IF($C$99=2,SUM(FW123:FX123),IF($C$99=3,SUM(FW123:FY123),IF($C$99=4,SUM(FW123:FZ123),\"DNF\")))","v":"DNF"},{"$f":"FW124","v":"DNF"},{"$f":"FX124","v":"DNF"},{"$f":"FY124","v":"DNF"},{"$f":"FZ124","v":"DNF"},{"$f":"IF($C$99=2,SUM(GB123:GC123),IF($C$99=3,SUM(GB123:GD123),IF($C$99=4,SUM(GB123:GE123),\"DNF\")))","v":"DNF"},{"$f":"GB124","v":"DNF"},{"$f":"GC124","v":"DNF"},{"$f":"GD124","v":"DNF"},{"$f":"GE124","v":"DNF"},{"$f":"IF($C$99=2,SUM(GG123:GH123),IF($C$99=3,SUM(GG123:GI123),IF($C$99=4,SUM(GG123:GJ123),\"DNF\")))","v":"DNF"},{"$f":"GG124","v":"DNF"},{"$f":"GH124","v":"DNF"},{"$f":"GI124","v":"DNF"},{"$f":"GJ124","v":"DNF"},{"$f":"IF($C$99=2,SUM(GL123:GM123),IF($C$99=3,SUM(GL123:GN123),IF($C$99=4,SUM(GL123:GO123),\"DNF\")))","v":"DNF"},{"$f":"GL124","v":"DNF"},{"$f":"GM124","v":"DNF"},{"$f":"GN124","v":"DNF"},{"$f":"GO124","v":"DNF"},{"$f":"IF($C$99=2,SUM(GQ123:GR123),IF($C$99=3,SUM(GQ123:GS123),IF($C$99=4,SUM(GQ123:GT123),\"DNF\")))","v":"DNF"},{"$f":"GQ124","v":"DNF"},{"$f":"GR124","v":"DNF"},{"$f":"GS124","v":"DNF"},{"$f":"GT124","v":"DNF"},{"$f":"IF($C$99=2,SUM(GV123:GW123),IF($C$99=3,SUM(GV123:GX123),IF($C$99=4,SUM(GV123:GY123),\"DNF\")))","v":"DNF"},{"$f":"GV124","v":"DNF"},{"$f":"GW124","v":"DNF"},{"$f":"GX124","v":"DNF"},{"$f":"GY124","v":"DNF"},{"$f":"IF($C$99=2,SUM(HA123:HB123),IF($C$99=3,SUM(HA123:HC123),IF($C$99=4,SUM(HA123:HD123),\"DNF\")))","v":"DNF"},{"$f":"HA124","v":"DNF"},{"$f":"HB124","v":"DNF"},{"$f":"HC124","v":"DNF"},{"$f":"HD124","v":"DNF"},{"$f":"IF($C$99=2,SUM(HF123:HG123),IF($C$99=3,SUM(HF123:HH123),IF($C$99=4,SUM(HF123:HI123),\"DNF\")))","v":"DNF"},{"$f":"HF124","v":"DNF"},{"$f":"HG124","v":"DNF"},{"$f":"HH124","v":"DNF"},{"$f":"HI124","v":"DNF"},{"$f":"IF($C$99=2,SUM(HK123:HL123),IF($C$99=3,SUM(HK123:HM123),IF($C$99=4,SUM(HK123:HN123),\"DNF\")))","v":"DNF"},{"$f":"HK124","v":"DNF"},{"$f":"HL124","v":"DNF"},{"$f":"HM124","v":"DNF"},{"$f":"HN124","v":"DNF"},{"$f":"IF($C$99=2,SUM(HP123:HQ123),IF($C$99=3,SUM(HP123:HR123),IF($C$99=4,SUM(HP123:HS123),\"DNF\")))","v":"DNF"},{"$f":"HP124","v":"DNF"},{"$f":"HQ124","v":"DNF"},{"$f":"HR124","v":"DNF"},{"$f":"HS124","v":"DNF"},{"$f":"IF($C$99=2,SUM(HU123:HV123),IF($C$99=3,SUM(HU123:HW123),IF($C$99=4,SUM(HU123:HX123),\"DNF\")))","v":"DNF"},{"$f":"HU124","v":"DNF"},{"$f":"HV124","v":"DNF"},{"$f":"HW124","v":"DNF"},{"$f":"HX124","v":"DNF"},{"$f":"IF($C$99=2,SUM(HZ123:IA123),IF($C$99=3,SUM(HZ123:IB123),IF($C$99=4,SUM(HZ123:IC123),\"DNF\")))","v":"DNF"},{"$f":"HZ124","v":"DNF"},{"$f":"IA124","v":"DNF"},{"$f":"IB124","v":"DNF"},{"$f":"IC124","v":"DNF"},{"$f":"IF($C$99=2,SUM(IE123:IF123),IF($C$99=3,SUM(IE123:IG123),IF($C$99=4,SUM(IE123:IH123),\"DNF\")))","v":"DNF"},{"$f":"IE124","v":"DNF"},{"$f":"IF124","v":"DNF"},{"$f":"IG124","v":"DNF"},{"$f":"IH124","v":"DNF"},{"$f":"IF($C$99=2,SUM(IJ123:IK123),IF($C$99=3,SUM(IJ123:IL123),IF($C$99=4,SUM(IJ123:IM123),\"DNF\")))","v":"DNF"},{"$f":"IJ124","v":"DNF"},{"$f":"IK124","v":"DNF"},{"$f":"IL124","v":"DNF"},{"$f":"IM124","v":"DNF"},{"$f":"IF($C$99=2,SUM(IO123:IP123),IF($C$99=3,SUM(IO123:IQ123),IF($C$99=4,SUM(IO123:IR123),\"DNF\")))","v":"DNF"},{"$f":"IO124","v":"DNF"},{"$f":"IP124","v":"DNF"},{"$f":"IQ124","v":"DNF"},{"$f":"IR124","v":"DNF"},{"$f":"IF($C$99=2,SUM(IT123:IU123),IF($C$99=3,SUM(IT123:IV123),IF($C$99=4,SUM(IT123:IW123),\"DNF\")))","v":"DNF"},{"$f":"IT124","v":"DNF"},{"$f":"IU124","v":"DNF"},{"$f":"IV124","v":"DNF"},{"$f":"IW124","v":"DNF"},{"$f":"IF($C$99=2,SUM(IY123:IZ123),IF($C$99=3,SUM(IY123:JA123),IF($C$99=4,SUM(IY123:JB123),\"DNF\")))","v":"DNF"},{"$f":"IY124","v":"DNF"},{"$f":"IZ124","v":"DNF"},{"$f":"JA124","v":"DNF"},{"$f":"JB124","v":"DNF"},{"$f":"IF($C$99=2,SUM(JD123:JE123),IF($C$99=3,SUM(JD123:JF123),IF($C$99=4,SUM(JD123:JG123),\"DNF\")))","v":"DNF"},{"$f":"JD124","v":"DNF"},{"$f":"JE124","v":"DNF"},{"$f":"JF124","v":"DNF"},{"$f":"JG124","v":"DNF"},{"$f":"IF($C$99=2,SUM(JI123:JJ123),IF($C$99=3,SUM(JI123:JK123),IF($C$99=4,SUM(JI123:JL123),\"DNF\")))","v":"DNF"},{"$f":"JI124","v":"DNF"},{"$f":"JJ124","v":"DNF"},{"$f":"JK124","v":"DNF"},{"$f":"JL124","v":"DNF"},{"$f":"IF($C$99=2,SUM(JN123:JO123),IF($C$99=3,SUM(JN123:JP123),IF($C$99=4,SUM(JN123:JQ123),\"DNF\")))","v":"DNF"},{"$f":"JN124","v":"DNF"},{"$f":"JO124","v":"DNF"},{"$f":"JP124","v":"DNF"},{"$f":"JQ124","v":"DNF"},{"$f":"IF($C$99=2,SUM(JS123:JT123),IF($C$99=3,SUM(JS123:JU123),IF($C$99=4,SUM(JS123:JV123),\"DNF\")))","v":"DNF"},{"$f":"JS124","v":"DNF"},{"$f":"JT124","v":"DNF"},{"$f":"JU124","v":"DNF"},{"$f":"JV124","v":"DNF"}]
[null,"Diff 1",null,{"$f":"LARGE(D123:G123,1)-SMALL(D123:G123,1)","v":0},{"$f":"D125","v":0},{"$f":"E125","v":0},{"$f":"F125","v":0},{"$f":"G125","v":0},{"$f":"LARGE(I123:L123,1)-SMALL(I123:L123,1)","v":0},{"$f":"I125","v":0},{"$f":"J125","v":0},{"$f":"K125","v":0},{"$f":"L125","v":0},{"$f":"LARGE(N123:Q123,1)-SMALL(N123:Q123,1)","v":0},{"$f":"N125","v":0},{"$f":"O125","v":0},{"$f":"P125","v":0},{"$f":"Q125","v":0},{"$f":"LARGE(S123:V123,1)-SMALL(S123:V123,1)","v":0},{"$f":"S125","v":0},{"$f":"T125","v":0},{"$f":"U125","v":0},{"$f":"V125","v":0},{"$f":"LARGE(X123:AA123,1)-SMALL(X123:AA123,1)","v":0},{"$f":"X125","v":0},{"$f":"Y125","v":0},{"$f":"Z125","v":0},{"$f":"AA125","v":0},{"$f":"LARGE(AC123:AF123,1)-SMALL(AC123:AF123,1)","v":0},{"$f":"AC125","v":0},{"$f":"AD125","v":0},{"$f":"AE125","v":0},{"$f":"AF125","v":0},{"$f":"LARGE(AH123:AK123,1)-SMALL(AH123:AK123,1)","v":0},{"$f":"AH125","v":0},{"$f":"AI125","v":0},{"$f":"AJ125","v":0},{"$f":"AK125","v":0},{"$f":"LARGE(AM123:AP123,1)-SMALL(AM123:AP123,1)","v":0},{"$f":"AM125","v":0},{"$f":"AN125","v":0},{"$f":"AO125","v":0},{"$f":"AP125","v":0},{"$f":"LARGE(AR123:AU123,1)-SMALL(AR123:AU123,1)","v":0},{"$f":"AR125","v":0},{"$f":"AS125","v":0},{"$f":"AT125","v":0},{"$f":"AU125","v":0},{"$f":"LARGE(AW123:AZ123,1)-SMALL(AW123:AZ123,1)","v":0},{"$f":"AW125","v":0},{"$f":"AX125","v":0},{"$f":"AY125","v":0},{"$f":"AZ125","v":0},{"$f":"LARGE(BB123:BE123,1)-SMALL(BB123:BE123,1)","v":0},{"$f":"BB125","v":0},{"$f":"BC125","v":0},{"$f":"BD125","v":0},{"$f":"BE125","v":0},{"$f":"LARGE(BG123:BJ123,1)-SMALL(BG123:BJ123,1)","v":0},{"$f":"BG125","v":0},{"$f":"BH125","v":0},{"$f":"BI125","v":0},{"$f":"BJ125","v":0},{"$f":"LARGE(BL123:BO123,1)-SMALL(BL123:BO123,1)","v":0},{"$f":"BL125","v":0},{"$f":"BM125","v":0},{"$f":"BN125","v":0},{"$f":"BO125","v":0},{"$f":"LARGE(BQ123:BT123,1)-SMALL(BQ123:BT123,1)","v":0},{"$f":"BQ125","v":0},{"$f":"BR125","v":0},{"$f":"BS125","v":0},{"$f":"BT125","v":0},{"$f":"LARGE(BV123:BY123,1)-SMALL(BV123:BY123,1)","v":0},{"$f":"BV125","v":0},{"$f":"BW125","v":0},{"$f":"BX125","v":0},{"$f":"BY125","v":0},{"$f":"LARGE(CA123:CD123,1)-SMALL(CA123:CD123,1)","v":0},{"$f":"CA125","v":0},{"$f":"CB125","v":0},{"$f":"CC125","v":0},{"$f":"CD125","v":0},{"$f":"LARGE(CF123:CI123,1)-SMALL(CF123:CI123,1)","v":0},{"$f":"CF125","v":0},{"$f":"CG125","v":0},{"$f":"CH125","v":0},{"$f":"CI125","v":0},{"$f":"LARGE(CK123:CN123,1)-SMALL(CK123:CN123,1)","v":0},{"$f":"CK125","v":0},{"$f":"CL125","v":0},{"$f":"CM125","v":0},{"$f":"CN125","v":0},{"$f":"LARGE(CP123:CS123,1)-SMALL(CP123:CS123,1)","v":0},{"$f":"CP125","v":0},{"$f":"CQ125","v":0},{"$f":"CR125","v":0},{"$f":"CS125","v":0},{"$f":"LARGE(CU123:CX123,1)-SMALL(CU123:CX123,1)","v":0},{"$f":"CU125","v":0},{"$f":"CV125","v":0},{"$f":"CW125","v":0},{"$f":"CX125","v":0},{"$f":"LARGE(CZ123:DC123,1)-SMALL(CZ123:DC123,1)","v":0},{"$f":"CZ125","v":0},{"$f":"DA125","v":0},{"$f":"DB125","v":0},{"$f":"DC125","v":0},{"$f":"LARGE(DE123:DH123,1)-SMALL(DE123:DH123,1)","v":0},{"$f":"DE125","v":0},{"$f":"DF125","v":0},{"$f":"DG125","v":0},{"$f":"DH125","v":0},{"$f":"LARGE(DJ123:DM123,1)-SMALL(DJ123:DM123,1)","v":0},{"$f":"DJ125","v":0},{"$f":"DK125","v":0},{"$f":"DL125","v":0},{"$f":"DM125","v":0},{"$f":"LARGE(DO123:DR123,1)-SMALL(DO123:DR123,1)","v":0},{"$f":"DO125","v":0},{"$f":"DP125","v":0},{"$f":"DQ125","v":0},{"$f":"DR125","v":0},{"$f":"LARGE(DT123:DW123,1)-SMALL(DT123:DW123,1)","v":0},{"$f":"DT125","v":0},{"$f":"DU125","v":0},{"$f":"DV125","v":0},{"$f":"DW125","v":0},{"$f":"LARGE(DY123:EB123,1)-SMALL(DY123:EB123,1)","v":0},{"$f":"DY125","v":0},{"$f":"DZ125","v":0},{"$f":"EA125","v":0},{"$f":"EB125","v":0},{"$f":"LARGE(ED123:EG123,1)-SMALL(ED123:EG123,1)","v":0},{"$f":"ED125","v":0},{"$f":"EE125","v":0},{"$f":"EF125","v":0},{"$f":"EG125","v":0},{"$f":"LARGE(EI123:EL123,1)-SMALL(EI123:EL123,1)","v":0},{"$f":"EI125","v":0},{"$f":"EJ125","v":0},{"$f":"EK125","v":0},{"$f":"EL125","v":0},{"$f":"LARGE(EN123:EQ123,1)-SMALL(EN123:EQ123,1)","v":0},{"$f":"EN125","v":0},{"$f":"EO125","v":0},{"$f":"EP125","v":0},{"$f":"EQ125","v":0},{"$f":"LARGE(ES123:EV123,1)-SMALL(ES123:EV123,1)","v":0},{"$f":"ES125","v":0},{"$f":"ET125","v":0},{"$f":"EU125","v":0},{"$f":"EV125","v":0},{"$f":"LARGE(EX123:FA123,1)-SMALL(EX123:FA123,1)","v":0},{"$f":"EX125","v":0},{"$f":"EY125","v":0},{"$f":"EZ125","v":0},{"$f":"FA125","v":0},{"$f":"LARGE(FC123:FF123,1)-SMALL(FC123:FF123,1)","v":0},{"$f":"FC125","v":0},{"$f":"FD125","v":0},{"$f":"FE125","v":0},{"$f":"FF125","v":0},{"$f":"LARGE(FH123:FK123,1)-SMALL(FH123:FK123,1)","v":0},{"$f":"FH125","v":0},{"$f":"FI125","v":0},{"$f":"FJ125","v":0},{"$f":"FK125","v":0},{"$f":"LARGE(FM123:FP123,1)-SMALL(FM123:FP123,1)","v":0},{"$f":"FM125","v":0},{"$f":"FN125","v":0},{"$f":"FO125","v":0},{"$f":"FP125","v":0},{"$f":"LARGE(FR123:FU123,1)-SMALL(FR123:FU123,1)","v":0},{"$f":"FR125","v":0},{"$f":"FS125","v":0},{"$f":"FT125","v":0},{"$f":"FU125","v":0},{"$f":"LARGE(FW123:FZ123,1)-SMALL(FW123:FZ123,1)","v":0},{"$f":"FW125","v":0},{"$f":"FX125","v":0},{"$f":"FY125","v":0},{"$f":"FZ125","v":0},{"$f":"LARGE(GB123:GE123,1)-SMALL(GB123:GE123,1)","v":0},{"$f":"GB125","v":0},{"$f":"GC125","v":0},{"$f":"GD125","v":0},{"$f":"GE125","v":0},{"$f":"LARGE(GG123:GJ123,1)-SMALL(GG123:GJ123,1)","v":0},{"$f":"GG125","v":0},{"$f":"GH125","v":0},{"$f":"GI125","v":0},{"$f":"GJ125","v":0},{"$f":"LARGE(GL123:GO123,1)-SMALL(GL123:GO123,1)","v":0},{"$f":"GL125","v":0},{"$f":"GM125","v":0},{"$f":"GN125","v":0},{"$f":"GO125","v":0},{"$f":"LARGE(GQ123:GT123,1)-SMALL(GQ123:GT123,1)","v":0},{"$f":"GQ125","v":0},{"$f":"GR125","v":0},{"$f":"GS125","v":0},{"$f":"GT125","v":0},{"$f":"LARGE(GV123:GY123,1)-SMALL(GV123:GY123,1)","v":0},{"$f":"GV125","v":0},{"$f":"GW125","v":0},{"$f":"GX125","v":0},{"$f":"GY125","v":0},{"$f":"LARGE(HA123:HD123,1)-SMALL(HA123:HD123,1)","v":0},{"$f":"HA125","v":0},{"$f":"HB125","v":0},{"$f":"HC125","v":0},{"$f":"HD125","v":0},{"$f":"LARGE(HF123:HI123,1)-SMALL(HF123:HI123,1)","v":0},{"$f":"HF125","v":0},{"$f":"HG125","v":0},{"$f":"HH125","v":0},{"$f":"HI125","v":0},{"$f":"LARGE(HK123:HN123,1)-SMALL(HK123:HN123,1)","v":0},{"$f":"HK125","v":0},{"$f":"HL125","v":0},{"$f":"HM125","v":0},{"$f":"HN125","v":0},{"$f":"LARGE(HP123:HS123,1)-SMALL(HP123:HS123,1)","v":0},{"$f":"HP125","v":0},{"$f":"HQ125","v":0},{"$f":"HR125","v":0},{"$f":"HS125","v":0},{"$f":"LARGE(HU123:HX123,1)-SMALL(HU123:HX123,1)","v":0},{"$f":"HU125","v":0},{"$f":"HV125","v":0},{"$f":"HW125","v":0},{"$f":"HX125","v":0},{"$f":"LARGE(HZ123:IC123,1)-SMALL(HZ123:IC123,1)","v":0},{"$f":"HZ125","v":0},{"$f":"IA125","v":0},{"$f":"IB125","v":0},{"$f":"IC125","v":0},{"$f":"LARGE(IE123:IH123,1)-SMALL(IE123:IH123,1)","v":0},{"$f":"IE125","v":0},{"$f":"IF125","v":0},{"$f":"IG125","v":0},{"$f":"IH125","v":0},{"$f":"LARGE(IJ123:IM123,1)-SMALL(IJ123:IM123,1)","v":0},{"$f":"IJ125","v":0},{"$f":"IK125","v":0},{"$f":"IL125","v":0},{"$f":"IM125","v":0},{"$f":"LARGE(IO123:IR123,1)-SMALL(IO123:IR123,1)","v":0},{"$f":"IO125","v":0},{"$f":"IP125","v":0},{"$f":"IQ125","v":0},{"$f":"IR125","v":0},{"$f":"LARGE(IT123:IW123,1)-SMALL(IT123:IW123,1)","v":0},{"$f":"IT125","v":0},{"$f":"IU125","v":0},{"$f":"IV125","v":0},{"$f":"IW125","v":0},{"$f":"LARGE(IY123:JB123,1)-SMALL(IY123:JB123,1)","v":0},{"$f":"IY125","v":0},{"$f":"IZ125","v":0},{"$f":"JA125","v":0},{"$f":"JB125","v":0},{"$f":"LARGE(JD123:JG123,1)-SMALL(JD123:JG123,1)","v":0},{"$f":"JD125","v":0},{"$f":"JE125","v":0},{"$f":"JF125","v":0},{"$f":"JG125","v":0},{"$f":"LARGE(JI123:JL123,1)-SMALL(JI123:JL123,1)","v":0},{"$f":"JI125","v":0},{"$f":"JJ125","v":0},{"$f":"JK125","v":0},{"$f":"JL125","v":0},{"$f":"LARGE(JN123:JQ123,1)-SMALL(JN123:JQ123,1)","v":0},{"$f":"JN125","v":0},{"$f":"JO125","v":0},{"$f":"JP125","v":0},{"$f":"JQ125","v":0},{"$f":"LARGE(JS123:JV123,1)-SMALL(JS123:JV123,1)","v":0},{"$f":"JS125","v":0},{"$f":"JT125","v":0},{"$f":"JU125","v":0},{"$f":"JV125","v":0}]
[null,"Diff 2",null,{"$f":"LARGE(D123:G123,2)-SMALL(D123:G123,2)","v":0},{"$f":"D126","v":0},{"$f":"E126","v":0},{"$f":"F126","v":0},{"$f":"G126","v":0},{"$f":"LARGE(I123:L123,2)-SMALL(I123:L123,2)","v":0},{"$f":"I126","v":0},{"$f":"J126","v":0},{"$f":"K126","v":0},{"$f":"L126","v":0},{"$f":"LARGE(N123:Q123,2)-SMALL(N123:Q123,2)","v":0},{"$f":"N126","v":0},{"$f":"O126","v":0},{"$f":"P126","v":0},{"$f":"Q126","v":0},{"$f":"LARGE(S123:V123,2)-SMALL(S123:V123,2)","v":0},{"$f":"S126","v":0},{"$f":"T126","v":0},{"$f":"U126","v":0},{"$f":"V126","v":0},{"$f":"LARGE(X123:AA123,2)-SMALL(X123:AA123,2)","v":0},{"$f":"X126","v":0},{"$f":"Y126","v":0},{"$f":"Z126","v":0},{"$f":"AA126","v":0},{"$f":"LARGE(AC123:AF123,2)-SMALL(AC123:AF123,2)","v":0},{"$f":"AC126","v":0},{"$f":"AD126","v":0},{"$f":"AE126","v":0},{"$f":"AF126","v":0},{"$f":"LARGE(AH123:AK123,2)-SMALL(AH123:AK123,2)","v":0},{"$f":"AH126","v":0},{"$f":"AI126","v":0},{"$f":"AJ126","v":0},{"$f":"AK126","v":0},{"$f":"LARGE(AM123:AP123,2)-SMALL(AM123:AP123,2)","v":0},{"$f":"AM126","v":0},{"$f":"AN126","v":0},{"$f":"AO126","v":0},{"$f":"AP126","v":0},{"$f":"LARGE(AR123:AU123,2)-SMALL(AR123:AU123,2)","v":0},{"$f":"AR126","v":0},{"$f":"AS126","v":0},{"$f":"AT126","v":0},{"$f":"AU126","v":0},{"$f":"LARGE(AW123:AZ123,2)-SMALL(AW123:AZ123,2)","v":0},{"$f":"AW126","v":0},{"$f":"AX126","v":0},{"$f":"AY126","v":0},{"$f":"AZ126","v":0},{"$f":"LARGE(BB123:BE123,2)-SMALL(BB123:BE123,2)","v":0},{"$f":"BB126","v":0},{"$f":"BC126","v":0},{"$f":"BD126","v":0},{"$f":"BE126","v":0},{"$f":"LARGE(BG123:BJ123,2)-SMALL(BG123:BJ123,2)","v":0},{"$f":"BG126","v":0},{"$f":"BH126","v":0},{"$f":"BI126","v":0},{"$f":"BJ126","v":0},{"$f":"LARGE(BL123:BO123,2)-SMALL(BL123:BO123,2)","v":0},{"$f":"BL126","v":0},{"$f":"BM126","v":0},{"$f":"BN126","v":0},{"$f":"BO126","v":0},{"$f":"LARGE(BQ123:BT123,2)-SMALL(BQ123:BT123,2)","v":0},{"$f":"BQ126","v":0},{"$f":"BR126","v":0},{"$f":"BS126","v":0},{"$f":"BT126","v":0},{"$f":"LARGE(BV123:BY123,2)-SMALL(BV123:BY123,2)","v":0},{"$f":"BV126","v":0},{"$f":"BW126","v":0},{"$f":"BX126","v":0},{"$f":"BY126","v":0},{"$f":"LARGE(CA123:CD123,2)-SMALL(CA123:CD123,2)","v":0},{"$f":"CA126","v":0},{"$f":"CB126","v":0},{"$f":"CC126","v":0},{"$f":"CD126","v":0},{"$f":"LARGE(CF123:CI123,2)-SMALL(CF123:CI123,2)","v":0},{"$f":"CF126","v":0},{"$f":"CG126","v":0},{"$f":"CH126","v":0},{"$f":"CI126","v":0},{"$f":"LARGE(CK123:CN123,2)-SMALL(CK123:CN123,2)","v":0},{"$f":"CK126","v":0},{"$f":"CL126","v":0},{"$f":"CM126","v":0},{"$f":"CN126","v":0},{"$f":"LARGE(CP123:CS123,2)-SMALL(CP123:CS123,2)","v":0},{"$f":"CP126","v":0},{"$f":"CQ126","v":0},{"$f":"CR126","v":0},{"$f":"CS126","v":0},{"$f":"LARGE(CU123:CX123,2)-SMALL(CU123:CX123,2)","v":0},{"$f":"CU126","v":0},{"$f":"CV126","v":0},{"$f":"CW126","v":0},{"$f":"CX126","v":0},{"$f":"LARGE(CZ123:DC123,2)-SMALL(CZ123:DC123,2)","v":0},{"$f":"CZ126","v":0},{"$f":"DA126","v":0},{"$f":"DB126","v":0},{"$f":"DC126","v":0},{"$f":"LARGE(DE123:DH123,2)-SMALL(DE123:DH123,2)","v":0},{"$f":"DE126","v":0},{"$f":"DF126","v":0},{"$f":"DG126","v":0},{"$f":"DH126","v":0},{"$f":"LARGE(DJ123:DM123,2)-SMALL(DJ123:DM123,2)","v":0},{"$f":"DJ126","v":0},{"$f":"DK126","v":0},{"$f":"DL126","v":0},{"$f":"DM126","v":0},{"$f":"LARGE(DO123:DR123,2)-SMALL(DO123:DR123,2)","v":0},{"$f":"DO126","v":0},{"$f":"DP126","v":0},{"$f":"DQ126","v":0},{"$f":"DR126","v":0},{"$f":"LARGE(DT123:DW123,2)-SMALL(DT123:DW123,2)","v":0},{"$f":"DT126","v":0},{"$f":"DU126","v":0},{"$f":"DV126","v":0},{"$f":"DW126","v":0},{"$f":"LARGE(DY123:EB123,2)-SMALL(DY123:EB123,2)","v":0},{"$f":"DY126","v":0},{"$f":"DZ126","v":0},{"$f":"EA126","v":0},{"$f":"EB126","v":0},{"$f":"LARGE(ED123:EG123,2)-SMALL(ED123:EG123,2)","v":0},{"$f":"ED126","v":0},{"$f":"EE126","v":0},{"$f":"EF126","v":0},{"$f":"EG126","v":0},{"$f":"LARGE(EI123:EL123,2)-SMALL(EI123:EL123,2)","v":0},{"$f":"EI126","v":0},{"$f":"EJ126","v":0},{"$f":"EK126","v":0},{"$f":"EL126","v":0},{"$f":"LARGE(EN123:EQ123,2)-SMALL(EN123:EQ123,2)","v":0},{"$f":"EN126","v":0},{"$f":"EO126","v":0},{"$f":"EP126","v":0},{"$f":"EQ126","v":0},{"$f":"LARGE(ES123:EV123,2)-SMALL(ES123:EV123,2)","v":0},{"$f":"ES126","v":0},{"$f":"ET126","v":0},{"$f":"EU126","v":0},{"$f":"EV126","v":0},{"$f":"LARGE(EX123:FA123,2)-SMALL(EX123:FA123,2)","v":0},{"$f":"EX126","v":0},{"$f":"EY126","v":0},{"$f":"EZ126","v":0},{"$f":"FA126","v":0},{"$f":"LARGE(FC123:FF123,2)-SMALL(FC123:FF123,2)","v":0},{"$f":"FC126","v":0},{"$f":"FD126","v":0},{"$f":"FE126","v":0},{"$f":"FF126","v":0},{"$f":"LARGE(FH123:FK123,2)-SMALL(FH123:FK123,2)","v":0},{"$f":"FH126","v":0},{"$f":"FI126","v":0},{"$f":"FJ126","v":0},{"$f":"FK126","v":0},{"$f":"LARGE(FM123:FP123,2)-SMALL(FM123:FP123,2)","v":0},{"$f":"FM126","v":0},{"$f":"FN126","v":0},{"$f":"FO126","v":0},{"$f":"FP126","v":0},{"$f":"LARGE(FR123:FU123,2)-SMALL(FR123:FU123,2)","v":0},{"$f":"FR126","v":0},{"$f":"FS126","v":0},{"$f":"FT126","v":0},{"$f":"FU126","v":0},{"$f":"LARGE(FW123:FZ123,2)-SMALL(FW123:FZ123,2)","v":0},{"$f":"FW126","v":0},{"$f":"FX126","v":0},{"$f":"FY126","v":0},{"$f":"FZ126","v":0},{"$f":"LARGE(GB123:GE123,2)-SMALL(GB123:GE123,2)","v":0},{"$f":"GB126","v":0},{"$f":"GC126","v":0},{"$f":"GD126","v":0},{"$f":"GE126","v":0},{"$f":"LARGE(GG123:GJ123,2)-SMALL(GG123:GJ123,2)","v":0},{"$f":"GG126","v":0},{"$f":"GH126","v":0},{"$f":"GI126","v":0},{"$f":"GJ126","v":0},{"$f":"LARGE(GL123:GO123,2)-SMALL(GL123:GO123,2)","v":0},{"$f":"GL126","v":0},{"$f":"GM126","v":0},{"$f":"GN126","v":0},{"$f":"GO126","v":0},{"$f":"LARGE(GQ123:GT123,2)-SMALL(GQ123:GT123,2)","v":0},{"$f":"GQ126","v":0},{"$f":"GR126","v":0},{"$f":"GS126","v":0},{"$f":"GT126","v":0},{"$f":"LARGE(GV123:GY123,2)-SMALL(GV123:GY123,2)","v":0},{"$f":"GV126","v":0},{"$f":"GW126","v":0},{"$f":"GX126","v":0},{"$f":"GY126","v":0},{"$f":"LARGE(HA123:HD123,2)-SMALL(HA123:HD123,2)","v":0},{"$f":"HA126","v":0},{"$f":"HB126","v":0},{"$f":"HC126","v":0},{"$f":"HD126","v":0},{"$f":"LARGE(HF123:HI123,2)-SMALL(HF123:HI123,2)","v":0},{"$f":"HF126","v":0},{"$f":"HG126","v":0},{"$f":"HH126","v":0},{"$f":"HI126","v":0},{"$f":"LARGE(HK123:HN123,2)-SMALL(HK123:HN123,2)","v":0},{"$f":"HK126","v":0},{"$f":"HL126","v":0},{"$f":"HM126","v":0},{"$f":"HN126","v":0},{"$f":"LARGE(HP123:HS123,2)-SMALL(HP123:HS123,2)","v":0},{"$f":"HP126","v":0},{"$f":"HQ126","v":0},{"$f":"HR126","v":0},{"$f":"HS126","v":0},{"$f":"LARGE(HU123:HX123,2)-SMALL(HU123:HX123,2)","v":0},{"$f":"HU126","v":0},{"$f":"HV126","v":0},{"$f":"HW126","v":0},{"$f":"HX126","v":0},{"$f":"LARGE(HZ123:IC123,2)-SMALL(HZ123:IC123,2)","v":0},{"$f":"HZ126","v":0},{"$f":"IA126","v":0},{"$f":"IB126","v":0},{"$f":"IC126","v":0},{"$f":"LARGE(IE123:IH123,2)-SMALL(IE123:IH123,2)","v":0},{"$f":"IE126","v":0},{"$f":"IF126","v":0},{"$f":"IG126","v":0},{"$f":"IH126","v":0},{"$f":"LARGE(IJ123:IM123,2)-SMALL(IJ123:IM123,2)","v":0},{"$f":"IJ126","v":0},{"$f":"IK126","v":0},{"$f":"IL126","v":0},{"$f":"IM126","v":0},{"$f":"LARGE(IO123:IR123,2)-SMALL(IO123:IR123,2)","v":0},{"$f":"IO126","v":0},{"$f":"IP126","v":0},{"$f":"IQ126","v":0},{"$f":"IR126","v":0},{"$f":"LARGE(IT123:IW123,2)-SMALL(IT123:IW123,2)","v":0},{"$f":"IT126","v":0},{"$f":"IU126","v":0},{"$f":"IV126","v":0},{"$f":"IW126","v":0},{"$f":"LARGE(IY123:JB123,2)-SMALL(IY123:JB123,2)","v":0},{"$f":"IY126","v":0},{"$f":"IZ126","v":0},{"$f":"JA126","v":0},{"$f":"JB126","v":0},{"$f":"LARGE(JD123:JG123,2)-SMALL(JD123:JG123,2)","v":0},{"$f":"JD126","v":0},{"$f":"JE126","v":0},{"$f":"JF126","v":0},{"$f":"JG126","v":0},{"$f":"LARGE(JI123:JL123,2)-SMALL(JI123:JL123,2)","v":0},{"$f":"JI126","v":0},{"$f":"JJ126","v":0},{"$f":"JK126","v":0},{"$f":"JL126","v":0},{"$f":"LARGE(JN123:JQ123,2)-SMALL(JN123:JQ123,2)","v":0},{"$f":"JN126","v":0},{"$f":"JO126","v":0},{"$f":"JP126","v":0},{"$f":"JQ126","v":0},{"$f":"LARGE(JS123:JV123,2)-SMALL(JS123:JV123,2)","v":0},{"$f":"JS126","v":0},{"$f":"JT126","v":0},{"$f":"JU126","v":0},{"$f":"JV126","v":0}]

{"sheet":"Einzel+DRL","index":8,"n_rows":88,"n_cols":29,"rows_kept":88,"cut":false,"hidden":false,"merged":[[1,14,1,15],[2,13,2,15],[2,8,2,12]]}
[]
[null,null,null,{"$f":"IF(+Eing.Allg..Daten!D2>0,+Eing.Allg..Daten!D2,\"\")","v":"Gruppenliga"},null,null,null,null,{"$f":"+Seite1!C5","v":3},{"$f":"+Seite1!D5","v":". Spieltag         "},null,null,null,{"$f":"+Seite1!E5","v":"Saison"},{"$f":"+Seite1!F5","v":2024},null,null,null,null,null,null,"Runden-anzahl",null,null,null,"Spieler in Wertung :",{"$f":"COUNTIF(N6:N88,\">0\")","v":0}]
[null,{"$f":"Spielerdaten!F2","v":"DRL Rangliste 01.05.24"},null,null,null,null,"Turnier Basisnote:",{"$f":"AB4","v":{"$error":"#DIV/0!"}},"Turnier Basisschnitt:",null,null,null,null,{"$f":"AC5","v":{"$error":"#DIV/0!"}},null,null,null,null,null,null,null,null,null,null,null,"80% davon :",{"$f":"ROUND(AA2*80%,0)","v":0}]
[null,null,null,null,null,null,null,null,null,null,null,null,null,null,null,null,null,null,null,null,null,null,null,null,null,"Turnierwert:",null,{"$f":"AVERAGE(AB6:AB78)","v":{"$error":"#DIV/0!"}}]
[null,"DRL Wert","Turnier note",null,"Paßnr.",null,"Name / Vorname","Verein","Kat","1. Rd.","2. Rd.","3. Rd.","4. Rd.","Gesamt","Ø","1.Diff","2.Diff",null,null,null,null,null,null,null,null,"Turnierschnitt:",null,null,{"$f":"AVERAGE(AC6:AC65)","v":{"$error":"#DIV/0!"}}]
[{"$f":"IF(E6=\"\",1,0)","v":1},{"$f":"IF(E6=\"\",\"\",VLOOKUP(E6,Spielerdaten!$A$3:$F$4653,6,0))","v":""},{"$f":"IF($O6=\"\",\"\",IF($H$3+($O6-$N$3)<0,0,$H$3+($O6-$N$3)))","v":""},null,{"$f":"IF(Tagestabelle!$E10<>\"\",Tagestabelle!$E10,\"\")","v":""},null,{"$f":"IF(Tagestabelle!$E10<>\"\",Tagestabelle!$G10,\"\")","v":""},{"$f":"IF(Tagestabelle!$E10<>\"\",Tagestabelle!$E$5,\"x\")","v":"x"},{"$f":"IF(Tagestabelle!$E10<>\"\",Tagestabelle!$H10,\"\")","v":""},{"$f":"IF(Tagestabelle!$E10<>\"\",Tagestabelle!$I10,\"\")","v":""},{"$f":"IF(Tagestabelle!$E10<>\"\",Tagestabelle!$J10,\"\")","v":""},{"$f":"IF(Tagestabelle!$E10<>\"\",Tagestabelle!$K10,\"\")","v":""},{"$f":"IF(Tagestabelle!$E10<>\"\",Tagestabelle!$L10,\"\")","v":""},{"$f":"ROUND(SUM(J6:M6),0)","v":0},{"$f":"IF(N6>0,N6/V6,\"\")","v":""},{"$f":"IF(N6>0,LARGE((J6:M6),1)-SMALL((J6:M6),1),\"\")","v":""},{"$f":"IF(N6>0,LARGE((J6:M6),2)-SMALL((J6:M6),2),\"\")","v":""},null,null,null,null,{"$f":"COUNTIF(J6:M6,\">0\")","v":0},null,{"$f":"IF(AND(A6>0,E6>0),1,IF(N6>0,1,2))","v":1},{"$f":"COUNTIF(I$6:I$88,I6)","v":83},null,1,{"$f":"IF($AA6>$AA$3,\"\",SMALL($B$6:$B$78,$AA6))","v":""},{"$f":"IF($AA6>$AA$3,\"\",SMALL($O$6:$O$78,$AA6))","v":""}]
[1,{"$f":"IF(E7=\"\",\"\",VLOOKUP(E7,Spielerdaten!$A$3:$F$4653,6,0))","v":""},"",null,{"$f":"IF(Tagestabelle!$E27<>\"\",Tagestabelle!$E27,\"\")","v":""},null,{"$f":"IF(Tagestabelle!$E27<>\"\",Tagestabelle!$G27,\"\")","v":""},{"$f":"IF(Tagestabelle!$E27<>\"\",Tagestabelle!$E$21,\"x\")","v":"x"},{"$f":"IF(Tagestabelle!$E27<>\"\",Tagestabelle!$H27,\"\")","v":""},{"$f":"IF(Tagestabelle!$E27<>\"\",Tagestabelle!$I27,\"\")","v":""},{"$f":"IF(Tagestabelle!$E27<>\"\",Tagestabelle!$J27,\"\")","v":""},{"$f":"IF(Tagestabelle!$E27<>\"\",Tagestabelle!$K27,\"\")","v":""},{"$f":"IF(Tagestabelle!$E27<>\"\",Tagestabelle!$L27,\"\")","v":""},0,"","","",null,null,null,null,0,null,1,83,null,2,"",""]
[1,{"$f":"IF(E8=\"\",\"\",VLOOKUP(E8,Spielerdaten!$A$3:$F$4653,6,0))","v":""},"",null,{"$f":"IF(Tagestabelle!$E18<>\"\",Tagestabelle!$E18,\"\")","v":""},null,{"$f":"IF(Tagestabelle!$E18<>\"\",Tagestabelle!$G18,\"\")","v":""},{"$f":"IF(Tagestabelle!$E18<>\"\",Tagestabelle!$E$5,\"x\")","v":"x"},{"$f":"IF(Tagestabelle!$E18<>\"\",Tagestabelle!$H18,\"\")","v":""},{"$f":"IF(Tagestabelle!$E18<>\"\",Tagestabelle!$I18,\"\")","v":""},{"$f":"IF(Tagestabelle!$E18<>\"\",Tagestabelle!$J18,\"\")","v":""},{"$f":"IF(Tagestabelle!$E18<>\"\",Tagestabelle!$K18,\"\")","v":""},{"$f":"IF(Tagestabelle!$E18<>\"\",Tagestabelle!$L18,\"\")","v":""},0,"","","",null,null,null,null,0,null,1,83,null,3,"",""]
[1,{"$f":"IF(E9=\"\",\"\",VLOOKUP(E9,Spielerdaten!$A$3:$F$4653,6,0))","v":""},"",null,{"$f":"IF(Tagestabelle!$E59<>\"\",Tagestabelle!$E59,\"\")","v":""},null,{"$f":"IF(Tagestabelle!$E59<>\"\",Tagestabelle!$G59,\"\")","v":""},{"$f":"IF(Tagestabelle!$E59<>\"\",Tagestabelle!$E$53,\"x\")","v":"x"},{"$f":"IF(Tagestabelle!$E59<>\"\",Tagestabelle!$H59,\"\")","v":""},{"$f":"IF(Tagestabelle!$E59<>\"\",Tagestabelle!$I59,\"\")","v":""},{"$f":"IF(Tagestabelle!$E59<>\"\",Tagestabelle!$J59,\"\")","v":""},{"$f":"IF(Tagestabelle!$E59<>\"\",Tagestabelle!$K59,\"\")","v":""},{"$f":"IF(Tagestabelle!$E59<>\"\",Tagestabelle!$L59,\"\")","v":""},0,"","","",null,null,null,null,0,null,1,83,null,4,"",""]
[1,{"$f":"IF(E10=\"\",\"\",VLOOKUP(E10,Spielerdaten!$A$3:$F$4653,6,0))","v":""},"",null,{"$f":"IF(Tagestabelle!$E7<>\"\",Tagestabelle!$E7,\"\")","v":""},null,{"$f":"IF(Tagestabelle!$E7<>\"\",Tagestabelle!$G7,\"\")","v":""},{"$f":"IF(Tagestabelle!$E7<>\"\",Tagestabelle!$E$5,\"x\")","v":"x"},{"$f":"IF(Tagestabelle!$E7<>\"\",Tagestabelle!$H7,\"\")","v":""},{"$f":"IF(Tagestabelle!$E7<>\"\",Tagestabelle!$I7,\"\")","v":""},{"$f":"IF(Tagestabelle!$E7<>\"\",Tagestabelle!$J7,\"\")","v":""},{"$f":"IF(Tagestabelle!$E7<>\"\",Tagestabelle!$K7,\"\")","v":""},{"$f":"IF(Tagestabelle!$E7<>\"\",Tagestabelle!$L7,\"\")","v":""},0,"","","",null,null,null,null,0,null,1,83,null,5,"",""]
[1,{"$f":"IF(E11=\"\",\"\",VLOOKUP(E11,Spielerdaten!$A$3:$F$4653,6,0))","v":""},"",null,{"$f":"IF(Tagestabelle!$E40<>\"\",Tagestabelle!$E40,\"\")","v":""},null,{"$f":"IF(Tagestabelle!$E40<>\"\",Tagestabelle!$G40,\"\")","v":""},{"$f":"IF(Tagestabelle!$E40<>\"\",Tagestabelle!$E$37,\"x\")","v":"x"},{"$f":"IF(Tagestabelle!$E40<>\"\",Tagestabelle!$H40,\"\")","v":""},{"$f":"IF(Tagestabelle!$E40<>\"\",Tagestabelle!$I40,\"\")","v":""},{"$f":"IF(Tagestabelle!$E40<>\"\",Tagestabelle!$J40,\"\")","v":""},{"$f":"IF(Tagestabelle!$E40<>\"\",Tagestabelle!$K40,\"\")","v":""},{"$f":"IF(Tagestabelle!$E40<>\"\",Tagestabelle!$L40,\"\")","v":""},0,"","","",null,null,null,null,0,null,1,83,null,6,"",""]
[1,{"$f":"IF(E12=\"\",\"\",VLOOKUP(E12,Spielerdaten!$A$3:$F$4653,6,0))","v":""},"",null,{"$f":"IF(Tagestabelle!$E44<>\"\",Tagestabelle!$E44,\"\")","v":""},null,{"$f":"IF(Tagestabelle!$E44<>\"\",Tagestabelle!$G44,\"\")","v":""},{"$f":"IF(Tagestabelle!$E44<>\"\",Tagestabelle!$E$37,\"x\")","v":"x"},{"$f":"IF(Tagestabelle!$E44<>\"\",Tagestabelle!$H44,\"\")","v":""},{"$f":"IF(Tagestabelle!$E44<>\"\",Tagestabelle!$I44,\"\")","v":""},{"$f":"IF(Tagestabelle!$E44<>\"\",Tagestabelle!$J44,\"\")","v":""},{"$f":"IF(Tagestabelle!$E44<>\"\",Tagestabelle!$K44,\"\")","v":""},{"$f":"IF(Tagestabelle!$E44<>\"\",Tagestabelle!$L44,\"\")","v":""},0,"","","",null,null,null,null,0,null,1,83,null,7,"",""]
[1,{"$f":"IF(E13=\"\",\"\",VLOOKUP(E13,Spielerdaten!$A$3:$F$4653,6,0))","v":""},"",null,{"$f":"IF(Tagestabelle!$E6<>\"\",Tagestabelle!$E6,\"\")","v":""},null,{"$f":"IF(Tagestabelle!$E6<>\"\",Tagestabelle!$G6,\"\")","v":""},{"$f":"IF(Tagestabelle!$E6<>\"\",Tagestabelle!$E$5,\"x\")","v":"x"},{"$f":"IF(Tagestabelle!$E6<>\"\",Tagestabelle!$H6,\"\")","v":""},{"$f":"IF(Tagestabelle!$E6<>\"\",Tagestabelle!$I6,\"\")","v":""},{"$f":"IF(Tagestabelle!$E6<>\"\",Tagestabelle!$J6,\"\")","v":""},{"$f":"IF(Tagestabelle!$E6<>\"\",Tagestabelle!$K6,\"\")","v":""},{"$f":"IF(Tagestabelle!$E6<>\"\",Tagestabelle!$L6,\"\")","v":""},0,"","","",null,null,null,null,0,null,1,83,null,8,"",""]
[1,{"$f":"IF(E14=\"\",\"\",VLOOKUP(E14,Spielerdaten!$A$3:$F$4653,6,0))","v":""},"",null,{"$f":"IF(Tagestabelle!$E25<>\"\",Tagestabelle!$E25,\"\")","v":""},null,{"$f":"IF(Tagestabelle!$E25<>\"\",Tagestabelle!$G25,\"\")","v":""},{"$f":"IF(Tagestabelle!$E25<>\"\",Tagestabelle!$E$21,\"x\")","v":"x"},{"$f":"IF(Tagestabelle!$E25<>\"\",Tagestabelle!$H25,\"\")","v":""},{"$f":"IF(Tagestabelle!$E25<>\"\",Tagestabelle!$I25,\"\")","v":""},{"$f":"IF(Tagestabelle!$E25<>\"\",Tagestabelle!$J25,\"\")","v":""},{"$f":"IF(Tagestabelle!$E25<>\"\",Tagestabelle!$K25,\"\")","v":""},{"$f":"IF(Tagestabelle!$E25<>\"\",Tagestabelle!$L25,\"\")","v":""},0,"","","",null,null,null,null,0,null,1,83,null,9,"",""]
[1,{"$f":"IF(E15=\"\",\"\",VLOOKUP(E15,Spielerdaten!$A$3:$F$4653,6,0))","v":""},"",null,{"$f":"IF(Tagestabelle!$E28<>\"\",Tagestabelle!$E28,\"\")","v":""},null,{"$f":"IF(Tagestabelle!$E28<>\"\",Tagestabelle!$G28,\"\")","v":""},{"$f":"IF(Tagestabelle!$E28<>\"\",Tagestabelle!$E$21,\"x\")","v":"x"},{"$f":"IF(Tagestabelle!$E28<>\"\",Tagestabelle!$H28,\"\")","v":""},{"$f":"IF(Tagestabelle!$E28<>\"\",Tagestabelle!$I28,\"\")","v":""},{"$f":"IF(Tagestabelle!$E28<>\"\",Tagestabelle!$J28,\"\")","v":""},{"$f":"IF(Tagestabelle!$E28<>\"\",Tagestabelle!$K28,\"\")","v":""},{"$f":"IF(Tagestabelle!$E28<>\"\",Tagestabelle!$L28,\"\")","v":""},0,"","","",null,null,null,null,0,null,1,83,null,10,"",""]
[1,{"$f":"IF(E16=\"\",\"\",VLOOKUP(E16,Spielerdaten!$A$3:$F$4653,6,0))","v":""},"",null,{"$f":"IF(Tagestabelle!$E26<>\"\",Tagestabelle!$E26,\"\")","v":""},null,{"$f":"IF(Tagestabelle!$E26<>\"\",Tagestabelle!$G26,\"\")","v":""},{"$f":"IF(Tagestabelle!$E26<>\"\",Tagestabelle!$E$21,\"x\")","v":"x"},{"$f":"IF(Tagestabelle!$E26<>\"\",Tagestabelle!$H26,\"\")","v":""},{"$f":"IF(Tagestabelle!$E26<>\"\",Tagestabelle!$I26,\"\")","v":""},{"$f":"IF(Tagestabelle!$E26<>\"\",Tagestabelle!$J26,\"\")","v":""},{"$f":"IF(Tagestabelle!$E26<>\"\",Tagestabelle!$K26,\"\")","v":""},{"$f":"IF(Tagestabelle!$E26<>\"\",Tagestabelle!$L26,\"\")","v":""},0,"","","",null,null,null,null,0,null,1,83,null,11,"",""]
[1,{"$f":"IF(E17=\"\",\"\",VLOOKUP(E17,Spielerdaten!$A$3:$F$4653,6,0))","v":""},"",null,{"$f":"IF(Tagestabelle!$E38<>\"\",Tagestabelle!$E38,\"\")","v":""},null,{"$f":"IF(Tagestabelle!$E38<>\"\",Tagestabelle!$G38,\"\")","v":""},{"$f":"IF(Tagestabelle!$E38<>\"\",Tagestabelle!$E$37,\"x\")","v":"x"},{"$f":"IF(Tagestabelle!$E38<>\"\",Tagestabelle!$H38,\"\")","v":""},{"$f":"IF(Tagestabelle!$E38<>\"\",Tagestabelle!$I38,\"\")","v":""},{"$f":"IF(Tagestabelle!$E38<>\"\",Tagestabelle!$J38,\"\")","v":""},{"$f":"IF(Tagestabelle!$E38<>\"\",Tagestabelle!$K38,\"\")","v":""},{"$f":"IF(Tagestabelle!$E38<>\"\",Tagestabelle!$L38,\"\")","v":""},0,"","","",null,null,null,null,0,null,1,83,null,12,"",""]
[1,{"$f":"IF(E18=\"\",\"\",VLOOKUP(E18,Spielerdaten!$A$3:$F$4653,6,0))","v":""},"",null,{"$f":"IF(Tagestabelle!$E58<>\"\",Tagestabelle!$E58,\"\")","v":""},null,{"$f":"IF(Tagestabelle!$E58<>\"\",Tagestabelle!$G58,\"\")","v":""},{"$f":"IF(Tagestabelle!$E58<>\"\",Tagestabelle!$E$53,\"x\")","v":"x"},{"$f":"IF(Tagestabelle!$E58<>\"\",Tagestabelle!$H58,\"\")","v":""},{"$f":"IF(Tagestabelle!$E58<>\"\",Tagestabelle!$I58,\"\")","v":""},{"$f":"IF(Tagestabelle!$E58<>\"\",Tagestabelle!$J58,\"\")","v":""},{"$f":"IF(Tagestabelle!$E58<>\"\",Tagestabelle!$K58,\"\")","v":""},{"$f":"IF(Tagestabelle!$E58<>\"\",Tagestabelle!$L58,\"\")","v":""},0,"","","",null,null,null,null,0,null,1,83,null,13,"",""]
[1,{"$f":"IF(E19=\"\",\"\",VLOOKUP(E19,Spielerdaten!$A$3:$F$4653,6,0))","v":""},"",null,{"$f":"IF(Tagestabelle!$E24<>\"\",Tagestabelle!$E24,\"\")","v":""},null,{"$f":"IF(Tagestabelle!$E24<>\"\",Tagestabelle!$G24,\"\")","v":""},{"$f":"IF(Tagestabelle!$E24<>\"\",Tagestabelle!$E$21,\"x\")","v":"x"},{"$f":"IF(Tagestabelle!$E24<>\"\",Tagestabelle!$H24,\"\")","v":""},{"$f":"IF(Tagestabelle!$E24<>\"\",Tagestabelle!$I24,\"\")","v":""},{"$f":"IF(Tagestabelle!$E24<>\"\",Tagestabelle!$J24,\"\")","v":""},{"$f":"IF(Tagestabelle!$E24<>\"\",Tagestabelle!$K24,\"\")","v":""},{"$f":"IF(Tagestabelle!$E24<>\"\",Tagestabelle!$L24,\"\")","v":""},0,"","","",null,null,null,null,0,null,1,83,null,14,"",""]
[1,{"$f":"IF(E20=\"\",\"\",VLOOKUP(E20,Spielerdaten!$A$3:$F$4653,6,0))","v":""},"",null,{"$f":"IF(Tagestabelle!$E8<>\"\",Tagestabelle!$E8,\"\")","v":""},null,{"$f":"IF(Tagestabelle!$E8<>\"\",Tagestabelle!$G8,\"\")","v":""},{"$f":"IF(Tagestabelle!$E8<>\"\",Tagestabelle!$E$5,\"x\")","v":"x"},{"$f":"IF(Tagestabelle!$E8<>\"\",Tagestabelle!$H8,\"\")","v":""},{"$f":"IF(Tagestabelle!$E8<>\"\",Tagestabelle!$I8,\"\")","v":""},{"$f":"IF(Tagestabelle!$E8<>\"\",Tagestabelle!$J8,\"\")","v":""},{"$f":"IF(Tagestabelle!$E8<>\"\",Tagestabelle!$K8,\"\")","v":""},{"$f":"IF(Tagestabelle!$E8<>\"\",Tagestabelle!$L8,\"\")","v":""},0,"","","",null,null,null,null,0,null,1,83,null,15,"",""]
[1,{"$f":"IF(E21=\"\",\"\",VLOOKUP(E21,Spielerdaten!$A$3:$F$4653,6,0))","v":""},"",null,{"$f":"IF(Tagestabelle!$E12<>\"\",Tagestabelle!$E12,\"\")","v":""},null,{"$f":"IF(Tagestabelle!$E12<>\"\",Tagestabelle!$G12,\"\")","v":""},{"$f":"IF(Tagestabelle!$E12<>\"\",Tagestabelle!$E$5,\"x\")","v":"x"},{"$f":"IF(Tagestabelle!$E12<>\"\",Tagestabelle!$H12,\"\")","v":""},{"$f":"IF(Tagestabelle!$E12<>\"\",Tagestabelle!$I12,\"\")","v":""},{"$f":"IF(Tagestabelle!$E12<>\"\",Tagestabelle!$J12,\"\")","v":""},{"$f":"IF(Tagestabelle!$E12<>\"\",Tagestabelle!$K12,\"\")","v":""},{"$f":"IF(Tagestabelle!$E12<>\"\",Tagestabelle!$L12,\"\")","v":""},0,"","","",null,null,null,null,0,null,1,83,null,16,"",""]
[1,{"$f":"IF(E22=\"\",\"\",VLOOKUP(E22,Spielerdaten!$A$3:$F$4653,6,0))","v":""},"",null,{"$f":"IF(Tagestabelle!$E56<>\"\",Tagestabelle!$E56,\"\")","v":""},null,{"$f":"IF(Tagestabelle!$E56<>\"\",Tagestabelle!$G56,\"\")","v":""},{"$f":"IF(Tagestabelle!$E56<>\"\",Tagestabelle!$E$53,\"x\")","v":"x"},{"$f":"IF(Tagestabelle!$E56<>\"\",Tagestabelle!$H56,\"\")","v":""},{"$f":"IF(Tagestabelle!$E56<>\"\",Tagestabelle!$I56,\"\")","v":""},{"$f":"IF(Tagestabelle!$E56<>\"\",Tagestabelle!$J56,\"\")","v":""},{"$f":"IF(Tagestabelle!$E56<>\"\",Tagestabelle!$K56,\"\")","v":""},{"$f":"IF(Tagestabelle!$E56<>\"\",Tagestabelle!$L56,\"\")","v":""},0,"","","",null,null,null,null,0,null,1,83,null,17,{"$f":"IF($AA22>$AA$3,\"\",SMALL($B$6:$B$78,$AA22))","v":""},{"$f":"IF($AA22>$AA$3,\"\",SMALL($O$6:$O$78,$AA22))","v":""}]
[1,{"$f":"IF(E23=\"\",\"\",VLOOKUP(E23,Spielerdaten!$A$3:$F$4653,6,0))","v":""},"",null,{"$f":"IF(Tagestabelle!$E74<>\"\",Tagestabelle!$E74,\"\")","v":""},null,{"$f":"IF(Tagestabelle!$E74<>\"\",Tagestabelle!$G74,\"\")","v":""},{"$f":"IF(Tagestabelle!$E74<>\"\",Tagestabelle!$E$69,\"x\")","v":"x"},{"$f":"IF(Tagestabelle!$E74<>\"\",Tagestabelle!$H74,\"\")","v":""},{"$f":"IF(Tagestabelle!$E74<>\"\",Tagestabelle!$I74,\"\")","v":""},{"$f":"IF(Tagestabelle!$E74<>\"\",Tagestabelle!$J74,\"\")","v":""},{"$f":"IF(Tagestabelle!$E74<>\"\",Tagestabelle!$K74,\"\")","v":""},{"$f":"IF(Tagestabelle!$E74<>\"\",Tagestabelle!$L74,\"\")","v":""},0,"","","",null,null,null,null,0,null,1,83,null,18,"",""]
[1,{"$f":"IF(E24=\"\",\"\",VLOOKUP(E24,Spielerdaten!$A$3:$F$4653,6,0))","v":""},"",null,{"$f":"IF(Tagestabelle!$E73<>\"\",Tagestabelle!$E73,\"\")","v":""},null,{"$f":"IF(Tagestabelle!$E73<>\"\",Tagestabelle!$G73,\"\")","v":""},{"$f":"IF(Tagestabelle!$E73<>\"\",Tagestabelle!$E$69,\"x\")","v":"x"},{"$f":"IF(Tagestabelle!$E73<>\"\",Tagestabelle!$H73,\"\")","v":""},{"$f":"IF(Tagestabelle!$E73<>\"\",Tagestabelle!$I73,\"\")","v":""},{"$f":"IF(Tagestabelle!$E73<>\"\",Tagestabelle!$J73,\"\")","v":""},{"$f":"IF(Tagestabelle!$E73<>\"\",Tagestabelle!$K73,\"\")","v":""},{"$f":"IF(Tagestabelle!$E73<>\"\",Tagestabelle!$L73,\"\")","v":""},0,"","","",null,null,null,null,0,null,1,83,null,19,"",""]
[1,{"$f":"IF(E25=\"\",\"\",VLOOKUP(E25,Spielerdaten!$A$3:$F$4653,6,0))","v":""},"",null,{"$f":"IF(Tagestabelle!$E55<>\"\",Tagestabelle!$E55,\"\")","v":""},null,{"$f":"IF(Tagestabelle!$E55<>\"\",Tagestabelle!$G55,\"\")","v":""},{"$f":"IF(Tagestabelle!$E55<>\"\",Tagestabelle!$E$53,\"x\")","v":"x"},{"$f":"IF(Tagestabelle!$E55<>\"\",Tagestabelle!$H55,\"\")","v":""},{"$f":"IF(Tagestabelle!$E55<>\"\",Tagestabelle!$I55,\"\")","v":""},{"$f":"IF(Tagestabelle!$E55<>\"\",Tagestabelle!$J55,\"\")","v":""},{"$f":"IF(Tagestabelle!$E55<>\"\",Tagestabelle!$K55,\"\")","v":""},{"$f":"IF(Tagestabelle!$E55<>\"\",Tagestabelle!$L55,\"\")","v":""},0,"","","",null,null,null,null,0,null,1,83,null,20,"",""]
[1,{"$f":"IF(E26=\"\",\"\",VLOOKUP(E26,Spielerdaten!$A$3:$F$4653,6,0))","v":""},"",null,{"$f":"IF(Tagestabelle!$E23<>\"\",Tagestabelle!$E23,\"\")","v":""},null,{"$f":"IF(Tagestabelle!$E23<>\"\",Tagestabelle!$G23,\"\")","v":""},{"$f":"IF(Tagestabelle!$E23<>\"\",Tagestabelle!$E$21,\"x\")","v":"x"},{"$f":"IF(Tagestabelle!$E23<>\"\",Tagestabelle!$H23,\"\")","v":""},{"$f":"IF(Tagestabelle!$E23<>\"\",Tagestabelle!$I23,\"\")","v":""},{"$f":"IF(Tagestabelle!$E23<>\"\",Tagestabelle!$J23,\"\")","v":""},{"$f":"IF(Tagestabelle!$E23<>\"\",Tagestabelle!$K23,\"\")","v":""},{"$f":"IF(Tagestabelle!$E23<>\"\",Tagestabelle!$L23,\"\")","v":""},0,"","","",null,null,null,null,0,null,1,83,null,21,"",""]
[1,{"$f":"IF(E27=\"\",\"\",VLOOKUP(E27,Spielerdaten!$A$3:$F$4653,6,0))","v":""},"",null,{"$f":"IF(Tagestabelle!$E41<>\"\",Tagestabelle!$E41,\"\")","v":""},null,{"$f":"IF(Tagestabelle!$E41<>\"\",Tagestabelle!$G41,\"\")","v":""},{"$f":"IF(Tagestabelle!$E41<>\"\",Tagestabelle!$E$37,\"x\")","v":"x"},{"$f":"IF(Tagestabelle!$E41<>\"\",Tagestabelle!$H41,\"\")","v":""},{"$f":"IF(Tagestabelle!$E41<>\"\",Tagestabelle!$I41,\"\")","v":""},{"$f":"IF(Tagestabelle!$E41<>\"\",Tagestabelle!$J41,\"\")","v":""},{"$f":"IF(Tagestabelle!$E41<>\"\",Tagestabelle!$K41,\"\")","v":""},{"$f":"IF(Tagestabelle!$E41<>\"\",Tagestabelle!$L41,\"\")","v":""},0,"","","",null,null,null,null,0,null,1,83,null,22,"",""]
[1,{"$f":"IF(E28=\"\",\"\",VLOOKUP(E28,Spielerdaten!$A$3:$F$4653,6,0))","v":""},"",null,{"$f":"IF(Tagestabelle!$E72<>\"\",Tagestabelle!$E72,\"\")","v":""},null,{"$f":"IF(Tagestabelle!$E72<>\"\",Tagestabelle!$G72,\"\")","v":""},{"$f":"IF(Tagestabelle!$E72<>\"\",Tagestabelle!$E$69,\"x\")","v":"x"},{"$f":"IF(Tagestabelle!$E72<>\"\",Tagestabelle!$H72,\"\")","v":""},{"$f":"IF(Tagestabelle!$E72<>\"\",Tagestabelle!$I72,\"\")","v":""},{"$f":"IF(Tagestabelle!$E72<>\"\",Tagestabelle!$J72,\"\")","v":""},{"$f":"IF(Tagestabelle!$E72<>\"\",Tagestabelle!$K72,\"\")","v":""},{"$f":"IF(Tagestabelle!$E72<>\"\",Tagestabelle!$L72,\"\")","v":""},0,"","","",null,null,null,null,0,null,1,83,null,23,"",""]
[1,{"$f":"IF(E29=\"\",\"\",VLOOKUP(E29,Spielerdaten!$A$3:$F$4653,6,0))","v":""},"",null,{"$f":"IF(Tagestabelle!$E71<>\"\",Tagestabelle!$E71,\"\")","v":""},null,{"$f":"IF(Tagestabelle!$E71<>\"\",Tagestabelle!$G71,\"\")","v":""},{"$f":"IF(Tagestabelle!$E71<>\"\",Tagestabelle!$E$69,\"x\")","v":"x"},{"$f":"IF(Tagestabelle!$E71<>\"\",Tagestabelle!$H71,\"\")","v":""},{"$f":"IF(Tagestabelle!$E71<>\"\",Tagestabelle!$I71,\"\")","v":""},{"$f":"IF(Tagestabelle!$E71<>\"\",Tagestabelle!$J71,\"\")","v":""},{"$f":"IF(Tagestabelle!$E71<>\"\",Tagestabelle!$K71,\"\")","v":""},{"$f":"IF(Tagestabelle!$E71<>\"\",Tagestabelle!$L71,\"\")","v":""},0,"","","",null,null,null,null,0,null,1,83,null,24,"",""]
[1,{"$f":"IF(E30=\"\",\"\",VLOOKUP(E30,Spielerdaten!$A$3:$F$4653,6,0))","v":""},"",null,{"$f":"IF(Tagestabelle!$E75<>\"\",Tagestabelle!$E75,\"\")","v":""},null,{"$f":"IF(Tagestabelle!$E75<>\"\",Tagestabelle!$G75,\"\")","v":""},{"$f":"IF(Tagestabelle!$E75<>\"\",Tagestabelle!$E$69,\"x\")","v":"x"},{"$f":"IF(Tagestabelle!$E75<>\"\",Tagestabelle!$H75,\"\")","v":""},{"$f":"IF(Tagestabelle!$E75<>\"\",Tagestabelle!$I75,\"\")","v":""},{"$f":"IF(Tagestabelle!$E75<>\"\",Tagestabelle!$J75,\"\")","v":""},{"$f":"IF(Tagestabelle!$E75<>\"\",Tagestabelle!$K75,\"\")","v":""},{"$f":"IF(Tagestabelle!$E75<>\"\",Tagestabelle!$L75,\"\")","v":""},0,"","","",null,null,null,null,0,null,1,83,null,25,"",""]
[1,{"$f":"IF(E31=\"\",\"\",VLOOKUP(E31,Spielerdaten!$A$3:$F$4653,6,0))","v":""},"",null,{"$f":"IF(Tagestabelle!$E60<>\"\",Tagestabelle!$E60,\"\")","v":""},null,{"$f":"IF(Tagestabelle!$E60<>\"\",Tagestabelle!$G60,\"\")","v":""},{"$f":"IF(Tagestabelle!$E60<>\"\",Tagestabelle!$E$53,\"x\")","v":"x"},{"$f":"IF(Tagestabelle!$E60<>\"\",Tagestabelle!$H60,\"\")","v":""},{"$f":"IF(Tagestabelle!$E60<>\"\",Tagestabelle!$I60,\"\")","v":""},{"$f":"IF(Tagestabelle!$E60<>\"\",Tagestabelle!$J60,\"\")","v":""},{"$f":"IF(Tagestabelle!$E60<>\"\",Tagestabelle!$K60,\"\")","v":""},{"$f":"IF(Tagestabelle!$E60<>\"\",Tagestabelle!$L60,\"\")","v":""},0,"","","",null,null,null,null,0,null,1,83,null,26,"",""]
[1,{"$f":"IF(E32=\"\",\"\",VLOOKUP(E32,Spielerdaten!$A$3:$F$4653,6,0))","v":""},"",null,{"$f":"IF(Tagestabelle!$E42<>\"\",Tagestabelle!$E42,\"\")","v":""},null,{"$f":"IF(Tagestabelle!$E42<>\"\",Tagestabelle!$G42,\"\")","v":""},{"$f":"IF(Tagestabelle!$E42<>\"\",Tagestabelle!$E$37,\"x\")","v":"x"},{"$f":"IF(Tagestabelle!$E42<>\"\",Tagestabelle!$H42,\"\")","v":""},{"$f":"IF(Tagestabelle!$E42<>\"\",Tagestabelle!$I42,\"\")","v":""},{"$f":"IF(Tagestabelle!$E42<>\"\",Tagestabelle!$J42,\"\")","v":""},{"$f":"IF(Tagestabelle!$E42<>\"\",Tagestabelle!$K42,\"\")","v":""},{"$f":"IF(Tagestabelle!$E42<>\"\",Tagestabelle!$L42,\"\")","v":""},0,"","","",null,null,null,null,0,null,1,83,null,27,"",""]
[1,{"$f":"IF(E33=\"\",\"\",VLOOKUP(E33,Spielerdaten!$A$3:$F$4653,6,0))","v":""},"",null,{"$f":"IF(Tagestabelle!$E76<>\"\",Tagestabelle!$E76,\"\")","v":""},null,{"$f":"IF(Tagestabelle!$E76<>\"\",Tagestabelle!$G76,\"\")","v":""},{"$f":"IF(Tagestabelle!$E76<>\"\",Tagestabelle!$E$69,\"x\")","v":"x"},{"$f":"IF(Tagestabelle!$E76<>\"\",Tagestabelle!$H76,\"\")","v":""},{"$f":"IF(Tagestabelle!$E76<>\"\",Tagestabelle!$I76,\"\")","v":""},{"$f":"IF(Tagestabelle!$E76<>\"\",Tagestabelle!$J76,\"\")","v":""},{"$f":"IF(Tagestabelle!$E76<>\"\",Tagestabelle!$K76,\"\")","v":""},{"$f":"IF(Tagestabelle!$E76<>\"\",Tagestabelle!$L76,\"\")","v":""},0,"","","",null,null,null,null,0,null,1,83,null,28,"",""]
[1,{"$f":"IF(E34=\"\",\"\",VLOOKUP(E34,Spielerdaten!$A$3:$F$4653,6,0))","v":""},"",null,{"$f":"IF(Tagestabelle!$E43<>\"\",Tagestabelle!$E43,\"\")","v":""},null,{"$f":"IF(Tagestabelle!$E43<>\"\",Tagestabelle!$G43,\"\")","v":""},{"$f":"IF(Tagestabelle!$E43<>\"\",Tagestabelle!$E$37,\"x\")","v":"x"},{"$f":"IF(Tagestabelle!$E43<>\"\",Tagestabelle!$H43,\"\")","v":""},{"$f":"IF(Tagestabelle!$E43<>\"\",Tagestabelle!$I43,\"\")","v":""},{"$f":"IF(Tagestabelle!$E43<>\"\",Tagestabelle!$J43,\"\")","v":""},{"$f":"IF(Tagestabelle!$E43<>\"\",Tagestabelle!$K43,\"\")","v":""},{"$f":"IF(Tagestabelle!$E43<>\"\",Tagestabelle!$L43,\"\")","v":""},0,"","","",null,null,null,null,0,null,1,83,null,29,"",""]
[1,{"$f":"IF(E35=\"\",\"\",VLOOKUP(E35,Spielerdaten!$A$3:$F$4653,6,0))","v":""},"",null,{"$f":"IF(Tagestabelle!$E11<>\"\",Tagestabelle!$E11,\"\")","v":""},null,{"$f":"IF(Tagestabelle!$E11<>\"\",Tagestabelle!$G11,\"\")","v":""},{"$f":"IF(Tagestabelle!$E11<>\"\",Tagestabelle!$E$5,\"x\")","v":"x"},{"$f":"IF(Tagestabelle!$E11<>\"\",Tagestabelle!$H11,\"\")","v":""},{"$f":"IF(Tagestabelle!$E11<>\"\",Tagestabelle!$I11,\"\")","v":""},{"$f":"IF(Tagestabelle!$E11<>\"\",Tagestabelle!$J11,\"\")","v":""},{"$f":"IF(Tagestabelle!$E11<>\"\",Tagestabelle!$K11,\"\")","v":""},{"$f":"IF(Tagestabelle!$E11<>\"\",Tagestabelle!$L11,\"\")","v":""},0,"","","",null,null,null,null,0,null,1,83,null,30,"",""]
[1,{"$f":"IF(E36=\"\",\"\",VLOOKUP(E36,Spielerdaten!$A$3:$F$4653,6,0))","v":""},"",null,{"$f":"IF(Tagestabelle!$E39<>\"\",Tagestabelle!$E39,\"\")","v":""},null,{"$f":"IF(Tagestabelle!$E39<>\"\",Tagestabelle!$G39,\"\")","v":""},{"$f":"IF(Tagestabelle!$E39<>\"\",Tagestabelle!$E$37,\"x\")","v":"x"},{"$f":"IF(Tagestabelle!$E39<>\"\",Tagestabelle!$H39,\"\")","v":""},{"$f":"IF(Tagestabelle!$E39<>\"\",Tagestabelle!$I39,\"\")","v":""},{"$f":"IF(Tagestabelle!$E39<>\"\",Tagestabelle!$J39,\"\")","v":""},{"$f":"IF(Tagestabelle!$E39<>\"\",Tagestabelle!$K39,\"\")","v":""},{"$f":"IF(Tagestabelle!$E39<>\"\",Tagestabelle!$L39,\"\")","v":""},0,"","","",null,null,null,null,0,null,1,83,null,31,"",""]
[1,{"$f":"IF(E37=\"\",\"\",VLOOKUP(E37,Spielerdaten!$A$3:$F$4653,6,0))","v":""},"",null,{"$f":"IF(Tagestabelle!$E9<>\"\",Tagestabelle!$E9,\"\")","v":""},null,{"$f":"IF(Tagestabelle!$E9<>\"\",Tagestabelle!$G9,\"\")","v":""},{"$f":"IF(Tagestabelle!$E9<>\"\",Tagestabelle!$E$5,\"x\")","v":"x"},{"$f":"IF(Tagestabelle!$E9<>\"\",Tagestabelle!$H9,\"\")","v":""},{"$f":"IF(Tagestabelle!$E9<>\"\",Tagestabelle!$I9,\"\")","v":""},{"$f":"IF(Tagestabelle!$E9<>\"\",Tagestabelle!$J9,\"\")","v":""},{"$f":"IF(Tagestabelle!$E9<>\"\",Tagestabelle!$K9,\"\")","v":""},{"$f":"IF(Tagestabelle!$E9<>\"\",Tagestabelle!$L9,\"\")","v":""},0,"","","",null,null,null,null,0,null,1,83,null,32,"",""]
[{"$f":"IF(E38=\"\",1,0)","v":1},{"$f":"IF(E38=\"\",\"\",VLOOKUP(E38,Spielerdaten!$A$3:$F$4653,6,0))","v":""},{"$f":"IF($O38=\"\",\"\",IF($H$3+($O38-$N$3)<0,0,$H$3+($O38-$N$3)))","v":""},null,{"$f":"IF(Tagestabelle!$E34<>\"\",Tagestabelle!$E34,\"\")","v":""},null,{"$f":"IF(Tagestabelle!$E34<>\"\",Tagestabelle!$G34,\"\")","v":""},{"$f":"IF(Tagestabelle!$E34<>\"\",Tagestabelle!$E$21,\"x\")","v":"x"},{"$f":"IF(Tagestabelle!$E34<>\"\",Tagestabelle!$H34,\"\")","v":""},{"$f":"IF(Tagestabelle!$E34<>\"\",Tagestabelle!$I34,\"\")","v":""},{"$f":"IF(Tagestabelle!$E34<>\"\",Tagestabelle!$J34,\"\")","v":""},{"$f":"IF(Tagestabelle!$E34<>\"\",Tagestabelle!$K34,\"\")","v":""},{"$f":"IF(Tagestabelle!$E34<>\"\",Tagestabelle!$L34,\"\")","v":""},{"$f":"ROUND(SUM(J38:M38),0)","v":0},{"$f":"IF(N38>0,N38/V38,\"\")","v":""},{"$f":"IF(N38>0,LARGE((J38:M38),1)-SMALL((J38:M38),1),\"\")","v":""},{"$f":"IF(N38>0,LARGE((J38:M38),2)-SMALL((J38:M38),2),\"\")","v":""},null,null,null,null,{"$f":"COUNTIF(J38:M38,\">0\")","v":0},null,{"$f":"IF(AND(A38>0,E38>0),1,IF(N38>0,1,2))","v":1},{"$f":"COUNTIF(I$6:I$88,I38)","v":83},null,33,"",""]
[1,{"$f":"IF(E39=\"\",\"\",VLOOKUP(E39,Spielerdaten!$A$3:$F$4653,6,0))","v":""},"",null,{"$f":"IF(Tagestabelle!$E57<>\"\",Tagestabelle!$E57,\"\")","v":""},null,{"$f":"IF(Tagestabelle!$E57<>\"\",Tagestabelle!$G57,\"\")","v":""},{"$f":"IF(Tagestabelle!$E57<>\"\",Tagestabelle!$E$53,\"x\")","v":"x"},{"$f":"IF(Tagestabelle!$E57<>\"\",Tagestabelle!$H57,\"\")","v":""},{"$f":"IF(Tagestabelle!$E57<>\"\",Tagestabelle!$I57,\"\")","v":""},{"$f":"IF(Tagestabelle!$E57<>\"\",Tagestabelle!$J57,\"\")","v":""},{"$f":"IF(Tagestabelle!$E57<>\"\",Tagestabelle!$K57,\"\")","v":""},{"$f":"IF(Tagestabelle!$E57<>\"\",Tagestabelle!$L57,\"\")","v":""},0,"","","",null,null,null,null,0,null,1,83,null,34,"",""]
[1,{"$f":"IF(E40=\"\",\"\",VLOOKUP(E40,Spielerdaten!$A$3:$F$4653,6,0))","v":""},"",null,{"$f":"IF(Tagestabelle!$E22<>\"\",Tagestabelle!$E22,\"\")","v":""},null,{"$f":"IF(Tagestabelle!$E22<>\"\",Tagestabelle!$G22,\"\")","v":""},{"$f":"IF(Tagestabelle!$E22<>\"\",Tagestabelle!$E$21,\"x\")","v":"x"},{"$f":"IF(Tagestabelle!$E22<>\"\",Tagestabelle!$H22,\"\")","v":""},{"$f":"IF(Tagestabelle!$E22<>\"\",Tagestabelle!$I22,\"\")","v":""},{"$f":"IF(Tagestabelle!$E22<>\"\",Tagestabelle!$J22,\"\")","v":""},{"$f":"IF(Tagestabelle!$E22<>\"\",Tagestabelle!$K22,\"\")","v":""},{"$f":"IF(Tagestabelle!$E22<>\"\",Tagestabelle!$L22,\"\")","v":""},0,"","","",null,null,null,null,0,null,1,83,null,35,"",""]
[1,{"$f":"IF(E41=\"\",\"\",VLOOKUP(E41,Spielerdaten!$A$3:$F$4653,6,0))","v":""},"",null,{"$f":"IF(Tagestabelle!$E54<>\"\",Tagestabelle!$E54,\"\")","v":""},null,{"$f":"IF(Tagestabelle!$E54<>\"\",Tagestabelle!$G54,\"\")","v":""},{"$f":"IF(Tagestabelle!$E54<>\"\",Tagestabelle!$E$53,\"x\")","v":"x"},{"$f":"IF(Tagestabelle!$E54<>\"\",Tagestabelle!$H54,\"\")","v":""},{"$f":"IF(Tagestabelle!$E54<>\"\",Tagestabelle!$I54,\"\")","v":""},{"$f":"IF(Tagestabelle!$E54<>\"\",Tagestabelle!$J54,\"\")","v":""},{"$f":"IF(Tagestabelle!$E54<>\"\",Tagestabelle!$K54,\"\")","v":""},{"$f":"IF(Tagestabelle!$E54<>\"\",Tagestabelle!$L54,\"\")","v":""},0,"","","",null,null,null,null,0,null,1,83,null,36,"",""]
[1,{"$f":"IF(E42=\"\",\"\",VLOOKUP(E42,Spielerdaten!$A$3:$F$4653,6,0))","v":""},"",null,{"$f":"IF(Tagestabelle!$E50<>\"\",Tagestabelle!$E50,\"\")","v":""},null,{"$f":"IF(Tagestabelle!$E50<>\"\",Tagestabelle!$G50,\"\")","v":""},{"$f":"IF(Tagestabelle!$E50<>\"\",Tagestabelle!$E$37,\"x\")","v":"x"},{"$f":"IF(Tagestabelle!$E50<>\"\",Tagestabelle!$H50,\"\")","v":""},{"$f":"IF(Tagestabelle!$E50<>\"\",Tagestabelle!$I50,\"\")","v":""},{"$f":"IF(Tagestabelle!$E50<>\"\",Tagestabelle!$J50,\"\")","v":""},{"$f":"IF(Tagestabelle!$E50<>\"\",Tagestabelle!$K50,\"\")","v":""},{"$f":"IF(Tagestabelle!$E50<>\"\",Tagestabelle!$L50,\"\")","v":""},0,"","","",null,null,null,null,0,null,1,83,null,37,"",""]
[1,{"$f":"IF(E43=\"\",\"\",VLOOKUP(E43,Spielerdaten!$A$3:$F$4653,6,0))","v":""},"",null,{"$f":"IF('Ergebn-EINGABE Einzel'!E7>0,'Ergebn-EINGABE Einzel'!E7,\"\")","v":""},null,{"$f":"IF('Ergebn-EINGABE Einzel'!E7>0,'Ergebn-EINGABE Einzel'!G7,\"\")","v":""},{"$f":"IF('Ergebn-EINGABE Einzel'!E7>0,'Ergebn-EINGABE Einzel'!H7,\"\")","v":""},{"$f":"IF('Ergebn-EINGABE Einzel'!E7>0,'Ergebn-EINGABE Einzel'!I7,\"x\")","v":""},{"$f":"IF('Ergebn-EINGABE Einzel'!E7>0,'Ergebn-EINGABE Einzel'!J7,\"\")","v":0},{"$f":"IF('Ergebn-EINGABE Einzel'!E7>0,'Ergebn-EINGABE Einzel'!K7,\"\")","v":0},{"$f":"IF('Ergebn-EINGABE Einzel'!E7>0,'Ergebn-EINGABE Einzel'!L7,\"\")","v":0},{"$f":"IF('Ergebn-EINGABE Einzel'!E7>0,'Ergebn-EINGABE Einzel'!M7,\"\")","v":0},0,"","","",null,null,null,null,0,null,1,83,null,38,"",""]
[1,{"$f":"IF(E44=\"\",\"\",VLOOKUP(E44,Spielerdaten!$A$3:$F$4653,6,0))","v":""},"",null,{"$f":"IF('Ergebn-EINGABE Einzel'!E6>0,'Ergebn-EINGABE Einzel'!E6,\"\")","v":""},null,{"$f":"IF('Ergebn-EINGABE Einzel'!E6>0,'Ergebn-EINGABE Einzel'!G6,\"\")","v":""},{"$f":"IF('Ergebn-EINGABE Einzel'!E6>0,'Ergebn-EINGABE Einzel'!H6,\"\")","v":""},{"$f":"IF('Ergebn-EINGABE Einzel'!E6>0,'Ergebn-EINGABE Einzel'!I6,\"x\")","v":""},{"$f":"IF('Ergebn-EINGABE Einzel'!E6>0,'Ergebn-EINGABE Einzel'!J6,\"\")","v":0},{"$f":"IF('Ergebn-EINGABE Einzel'!E6>0,'Ergebn-EINGABE Einzel'!K6,\"\")","v":0},{"$f":"IF('Ergebn-EINGABE Einzel'!E6>0,'Ergebn-EINGABE Einzel'!L6,\"\")","v":0},{"$f":"IF('Ergebn-EINGABE Einzel'!E6>0,'Ergebn-EINGABE Einzel'!M6,\"\")","v":0},0,"","","",null,null,null,null,0,null,1,83,null,39,"",""]
[1,{"$f":"IF(E45=\"\",\"\",VLOOKUP(E45,Spielerdaten!$A$3:$F$4653,6,0))","v":""},"",null,{"$f":"IF(Tagestabelle!$E66<>\"\",Tagestabelle!$E66,\"\")","v":""},null,{"$f":"IF(Tagestabelle!$E66<>\"\",Tagestabelle!$G66,\"\")","v":""},{"$f":"IF(Tagestabelle!$E66<>\"\",Tagestabelle!$E$53,\"x\")","v":"x"},{"$f":"IF(Tagestabelle!$E66<>\"\",Tagestabelle!$H66,\"\")","v":""},{"$f":"IF(Tagestabelle!$E66<>\"\",Tagestabelle!$I66,\"\")","v":""},{"$f":"IF(Tagestabelle!$E66<>\"\",Tagestabelle!$J66,\"\")","v":""},{"$f":"IF(Tagestabelle!$E66<>\"\",Tagestabelle!$K66,\"\")","v":""},{"$f":"IF(Tagestabelle!$E66<>\"\",Tagestabelle!$L66,\"\")","v":""},0,"","","",null,null,null,null,0,null,1,83,null,40,"",""]
[1,{"$f":"IF(E46=\"\",\"\",VLOOKUP(E46,Spielerdaten!$A$3:$F$4653,6,0))","v":""},"",null,{"$f":"IF('Ergebn-EINGABE Einzel'!E5>0,'Ergebn-EINGABE Einzel'!E5,\"\")","v":""},null,{"$f":"IF('Ergebn-EINGABE Einzel'!E5>0,'Ergebn-EINGABE Einzel'!G5,\"\")","v":""},{"$f":"IF('Ergebn-EINGABE Einzel'!E5>0,'Ergebn-EINGABE Einzel'!H5,\"\")","v":""},{"$f":"IF('Ergebn-EINGABE Einzel'!E5>0,'Ergebn-EINGABE Einzel'!I5,\"x\")","v":""},{"$f":"IF('Ergebn-EINGABE Einzel'!E5>0,'Ergebn-EINGABE Einzel'!J5,\"\")","v":0},{"$f":"IF('Ergebn-EINGABE Einzel'!E5>0,'Ergebn-EINGABE Einzel'!K5,\"\")","v":0},{"$f":"IF('Ergebn-EINGABE Einzel'!E5>0,'Ergebn-EINGABE Einzel'!L5,\"\")","v":0},{"$f":"IF('Ergebn-EINGABE Einzel'!E5>0,'Ergebn-EINGABE Einzel'!M5,\"\")","v":0},0,"","","",null,null,null,null,0,null,1,83,null,41,"",""]
[1,{"$f":"IF(E47=\"\",\"\",VLOOKUP(E47,Spielerdaten!$A$3:$F$4653,6,0))","v":""},"",null,{"$f":"IF(Tagestabelle!$E106<>\"\",Tagestabelle!$E106,\"\")","v":""},null,{"$f":"IF(Tagestabelle!$E106<>\"\",Tagestabelle!$G106,\"\")","v":""},{"$f":"IF(Tagestabelle!$E106<>\"\",Tagestabelle!$E$101,\"x\")","v":"x"},{"$f":"IF(Tagestabelle!$E106<>\"\",Tagestabelle!$H106,\"\")","v":""},{"$f":"IF(Tagestabelle!$E106<>\"\",Tagestabelle!$I106,\"\")","v":""},{"$f":"IF(Tagestabelle!$E106<>\"\",Tagestabelle!$J106,\"\")","v":""},{"$f":"IF(Tagestabelle!$E106<>\"\",Tagestabelle!$K106,\"\")","v":""},{"$f":"IF(Tagestabelle!$E106<>\"\",Tagestabelle!$L106,\"\")","v":""},0,"","","",null,null,null,null,0,null,1,83,null,42,"",""]
[1,{"$f":"IF(E48=\"\",\"\",VLOOKUP(E48,Spielerdaten!$A$3:$F$4653,6,0))","v":""},"",null,{"$f":"IF(Tagestabelle!$E86<>\"\",Tagestabelle!$E86,\"\")","v":""},null,{"$f":"IF(Tagestabelle!$E86<>\"\",Tagestabelle!$G86,\"\")","v":""},{"$f":"IF(Tagestabelle!$E86<>\"\",Tagestabelle!$E$85,\"x\")","v":"x"},{"$f":"IF(Tagestabelle!$E86<>\"\",Tagestabelle!$H86,\"\")","v":""},{"$f":"IF(Tagestabelle!$E86<>\"\",Tagestabelle!$I86,\"\")","v":""},{"$f":"IF(Tagestabelle!$E86<>\"\",Tagestabelle!$J86,\"\")","v":""},{"$f":"IF(Tagestabelle!$E86<>\"\",Tagestabelle!$K86,\"\")","v":""},{"$f":"IF(Tagestabelle!$E86<>\"\",Tagestabelle!$L86,\"\")","v":""},0,"","","",null,null,null,null,0,null,1,83,null,43,"",""]
[1,{"$f":"IF(E49=\"\",\"\",VLOOKUP(E49,Spielerdaten!$A$3:$F$4653,6,0))","v":""},"",null,{"$f":"IF(Tagestabelle!$E89<>\"\",Tagestabelle!$E89,\"\")","v":""},null,{"$f":"IF(Tagestabelle!$E89<>\"\",Tagestabelle!$G89,\"\")","v":""},{"$f":"IF(Tagestabelle!$E89<>\"\",Tagestabelle!$E$85,\"x\")","v":"x"},{"$f":"IF(Tagestabelle!$E89<>\"\",Tagestabelle!$H89,\"\")","v":""},{"$f":"IF(Tagestabelle!$E89<>\"\",Tagestabelle!$I89,\"\")","v":""},{"$f":"IF(Tagestabelle!$E89<>\"\",Tagestabelle!$J89,\"\")","v":""},{"$f":"IF(Tagestabelle!$E89<>\"\",Tagestabelle!$K89,\"\")","v":""},{"$f":"IF(Tagestabelle!$E89<>\"\",Tagestabelle!$L89,\"\")","v":""},0,"","","",null,null,null,null,0,null,1,83,null,44,"",""]
[1,{"$f":"IF(E50=\"\",\"\",VLOOKUP(E50,Spielerdaten!$A$3:$F$4653,6,0))","v":""},"",null,{"$f":"IF(Tagestabelle!$E91<>\"\",Tagestabelle!$E91,\"\")","v":""},null,{"$f":"IF(Tagestabelle!$E91<>\"\",Tagestabelle!$G91,\"\")","v":""},{"$f":"IF(Tagestabelle!$E91<>\"\",Tagestabelle!$E$85,\"x\")","v":"x"},{"$f":"IF(Tagestabelle!$E91<>\"\",Tagestabelle!$H91,\"\")","v":""},{"$f":"IF(Tagestabelle!$E91<>\"\",Tagestabelle!$I91,\"\")","v":""},{"$f":"IF(Tagestabelle!$E91<>\"\",Tagestabelle!$J91,\"\")","v":""},{"$f":"IF(Tagestabelle!$E91<>\"\",Tagestabelle!$K91,\"\")","v":""},{"$f":"IF(Tagestabelle!$E91<>\"\",Tagestabelle!$L91,\"\")","v":""},0,"","","",null,null,null,null,0,null,1,83,null,45,"",""]
[1,{"$f":"IF(E51=\"\",\"\",VLOOKUP(E51,Spielerdaten!$A$3:$F$4653,6,0))","v":""},"",null,{"$f":"IF(Tagestabelle!$E70<>\"\",Tagestabelle!$E70,\"\")","v":""},null,{"$f":"IF(Tagestabelle!$E70<>\"\",Tagestabelle!$G70,\"\")","v":""},{"$f":"IF(Tagestabelle!$E70<>\"\",Tagestabelle!$E$69,\"x\")","v":"x"},{"$f":"IF(Tagestabelle!$E70<>\"\",Tagestabelle!$H70,\"\")","v":""},{"$f":"IF(Tagestabelle!$E70<>\"\",Tagestabelle!$I70,\"\")","v":""},{"$f":"IF(Tagestabelle!$E70<>\"\",Tagestabelle!$J70,\"\")","v":""},{"$f":"IF(Tagestabelle!$E70<>\"\",Tagestabelle!$K70,\"\")","v":""},{"$f":"IF(Tagestabelle!$E70<>\"\",Tagestabelle!$L70,\"\")","v":""},0,"","","",null,null,null,null,0,null,1,83,null,46,"",""]
[1,{"$f":"IF(E52=\"\",\"\",VLOOKUP(E52,Spielerdaten!$A$3:$F$4653,6,0))","v":""},"",null,{"$f":"IF(Tagestabelle!$E90<>\"\",Tagestabelle!$E90,\"\")","v":""},null,{"$f":"IF(Tagestabelle!$E90<>\"\",Tagestabelle!$G90,\"\")","v":""},{"$f":"IF(Tagestabelle!$E90<>\"\",Tagestabelle!$E$85,\"x\")","v":"x"},{"$f":"IF(Tagestabelle!$E90<>\"\",Tagestabelle!$H90,\"\")","v":""},{"$f":"IF(Tagestabelle!$E90<>\"\",Tagestabelle!$I90,\"\")","v":""},{"$f":"IF(Tagestabelle!$E90<>\"\",Tagestabelle!$J90,\"\")","v":""},{"$f":"IF(Tagestabelle!$E90<>\"\",Tagestabelle!$K90,\"\")","v":""},{"$f":"IF(Tagestabelle!$E90<>\"\",Tagestabelle!$L90,\"\")","v":""},0,"","","",null,null,null,null,0,null,1,83,null,47,"",""]
[1,{"$f":"IF(E53=\"\",\"\",VLOOKUP(E53,Spielerdaten!$A$3:$F$4653,6,0))","v":""},"",null,{"$f":"IF(Tagestabelle!$E105<>\"\",Tagestabelle!$E105,\"\")","v":""},null,{"$f":"IF(Tagestabelle!$E105<>\"\",Tagestabelle!$G105,\"\")","v":""},{"$f":"IF(Tagestabelle!$E105<>\"\",Tagestabelle!$E$101,\"x\")","v":"x"},{"$f":"IF(Tagestabelle!$E105<>\"\",Tagestabelle!$H105,\"\")","v":""},{"$f":"IF(Tagestabelle!$E105<>\"\",Tagestabelle!$I105,\"\")","v":""},{"$f":"IF(Tagestabelle!$E105<>\"\",Tagestabelle!$J105,\"\")","v":""},{"$f":"IF(Tagestabelle!$E105<>\"\",Tagestabelle!$K105,\"\")","v":""},{"$f":"IF(Tagestabelle!$E105<>\"\",Tagestabelle!$L105,\"\")","v":""},0,"","","",null,null,null,null,0,null,1,83,null,48,"",""]
[1,{"$f":"IF(E54=\"\",\"\",VLOOKUP(E54,Spielerdaten!$A$3:$F$4653,6,0))","v":""},"",null,{"$f":"IF(Tagestabelle!$E103<>\"\",Tagestabelle!$E103,\"\")","v":""},null,{"$f":"IF(Tagestabelle!$E103<>\"\",Tagestabelle!$G103,\"\")","v":""},{"$f":"IF(Tagestabelle!$E103<>\"\",Tagestabelle!$E$101,\"x\")","v":"x"},{"$f":"IF(Tagestabelle!$E103<>\"\",Tagestabelle!$H103,\"\")","v":""},{"$f":"IF(Tagestabelle!$E103<>\"\",Tagestabelle!$I103,\"\")","v":""},{"$f":"IF(Tagestabelle!$E103<>\"\",Tagestabelle!$J103,\"\")","v":""},{"$f":"IF(Tagestabelle!$E103<>\"\",Tagestabelle!$K103,\"\")","v":""},{"$f":"IF(Tagestabelle!$E103<>\"\",Tagestabelle!$L103,\"\")","v":""},0,"","","",null,null,null,null,0,null,1,83,null,49,"",""]
[1,{"$f":"IF(E55=\"\",\"\",VLOOKUP(E55,Spielerdaten!$A$3:$F$4653,6,0))","v":""},"",null,{"$f":"IF(Tagestabelle!$E87<>\"\",Tagestabelle!$E87,\"\")","v":""},null,{"$f":"IF(Tagestabelle!$E87<>\"\",Tagestabelle!$G87,\"\")","v":""},{"$f":"IF(Tagestabelle!$E87<>\"\",Tagestabelle!$E$85,\"x\")","v":"x"},{"$f":"IF(Tagestabelle!$E87<>\"\",Tagestabelle!$H87,\"\")","v":""},{"$f":"IF(Tagestabelle!$E87<>\"\",Tagestabelle!$I87,\"\")","v":""},{"$f":"IF(Tagestabelle!$E87<>\"\",Tagestabelle!$J87,\"\")","v":""},{"$f":"IF(Tagestabelle!$E87<>\"\",Tagestabelle!$K87,\"\")","v":""},{"$f":"IF(Tagestabelle!$E87<>\"\",Tagestabelle!$L87,\"\")","v":""},0,"","","",null,null,null,null,0,null,1,83,null,50,"",""]
[1,{"$f":"IF(E56=\"\",\"\",VLOOKUP(E56,Spielerdaten!$A$3:$F$4653,6,0))","v":""},"",null,{"$f":"IF(Tagestabelle!$E102<>\"\",Tagestabelle!$E102,\"\")","v":""},null,{"$f":"IF(Tagestabelle!$E102<>\"\",Tagestabelle!$G102,\"\")","v":""},{"$f":"IF(Tagestabelle!$E102<>\"\",Tagestabelle!$E$101,\"x\")","v":"x"},{"$f":"IF(Tagestabelle!$E102<>\"\",Tagestabelle!$H102,\"\")","v":""},{"$f":"IF(Tagestabelle!$E102<>\"\",Tagestabelle!$I102,\"\")","v":""},{"$f":"IF(Tagestabelle!$E102<>\"\",Tagestabelle!$J102,\"\")","v":""},{"$f":"IF(Tagestabelle!$E102<>\"\",Tagestabelle!$K102,\"\")","v":""},{"$f":"IF(Tagestabelle!$E102<>\"\",Tagestabelle!$L102,\"\")","v":""},0,"","","",null,null,null,null,0,null,1,83,null,51,"",""]
[1,{"$f":"IF(E57=\"\",\"\",VLOOKUP(E57,Spielerdaten!$A$3:$F$4653,6,0))","v":""},"",null,{"$f":"IF(Tagestabelle!$E88<>\"\",Tagestabelle!$E88,\"\")","v":""},null,{"$f":"IF(Tagestabelle!$E88<>\"\",Tagestabelle!$G88,\"\")","v":""},{"$f":"IF(Tagestabelle!$E88<>\"\",Tagestabelle!$E$85,\"x\")","v":"x"},{"$f":"IF(Tagestabelle!$E88<>\"\",Tagestabelle!$H88,\"\")","v":""},{"$f":"IF(Tagestabelle!$E88<>\"\",Tagestabelle!$I88,\"\")","v":""},{"$f":"IF(Tagestabelle!$E88<>\"\",Tagestabelle!$J88,\"\")","v":""},{"$f":"IF(Tagestabelle!$E88<>\"\",Tagestabelle!$K88,\"\")","v":""},{"$f":"IF(Tagestabelle!$E88<>\"\",Tagestabelle!$L88,\"\")","v":""},0,"","","",null,null,null,null,0,null,1,83,null,52,"",""]
[1,{"$f":"IF(E58=\"\",\"\",VLOOKUP(E58,Spielerdaten!$A$3:$F$4653,6,0))","v":""},"",null,{"$f":"IF(Tagestabelle!$E107<>\"\",Tagestabelle!$E107,\"\")","v":""},null,{"$f":"IF(Tagestabelle!$E107<>\"\",Tagestabelle!$G107,\"\")","v":""},{"$f":"IF(Tagestabelle!$E107<>\"\",Tagestabelle!$E$101,\"x\")","v":"x"},{"$f":"IF(Tagestabelle!$E107<>\"\",Tagestabelle!$H107,\"\")","v":""},{"$f":"IF(Tagestabelle!$E107<>\"\",Tagestabelle!$I107,\"\")","v":""},{"$f":"IF(Tagestabelle!$E107<>\"\",Tagestabelle!$J107,\"\")","v":""},{"$f":"IF(Tagestabelle!$E107<>\"\",Tagestabelle!$K107,\"\")","v":""},{"$f":"IF(Tagestabelle!$E107<>\"\",Tagestabelle!$L107,\"\")","v":""},0,"","","",null,null,null,null,0,null,1,83,null,53,"",""]
[1,{"$f":"IF(E59=\"\",\"\",VLOOKUP(E59,Spielerdaten!$A$3:$F$4653,6,0))","v":""},"",null,{"$f":"IF(Tagestabelle!$E104<>\"\",Tagestabelle!$E104,\"\")","v":""},null,{"$f":"IF(Tagestabelle!$E104<>\"\",Tagestabelle!$G104,\"\")","v":""},{"$f":"IF(Tagestabelle!$E104<>\"\",Tagestabelle!$E$101,\"x\")","v":"x"},{"$f":"IF(Tagestabelle!$E104<>\"\",Tagestabelle!$H104,\"\")","v":""},{"$f":"IF(Tagestabelle!$E104<>\"\",Tagestabelle!$I104,\"\")","v":""},{"$f":"IF(Tagestabelle!$E104<>\"\",Tagestabelle!$J104,\"\")","v":""},{"$f":"IF(Tagestabelle!$E104<>\"\",Tagestabelle!$K104,\"\")","v":""},{"$f":"IF(Tagestabelle!$E104<>\"\",Tagestabelle!$L104,\"\")","v":""},0,"","","",null,null,null,null,0,null,1,83,null,54,"",""]
[1,{"$f":"IF(E60=\"\",\"\",VLOOKUP(E60,Spielerdaten!$A$3:$F$4653,6,0))","v":""},"",null,{"$f":"IF(Tagestabelle!$E82<>\"\",Tagestabelle!$E82,\"\")","v":""},null,{"$f":"IF(Tagestabelle!$E82<>\"\",Tagestabelle!$G82,\"\")","v":""},{"$f":"IF(Tagestabelle!$E82<>\"\",Tagestabelle!$E$69,\"x\")","v":"x"},{"$f":"IF(Tagestabelle!$E82<>\"\",Tagestabelle!$H82,\"\")","v":""},{"$f":"IF(Tagestabelle!$E82<>\"\",Tagestabelle!$I82,\"\")","v":""},{"$f":"IF(Tagestabelle!$E82<>\"\",Tagestabelle!$J82,\"\")","v":""},{"$f":"IF(Tagestabelle!$E82<>\"\",Tagestabelle!$K82,\"\")","v":""},{"$f":"IF(Tagestabelle!$E82<>\"\",Tagestabelle!$L82,\"\")","v":""},0,"","","",null,null,null,null,0,null,1,83,null,55,"",""]
[1,{"$f":"IF(E61=\"\",\"\",VLOOKUP(E61,Spielerdaten!$A$3:$F$4653,6,0))","v":""},"",null,{"$f":"IF(Tagestabelle!$E13<>\"\",Tagestabelle!$E13,\"\")","v":""},null,{"$f":"IF(Tagestabelle!$E13<>\"\",Tagestabelle!$G13,\"\")","v":""},{"$f":"IF(Tagestabelle!$E13<>\"\",Tagestabelle!$E$5,\"x\")","v":"x"},{"$f":"IF(Tagestabelle!$E13<>\"\",Tagestabelle!$H13,\"\")","v":""},{"$f":"IF(Tagestabelle!$E13<>\"\",Tagestabelle!$I13,\"\")","v":""},{"$f":"IF(Tagestabelle!$E13<>\"\",Tagestabelle!$J13,\"\")","v":""},{"$f":"IF(Tagestabelle!$E13<>\"\",Tagestabelle!$K13,\"\")","v":""},{"$f":"IF(Tagestabelle!$E13<>\"\",Tagestabelle!$L13,\"\")","v":""},0,"","","",null,null,null,null,0,null,1,83,null,56,"",""]
[1,{"$f":"IF(E62=\"\",\"\",VLOOKUP(E62,Spielerdaten!$A$3:$F$4653,6,0))","v":""},"",null,{"$f":"IF(Tagestabelle!$E29<>\"\",Tagestabelle!$E29,\"\")","v":""},null,{"$f":"IF(Tagestabelle!$E29<>\"\",Tagestabelle!$G29,\"\")","v":""},{"$f":"IF(Tagestabelle!$E29<>\"\",Tagestabelle!$E$21,\"x\")","v":"x"},{"$f":"IF(Tagestabelle!$E29<>\"\",Tagestabelle!$H29,\"\")","v":""},{"$f":"IF(Tagestabelle!$E29<>\"\",Tagestabelle!$I29,\"\")","v":""},{"$f":"IF(Tagestabelle!$E29<>\"\",Tagestabelle!$J29,\"\")","v":""},{"$f":"IF(Tagestabelle!$E29<>\"\",Tagestabelle!$K29,\"\")","v":""},{"$f":"IF(Tagestabelle!$E29<>\"\",Tagestabelle!$L29,\"\")","v":""},0,"","","",null,null,null,null,0,null,1,83,null,57,"",""]
[1,{"$f":"IF(E63=\"\",\"\",VLOOKUP(E63,Spielerdaten!$A$3:$F$4653,6,0))","v":""},"",null,{"$f":"IF(Tagestabelle!$E45<>\"\",Tagestabelle!$E45,\"\")","v":""},null,{"$f":"IF(Tagestabelle!$E45<>\"\",Tagestabelle!$G45,\"\")","v":""},{"$f":"IF(Tagestabelle!$E45<>\"\",Tagestabelle!$E$37,\"x\")","v":"x"},{"$f":"IF(Tagestabelle!$E45<>\"\",Tagestabelle!$H45,\"\")","v":""},{"$f":"IF(Tagestabelle!$E45<>\"\",Tagestabelle!$I45,\"\")","v":""},{"$f":"IF(Tagestabelle!$E45<>\"\",Tagestabelle!$J45,\"\")","v":""},{"$f":"IF(Tagestabelle!$E45<>\"\",Tagestabelle!$K45,\"\")","v":""},{"$f":"IF(Tagestabelle!$E45<>\"\",Tagestabelle!$L45,\"\")","v":""},0,"","","",null,null,null,null,0,null,1,83,null,58,"",""]
[1,{"$f":"IF(E64=\"\",\"\",VLOOKUP(E64,Spielerdaten!$A$3:$F$4653,6,0))","v":""},"",null,{"$f":"IF(Tagestabelle!$E61<>\"\",Tagestabelle!$E61,\"\")","v":""},null,{"$f":"IF(Tagestabelle!$E61<>\"\",Tagestabelle!$G61,\"\")","v":""},{"$f":"IF(Tagestabelle!$E61<>\"\",Tagestabelle!$E$53,\"x\")","v":"x"},{"$f":"IF(Tagestabelle!$E61<>\"\",Tagestabelle!$H61,\"\")","v":""},{"$f":"IF(Tagestabelle!$E61<>\"\",Tagestabelle!$I61,\"\")","v":""},{"$f":"IF(Tagestabelle!$E61<>\"\",Tagestabelle!$J61,\"\")","v":""},{"$f":"IF(Tagestabelle!$E61<>\"\",Tagestabelle!$K61,\"\")","v":""},{"$f":"IF(Tagestabelle!$E61<>\"\",Tagestabelle!$L61,\"\")","v":""},0,"","","",null,null,null,null,0,null,1,83,null,59,"",""]
[1,{"$f":"IF(E65=\"\",\"\",VLOOKUP(E65,Spielerdaten!$A$3:$F$4653,6,0))","v":""},"",null,{"$f":"IF(Tagestabelle!$E77<>\"\",Tagestabelle!$E77,\"\")","v":""},null,{"$f":"IF(Tagestabelle!$E77<>\"\",Tagestabelle!$G77,\"\")","v":""},{"$f":"IF(Tagestabelle!$E77<>\"\",Tagestabelle!$E$69,\"x\")","v":"x"},{"$f":"IF(Tagestabelle!$E77<>\"\",Tagestabelle!$H77,\"\")","v":""},{"$f":"IF(Tagestabelle!$E77<>\"\",Tagestabelle!$I77,\"\")","v":""},{"$f":"IF(Tagestabelle!$E77<>\"\",Tagestabelle!$J77,\"\")","v":""},{"$f":"IF(Tagestabelle!$E77<>\"\",Tagestabelle!$K77,\"\")","v":""},{"$f":"IF(Tagestabelle!$E77<>\"\",Tagestabelle!$L77,\"\")","v":""},0,"","","",null,null,null,null,0,null,1,83,null,60,"",""]
[1,{"$f":"IF(E66=\"\",\"\",VLOOKUP(E66,Spielerdaten!$A$3:$F$4653,6,0))","v":""},"",null,{"$f":"IF(Tagestabelle!$E92<>\"\",Tagestabelle!$E92,\"\")","v":""},null,{"$f":"IF(Tagestabelle!$E92<>\"\",Tagestabelle!$G92,\"\")","v":""},{"$f":"IF(Tagestabelle!$E92<>\"\",Tagestabelle!$E$85,\"x\")","v":"x"},{"$f":"IF(Tagestabelle!$E92<>\"\",Tagestabelle!$H92,\"\")","v":""},{"$f":"IF(Tagestabelle!$E92<>\"\",Tagestabelle!$I92,\"\")","v":""},{"$f":"IF(Tagestabelle!$E92<>\"\",Tagestabelle!$J92,\"\")","v":""},{"$f":"IF(Tagestabelle!$E92<>\"\",Tagestabelle!$K92,\"\")","v":""},{"$f":"IF(Tagestabelle!$E92<>\"\",Tagestabelle!$L92,\"\")","v":""},0,"","","",null,null,null,null,0,null,1,83,null,61,"",""]
[1,{"$f":"IF(E67=\"\",\"\",VLOOKUP(E67,Spielerdaten!$A$3:$F$4653,6,0))","v":""},"",null,{"$f":"IF(Tagestabelle!$E93<>\"\",Tagestabelle!$E93,\"\")","v":""},null,{"$f":"IF(Tagestabelle!$E93<>\"\",Tagestabelle!$G93,\"\")","v":""},{"$f":"IF(Tagestabelle!$E93<>\"\",Tagestabelle!$E$85,\"x\")","v":"x"},{"$f":"IF(Tagestabelle!$E93<>\"\",Tagestabelle!$H93,\"\")","v":""},{"$f":"IF(Tagestabelle!$E93<>\"\",Tagestabelle!$I93,\"\")","v":""},{"$f":"IF(Tagestabelle!$E93<>\"\",Tagestabelle!$J93,\"\")","v":""},{"$f":"IF(Tagestabelle!$E93<>\"\",Tagestabelle!$K93,\"\")","v":""},{"$f":"IF(Tagestabelle!$E93<>\"\",Tagestabelle!$L93,\"\")","v":""},0,"","","",null,null,null,null,0,null,1,83,null,62,"",""]
[1,{"$f":"IF(E68=\"\",\"\",VLOOKUP(E68,Spielerdaten!$A$3:$F$4653,6,0))","v":""},"",null,{"$f":"IF(Tagestabelle!$E98<>\"\",Tagestabelle!$E98,\"\")","v":""},null,{"$f":"IF(Tagestabelle!$E98<>\"\",Tagestabelle!$G98,\"\")","v":""},{"$f":"IF(Tagestabelle!$E98<>\"\",Tagestabelle!$E$85,\"x\")","v":"x"},{"$f":"IF(Tagestabelle!$E98<>\"\",Tagestabelle!$H98,\"\")","v":""},{"$f":"IF(Tagestabelle!$E98<>\"\",Tagestabelle!$I98,\"\")","v":""},{"$f":"IF(Tagestabelle!$E98<>\"\",Tagestabelle!$J98,\"\")","v":""},{"$f":"IF(Tagestabelle!$E98<>\"\",Tagestabelle!$K98,\"\")","v":""},{"$f":"IF(Tagestabelle!$E98<>\"\",Tagestabelle!$L98,\"\")","v":""},0,"","","",null,null,null,null,0,null,1,83,null,63,"",""]
[1,{"$f":"IF(E69=\"\",\"\",VLOOKUP(E69,Spielerdaten!$A$3:$F$4653,6,0))","v":""},"",null,{"$f":"IF(Tagestabelle!$E108<>\"\",Tagestabelle!$E108,\"\")","v":""},null,{"$f":"IF(Tagestabelle!$E108<>\"\",Tagestabelle!$G108,\"\")","v":""},{"$f":"IF(Tagestabelle!$E108<>\"\",Tagestabelle!$E$101,\"x\")","v":"x"},{"$f":"IF(Tagestabelle!$E108<>\"\",Tagestabelle!$H108,\"\")","v":""},{"$f":"IF(Tagestabelle!$E108<>\"\",Tagestabelle!$I108,\"\")","v":""},{"$f":"IF(Tagestabelle!$E108<>\"\",Tagestabelle!$J108,\"\")","v":""},{"$f":"IF(Tagestabelle!$E108<>\"\",Tagestabelle!$K108,\"\")","v":""},{"$f":"IF(Tagestabelle!$E108<>\"\",Tagestabelle!$L108,\"\")","v":""},0,"","","",null,null,null,null,0,null,1,83,null,64,"",""]
[{"$f":"IF(E70=\"\",1,0)","v":1},{"$f":"IF(E70=\"\",\"\",VLOOKUP(E70,Spielerdaten!$A$3:$F$4653,6,0))","v":""},{"$f":"IF($O70=\"\",\"\",IF($H$3+($O70-$N$3)<0,0,$H$3+($O70-$N$3)))","v":""},null,{"$f":"IF(Tagestabelle!$E109<>\"\",Tagestabelle!$E109,\"\")","v":""},null,{"$f":"IF(Tagestabelle!$E109<>\"\",Tagestabelle!$G109,\"\")","v":""},{"$f":"IF(Tagestabelle!$E109<>\"\",Tagestabelle!$E$101,\"x\")","v":"x"},{"$f":"IF(Tagestabelle!$E109<>\"\",Tagestabelle!$H109,\"\")","v":""},{"$f":"IF(Tagestabelle!$E109<>\"\",Tagestabelle!$I109,\"\")","v":""},{"$f":"IF(Tagestabelle!$E109<>\"\",Tagestabelle!$J109,\"\")","v":""},{"$f":"IF(Tagestabelle!$E109<>\"\",Tagestabelle!$K109,\"\")","v":""},{"$f":"IF(Tagestabelle!$E109<>\"\",Tagestabelle!$L109,\"\")","v":""},{"$f":"ROUND(SUM(J70:M70),0)","v":0},{"$f":"IF(N70>0,N70/V70,\"\")","v":""},{"$f":"IF(N70>0,LARGE((J70:M70),1)-SMALL((J70:M70),1),\"\")","v":""},{"$f":"IF(N70>0,LARGE((J70:M70),2)-SMALL((J70:M70),2),\"\")","v":""},null,null,null,null,{"$f":"COUNTIF(J70:M70,\">0\")","v":0},null,{"$f":"IF(AND(A70>0,E70>0),1,IF(N70>0,1,2))","v":1},{"$f":"COUNTIF(I$6:I$88,I70)","v":83},null,65,"",""]
[1,{"$f":"IF(E71=\"\",\"\",VLOOKUP(E71,Spielerdaten!$A$3:$F$4653,6,0))","v":""},"",null,{"$f":"IF(Tagestabelle!$E114<>\"\",Tagestabelle!$E114,\"\")","v":""},null,{"$f":"IF(Tagestabelle!$E114<>\"\",Tagestabelle!$G114,\"\")","v":""},{"$f":"IF(Tagestabelle!$E114<>\"\",Tagestabelle!$E$101,\"x\")","v":"x"},{"$f":"IF(Tagestabelle!$E114<>\"\",Tagestabelle!$H114,\"\")","v":""},{"$f":"IF(Tagestabelle!$E114<>\"\",Tagestabelle!$I114,\"\")","v":""},{"$f":"IF(Tagestabelle!$E114<>\"\",Tagestabelle!$J114,\"\")","v":""},{"$f":"IF(Tagestabelle!$E114<>\"\",Tagestabelle!$K114,\"\")","v":""},{"$f":"IF(Tagestabelle!$E114<>\"\",Tagestabelle!$L114,\"\")","v":""},0,"","","",null,null,null,null,0,null,1,83,null,66,"",""]
[1,{"$f":"IF(E72=\"\",\"\",VLOOKUP(E72,Spielerdaten!$A$3:$F$4653,6,0))","v":""},"",null,{"$f":"IF('Ergebn-EINGABE Einzel'!E10>0,'Ergebn-EINGABE Einzel'!E10,\"\")","v":""},null,{"$f":"IF('Ergebn-EINGABE Einzel'!E10>0,'Ergebn-EINGABE Einzel'!G10,\"\")","v":""},{"$f":"IF('Ergebn-EINGABE Einzel'!E10>0,'Ergebn-EINGABE Einzel'!H10,\"\")","v":""},{"$f":"IF('Ergebn-EINGABE Einzel'!E10>0,'Ergebn-EINGABE Einzel'!I10,\"x\")","v":""},{"$f":"IF('Ergebn-EINGABE Einzel'!E10>0,'Ergebn-EINGABE Einzel'!J10,\"\")","v":0},{"$f":"IF('Ergebn-EINGABE Einzel'!E10>0,'Ergebn-EINGABE Einzel'!K10,\"\")","v":0},{"$f":"IF('Ergebn-EINGABE Einzel'!E10>0,'Ergebn-EINGABE Einzel'!L10,\"\")","v":0},{"$f":"IF('Ergebn-EINGABE Einzel'!E10>0,'Ergebn-EINGABE Einzel'!M10,\"\")","v":0},0,"","","",null,null,null,null,0,null,1,83,null,67,"",""]
[1,{"$f":"IF(E73=\"\",\"\",VLOOKUP(E73,Spielerdaten!$A$3:$F$4653,6,0))","v":""},"",null,{"$f":"IF('Ergebn-EINGABE Einzel'!E11>0,'Ergebn-EINGABE Einzel'!E11,\"\")","v":""},null,{"$f":"IF('Ergebn-EINGABE Einzel'!E11>0,'Ergebn-EINGABE Einzel'!G11,\"\")","v":""},{"$f":"IF('Ergebn-EINGABE Einzel'!E11>0,'Ergebn-EINGABE Einzel'!H11,\"\")","v":""},{"$f":"IF('Ergebn-EINGABE Einzel'!E11>0,'Ergebn-EINGABE Einzel'!I11,\"x\")","v":""},{"$f":"IF('Ergebn-EINGABE Einzel'!E11>0,'Ergebn-EINGABE Einzel'!J11,\"\")","v":0},{"$f":"IF('Ergebn-EINGABE Einzel'!E11>0,'Ergebn-EINGABE Einzel'!K11,\"\")","v":0},{"$f":"IF('Ergebn-EINGABE Einzel'!E11>0,'Ergebn-EINGABE Einzel'!L11,\"\")","v":0},{"$f":"IF('Ergebn-EINGABE Einzel'!E11>0,'Ergebn-EINGABE Einzel'!M11,\"\")","v":0},0,"","","",null,null,null,null,0,null,1,83,null,68]
[1,{"$f":"IF(E74=\"\",\"\",VLOOKUP(E74,Spielerdaten!$A$3:$F$4653,6,0))","v":""},"",null,{"$f":"IF('Ergebn-EINGABE Einzel'!E12>0,'Ergebn-EINGABE Einzel'!E12,\"\")","v":""},null,{"$f":"IF('Ergebn-EINGABE Einzel'!E12>0,'Ergebn-EINGABE Einzel'!G12,\"\")","v":""},{"$f":"IF('Ergebn-EINGABE Einzel'!E12>0,'Ergebn-EINGABE Einzel'!H12,\"\")","v":""},{"$f":"IF('Ergebn-EINGABE Einzel'!E12>0,'Ergebn-EINGABE Einzel'!I12,\"x\")","v":""},{"$f":"IF('Ergebn-EINGABE Einzel'!E12>0,'Ergebn-EINGABE Einzel'!J12,\"\")","v":0},{"$f":"IF('Ergebn-EINGABE Einzel'!E12>0,'Ergebn-EINGABE Einzel'!K12,\"\")","v":0},{"$f":"IF('Ergebn-EINGABE Einzel'!E12>0,'Ergebn-EINGABE Einzel'!L12,\"\")","v":0},{"$f":"IF('Ergebn-EINGABE Einzel'!E12>0,'Ergebn-EINGABE Einzel'!M12,\"\")","v":0},0,"","","",null,null,null,null,0,null,1,83,null,69]
[1,{"$f":"IF(E75=\"\",\"\",VLOOKUP(E75,Spielerdaten!$A$3:$F$4653,6,0))","v":""},"",null,{"$f":"IF('Ergebn-EINGABE Einzel'!E13>0,'Ergebn-EINGABE Einzel'!E13,\"\")","v":""},null,{"$f":"IF('Ergebn-EINGABE Einzel'!E13>0,'Ergebn-EINGABE Einzel'!G13,\"\")","v":""},{"$f":"IF('Ergebn-EINGABE Einzel'!E13>0,'Ergebn-EINGABE Einzel'!H13,\"\")","v":""},{"$f":"IF('Ergebn-EINGABE Einzel'!E13>0,'Ergebn-EINGABE Einzel'!I13,\"x\")","v":""},{"$f":"IF('Ergebn-EINGABE Einzel'!E13>0,'Ergebn-EINGABE Einzel'!J13,\"\")","v":0},{"$f":"IF('Ergebn-EINGABE Einzel'!E13>0,'Ergebn-EINGABE Einzel'!K13,\"\")","v":0},{"$f":"IF('Ergebn-EINGABE Einzel'!E13>0,'Ergebn-EINGABE Einzel'!L13,\"\")","v":0},{"$f":"IF('Ergebn-EINGABE Einzel'!E13>0,'Ergebn-EINGABE Einzel'!M13,\"\")","v":0},0,"","","",null,null,null,null,0,null,1,83,null,70]
[1,{"$f":"IF(E76=\"\",\"\",VLOOKUP(E76,Spielerdaten!$A$3:$F$4653,6,0))","v":""},"",null,{"$f":"IF('Ergebn-EINGABE Einzel'!E14>0,'Ergebn-EINGABE Einzel'!E14,\"\")","v":""},null,{"$f":"IF('Ergebn-EINGABE Einzel'!E14>0,'Ergebn-EINGABE Einzel'!G14,\"\")","v":""},{"$f":"IF('Ergebn-EINGABE Einzel'!E14>0,'Ergebn-EINGABE Einzel'!H14,\"\")","v":""},{"$f":"IF('Ergebn-EINGABE Einzel'!E14>0,'Ergebn-EINGABE Einzel'!I14,\"x\")","v":""},{"$f":"IF('Ergebn-EINGABE Einzel'!E14>0,'Ergebn-EINGABE Einzel'!J14,\"\")","v":0},{"$f":"IF('Ergebn-EINGABE Einzel'!E14>0,'Ergebn-EINGABE Einzel'!K14,\"\")","v":0},{"$f":"IF('Ergebn-EINGABE Einzel'!E14>0,'Ergebn-EINGABE Einzel'!L14,\"\")","v":0},{"$f":"IF('Ergebn-EINGABE Einzel'!E14>0,'Ergebn-EINGABE Einzel'!M14,\"\")","v":0},0,"","","",null,null,null,null,0,null,1,83,null,71,"",""]
[1,{"$f":"IF(E77=\"\",\"\",VLOOKUP(E77,Spielerdaten!$A$3:$F$4653,6,0))","v":""},"",null,{"$f":"IF('Ergebn-EINGABE Einzel'!E8>0,'Ergebn-EINGABE Einzel'!E8,\"\")","v":""},null,{"$f":"IF('Ergebn-EINGABE Einzel'!E8>0,'Ergebn-EINGABE Einzel'!G8,\"\")","v":""},{"$f":"IF('Ergebn-EINGABE Einzel'!E8>0,'Ergebn-EINGABE Einzel'!H8,\"\")","v":""},{"$f":"IF('Ergebn-EINGABE Einzel'!E8>0,'Ergebn-EINGABE Einzel'!I8,\"x\")","v":""},{"$f":"IF('Ergebn-EINGABE Einzel'!E8>0,'Ergebn-EINGABE Einzel'!J8,\"\")","v":0},{"$f":"IF('Ergebn-EINGABE Einzel'!E8>0,'Ergebn-EINGABE Einzel'!K8,\"\")","v":0},{"$f":"IF('Ergebn-EINGABE Einzel'!E8>0,'Ergebn-EINGABE Einzel'!L8,\"\")","v":0},{"$f":"IF('Ergebn-EINGABE Einzel'!E8>0,'Ergebn-EINGABE Einzel'!M8,\"\")","v":0},0,null,null,null,null,null,null,null,0,null,1,83,null,72,"",""]
[1,{"$f":"IF(E78=\"\",\"\",VLOOKUP(E78,Spielerdaten!$A$3:$F$4653,6,0))","v":""},"",null,{"$f":"IF('Ergebn-EINGABE Einzel'!E9>0,'Ergebn-EINGABE Einzel'!E9,\"\")","v":""},null,{"$f":"IF('Ergebn-EINGABE Einzel'!E9>0,'Ergebn-EINGABE Einzel'!G9,\"\")","v":""},{"$f":"IF('Ergebn-EINGABE Einzel'!E9>0,'Ergebn-EINGABE Einzel'!H9,\"\")","v":""},{"$f":"IF('Ergebn-EINGABE Einzel'!E9>0,'Ergebn-EINGABE Einzel'!I9,\"x\")","v":""},{"$f":"IF('Ergebn-EINGABE Einzel'!E9>0,'Ergebn-EINGABE Einzel'!J9,\"\")","v":0},{"$f":"IF('Ergebn-EINGABE Einzel'!E9>0,'Ergebn-EINGABE Einzel'!K9,\"\")","v":0},{"$f":"IF('Ergebn-EINGABE Einzel'!E9>0,'Ergebn-EINGABE Einzel'!L9,\"\")","v":0},{"$f":"IF('Ergebn-EINGABE Einzel'!E9>0,'Ergebn-EINGABE Einzel'!M9,\"\")","v":0},0,null,null,null,null,null,null,null,0,null,1,83,null,73,"",""]
[null,null,null,null,null,null,null,null,null,null,null,null,null,null,null,null,null,null,null,null,null,0,null,2,0]
[null,null,null,null,null,null,null,null,null,null,null,null,null,null,null,null,null,null,null,null,null,0,null,2,0]
[null,null,null,null,null,null,null,null,null,null,null,null,null,null,null,null,null,null,null,null,null,0,null,2,0]
[null,null,null,null,null,null,null,null,null,null,null,null,null,null,null,null,null,null,null,null,null,0,null,2,0]
[null,null,null,null,null,null,null,null,null,null,null,null,null,null,null,null,null,null,null,null,null,0,null,2,0]
[null,null,null,null,null,null,null,null,null,null,null,null,null,null,null,null,null,null,null,null,null,0,null,2,0]
[null,null,null,null,null,null,null,null,null,null,null,null,null,null,null,null,null,null,null,null,null,0,null,2,0]
[null,null,null,null,null,null,null,null,null,null,null,null,null,null,null,null,null,null,null,null,null,0,null,2,0]
[null,null,null,null,null,null,null,null,null,null,null,null,null,null,null,null,null,null,null,null,null,0,null,2,0]
[null,null,null,null,null,null,null,null,null,null,null,null,null,null,null,null,null,null,null,null,null,0,null,2,0]

{"sheet":"Ma1","index":9,"n_rows":67,"n_cols":58,"rows_kept":67,"cut":false,"hidden":false,"merged":[[21,27,21,28],[22,27,22,28],[23,27,23,28],[24,27,25,28],[16,27,16,28],[17,27,17,28],[18,27,18,28],[19,27,19,28],[20,27,20,28],[11,27,11,28],[12,27,12,28],[13,27,13,28],[14,27,14,28],[15,27,15,28],[2,27,2,28],[3,27,3,28],[4,27,4,28],[5,27,5,28],[6,27,6,28],[1,42,1,57],[0,42,0,44],[2,42,2,45],[2,46,2,49],[2,50,2,53],[2,54,2,57],[51,3,51,7],[30,3,30,4],[4,9,4,10],[2,0,2,1],[3,0,3,1],[24,0,24,1],[25,3,25,7],[4,3,4,4],[28,0,28,1],[29,0,29,1],[50,0,50,1],[30,9,30,10],[4,15,4,16],[4,21,4,22],[51,9,51,13],[30,27,30,28],[51,27,51,31],[25,9,25,13],[25,15,25,19],[25,21,25,25],[51,15,51,19],[30,15,30,16],[30,21,30,22],[51,21,51,25],[7,27,7,28],[8,27,8,28],[9,27,9,28],[10,27,10,28]]}
["Mannschaft:",null,null,{"$f":"+Ma1_Eing","v":"MGC Bad Homburg 1"},null,null,null,null,null,null,null,{"$f":"+Seite1!B3","v":"Gruppenliga"},null,null,null,null,null,null,null,{"$f":"+Seite1!C5","v":3},null,{"$f":"+Seite1!D5","v":". Spieltag         "},null,null,null,null,null,null,null,null,null,null,null,null,null,null,null,null,null,null,null,null,"Spieler in der Wertung:",null,null,{"$f":"AnzSpieler","v":5},"+ 1 (+1)"]
[null,null,null,"M1S1R1","M1S1R2","M1S1R3","M1S1R4",null,null,"M1S2R1","M1S2R2","M1S2R3","M1S2R4",null,null,"M1S3R1","M1S3R2","M1S3R3","M1S3R4",null,null,"M1S4R1","M1S4R2","M1S4R3","M1S4R4",null,null,null,null,null,null,null,null,null,null,null,null,null,null,null,null,null,"Streichrunden"]
[null,null,null,"Spieler 1",null,null,null,"Kat.",null,"Spieler 2",null,null,null,"Kat.",null,"Spieler 3",null,null,null,"Kat.",null,"Spieler 4",null,null,null,"Kat.",null,"Mannsch. ",null,null,null,null,null,null,null,null,null,null,null,null,null,null,"R1",null,null,null,"R2",null,null,null,"R3",null,null,null,"R3"]
["Bahn  ",null,null,{"$f":"+M1S1","v":{"$error":"#N/A"}},null,null,null,{"$f":"+M1S1Kat","v":{"$error":"#N/A"}},null,{"$f":"+M1S2","v":{"$error":"#N/A"}},null,null,null,{"$f":"+M1S2Kat","v":{"$error":"#N/A"}},null,{"$f":"+M1S3","v":{"$error":"#N/A"}},null,null,null,{"$f":"+M1S3Kat","v":{"$error":"#N/A"}},null,{"$f":"+M1S4","v":{"$error":"#N/A"}},null,null,null,{"$f":"+M1S4Kat","v":{"$error":"#N/A"}},null,"gesamt",null,null,null,null,null,null,null,null,null,null,null,null,null,null,"Kl_8","Kl_7","Kl_6","Kl_5","Kl_8","Kl_7","Kl_6","Kl_5","Kl_8","Kl_7","Kl_6","Kl_5","Kl_8","Kl_7","Kl_6","Kl_5"]
["Nr.","Bez. ",null,{"$f":"+M1S1p","v":0},null,null,null,null,null,{"$f":"+M1S2p","v":0},null,null,null,null,null,{"$f":"+M1S3p","v":0},null,null,null,null,null,{"$f":"+M1S4p","v":0},null,null,null,null,null,null,null,null,null,null,null,null,null,null,null,null,null,null,null,null,{"$f":"CONCATENATE($B$54,VLOOKUP(D$55,$D$60:$H$67,5,FALSE),$D$54)","v":"M1S1R1"},{"$f":"CONCATENATE($B$54,VLOOKUP(D$56,$D$60:$H$67,5,FALSE),$D$54)","v":"M1S2R1"},{"$f":"CONCATENATE($B$54,VLOOKUP(D$57,$D$60:$H$67,5,FALSE),$D$54)","v":"M1S3R1"},{"$f":"CONCATENATE($B$54,VLOOKUP(D$58,$D$60:$H$67,5,FALSE),$D$54)","v":"M1S4R1"},{"$f":"CONCATENATE($B$54,VLOOKUP(E$55,$E$60:$H$67,4,FALSE),$E$54)","v":"M1S1R2"},{"$f":"CONCATENATE($B$54,VLOOKUP(E$56,$E$60:$H$67,4,FALSE),$E$54)","v":"M1S2R2"},{"$f":"CONCATENATE($B$54,VLOOKUP(E$57,$E$60:$H$67,4,FALSE),$E$54)","v":"M1S3R2"},{"$f":"CONCATENATE($B$54,VLOOKUP(E$58,$E$60:$H$67,4,FALSE),$E$54)","v":"M1S4R2"},{"$f":"CONCATENATE($B$54,VLOOKUP(F$55,$F$60:$H$67,3,FALSE),$F$54)","v":"M1S1R3"},{"$f":"CONCATENATE($B$54,VLOOKUP(F$56,$F$60:$H$67,3,FALSE),$F$54)","v":"M1S2R3"},{"$f":"CONCATENATE($B$54,VLOOKUP(F$57,$F$60:$H$67,3,FALSE),$F$54)","v":"M1S3R3"},{"$f":"CONCATENATE($B$54,VLOOKUP(F$58,$F$60:$H$67,3,FALSE),$F$54)","v":"M1S4R3"},{"$f":"CONCATENATE($B$54,VLOOKUP(G$55,$G$60:$H$67,2,FALSE),$G$54)","v":"M1S1R4"},{"$f":"CONCATENATE($B$54,VLOOKUP(G$56,$G$60:$H$67,2,FALSE),$G$54)","v":"M1S2R4"},{"$f":"CONCATENATE($B$54,VLOOKUP(G$57,$G$60:$H$67,2,FALSE),$G$54)","v":"M1S3R4"},{"$f":"CONCATENATE($B$54,VLOOKUP(G$58,$G$60:$H$67,2,FALSE),$G$54)","v":"M1S4R4"}]
[1,{"$f":"IF(+Eing.Allg..Daten!$D$8<>\"\",+VLOOKUP(A6,Bahnen!$A$52:$B$144,2,0),\"\")","v":"Gerade Bahn ohne Hindernis"},null,null,null,null,null,{"$f":"SUM(D6:G6)","v":0},null,null,null,null,null,{"$f":"SUM(J6:M6)","v":0},null,null,null,null,null,{"$f":"SUM(P6:S6)","v":0},null,null,null,null,null,{"$f":"SUM(V6:Y6)","v":0},null,{"$f":"+H6+N6+T6+Z6+H32+N32++T32+Z32-AP6","v":0},null,null,null,null,null,null,null,null,null,null,null,null,null,{"$f":"IF($AT$1=6,SUM(AQ6:AR6,AU6:AV6,AY6:AZ6,BC6:BD6),IF($AT$1=5,SUM(AQ6:AS6,AU6:AW6,AY6:BA6,BC6:BE6),IF($AT$1=4,SUM(AQ6:AT6,AU6:AX6,AY6:BB6,BC6:BF6))))","v":0},{"$f":"(IF(ISNA(HLOOKUP(AQ$5,$D$2:$Z$23,5,FALSE))=TRUE,0,HLOOKUP(AQ$5,$D$2:$Z$23,5,FALSE)))+(IF(ISNA(HLOOKUP(AQ$5,$D$28:$Z$49,5,FALSE))=TRUE,0,HLOOKUP(AQ$5,$D$28:$Z$49,5,FALSE)))","v":0},0,0,0,0,0,0,0,0,0,0,0,0,0,0,0]
[2,{"$f":"IF(+Eing.Allg..Daten!$D$8<>\"\",+VLOOKUP(A7,Bahnen!$A$52:$B$144,2,0),\"\")","v":"Salto"},null,{"$f":"IF(D$6>0,Eing.Allg..Daten!$D$9,0)","v":0},{"$f":"IF(E$6>0,Eing.Allg..Daten!$D$9,0)","v":0},{"$f":"IF(F$6>0,Eing.Allg..Daten!$D$9,0)","v":0},{"$f":"IF(G$6>0,Eing.Allg..Daten!$D$9,0)","v":0},0,null,{"$f":"IF(J$6>0,Eing.Allg..Daten!$D$9,0)","v":0},{"$f":"IF(K$6>0,Eing.Allg..Daten!$D$9,0)","v":0},{"$f":"IF(L$6>0,Eing.Allg..Daten!$D$9,0)","v":0},{"$f":"IF(M$6>0,Eing.Allg..Daten!$D$9,0)","v":0},0,null,{"$f":"IF(P$6>0,Eing.Allg..Daten!$D$9,0)","v":0},{"$f":"IF(Q$6>0,Eing.Allg..Daten!$D$9,0)","v":0},{"$f":"IF(R$6>0,Eing.Allg..Daten!$D$9,0)","v":0},{"$f":"IF(S$6>0,Eing.Allg..Daten!$D$9,0)","v":0},0,null,{"$f":"IF(V$6>0,Eing.Allg..Daten!$D$9,0)","v":0},{"$f":"IF(W$6>0,Eing.Allg..Daten!$D$9,0)","v":0},{"$f":"IF(X$6>0,Eing.Allg..Daten!$D$9,0)","v":0},{"$f":"IF(Y$6>0,Eing.Allg..Daten!$D$9,0)","v":0},0,null,0,null,null,null,null,null,null,null,null,null,null,null,null,null,{"$f":"IF($AT$1=6,SUM(AQ7:AR7,AU7:AV7,AY7:AZ7,BC7:BD7),IF($AT$1=5,SUM(AQ7:AS7,AU7:AW7,AY7:BA7,BC7:BE7),IF($AT$1=4,SUM(AQ7:AT7,AU7:AX7,AY7:BB7,BC7:BF7))))","v":0},{"$f":"(IF(ISNA(HLOOKUP(AQ$5,$D$2:$Z$23,6,FALSE))=TRUE,0,HLOOKUP(AQ$5,$D$2:$Z$23,6,FALSE)))+(IF(ISNA(HLOOKUP(AQ$5,$D$28:$Z$49,6,FALSE))=TRUE,0,HLOOKUP(AQ$5,$D$28:$Z$49,6,FALSE)))","v":0},0,0,0,0,0,0,0,0,0,0,0,0,0,0,0]
[3,{"$f":"IF(+Eing.Allg..Daten!$D$8<>\"\",+VLOOKUP(A8,Bahnen!$A$52:$B$144,2,0),\"\")","v":"Pyramiden"},null,{"$f":"IF(D$6>0,Eing.Allg..Daten!$D$9,0)","v":0},{"$f":"IF(E$6>0,Eing.Allg..Daten!$D$9,0)","v":0},{"$f":"IF(F$6>0,Eing.Allg..Daten!$D$9,0)","v":0},{"$f":"IF(G$6>0,Eing.Allg..Daten!$D$9,0)","v":0},0,null,{"$f":"IF(J$6>0,Eing.Allg..Daten!$D$9,0)","v":0},{"$f":"IF(K$6>0,Eing.Allg..Daten!$D$9,0)","v":0},{"$f":"IF(L$6>0,Eing.Allg..Daten!$D$9,0)","v":0},{"$f":"IF(M$6>0,Eing.Allg..Daten!$D$9,0)","v":0},0,null,{"$f":"IF(P$6>0,Eing.Allg..Daten!$D$9,0)","v":0},{"$f":"IF(Q$6>0,Eing.Allg..Daten!$D$9,0)","v":0},{"$f":"IF(R$6>0,Eing.Allg..Daten!$D$9,0)","v":0},{"$f":"IF(S$6>0,Eing.Allg..Daten!$D$9,0)","v":0},0,null,{"$f":"IF(V$6>0,Eing.Allg..Daten!$D$9,0)","v":0},{"$f":"IF(W$6>0,Eing.Allg..Daten!$D$9,0)","v":0},{"$f":"IF(X$6>0,Eing.Allg..Daten!$D$9,0)","v":0},{"$f":"IF(Y$6>0,Eing.Allg..Daten!$D$9,0)","v":0},0,null,0,null,null,null,null,null,null,null,null,null,null,null,null,null,0,{"$f":"(IF(ISNA(HLOOKUP(AQ$5,$D$2:$Z$23,7,FALSE))=TRUE,0,HLOOKUP(AQ$5,$D$2:$Z$23,7,FALSE)))+(IF(ISNA(HLOOKUP(AQ$5,$D$28:$Z$49,7,FALSE))=TRUE,0,HLOOKUP(AQ$5,$D$28:$Z$49,7,FALSE)))","v":0},0,0,0,0,0,0,0,0,0,0,0,0,0,0,0]
[4,{"$f":"IF(+Eing.Allg..Daten!$D$8<>\"\",+VLOOKUP(A9,Bahnen!$A$52:$B$144,2,0),\"\")","v":"Mittelhügel"},null,{"$f":"IF(D$6>0,Eing.Allg..Daten!$D$9,0)","v":0},{"$f":"IF(E$6>0,Eing.Allg..Daten!$D$9,0)","v":0},{"$f":"IF(F$6>0,Eing.Allg..Daten!$D$9,0)","v":0},{"$f":"IF(G$6>0,Eing.Allg..Daten!$D$9,0)","v":0},0,null,{"$f":"IF(J$6>0,Eing.Allg..Daten!$D$9,0)","v":0},{"$f":"IF(K$6>0,Eing.Allg..Daten!$D$9,0)","v":0},{"$f":"IF(L$6>0,Eing.Allg..Daten!$D$9,0)","v":0},{"$f":"IF(M$6>0,Eing.Allg..Daten!$D$9,0)","v":0},0,null,{"$f":"IF(P$6>0,Eing.Allg..Daten!$D$9,0)","v":0},{"$f":"IF(Q$6>0,Eing.Allg..Daten!$D$9,0)","v":0},{"$f":"IF(R$6>0,Eing.Allg..Daten!$D$9,0)","v":0},{"$f":"IF(S$6>0,Eing.Allg..Daten!$D$9,0)","v":0},0,null,{"$f":"IF(V$6>0,Eing.Allg..Daten!$D$9,0)","v":0},{"$f":"IF(W$6>0,Eing.Allg..Daten!$D$9,0)","v":0},{"$f":"IF(X$6>0,Eing.Allg..Daten!$D$9,0)","v":0},{"$f":"IF(Y$6>0,Eing.Allg..Daten!$D$9,0)","v":0},0,null,0,null,null,null,null,null,null,null,null,null,null,null,null,null,0,{"$f":"(IF(ISNA(HLOOKUP(AQ$5,$D$2:$Z$23,8,FALSE))=TRUE,0,HLOOKUP(AQ$5,$D$2:$Z$23,8,FALSE)))+(IF(ISNA(HLOOKUP(AQ$5,$D$28:$Z$49,8,FALSE))=TRUE,0,HLOOKUP(AQ$5,$D$28:$Z$49,8,FALSE)))","v":0},0,0,0,0,0,0,0,0,0,0,0,0,0,0,0]
[5,{"$f":"IF(+Eing.Allg..Daten!$D$8<>\"\",+VLOOKUP(A10,Bahnen!$A$52:$B$144,2,0),\"\")","v":"\"V\" - Hindernis"},null,{"$f":"IF(D$6>0,Eing.Allg..Daten!$D$9,0)","v":0},{"$f":"IF(E$6>0,Eing.Allg..Daten!$D$9,0)","v":0},{"$f":"IF(F$6>0,Eing.Allg..Daten!$D$9,0)","v":0},{"$f":"IF(G$6>0,Eing.Allg..Daten!$D$9,0)","v":0},0,null,{"$f":"IF(J$6>0,Eing.Allg..Daten!$D$9,0)","v":0},{"$f":"IF(K$6>0,Eing.Allg..Daten!$D$9,0)","v":0},{"$f":"IF(L$6>0,Eing.Allg..Daten!$D$9,0)","v":0},{"$f":"IF(M$6>0,Eing.Allg..Daten!$D$9,0)","v":0},0,null,{"$f":"IF(P$6>0,Eing.Allg..Daten!$D$9,0)","v":0},{"$f":"IF(Q$6>0,Eing.Allg..Daten!$D$9,0)","v":0},{"$f":"IF(R$6>0,Eing.Allg..Daten!$D$9,0)","v":0},{"$f":"IF(S$6>0,Eing.Allg..Daten!$D$9,0)","v":0},0,null,{"$f":"IF(V$6>0,Eing.Allg..Daten!$D$9,0)","v":0},{"$f":"IF(W$6>0,Eing.Allg..Daten!$D$9,0)","v":0},{"$f":"IF(X$6>0,Eing.Allg..Daten!$D$9,0)","v":0},{"$f":"IF(Y$6>0,Eing.Allg..Daten!$D$9,0)","v":0},0,null,0,null,null,null,null,null,null,null,null,null,null,null,null,null,0,{"$f":"(IF(ISNA(HLOOKUP(AQ$5,$D$2:$Z$23,9,FALSE))=TRUE,0,HLOOKUP(AQ$5,$D$2:$Z$23,9,FALSE)))+(IF(ISNA(HLOOKUP(AQ$5,$D$28:$Z$49,9,FALSE))=TRUE,0,HLOOKUP(AQ$5,$D$28:$Z$49,9,FALSE)))","v":0},0,0,0,0,0,0,0,0,0,0,0,0,0,0,0]
[6,{"$f":"IF(+Eing.Allg..Daten!$D$8<>\"\",+VLOOKUP(A11,Bahnen!$A$52:$B$144,2,0),\"\")","v":"Doppelwellen"},null,{"$f":"IF(D$6>0,Eing.Allg..Daten!$D$9,0)","v":0},{"$f":"IF(E$6>0,Eing.Allg..Daten!$D$9,0)","v":0},{"$f":"IF(F$6>0,Eing.Allg..Daten!$D$9,0)","v":0},{"$f":"IF(G$6>0,Eing.Allg..Daten!$D$9,0)","v":0},0,null,{"$f":"IF(J$6>0,Eing.Allg..Daten!$D$9,0)","v":0},{"$f":"IF(K$6>0,Eing.Allg..Daten!$D$9,0)","v":0},{"$f":"IF(L$6>0,Eing.Allg..Daten!$D$9,0)","v":0},{"$f":"IF(M$6>0,Eing.Allg..Daten!$D$9,0)","v":0},0,null,{"$f":"IF(P$6>0,Eing.Allg..Daten!$D$9,0)","v":0},{"$f":"IF(Q$6>0,Eing.Allg..Daten!$D$9,0)","v":0},{"$f":"IF(R$6>0,Eing.Allg..Daten!$D$9,0)","v":0},{"$f":"IF(S$6>0,Eing.Allg..Daten!$D$9,0)","v":0},0,null,{"$f":"IF(V$6>0,Eing.Allg..Daten!$D$9,0)","v":0},{"$f":"IF(W$6>0,Eing.Allg..Daten!$D$9,0)","v":0},{"$f":"IF(X$6>0,Eing.Allg..Daten!$D$9,0)","v":0},{"$f":"IF(Y$6>0,Eing.Allg..Daten!$D$9,0)","v":0},0,null,0,null,null,null,null,null,null,null,null,null,null,null,null,null,0,{"$f":"(IF(ISNA(HLOOKUP(AQ$5,$D$2:$Z$23,10,FALSE))=TRUE,0,HLOOKUP(AQ$5,$D$2:$Z$23,10,FALSE)))+(IF(ISNA(HLOOKUP(AQ$5,$D$28:$Z$49,10,FALSE))=TRUE,0,HLOOKUP(AQ$5,$D$28:$Z$49,10,FALSE)))","v":0},0,0,0,0,0,0,0,0,0,0,0,0,0,0,0]
[7,{"$f":"IF(+Eing.Allg..Daten!$D$8<>\"\",+VLOOKUP(A12,Bahnen!$A$52:$B$144,2,0),\"\")","v":"Rohr"},null,{"$f":"IF(D$6>0,Eing.Allg..Daten!$D$9,0)","v":0},{"$f":"IF(E$6>0,Eing.Allg..Daten!$D$9,0)","v":0},{"$f":"IF(F$6>0,Eing.Allg..Daten!$D$9,0)","v":0},{"$f":"IF(G$6>0,Eing.Allg..Daten!$D$9,0)","v":0},0,null,{"$f":"IF(J$6>0,Eing.Allg..Daten!$D$9,0)","v":0},{"$f":"IF(K$6>0,Eing.Allg..Daten!$D$9,0)","v":0},{"$f":"IF(L$6>0,Eing.Allg..Daten!$D$9,0)","v":0},{"$f":"IF(M$6>0,Eing.Allg..Daten!$D$9,0)","v":0},0,null,{"$f":"IF(P$6>0,Eing.Allg..Daten!$D$9,0)","v":0},{"$f":"IF(Q$6>0,Eing.Allg..Daten!$D$9,0)","v":0},{"$f":"IF(R$6>0,Eing.Allg..Daten!$D$9,0)","v":0},{"$f":"IF(S$6>0,Eing.Allg..Daten!$D$9,0)","v":0},0,null,{"$f":"IF(V$6>0,Eing.Allg..Daten!$D$9,0)","v":0},{"$f":"IF(W$6>0,Eing.Allg..Daten!$D$9,0)","v":0},{"$f":"IF(X$6>0,Eing.Allg..Daten!$D$9,0)","v":0},{"$f":"IF(Y$6>0,Eing.Allg..Daten!$D$9,0)","v":0},0,null,0,null,null,null,null,null,null,null,null,null,null,null,null,null,0,{"$f":"(IF(ISNA(HLOOKUP(AQ$5,$D$2:$Z$23,11,FALSE))=TRUE,0,HLOOKUP(AQ$5,$D$2:$Z$23,11,FALSE)))+(IF(ISNA(HLOOKUP(AQ$5,$D$28:$Z$49,11,FALSE))=TRUE,0,HLOOKUP(AQ$5,$D$28:$Z$49,11,FALSE)))","v":0},0,0,0,0,0,0,0,0,0,0,0,0,0,0,0]
[8,{"$f":"IF(+Eing.Allg..Daten!$D$8<>\"\",+VLOOKUP(A13,Bahnen!$A$52:$B$144,2,0),\"\")","v":"Passagen"},null,{"$f":"IF(D$6>0,Eing.Allg..Daten!$D$9,0)","v":0},{"$f":"IF(E$6>0,Eing.Allg..Daten!$D$9,0)","v":0},{"$f":"IF(F$6>0,Eing.Allg..Daten!$D$9,0)","v":0},{"$f":"IF(G$6>0,Eing.Allg..Daten!$D$9,0)","v":0},0,null,{"$f":"IF(J$6>0,Eing.Allg..Daten!$D$9,0)","v":0},{"$f":"IF(K$6>0,Eing.Allg..Daten!$D$9,0)","v":0},{"$f":"IF(L$6>0,Eing.Allg..Daten!$D$9,0)","v":0},{"$f":"IF(M$6>0,Eing.Allg..Daten!$D$9,0)","v":0},0,null,{"$f":"IF(P$6>0,Eing.Allg..Daten!$D$9,0)","v":0},{"$f":"IF(Q$6>0,Eing.Allg..Daten!$D$9,0)","v":0},{"$f":"IF(R$6>0,Eing.Allg..Daten!$D$9,0)","v":0},{"$f":"IF(S$6>0,Eing.Allg..Daten!$D$9,0)","v":0},0,null,{"$f":"IF(V$6>0,Eing.Allg..Daten!$D$9,0)","v":0},{"$f":"IF(W$6>0,Eing.Allg..Daten!$D$9,0)","v":0},{"$f":"IF(X$6>0,Eing.Allg..Daten!$D$9,0)","v":0},{"$f":"IF(Y$6>0,Eing.Allg..Daten!$D$9,0)","v":0},0,null,0,null,null,null,null,null,null,null,{"$f":"+'Ma1'!$D$1","v":"MGC Bad Homburg 1"},null,null,null,null,null,0,{"$f":"(IF(ISNA(HLOOKUP(AQ$5,$D$2:$Z$23,12,FALSE))=TRUE,0,HLOOKUP(AQ$5,$D$2:$Z$23,12,FALSE)))+(IF(ISNA(HLOOKUP(AQ$5,$D$28:$Z$49,12,FALSE))=TRUE,0,HLOOKUP(AQ$5,$D$28:$Z$49,12,FALSE)))","v":0},0,0,0,0,0,0,0,0,0,0,0,0,0,0,0]
[9,{"$f":"IF(+Eing.Allg..Daten!$D$8<>\"\",+VLOOKUP(A14,Bahnen!$A$52:$B$144,2,0),\"\")","v":"Liegende Schleife"},null,{"$f":"IF(D$6>0,Eing.Allg..Daten!$D$9,0)","v":0},{"$f":"IF(E$6>0,Eing.Allg..Daten!$D$9,0)","v":0},{"$f":"IF(F$6>0,Eing.Allg..Daten!$D$9,0)","v":0},{"$f":"IF(G$6>0,Eing.Allg..Daten!$D$9,0)","v":0},0,null,{"$f":"IF(J$6>0,Eing.Allg..Daten!$D$9,0)","v":0},{"$f":"IF(K$6>0,Eing.Allg..Daten!$D$9,0)","v":0},{"$f":"IF(L$6>0,Eing.Allg..Daten!$D$9,0)","v":0},{"$f":"IF(M$6>0,Eing.Allg..Daten!$D$9,0)","v":0},0,null,{"$f":"IF(P$6>0,Eing.Allg..Daten!$D$9,0)","v":0},{"$f":"IF(Q$6>0,Eing.Allg..Daten!$D$9,0)","v":0},{"$f":"IF(R$6>0,Eing.Allg..Daten!$D$9,0)","v":0},{"$f":"IF(S$6>0,Eing.Allg..Daten!$D$9,0)","v":0},0,null,{"$f":"IF(V$6>0,Eing.Allg..Daten!$D$9,0)","v":0},{"$f":"IF(W$6>0,Eing.Allg..Daten!$D$9,0)","v":0},{"$f":"IF(X$6>0,Eing.Allg..Daten!$D$9,0)","v":0},{"$f":"IF(Y$6>0,Eing.Allg..Daten!$D$9,0)","v":0},0,null,0,null,null,null,null,null,null,null,null,null,null,null,null,null,0,{"$f":"(IF(ISNA(HLOOKUP(AQ$5,$D$2:$Z$23,13,FALSE))=TRUE,0,HLOOKUP(AQ$5,$D$2:$Z$23,13,FALSE)))+(IF(ISNA(HLOOKUP(AQ$5,$D$28:$Z$49,13,FALSE))=TRUE,0,HLOOKUP(AQ$5,$D$28:$Z$49,13,FALSE)))","v":0},0,0,0,0,0,0,0,0,0,0,0,0,0,0,0]
[10,{"$f":"IF(+Eing.Allg..Daten!$D$8<>\"\",+VLOOKUP(A15,Bahnen!$A$52:$B$144,2,0),\"\")","v":"Winkel"},null,{"$f":"IF(D$6>0,Eing.Allg..Daten!$D$9,0)","v":0},{"$f":"IF(E$6>0,Eing.Allg..Daten!$D$9,0)","v":0},{"$f":"IF(F$6>0,Eing.Allg..Daten!$D$9,0)","v":0},{"$f":"IF(G$6>0,Eing.Allg..Daten!$D$9,0)","v":0},0,null,{"$f":"IF(J$6>0,Eing.Allg..Daten!$D$9,0)","v":0},{"$f":"IF(K$6>0,Eing.Allg..Daten!$D$9,0)","v":0},{"$f":"IF(L$6>0,Eing.Allg..Daten!$D$9,0)","v":0},{"$f":"IF(M$6>0,Eing.Allg..Daten!$D$9,0)","v":0},0,null,{"$f":"IF(P$6>0,Eing.Allg..Daten!$D$9,0)","v":0},{"$f":"IF(Q$6>0,Eing.Allg..Daten!$D$9,0)","v":0},{"$f":"IF(R$6>0,Eing.Allg..Daten!$D$9,0)","v":0},{"$f":"IF(S$6>0,Eing.Allg..Daten!$D$9,0)","v":0},0,null,{"$f":"IF(V$6>0,Eing.Allg..Daten!$D$9,0)","v":0},{"$f":"IF(W$6>0,Eing.Allg..Daten!$D$9,0)","v":0},{"$f":"IF(X$6>0,Eing.Allg..Daten!$D$9,0)","v":0},{"$f":"IF(Y$6>0,Eing.Allg..Daten!$D$9,0)","v":0},0,null,0,null,null,null,null,null,null,null,{"$f":"+'Ma2'!$D$1","v":"SG Arheilgen 3"},null,null,null,null,null,0,{"$f":"(IF(ISNA(HLOOKUP(AQ$5,$D$2:$Z$23,14,FALSE))=TRUE,0,HLOOKUP(AQ$5,$D$2:$Z$23,14,FALSE)))+(IF(ISNA(HLOOKUP(AQ$5,$D$28:$Z$49,14,FALSE))=TRUE,0,HLOOKUP(AQ$5,$D$28:$Z$49,14,FALSE)))","v":0},0,0,0,0,0,0,0,0,0,0,0,0,0,0,0]
[11,{"$f":"IF(+Eing.Allg..Daten!$D$8<>\"\",+VLOOKUP(A16,Bahnen!$A$52:$B$144,2,0),\"\")","v":"Netz"},null,{"$f":"IF(D$6>0,Eing.Allg..Daten!$D$9,0)","v":0},{"$f":"IF(E$6>0,Eing.Allg..Daten!$D$9,0)","v":0},{"$f":"IF(F$6>0,Eing.Allg..Daten!$D$9,0)","v":0},{"$f":"IF(G$6>0,Eing.Allg..Daten!$D$9,0)","v":0},0,null,{"$f":"IF(J$6>0,Eing.Allg..Daten!$D$9,0)","v":0},{"$f":"IF(K$6>0,Eing.Allg..Daten!$D$9,0)","v":0},{"$f":"IF(L$6>0,Eing.Allg..Daten!$D$9,0)","v":0},{"$f":"IF(M$6>0,Eing.Allg..Daten!$D$9,0)","v":0},0,null,{"$f":"IF(P$6>0,Eing.Allg..Daten!$D$9,0)","v":0},{"$f":"IF(Q$6>0,Eing.Allg..Daten!$D$9,0)","v":0},{"$f":"IF(R$6>0,Eing.Allg..Daten!$D$9,0)","v":0},{"$f":"IF(S$6>0,Eing.Allg..Daten!$D$9,0)","v":0},0,null,{"$f":"IF(V$6>0,Eing.Allg..Daten!$D$9,0)","v":0},{"$f":"IF(W$6>0,Eing.Allg..Daten!$D$9,0)","v":0},{"$f":"IF(X$6>0,Eing.Allg..Daten!$D$9,0)","v":0},{"$f":"IF(Y$6>0,Eing.Allg..Daten!$D$9,0)","v":0},0,null,0,null,null,null,null,null,null,null,null,null,null,null,null,null,0,{"$f":"(IF(ISNA(HLOOKUP(AQ$5,$D$2:$Z$23,15,FALSE))=TRUE,0,HLOOKUP(AQ$5,$D$2:$Z$23,15,FALSE)))+(IF(ISNA(HLOOKUP(AQ$5,$D$28:$Z$49,15,FALSE))=TRUE,0,HLOOKUP(AQ$5,$D$28:$Z$49,15,FALSE)))","v":0},0,0,0,0,0,0,0,0,0,0,0,0,0,0,0]
[12,{"$f":"IF(+Eing.Allg..Daten!$D$8<>\"\",+VLOOKUP(A17,Bahnen!$A$52:$B$144,2,0),\"\")","v":"Doppelkeile"},null,{"$f":"IF(D$6>0,Eing.Allg..Daten!$D$9,0)","v":0},{"$f":"IF(E$6>0,Eing.Allg..Daten!$D$9,0)","v":0},{"$f":"IF(F$6>0,Eing.Allg..Daten!$D$9,0)","v":0},{"$f":"IF(G$6>0,Eing.Allg..Daten!$D$9,0)","v":0},0,null,{"$f":"IF(J$6>0,Eing.Allg..Daten!$D$9,0)","v":0},{"$f":"IF(K$6>0,Eing.Allg..Daten!$D$9,0)","v":0},{"$f":"IF(L$6>0,Eing.Allg..Daten!$D$9,0)","v":0},{"$f":"IF(M$6>0,Eing.Allg..Daten!$D$9,0)","v":0},0,null,{"$f":"IF(P$6>0,Eing.Allg..Daten!$D$9,0)","v":0},{"$f":"IF(Q$6>0,Eing.Allg..Daten!$D$9,0)","v":0},{"$f":"IF(R$6>0,Eing.Allg..Daten!$D$9,0)","v":0},{"$f":"IF(S$6>0,Eing.Allg..Daten!$D$9,0)","v":0},0,null,{"$f":"IF(V$6>0,Eing.Allg..Daten!$D$9,0)","v":0},{"$f":"IF(W$6>0,Eing.Allg..Daten!$D$9,0)","v":0},{"$f":"IF(X$6>0,Eing.Allg..Daten!$D$9,0)","v":0},{"$f":"IF(Y$6>0,Eing.Allg..Daten!$D$9,0)","v":0},0,null,0,null,null,null,null,null,null,null,{"$f":"+'Ma3'!$D$1","v":"MGC Kahler Sandhasen"},null,null,null,null,null,0,{"$f":"(IF(ISNA(HLOOKUP(AQ$5,$D$2:$Z$23,16,FALSE))=TRUE,0,HLOOKUP(AQ$5,$D$2:$Z$23,16,FALSE)))+(IF(ISNA(HLOOKUP(AQ$5,$D$28:$Z$49,16,FALSE))=TRUE,0,HLOOKUP(AQ$5,$D$28:$Z$49,16,FALSE)))","v":0},0,0,0,0,0,0,0,0,0,0,0,0,0,0,0]
[13,{"$f":"IF(+Eing.Allg..Daten!$D$8<>\"\",+VLOOKUP(A18,Bahnen!$A$52:$B$144,2,0),\"\")","v":"Stumpfe Kegel"},null,{"$f":"IF(D$6>0,Eing.Allg..Daten!$D$9,0)","v":0},{"$f":"IF(E$6>0,Eing.Allg..Daten!$D$9,0)","v":0},{"$f":"IF(F$6>0,Eing.Allg..Daten!$D$9,0)","v":0},{"$f":"IF(G$6>0,Eing.Allg..Daten!$D$9,0)","v":0},0,null,{"$f":"IF(J$6>0,Eing.Allg..Daten!$D$9,0)","v":0},{"$f":"IF(K$6>0,Eing.Allg..Daten!$D$9,0)","v":0},{"$f":"IF(L$6>0,Eing.Allg..Daten!$D$9,0)","v":0},{"$f":"IF(M$6>0,Eing.Allg..Daten!$D$9,0)","v":0},0,null,{"$f":"IF(P$6>0,Eing.Allg..Daten!$D$9,0)","v":0},{"$f":"IF(Q$6>0,Eing.Allg..Daten!$D$9,0)","v":0},{"$f":"IF(R$6>0,Eing.Allg..Daten!$D$9,0)","v":0},{"$f":"IF(S$6>0,Eing.Allg..Daten!$D$9,0)","v":0},0,null,{"$f":"IF(V$6>0,Eing.Allg..Daten!$D$9,0)","v":0},{"$f":"IF(W$6>0,Eing.Allg..Daten!$D$9,0)","v":0},{"$f":"IF(X$6>0,Eing.Allg..Daten!$D$9,0)","v":0},{"$f":"IF(Y$6>0,Eing.Allg..Daten!$D$9,0)","v":0},0,null,0,null,null,null,null,null,null,null,null,null,null,null,null,null,0,{"$f":"(IF(ISNA(HLOOKUP(AQ$5,$D$2:$Z$23,17,FALSE))=TRUE,0,HLOOKUP(AQ$5,$D$2:$Z$23,17,FALSE)))+(IF(ISNA(HLOOKUP(AQ$5,$D$28:$Z$49,17,FALSE))=TRUE,0,HLOOKUP(AQ$5,$D$28:$Z$49,17,FALSE)))","v":0},0,0,0,0,0,0,0,0,0,0,0,0,0,0,0]
[14,{"$f":"IF(+Eing.Allg..Daten!$D$8<>\"\",+VLOOKUP(A19,Bahnen!$A$52:$B$144,2,0),\"\")","v":"Schrägerkreis mit Niere"},null,{"$f":"IF(D$6>0,Eing.Allg..Daten!$D$9,0)","v":0},{"$f":"IF(E$6>0,Eing.Allg..Daten!$D$9,0)","v":0},{"$f":"IF(F$6>0,Eing.Allg..Daten!$D$9,0)","v":0},{"$f":"IF(G$6>0,Eing.Allg..Daten!$D$9,0)","v":0},0,null,{"$f":"IF(J$6>0,Eing.Allg..Daten!$D$9,0)","v":0},{"$f":"IF(K$6>0,Eing.Allg..Daten!$D$9,0)","v":0},{"$f":"IF(L$6>0,Eing.Allg..Daten!$D$9,0)","v":0},{"$f":"IF(M$6>0,Eing.Allg..Daten!$D$9,0)","v":0},0,null,{"$f":"IF(P$6>0,Eing.Allg..Daten!$D$9,0)","v":0},{"$f":"IF(Q$6>0,Eing.Allg..Daten!$D$9,0)","v":0},{"$f":"IF(R$6>0,Eing.Allg..Daten!$D$9,0)","v":0},{"$f":"IF(S$6>0,Eing.Allg..Daten!$D$9,0)","v":0},0,null,{"$f":"IF(V$6>0,Eing.Allg..Daten!$D$9,0)","v":0},{"$f":"IF(W$6>0,Eing.Allg..Daten!$D$9,0)","v":0},{"$f":"IF(X$6>0,Eing.Allg..Daten!$D$9,0)","v":0},{"$f":"IF(Y$6>0,Eing.Allg..Daten!$D$9,0)","v":0},0,null,0,null,null,null,null,null,null,null,{"$f":"+'Ma4'!$D$1","v":"SG Weiterstadt"},null,null,null,null,null,0,{"$f":"(IF(ISNA(HLOOKUP(AQ$5,$D$2:$Z$23,18,FALSE))=TRUE,0,HLOOKUP(AQ$5,$D$2:$Z$23,18,FALSE)))+(IF(ISNA(HLOOKUP(AQ$5,$D$28:$Z$49,18,FALSE))=TRUE,0,HLOOKUP(AQ$5,$D$28:$Z$49,18,FALSE)))","v":0},0,0,0,0,0,0,0,0,0,0,0,0,0,0,0]
[15,{"$f":"IF(+Eing.Allg..Daten!$D$8<>\"\",+VLOOKUP(A20,Bahnen!$A$52:$B$144,2,0),\"\")","v":"Brücke"},null,{"$f":"IF(D$6>0,Eing.Allg..Daten!$D$9,0)","v":0},{"$f":"IF(E$6>0,Eing.Allg..Daten!$D$9,0)","v":0},{"$f":"IF(F$6>0,Eing.Allg..Daten!$D$9,0)","v":0},{"$f":"IF(G$6>0,Eing.Allg..Daten!$D$9,0)","v":0},0,null,{"$f":"IF(J$6>0,Eing.Allg..Daten!$D$9,0)","v":0},{"$f":"IF(K$6>0,Eing.Allg..Daten!$D$9,0)","v":0},{"$f":"IF(L$6>0,Eing.Allg..Daten!$D$9,0)","v":0},{"$f":"IF(M$6>0,Eing.Allg..Daten!$D$9,0)","v":0},0,null,{"$f":"IF(P$6>0,Eing.Allg..Daten!$D$9,0)","v":0},{"$f":"IF(Q$6>0,Eing.Allg..Daten!$D$9,0)","v":0},{"$f":"IF(R$6>0,Eing.Allg..Daten!$D$9,0)","v":0},{"$f":"IF(S$6>0,Eing.Allg..Daten!$D$9,0)","v":0},0,null,{"$f":"IF(V$6>0,Eing.Allg..Daten!$D$9,0)","v":0},{"$f":"IF(W$6>0,Eing.Allg..Daten!$D$9,0)","v":0},{"$f":"IF(X$6>0,Eing.Allg..Daten!$D$9,0)","v":0},{"$f":"IF(Y$6>0,Eing.Allg..Daten!$D$9,0)","v":0},0,null,0,null,null,null,null,null,null,null,null,null,null,null,null,null,0,{"$f":"(IF(ISNA(HLOOKUP(AQ$5,$D$2:$Z$23,19,FALSE))=TRUE,0,HLOOKUP(AQ$5,$D$2:$Z$23,19,FALSE)))+(IF(ISNA(HLOOKUP(AQ$5,$D$28:$Z$49,19,FALSE))=TRUE,0,HLOOKUP(AQ$5,$D$28:$Z$49,19,FALSE)))","v":0},0,0,0,0,0,0,0,0,0,0,0,0,0,0,0]
[16,{"$f":"IF(+Eing.Allg..Daten!$D$8<>\"\",+VLOOKUP(A21,Bahnen!$A$52:$B$144,2,0),\"\")","v":"Vulkan"},null,{"$f":"IF(D$6>0,Eing.Allg..Daten!$D$9,0)","v":0},{"$f":"IF(E$6>0,Eing.Allg..Daten!$D$9,0)","v":0},{"$f":"IF(F$6>0,Eing.Allg..Daten!$D$9,0)","v":0},{"$f":"IF(G$6>0,Eing.Allg..Daten!$D$9,0)","v":0},0,null,{"$f":"IF(J$6>0,Eing.Allg..Daten!$D$9,0)","v":0},{"$f":"IF(K$6>0,Eing.Allg..Daten!$D$9,0)","v":0},{"$f":"IF(L$6>0,Eing.Allg..Daten!$D$9,0)","v":0},{"$f":"IF(M$6>0,Eing.Allg..Daten!$D$9,0)","v":0},0,null,{"$f":"IF(P$6>0,Eing.Allg..Daten!$D$9,0)","v":0},{"$f":"IF(Q$6>0,Eing.Allg..Daten!$D$9,0)","v":0},{"$f":"IF(R$6>0,Eing.Allg..Daten!$D$9,0)","v":0},{"$f":"IF(S$6>0,Eing.Allg..Daten!$D$9,0)","v":0},0,null,{"$f":"IF(V$6>0,Eing.Allg..Daten!$D$9,0)","v":0},{"$f":"IF(W$6>0,Eing.Allg..Daten!$D$9,0)","v":0},{"$f":"IF(X$6>0,Eing.Allg..Daten!$D$9,0)","v":0},{"$f":"IF(Y$6>0,Eing.Allg..Daten!$D$9,0)","v":0},0,null,0,null,null,null,null,null,null,null,{"$f":"+'Ma5'!$D$1","v":"MGC Bad Homburg 2"},null,null,null,null,null,0,{"$f":"(IF(ISNA(HLOOKUP(AQ$5,$D$2:$Z$23,20,FALSE))=TRUE,0,HLOOKUP(AQ$5,$D$2:$Z$23,20,FALSE)))+(IF(ISNA(HLOOKUP(AQ$5,$D$28:$Z$49,20,FALSE))=TRUE,0,HLOOKUP(AQ$5,$D$28:$Z$49,20,FALSE)))","v":0},0,0,0,0,0,0,0,0,0,0,0,0,0,0,0]
[17,{"$f":"IF(+Eing.Allg..Daten!$D$8<>\"\",+VLOOKUP(A22,Bahnen!$A$52:$B$144,2,0),\"\")","v":"Auflaufkeil mit Zielfenster"},null,{"$f":"IF(D$6>0,Eing.Allg..Daten!$D$9,0)","v":0},{"$f":"IF(E$6>0,Eing.Allg..Daten!$D$9,0)","v":0},{"$f":"IF(F$6>0,Eing.Allg..Daten!$D$9,0)","v":0},{"$f":"IF(G$6>0,Eing.Allg..Daten!$D$9,0)","v":0},0,null,{"$f":"IF(J$6>0,Eing.Allg..Daten!$D$9,0)","v":0},{"$f":"IF(K$6>0,Eing.Allg..Daten!$D$9,0)","v":0},{"$f":"IF(L$6>0,Eing.Allg..Daten!$D$9,0)","v":0},{"$f":"IF(M$6>0,Eing.Allg..Daten!$D$9,0)","v":0},0,null,{"$f":"IF(P$6>0,Eing.Allg..Daten!$D$9,0)","v":0},{"$f":"IF(Q$6>0,Eing.Allg..Daten!$D$9,0)","v":0},{"$f":"IF(R$6>0,Eing.Allg..Daten!$D$9,0)","v":0},{"$f":"IF(S$6>0,Eing.Allg..Daten!$D$9,0)","v":0},0,null,{"$f":"IF(V$6>0,Eing.Allg..Daten!$D$9,0)","v":0},{"$f":"IF(W$6>0,Eing.Allg..Daten!$D$9,0)","v":0},{"$f":"IF(X$6>0,Eing.Allg..Daten!$D$9,0)","v":0},{"$f":"IF(Y$6>0,Eing.Allg..Daten!$D$9,0)","v":0},0,null,0,null,null,null,null,null,null,null,null,null,null,null,null,null,0,{"$f":"(IF(ISNA(HLOOKUP(AQ$5,$D$2:$Z$23,21,FALSE))=TRUE,0,HLOOKUP(AQ$5,$D$2:$Z$23,21,FALSE)))+(IF(ISNA(HLOOKUP(AQ$5,$D$28:$Z$49,21,FALSE))=TRUE,0,HLOOKUP(AQ$5,$D$28:$Z$49,21,FALSE)))","v":0},0,0,0,0,0,0,0,0,0,0,0,0,0,0,0]
[18,{"$f":"IF(+Eing.Allg..Daten!$D$8<>\"\",+VLOOKUP(A23,Bahnen!$A$52:$B$144,2,0),\"\")","v":"Blitz"},null,{"$f":"IF(D$6>0,Eing.Allg..Daten!$D$9,0)","v":0},{"$f":"IF(E$6>0,Eing.Allg..Daten!$D$9,0)","v":0},{"$f":"IF(F$6>0,Eing.Allg..Daten!$D$9,0)","v":0},{"$f":"IF(G$6>0,Eing.Allg..Daten!$D$9,0)","v":0},0,null,{"$f":"IF(J$6>0,Eing.Allg..Daten!$D$9,0)","v":0},{"$f":"IF(K$6>0,Eing.Allg..Daten!$D$9,0)","v":0},{"$f":"IF(L$6>0,Eing.Allg..Daten!$D$9,0)","v":0},{"$f":"IF(M$6>0,Eing.Allg..Daten!$D$9,0)","v":0},0,null,{"$f":"IF(P$6>0,Eing.Allg..Daten!$D$9,0)","v":0},{"$f":"IF(Q$6>0,Eing.Allg..Daten!$D$9,0)","v":0},{"$f":"IF(R$6>0,Eing.Allg..Daten!$D$9,0)","v":0},{"$f":"IF(S$6>0,Eing.Allg..Daten!$D$9,0)","v":0},0,null,{"$f":"IF(V$6>0,Eing.Allg..Daten!$D$9,0)","v":0},{"$f":"IF(W$6>0,Eing.Allg..Daten!$D$9,0)","v":0},{"$f":"IF(X$6>0,Eing.Allg..Daten!$D$9,0)","v":0},{"$f":"IF(Y$6>0,Eing.Allg..Daten!$D$9,0)","v":0},0,null,0,null,null,null,null,null,null,null,{"$f":"+'Ma6'!$D$1","v":"SV Dreieichenhain"},null,null,null,null,null,0,{"$f":"(IF(ISNA(HLOOKUP(AQ$5,$D$2:$Z$23,22,FALSE))=TRUE,0,HLOOKUP(AQ$5,$D$2:$Z$23,22,FALSE)))+(IF(ISNA(HLOOKUP(AQ$5,$D$28:$Z$49,22,FALSE))=TRUE,0,HLOOKUP(AQ$5,$D$28:$Z$49,22,FALSE)))","v":0},0,0,0,0,0,0,0,0,0,0,0,0,0,0,0]
[null,"Strafpunkte",null,null,null,null,null,0,null,null,null,null,null,0,null,null,null,null,null,0,null,null,null,null,null,0]
[null,null,null,{"$f":"IF(D23<>0,SUM(D6:D24),999)","v":999},{"$f":"IF(E23<>0,SUM(E6:E24),999)","v":999},{"$f":"IF(F23<>0,SUM(F6:F24),999)","v":999},{"$f":"IF(G23<>0,SUM(G6:G24),999)","v":999},{"$f":"SUM(H6:H24)","v":0},null,{"$f":"IF(J23<>0,SUM(J6:J24),999)","v":999},{"$f":"IF(K23<>0,SUM(K6:K24),999)","v":999},{"$f":"IF(L23<>0,SUM(L6:L24),999)","v":999},{"$f":"IF(M23<>0,SUM(M6:M24),999)","v":999},{"$f":"SUM(N6:N24)","v":0},null,{"$f":"IF(P23<>0,SUM(P6:P24),999)","v":999},{"$f":"IF(Q23<>0,SUM(Q6:Q24),999)","v":999},{"$f":"IF(R23<>0,SUM(R6:R24),999)","v":999},{"$f":"IF(S23<>0,SUM(S6:S24),999)","v":999},{"$f":"SUM(T6:T24)","v":0},null,{"$f":"IF(V23<>0,SUM(V6:V24),999)","v":999},{"$f":"IF(W23<>0,SUM(W6:W24),999)","v":999},{"$f":"IF(X23<>0,SUM(X6:X24),999)","v":999},{"$f":"IF(Y23<>0,SUM(Y6:Y24),999)","v":999},{"$f":"SUM(Z6:Z24)","v":0},null,{"$f":"SUM(AB6:AB23)","v":0},null,null,null,null,null,null,null,{"$f":"+'Ma7'!$D$1","v":"MGC Heringen"},null,null,null,null,null,null,{"$f":"SUM(AQ6:AQ24)","v":0},0,0,0,0,0,0,0,0,0,0,0,0,0,0,0]
[null,null,null,{"$f":"SUM(D25:G25)","v":3996},null,null,null,null,null,{"$f":"SUM(J25:M25)","v":3996},null,null,null,null,null,{"$f":"SUM(P25:S25)","v":3996},null,null,null,null,null,{"$f":"SUM(V25:Y25)","v":3996}]
[null,null,null,{"$f":"IF(D6=0,\"DNS\",IF(D23=0,\"DNF\",1))","v":"DNS"},{"$f":"IF(E6=0,\"DNS\",IF(E23=0,\"DNF\",1))","v":"DNS"},{"$f":"IF(F6=0,\"DNS\",IF(F23=0,\"DNF\",1))","v":"DNS"},{"$f":"IF(G6=0,\"DNS\",IF(G23=0,\"DNF\",1))","v":"DNS"},{"$f":"IF(SUM(D27:G27)=Tagestabelle!$N$3,\"FIN\",\"DNF\")","v":"FIN"},null,{"$f":"IF(J6=0,\"DNS\",IF(J23=0,\"DNF\",1))","v":"DNS"},{"$f":"IF(K6=0,\"DNS\",IF(K23=0,\"DNF\",1))","v":"DNS"},{"$f":"IF(L6=0,\"DNS\",IF(L23=0,\"DNF\",1))","v":"DNS"},{"$f":"IF(M6=0,\"DNS\",IF(M23=0,\"DNF\",1))","v":"DNS"},{"$f":"IF(SUM(J27:M27)=Tagestabelle!$N$3,\"FIN\",\"DNF\")","v":"FIN"},null,{"$f":"IF(P6=0,\"DNS\",IF(P23=0,\"DNF\",1))","v":"DNS"},{"$f":"IF(Q6=0,\"DNS\",IF(Q23=0,\"DNF\",1))","v":"DNS"},{"$f":"IF(R6=0,\"DNS\",IF(R23=0,\"DNF\",1))","v":"DNS"},{"$f":"IF(S6=0,\"DNS\",IF(S23=0,\"DNF\",1))","v":"DNS"},{"$f":"IF(SUM(P27:S27)=Tagestabelle!$N$3,\"FIN\",\"DNF\")","v":"FIN"},null,{"$f":"IF(V6=0,\"DNS\",IF(V23=0,\"DNF\",1))","v":"DNS"},{"$f":"IF(W6=0,\"DNS\",IF(W23=0,\"DNF\",1))","v":"DNS"},{"$f":"IF(X6=0,\"DNS\",IF(X23=0,\"DNF\",1))","v":"DNS"},{"$f":"IF(Y6=0,\"DNS\",IF(Y23=0,\"DNF\",1))","v":"DNS"},{"$f":"IF(SUM(V27:Y27)=Tagestabelle!$N$3,\"FIN\",\"DNF\")","v":"FIN"},6]
[null,null,null,"M1S5R1","M1S5R2","M1S5R3","M1S5R4",null,null,"M1S6R1","M1S6R2","M1S6R3","M1S6R4",null,null,"M1S7R1","M1S7R2","M1S7R3","M1S7R4",null,null,"M1S8R1","M1S8R2","M1S8R3","M1S8R4"]
[null,null,null,"Spieler 5",null,null,null,"Kat.",null,"Spieler 6",null,null,null,"Kat.",null,"Spieler 7",null,null,null,"Kat.",null,"Spieler 8",null,null,null,"Kat.",null,"Spieler AK",null,null,null,"Kat."]
["Bahn  ",null,null,{"$f":"+M1S5","v":{"$error":"#N/A"}},null,null,null,{"$f":"+M1S5Kat","v":{"$error":"#N/A"}},null,{"$f":"+M1S6","v":{"$error":"#N/A"}},null,null,null,{"$f":"+M1S6Kat","v":{"$error":"#N/A"}},null,{"$f":"M1S7","v":{"$error":"#N/A"}},null,null,null,{"$f":"+M1S7Kat","v":{"$error":"#N/A"}},null,{"$f":"M1S8","v":{"$error":"#N/A"}},null,null,null,{"$f":"+M1S8Kat","v":{"$error":"#N/A"}},null,{"$f":"M1SAK","v":{"$error":"#N/A"}},null,null,null,{"$f":"+M1SAKKat","v":{"$error":"#N/A"}}]
["Nr.","Bez. ",null,{"$f":"+M1S5p","v":0},null,null,null,null,null,{"$f":"+M1S6p","v":0},null,null,null,null,null,{"$f":"+M1S7p","v":0},null,null,null,null,null,{"$f":"+M1S8p","v":0},null,null,null,null,null,{"$f":"+M1SAKp","v":0}]
[1,{"$f":"IF(+Eing.Allg..Daten!$D$8<>\"\",+VLOOKUP(A32,Bahnen!$A$52:$B$144,2,0),\"\")","v":"Gerade Bahn ohne Hindernis"},null,null,null,null,null,{"$f":"SUM(D32:G32)","v":0},null,null,null,null,null,{"$f":"SUM(J32:M32)","v":0},null,null,null,null,null,{"$f":"SUM(P32:S32)","v":0},null,null,null,null,null,{"$f":"SUM(V32:Y32)","v":0},null,null,null,null,null,{"$f":"SUM(AB32:AE32)","v":0}]
[2,{"$f":"IF(+Eing.Allg..Daten!$D$8<>\"\",+VLOOKUP(A33,Bahnen!$A$52:$B$144,2,0),\"\")","v":"Salto"},null,{"$f":"IF(D$32>0,Eing.Allg..Daten!$D$9,0)","v":0},{"$f":"IF(E$32>0,Eing.Allg..Daten!$D$9,0)","v":0},{"$f":"IF(F$32>0,Eing.Allg..Daten!$D$9,0)","v":0},{"$f":"IF(G$32>0,Eing.Allg..Daten!$D$9,0)","v":0},0,null,{"$f":"IF(J$32>0,Eing.Allg..Daten!$D$9,0)","v":0},{"$f":"IF(K$32>0,Eing.Allg..Daten!$D$9,0)","v":0},{"$f":"IF(L$32>0,Eing.Allg..Daten!$D$9,0)","v":0},{"$f":"IF(M$32>0,Eing.Allg..Daten!$D$9,0)","v":0},0,null,{"$f":"IF(P$32>0,Eing.Allg..Daten!$D$9,0)","v":0},{"$f":"IF(Q$32>0,Eing.Allg..Daten!$D$9,0)","v":0},{"$f":"IF(R$32>0,Eing.Allg..Daten!$D$9,0)","v":0},{"$f":"IF(S$32>0,Eing.Allg..Daten!$D$9,0)","v":0},0,null,{"$f":"IF(V$32>0,Eing.Allg..Daten!$D$9,0)","v":0},{"$f":"IF(W$32>0,Eing.Allg..Daten!$D$9,0)","v":0},{"$f":"IF(X$32>0,Eing.Allg..Daten!$D$9,0)","v":0},{"$f":"IF(Y$32>0,Eing.Allg..Daten!$D$9,0)","v":0},0,null,{"$f":"IF(AB$32>0,Eing.Allg..Daten!$D$9,0)","v":0},{"$f":"IF(AC$32>0,Eing.Allg..Daten!$D$9,0)","v":0},{"$f":"IF(AD$32>0,Eing.Allg..Daten!$D$9,0)","v":0},{"$f":"IF(AE$32>0,Eing.Allg..Daten!$D$9,0)","v":0},0]
[3,{"$f":"IF(+Eing.Allg..Daten!$D$8<>\"\",+VLOOKUP(A34,Bahnen!$A$52:$B$144,2,0),\"\")","v":"Pyramiden"},null,{"$f":"IF(D$32>0,Eing.Allg..Daten!$D$9,0)","v":0},{"$f":"IF(E$32>0,Eing.Allg..Daten!$D$9,0)","v":0},{"$f":"IF(F$32>0,Eing.Allg..Daten!$D$9,0)","v":0},{"$f":"IF(G$32>0,Eing.Allg..Daten!$D$9,0)","v":0},0,null,{"$f":"IF(J$32>0,Eing.Allg..Daten!$D$9,0)","v":0},{"$f":"IF(K$32>0,Eing.Allg..Daten!$D$9,0)","v":0},{"$f":"IF(L$32>0,Eing.Allg..Daten!$D$9,0)","v":0},{"$f":"IF(M$32>0,Eing.Allg..Daten!$D$9,0)","v":0},0,null,{"$f":"IF(P$32>0,Eing.Allg..Daten!$D$9,0)","v":0},{"$f":"IF(Q$32>0,Eing.Allg..Daten!$D$9,0)","v":0},{"$f":"IF(R$32>0,Eing.Allg..Daten!$D$9,0)","v":0},{"$f":"IF(S$32>0,Eing.Allg..Daten!$D$9,0)","v":0},0,null,{"$f":"IF(V$32>0,Eing.Allg..Daten!$D$9,0)","v":0},{"$f":"IF(W$32>0,Eing.Allg..Daten!$D$9,0)","v":0},{"$f":"IF(X$32>0,Eing.Allg..Daten!$D$9,0)","v":0},{"$f":"IF(Y$32>0,Eing.Allg..Daten!$D$9,0)","v":0},0,null,{"$f":"IF(AB$32>0,Eing.Allg..Daten!$D$9,0)","v":0},{"$f":"IF(AC$32>0,Eing.Allg..Daten!$D$9,0)","v":0},{"$f":"IF(AD$32>0,Eing.Allg..Daten!$D$9,0)","v":0},{"$f":"IF(AE$32>0,Eing.Allg..Daten!$D$9,0)","v":0},0]
[4,{"$f":"IF(+Eing.Allg..Daten!$D$8<>\"\",+VLOOKUP(A35,Bahnen!$A$52:$B$144,2,0),\"\")","v":"Mittelhügel"},null,{"$f":"IF(D$32>0,Eing.Allg..Daten!$D$9,0)","v":0},{"$f":"IF(E$32>0,Eing.Allg..Daten!$D$9,0)","v":0},{"$f":"IF(F$32>0,Eing.Allg..Daten!$D$9,0)","v":0},{"$f":"IF(G$32>0,Eing.Allg..Daten!$D$9,0)","v":0},0,null,{"$f":"IF(J$32>0,Eing.Allg..Daten!$D$9,0)","v":0},{"$f":"IF(K$32>0,Eing.Allg..Daten!$D$9,0)","v":0},{"$f":"IF(L$32>0,Eing.Allg..Daten!$D$9,0)","v":0},{"$f":"IF(M$32>0,Eing.Allg..Daten!$D$9,0)","v":0},0,null,{"$f":"IF(P$32>0,Eing.Allg..Daten!$D$9,0)","v":0},{"$f":"IF(Q$32>0,Eing.Allg..Daten!$D$9,0)","v":0},{"$f":"IF(R$32>0,Eing.Allg..Daten!$D$9,0)","v":0},{"$f":"IF(S$32>0,Eing.Allg..Daten!$D$9,0)","v":0},0,null,{"$f":"IF(V$32>0,Eing.Allg..Daten!$D$9,0)","v":0},{"$f":"IF(W$32>0,Eing.Allg..Daten!$D$9,0)","v":0},{"$f":"IF(X$32>0,Eing.Allg..Daten!$D$9,0)","v":0},{"$f":"IF(Y$32>0,Eing.Allg..Daten!$D$9,0)","v":0},0,null,{"$f":"IF(AB$32>0,Eing.Allg..Daten!$D$9,0)","v":0},{"$f":"IF(AC$32>0,Eing.Allg..Daten!$D$9,0)","v":0},{"$f":"IF(AD$32>0,Eing.Allg..Daten!$D$9,0)","v":0},{"$f":"IF(AE$32>0,Eing.Allg..Daten!$D$9,0)","v":0},0]
[5,{"$f":"IF(+Eing.Allg..Daten!$D$8<>\"\",+VLOOKUP(A36,Bahnen!$A$52:$B$144,2,0),\"\")","v":"\"V\" - Hindernis"},null,{"$f":"IF(D$32>0,Eing.Allg..Daten!$D$9,0)","v":0},{"$f":"IF(E$32>0,Eing.Allg..Daten!$D$9,0)","v":0},{"$f":"IF(F$32>0,Eing.Allg..Daten!$D$9,0)","v":0},{"$f":"IF(G$32>0,Eing.Allg..Daten!$D$9,0)","v":0},0,null,{"$f":"IF(J$32>0,Eing.Allg..Daten!$D$9,0)","v":0},{"$f":"IF(K$32>0,Eing.Allg..Daten!$D$9,0)","v":0},{"$f":"IF(L$32>0,Eing.Allg..Daten!$D$9,0)","v":0},{"$f":"IF(M$32>0,Eing.Allg..Daten!$D$9,0)","v":0},0,null,{"$f":"IF(P$32>0,Eing.Allg..Daten!$D$9,0)","v":0},{"$f":"IF(Q$32>0,Eing.Allg..Daten!$D$9,0)","v":0},{"$f":"IF(R$32>0,Eing.Allg..Daten!$D$9,0)","v":0},{"$f":"IF(S$32>0,Eing.Allg..Daten!$D$9,0)","v":0},0,null,{"$f":"IF(V$32>0,Eing.Allg..Daten!$D$9,0)","v":0},{"$f":"IF(W$32>0,Eing.Allg..Daten!$D$9,0)","v":0},{"$f":"IF(X$32>0,Eing.Allg..Daten!$D$9,0)","v":0},{"$f":"IF(Y$32>0,Eing.Allg..Daten!$D$9,0)","v":0},0,null,{"$f":"IF(AB$32>0,Eing.Allg..Daten!$D$9,0)","v":0},{"$f":"IF(AC$32>0,Eing.Allg..Daten!$D$9,0)","v":0},{"$f":"IF(AD$32>0,Eing.Allg..Daten!$D$9,0)","v":0},{"$f":"IF(AE$32>0,Eing.Allg..Daten!$D$9,0)","v":0},0]
[6,{"$f":"IF(+Eing.Allg..Daten!$D$8<>\"\",+VLOOKUP(A37,Bahnen!$A$52:$B$144,2,0),\"\")","v":"Doppelwellen"},null,{"$f":"IF(D$32>0,Eing.Allg..Daten!$D$9,0)","v":0},{"$f":"IF(E$32>0,Eing.Allg..Daten!$D$9,0)","v":0},{"$f":"IF(F$32>0,Eing.Allg..Daten!$D$9,0)","v":0},{"$f":"IF(G$32>0,Eing.Allg..Daten!$D$9,0)","v":0},0,null,{"$f":"IF(J$32>0,Eing.Allg..Daten!$D$9,0)","v":0},{"$f":"IF(K$32>0,Eing.Allg..Daten!$D$9,0)","v":0},{"$f":"IF(L$32>0,Eing.Allg..Daten!$D$9,0)","v":0},{"$f":"IF(M$32>0,Eing.Allg..Daten!$D$9,0)","v":0},0,null,{"$f":"IF(P$32>0,Eing.Allg..Daten!$D$9,0)","v":0},{"$f":"IF(Q$32>0,Eing.Allg..Daten!$D$9,0)","v":0},{"$f":"IF(R$32>0,Eing.Allg..Daten!$D$9,0)","v":0},{"$f":"IF(S$32>0,Eing.Allg..Daten!$D$9,0)","v":0},0,null,{"$f":"IF(V$32>0,Eing.Allg..Daten!$D$9,0)","v":0},{"$f":"IF(W$32>0,Eing.Allg..Daten!$D$9,0)","v":0},{"$f":"IF(X$32>0,Eing.Allg..Daten!$D$9,0)","v":0},{"$f":"IF(Y$32>0,Eing.Allg..Daten!$D$9,0)","v":0},0,null,{"$f":"IF(AB$32>0,Eing.Allg..Daten!$D$9,0)","v":0},{"$f":"IF(AC$32>0,Eing.Allg..Daten!$D$9,0)","v":0},{"$f":"IF(AD$32>0,Eing.Allg..Daten!$D$9,0)","v":0},{"$f":"IF(AE$32>0,Eing.Allg..Daten!$D$9,0)","v":0},0]
[7,{"$f":"IF(+Eing.Allg..Daten!$D$8<>\"\",+VLOOKUP(A38,Bahnen!$A$52:$B$144,2,0),\"\")","v":"Rohr"},null,{"$f":"IF(D$32>0,Eing.Allg..Daten!$D$9,0)","v":0},{"$f":"IF(E$32>0,Eing.Allg..Daten!$D$9,0)","v":0},{"$f":"IF(F$32>0,Eing.Allg..Daten!$D$9,0)","v":0},{"$f":"IF(G$32>0,Eing.Allg..Daten!$D$9,0)","v":0},0,null,{"$f":"IF(J$32>0,Eing.Allg..Daten!$D$9,0)","v":0},{"$f":"IF(K$32>0,Eing.Allg..Daten!$D$9,0)","v":0},{"$f":"IF(L$32>0,Eing.Allg..Daten!$D$9,0)","v":0},{"$f":"IF(M$32>0,Eing.Allg..Daten!$D$9,0)","v":0},0,null,{"$f":"IF(P$32>0,Eing.Allg..Daten!$D$9,0)","v":0},{"$f":"IF(Q$32>0,Eing.Allg..Daten!$D$9,0)","v":0},{"$f":"IF(R$32>0,Eing.Allg..Daten!$D$9,0)","v":0},{"$f":"IF(S$32>0,Eing.Allg..Daten!$D$9,0)","v":0},0,null,{"$f":"IF(V$32>0,Eing.Allg..Daten!$D$9,0)","v":0},{"$f":"IF(W$32>0,Eing.Allg..Daten!$D$9,0)","v":0},{"$f":"IF(X$32>0,Eing.Allg..Daten!$D$9,0)","v":0},{"$f":"IF(Y$32>0,Eing.Allg..Daten!$D$9,0)","v":0},0,null,{"$f":"IF(AB$32>0,Eing.Allg..Daten!$D$9,0)","v":0},{"$f":"IF(AC$32>0,Eing.Allg..Daten!$D$9,0)","v":0},{"$f":"IF(AD$32>0,Eing.Allg..Daten!$D$9,0)","v":0},{"$f":"IF(AE$32>0,Eing.Allg..Daten!$D$9,0)","v":0},0]
[8,{"$f":"IF(+Eing.Allg..Daten!$D$8<>\"\",+VLOOKUP(A39,Bahnen!$A$52:$B$144,2,0),\"\")","v":"Passagen"},null,{"$f":"IF(D$32>0,Eing.Allg..Daten!$D$9,0)","v":0},{"$f":"IF(E$32>0,Eing.Allg..Daten!$D$9,0)","v":0},{"$f":"IF(F$32>0,Eing.Allg..Daten!$D$9,0)","v":0},{"$f":"IF(G$32>0,Eing.Allg..Daten!$D$9,0)","v":0},0,null,{"$f":"IF(J$32>0,Eing.Allg..Daten!$D$9,0)","v":0},{"$f":"IF(K$32>0,Eing.Allg..Daten!$D$9,0)","v":0},{"$f":"IF(L$32>0,Eing.Allg..Daten!$D$9,0)","v":0},{"$f":"IF(M$32>0,Eing.Allg..Daten!$D$9,0)","v":0},0,null,{"$f":"IF(P$32>0,Eing.Allg..Daten!$D$9,0)","v":0},{"$f":"IF(Q$32>0,Eing.Allg..Daten!$D$9,0)","v":0},{"$f":"IF(R$32>0,Eing.Allg..Daten!$D$9,0)","v":0},{"$f":"IF(S$32>0,Eing.Allg..Daten!$D$9,0)","v":0},0,null,{"$f":"IF(V$32>0,Eing.Allg..Daten!$D$9,0)","v":0},{"$f":"IF(W$32>0,Eing.Allg..Daten!$D$9,0)","v":0},{"$f":"IF(X$32>0,Eing.Allg..Daten!$D$9,0)","v":0},{"$f":"IF(Y$32>0,Eing.Allg..Daten!$D$9,0)","v":0},0,null,{"$f":"IF(AB$32>0,Eing.Allg..Daten!$D$9,0)","v":0},{"$f":"IF(AC$32>0,Eing.Allg..Daten!$D$9,0)","v":0},{"$f":"IF(AD$32>0,Eing.Allg..Daten!$D$9,0)","v":0},{"$f":"IF(AE$32>0,Eing.Allg..Daten!$D$9,0)","v":0},0]
[9,{"$f":"IF(+Eing.Allg..Daten!$D$8<>\"\",+VLOOKUP(A40,Bahnen!$A$52:$B$144,2,0),\"\")","v":"Liegende Schleife"},null,{"$f":"IF(D$32>0,Eing.Allg..Daten!$D$9,0)","v":0},{"$f":"IF(E$32>0,Eing.Allg..Daten!$D$9,0)","v":0},{"$f":"IF(F$32>0,Eing.Allg..Daten!$D$9,0)","v":0},{"$f":"IF(G$32>0,Eing.Allg..Daten!$D$9,0)","v":0},0,null,{"$f":"IF(J$32>0,Eing.Allg..Daten!$D$9,0)","v":0},{"$f":"IF(K$32>0,Eing.Allg..Daten!$D$9,0)","v":0},{"$f":"IF(L$32>0,Eing.Allg..Daten!$D$9,0)","v":0},{"$f":"IF(M$32>0,Eing.Allg..Daten!$D$9,0)","v":0},0,null,{"$f":"IF(P$32>0,Eing.Allg..Daten!$D$9,0)","v":0},{"$f":"IF(Q$32>0,Eing.Allg..Daten!$D$9,0)","v":0},{"$f":"IF(R$32>0,Eing.Allg..Daten!$D$9,0)","v":0},{"$f":"IF(S$32>0,Eing.Allg..Daten!$D$9,0)","v":0},0,null,{"$f":"IF(V$32>0,Eing.Allg..Daten!$D$9,0)","v":0},{"$f":"IF(W$32>0,Eing.Allg..Daten!$D$9,0)","v":0},{"$f":"IF(X$32>0,Eing.Allg..Daten!$D$9,0)","v":0},{"$f":"IF(Y$32>0,Eing.Allg..Daten!$D$9,0)","v":0},0,null,{"$f":"IF(AB$32>0,Eing.Allg..Daten!$D$9,0)","v":0},{"$f":"IF(AC$32>0,Eing.Allg..Daten!$D$9,0)","v":0},{"$f":"IF(AD$32>0,Eing.Allg..Daten!$D$9,0)","v":0},{"$f":"IF(AE$32>0,Eing.Allg..Daten!$D$9,0)","v":0},0]
[10,{"$f":"IF(+Eing.Allg..Daten!$D$8<>\"\",+VLOOKUP(A41,Bahnen!$A$52:$B$144,2,0),\"\")","v":"Winkel"},null,{"$f":"IF(D$32>0,Eing.Allg..Daten!$D$9,0)","v":0},{"$f":"IF(E$32>0,Eing.Allg..Daten!$D$9,0)","v":0},{"$f":"IF(F$32>0,Eing.Allg..Daten!$D$9,0)","v":0},{"$f":"IF(G$32>0,Eing.Allg..Daten!$D$9,0)","v":0},0,null,{"$f":"IF(J$32>0,Eing.Allg..Daten!$D$9,0)","v":0},{"$f":"IF(K$32>0,Eing.Allg..Daten!$D$9,0)","v":0},{"$f":"IF(L$32>0,Eing.Allg..Daten!$D$9,0)","v":0},{"$f":"IF(M$32>0,Eing.Allg..Daten!$D$9,0)","v":0},0,null,{"$f":"IF(P$32>0,Eing.Allg..Daten!$D$9,0)","v":0},{"$f":"IF(Q$32>0,Eing.Allg..Daten!$D$9,0)","v":0},{"$f":"IF(R$32>0,Eing.Allg..Daten!$D$9,0)","v":0},{"$f":"IF(S$32>0,Eing.Allg..Daten!$D$9,0)","v":0},0,null,{"$f":"IF(V$32>0,Eing.Allg..Daten!$D$9,0)","v":0},{"$f":"IF(W$32>0,Eing.Allg..Daten!$D$9,0)","v":0},{"$f":"IF(X$32>0,Eing.Allg..Daten!$D$9,0)","v":0},{"$f":"IF(Y$32>0,Eing.Allg..Daten!$D$9,0)","v":0},0,null,{"$f":"IF(AB$32>0,Eing.Allg..Daten!$D$9,0)","v":0},{"$f":"IF(AC$32>0,Eing.Allg..Daten!$D$9,0)","v":0},{"$f":"IF(AD$32>0,Eing.Allg..Daten!$D$9,0)","v":0},{"$f":"IF(AE$32>0,Eing.Allg..Daten!$D$9,0)","v":0},0]
[11,{"$f":"IF(+Eing.Allg..Daten!$D$8<>\"\",+VLOOKUP(A42,Bahnen!$A$52:$B$144,2,0),\"\")","v":"Netz"},null,{"$f":"IF(D$32>0,Eing.Allg..Daten!$D$9,0)","v":0},{"$f":"IF(E$32>0,Eing.Allg..Daten!$D$9,0)","v":0},{"$f":"IF(F$32>0,Eing.Allg..Daten!$D$9,0)","v":0},{"$f":"IF(G$32>0,Eing.Allg..Daten!$D$9,0)","v":0},0,null,{"$f":"IF(J$32>0,Eing.Allg..Daten!$D$9,0)","v":0},{"$f":"IF(K$32>0,Eing.Allg..Daten!$D$9,0)","v":0},{"$f":"IF(L$32>0,Eing.Allg..Daten!$D$9,0)","v":0},{"$f":"IF(M$32>0,Eing.Allg..Daten!$D$9,0)","v":0},0,null,{"$f":"IF(P$32>0,Eing.Allg..Daten!$D$9,0)","v":0},{"$f":"IF(Q$32>0,Eing.Allg..Daten!$D$9,0)","v":0},{"$f":"IF(R$32>0,Eing.Allg..Daten!$D$9,0)","v":0},{"$f":"IF(S$32>0,Eing.Allg..Daten!$D$9,0)","v":0},0,null,{"$f":"IF(V$32>0,Eing.Allg..Daten!$D$9,0)","v":0},{"$f":"IF(W$32>0,Eing.Allg..Daten!$D$9,0)","v":0},{"$f":"IF(X$32>0,Eing.Allg..Daten!$D$9,0)","v":0},{"$f":"IF(Y$32>0,Eing.Allg..Daten!$D$9,0)","v":0},0,null,{"$f":"IF(AB$32>0,Eing.Allg..Daten!$D$9,0)","v":0},{"$f":"IF(AC$32>0,Eing.Allg..Daten!$D$9,0)","v":0},{"$f":"IF(AD$32>0,Eing.Allg..Daten!$D$9,0)","v":0},{"$f":"IF(AE$32>0,Eing.Allg..Daten!$D$9,0)","v":0},0]
[12,{"$f":"IF(+Eing.Allg..Daten!$D$8<>\"\",+VLOOKUP(A43,Bahnen!$A$52:$B$144,2,0),\"\")","v":"Doppelkeile"},null,{"$f":"IF(D$32>0,Eing.Allg..Daten!$D$9,0)","v":0},{"$f":"IF(E$32>0,Eing.Allg..Daten!$D$9,0)","v":0},{"$f":"IF(F$32>0,Eing.Allg..Daten!$D$9,0)","v":0},{"$f":"IF(G$32>0,Eing.Allg..Daten!$D$9,0)","v":0},0,null,{"$f":"IF(J$32>0,Eing.Allg..Daten!$D$9,0)","v":0},{"$f":"IF(K$32>0,Eing.Allg..Daten!$D$9,0)","v":0},{"$f":"IF(L$32>0,Eing.Allg..Daten!$D$9,0)","v":0},{"$f":"IF(M$32>0,Eing.Allg..Daten!$D$9,0)","v":0},0,null,{"$f":"IF(P$32>0,Eing.Allg..Daten!$D$9,0)","v":0},{"$f":"IF(Q$32>0,Eing.Allg..Daten!$D$9,0)","v":0},{"$f":"IF(R$32>0,Eing.Allg..Daten!$D$9,0)","v":0},{"$f":"IF(S$32>0,Eing.Allg..Daten!$D$9,0)","v":0},0,null,{"$f":"IF(V$32>0,Eing.Allg..Daten!$D$9,0)","v":0},{"$f":"IF(W$32>0,Eing.Allg..Daten!$D$9,0)","v":0},{"$f":"IF(X$32>0,Eing.Allg..Daten!$D$9,0)","v":0},{"$f":"IF(Y$32>0,Eing.Allg..Daten!$D$9,0)","v":0},0,null,{"$f":"IF(AB$32>0,Eing.Allg..Daten!$D$9,0)","v":0},{"$f":"IF(AC$32>0,Eing.Allg..Daten!$D$9,0)","v":0},{"$f":"IF(AD$32>0,Eing.Allg..Daten!$D$9,0)","v":0},{"$f":"IF(AE$32>0,Eing.Allg..Daten!$D$9,0)","v":0},0]
[13,{"$f":"IF(+Eing.Allg..Daten!$D$8<>\"\",+VLOOKUP(A44,Bahnen!$A$52:$B$144,2,0),\"\")","v":"Stumpfe Kegel"},null,{"$f":"IF(D$32>0,Eing.Allg..Daten!$D$9,0)","v":0},{"$f":"IF(E$32>0,Eing.Allg..Daten!$D$9,0)","v":0},{"$f":"IF(F$32>0,Eing.Allg..Daten!$D$9,0)","v":0},{"$f":"IF(G$32>0,Eing.Allg..Daten!$D$9,0)","v":0},0,null,{"$f":"IF(J$32>0,Eing.Allg..Daten!$D$9,0)","v":0},{"$f":"IF(K$32>0,Eing.Allg..Daten!$D$9,0)","v":0},{"$f":"IF(L$32>0,Eing.Allg..Daten!$D$9,0)","v":0},{"$f":"IF(M$32>0,Eing.Allg..Daten!$D$9,0)","v":0},0,null,{"$f":"IF(P$32>0,Eing.Allg..Daten!$D$9,0)","v":0},{"$f":"IF(Q$32>0,Eing.Allg..Daten!$D$9,0)","v":0},{"$f":"IF(R$32>0,Eing.Allg..Daten!$D$9,0)","v":0},{"$f":"IF(S$32>0,Eing.Allg..Daten!$D$9,0)","v":0},0,null,{"$f":"IF(V$32>0,Eing.Allg..Daten!$D$9,0)","v":0},{"$f":"IF(W$32>0,Eing.Allg..Daten!$D$9,0)","v":0},{"$f":"IF(X$32>0,Eing.Allg..Daten!$D$9,0)","v":0},{"$f":"IF(Y$32>0,Eing.Allg..Daten!$D$9,0)","v":0},0,null,{"$f":"IF(AB$32>0,Eing.Allg..Daten!$D$9,0)","v":0},{"$f":"IF(AC$32>0,Eing.Allg..Daten!$D$9,0)","v":0},{"$f":"IF(AD$32>0,Eing.Allg..Daten!$D$9,0)","v":0},{"$f":"IF(AE$32>0,Eing.Allg..Daten!$D$9,0)","v":0},0]
[14,{"$f":"IF(+Eing.Allg..Daten!$D$8<>\"\",+VLOOKUP(A45,Bahnen!$A$52:$B$144,2,0),\"\")","v":"Schrägerkreis mit Niere"},null,{"$f":"IF(D$32>0,Eing.Allg..Daten!$D$9,0)","v":0},{"$f":"IF(E$32>0,Eing.Allg..Daten!$D$9,0)","v":0},{"$f":"IF(F$32>0,Eing.Allg..Daten!$D$9,0)","v":0},{"$f":"IF(G$32>0,Eing.Allg..Daten!$D$9,0)","v":0},0,null,{"$f":"IF(J$32>0,Eing.Allg..Daten!$D$9,0)","v":0},{"$f":"IF(K$32>0,Eing.Allg..Daten!$D$9,0)","v":0},{"$f":"IF(L$32>0,Eing.Allg..Daten!$D$9,0)","v":0},{"$f":"IF(M$32>0,Eing.Allg..Daten!$D$9,0)","v":0},0,null,{"$f":"IF(P$32>0,Eing.Allg..Daten!$D$9,0)","v":0},{"$f":"IF(Q$32>0,Eing.Allg..Daten!$D$9,0)","v":0},{"$f":"IF(R$32>0,Eing.Allg..Daten!$D$9,0)","v":0},{"$f":"IF(S$32>0,Eing.Allg..Daten!$D$9,0)","v":0},0,null,{"$f":"IF(V$32>0,Eing.Allg..Daten!$D$9,0)","v":0},{"$f":"IF(W$32>0,Eing.Allg..Daten!$D$9,0)","v":0},{"$f":"IF(X$32>0,Eing.Allg..Daten!$D$9,0)","v":0},{"$f":"IF(Y$32>0,Eing.Allg..Daten!$D$9,0)","v":0},0,null,{"$f":"IF(AB$32>0,Eing.Allg..Daten!$D$9,0)","v":0},{"$f":"IF(AC$32>0,Eing.Allg..Daten!$D$9,0)","v":0},{"$f":"IF(AD$32>0,Eing.Allg..Daten!$D$9,0)","v":0},{"$f":"IF(AE$32>0,Eing.Allg..Daten!$D$9,0)","v":0},0]
[15,{"$f":"IF(+Eing.Allg..Daten!$D$8<>\"\",+VLOOKUP(A46,Bahnen!$A$52:$B$144,2,0),\"\")","v":"Brücke"},null,{"$f":"IF(D$32>0,Eing.Allg..Daten!$D$9,0)","v":0},{"$f":"IF(E$32>0,Eing.Allg..Daten!$D$9,0)","v":0},{"$f":"IF(F$32>0,Eing.Allg..Daten!$D$9,0)","v":0},{"$f":"IF(G$32>0,Eing.Allg..Daten!$D$9,0)","v":0},0,null,{"$f":"IF(J$32>0,Eing.Allg..Daten!$D$9,0)","v":0},{"$f":"IF(K$32>0,Eing.Allg..Daten!$D$9,0)","v":0},{"$f":"IF(L$32>0,Eing.Allg..Daten!$D$9,0)","v":0},{"$f":"IF(M$32>0,Eing.Allg..Daten!$D$9,0)","v":0},0,null,{"$f":"IF(P$32>0,Eing.Allg..Daten!$D$9,0)","v":0},{"$f":"IF(Q$32>0,Eing.Allg..Daten!$D$9,0)","v":0},{"$f":"IF(R$32>0,Eing.Allg..Daten!$D$9,0)","v":0},{"$f":"IF(S$32>0,Eing.Allg..Daten!$D$9,0)","v":0},0,null,{"$f":"IF(V$32>0,Eing.Allg..Daten!$D$9,0)","v":0},{"$f":"IF(W$32>0,Eing.Allg..Daten!$D$9,0)","v":0},{"$f":"IF(X$32>0,Eing.Allg..Daten!$D$9,0)","v":0},{"$f":"IF(Y$32>0,Eing.Allg..Daten!$D$9,0)","v":0},0,null,{"$f":"IF(AB$32>0,Eing.Allg..Daten!$D$9,0)","v":0},{"$f":"IF(AC$32>0,Eing.Allg..Daten!$D$9,0)","v":0},{"$f":"IF(AD$32>0,Eing.Allg..Daten!$D$9,0)","v":0},{"$f":"IF(AE$32>0,Eing.Allg..Daten!$D$9,0)","v":0},0]
[16,{"$f":"IF(+Eing.Allg..Daten!$D$8<>\"\",+VLOOKUP(A47,Bahnen!$A$52:$B$144,2,0),\"\")","v":"Vulkan"},null,{"$f":"IF(D$32>0,Eing.Allg..Daten!$D$9,0)","v":0},{"$f":"IF(E$32>0,Eing.Allg..Daten!$D$9,0)","v":0},{"$f":"IF(F$32>0,Eing.Allg..Daten!$D$9,0)","v":0},{"$f":"IF(G$32>0,Eing.Allg..Daten!$D$9,0)","v":0},0,null,{"$f":"IF(J$32>0,Eing.Allg..Daten!$D$9,0)","v":0},{"$f":"IF(K$32>0,Eing.Allg..Daten!$D$9,0)","v":0},{"$f":"IF(L$32>0,Eing.Allg..Daten!$D$9,0)","v":0},{"$f":"IF(M$32>0,Eing.Allg..Daten!$D$9,0)","v":0},0,null,{"$f":"IF(P$32>0,Eing.Allg..Daten!$D$9,0)","v":0},{"$f":"IF(Q$32>0,Eing.Allg..Daten!$D$9,0)","v":0},{"$f":"IF(R$32>0,Eing.Allg..Daten!$D$9,0)","v":0},{"$f":"IF(S$32>0,Eing.Allg..Daten!$D$9,0)","v":0},0,null,{"$f":"IF(V$32>0,Eing.Allg..Daten!$D$9,0)","v":0},{"$f":"IF(W$32>0,Eing.Allg..Daten!$D$9,0)","v":0},{"$f":"IF(X$32>0,Eing.Allg..Daten!$D$9,0)","v":0},{"$f":"IF(Y$32>0,Eing.Allg..Daten!$D$9,0)","v":0},0,null,{"$f":"IF(AB$32>0,Eing.Allg..Daten!$D$9,0)","v":0},{"$f":"IF(AC$32>0,Eing.Allg..Daten!$D$9,0)","v":0},{"$f":"IF(AD$32>0,Eing.Allg..Daten!$D$9,0)","v":0},{"$f":"IF(AE$32>0,Eing.Allg..Daten!$D$9,0)","v":0},0]
[17,{"$f":"IF(+Eing.Allg..Daten!$D$8<>\"\",+VLOOKUP(A48,Bahnen!$A$52:$B$144,2,0),\"\")","v":"Auflaufkeil mit Zielfenster"},null,{"$f":"IF(D$32>0,Eing.Allg..Daten!$D$9,0)","v":0},{"$f":"IF(E$32>0,Eing.Allg..Daten!$D$9,0)","v":0},{"$f":"IF(F$32>0,Eing.Allg..Daten!$D$9,0)","v":0},{"$f":"IF(G$32>0,Eing.Allg..Daten!$D$9,0)","v":0},0,null,{"$f":"IF(J$32>0,Eing.Allg..Daten!$D$9,0)","v":0},{"$f":"IF(K$32>0,Eing.Allg..Daten!$D$9,0)","v":0},{"$f":"IF(L$32>0,Eing.Allg..Daten!$D$9,0)","v":0},{"$f":"IF(M$32>0,Eing.Allg..Daten!$D$9,0)","v":0},0,null,{"$f":"IF(P$32>0,Eing.Allg..Daten!$D$9,0)","v":0},{"$f":"IF(Q$32>0,Eing.Allg..Daten!$D$9,0)","v":0},{"$f":"IF(R$32>0,Eing.Allg..Daten!$D$9,0)","v":0},{"$f":"IF(S$32>0,Eing.Allg..Daten!$D$9,0)","v":0},0,null,{"$f":"IF(V$32>0,Eing.Allg..Daten!$D$9,0)","v":0},{"$f":"IF(W$32>0,Eing.Allg..Daten!$D$9,0)","v":0},{"$f":"IF(X$32>0,Eing.Allg..Daten!$D$9,0)","v":0},{"$f":"IF(Y$32>0,Eing.Allg..Daten!$D$9,0)","v":0},0,null,{"$f":"IF(AB$32>0,Eing.Allg..Daten!$D$9,0)","v":0},{"$f":"IF(AC$32>0,Eing.Allg..Daten!$D$9,0)","v":0},{"$f":"IF(AD$32>0,Eing.Allg..Daten!$D$9,0)","v":0},{"$f":"IF(AE$32>0,Eing.Allg..Daten!$D$9,0)","v":0},0]
[18,{"$f":"IF(+Eing.Allg..Daten!$D$8<>\"\",+VLOOKUP(A49,Bahnen!$A$52:$B$144,2,0),\"\")","v":"Blitz"},null,{"$f":"IF(D$32>0,Eing.Allg..Daten!$D$9,0)","v":0},{"$f":"IF(E$32>0,Eing.Allg..Daten!$D$9,0)","v":0},{"$f":"IF(F$32>0,Eing.Allg..Daten!$D$9,0)","v":0},{"$f":"IF(G$32>0,Eing.Allg..Daten!$D$9,0)","v":0},0,null,{"$f":"IF(J$32>0,Eing.Allg..Daten!$D$9,0)","v":0},{"$f":"IF(K$32>0,Eing.Allg..Daten!$D$9,0)","v":0},{"$f":"IF(L$32>0,Eing.Allg..Daten!$D$9,0)","v":0},{"$f":"IF(M$32>0,Eing.Allg..Daten!$D$9,0)","v":0},0,null,{"$f":"IF(P$32>0,Eing.Allg..Daten!$D$9,0)","v":0},{"$f":"IF(Q$32>0,Eing.Allg..Daten!$D$9,0)","v":0},{"$f":"IF(R$32>0,Eing.Allg..Daten!$D$9,0)","v":0},{"$f":"IF(S$32>0,Eing.Allg..Daten!$D$9,0)","v":0},0,null,{"$f":"IF(V$32>0,Eing.Allg..Daten!$D$9,0)","v":0},{"$f":"IF(W$32>0,Eing.Allg..Daten!$D$9,0)","v":0},{"$f":"IF(X$32>0,Eing.Allg..Daten!$D$9,0)","v":0},{"$f":"IF(Y$32>0,Eing.Allg..Daten!$D$9,0)","v":0},0,null,{"$f":"IF(AB$32>0,Eing.Allg..Daten!$D$9,0)","v":0},{"$f":"IF(AC$32>0,Eing.Allg..Daten!$D$9,0)","v":0},{"$f":"IF(AD$32>0,Eing.Allg..Daten!$D$9,0)","v":0},{"$f":"IF(AE$32>0,Eing.Allg..Daten!$D$9,0)","v":0},0]
[null,"Strafpunkte",null,null,null,null,null,0,null,null,null,null,null,0,null,null,null,null,null,0,null,null,null,null,null,0,null,null,null,null,null,0]
[null,null,null,{"$f":"IF(D49<>0,SUM(D32:D50),999)","v":999},{"$f":"IF(E49<>0,SUM(E32:E50),999)","v":999},{"$f":"IF(F49<>0,SUM(F32:F50),999)","v":999},{"$f":"IF(G49<>0,SUM(G32:G50),999)","v":999},{"$f":"SUM(H32:H50)","v":0},null,{"$f":"IF(J49<>0,SUM(J32:J50),999)","v":999},{"$f":"IF(K49<>0,SUM(K32:K50),999)","v":999},{"$f":"IF(L49<>0,SUM(L32:L50),999)","v":999},{"$f":"IF(M49<>0,SUM(M32:M50),999)","v":999},{"$f":"SUM(N32:N50)","v":0},null,{"$f":"IF(P49<>0,SUM(P32:P50),999)","v":999},{"$f":"IF(Q49<>0,SUM(Q32:Q50),999)","v":999},{"$f":"IF(R49<>0,SUM(R32:R50),999)","v":999},{"$f":"IF(S49<>0,SUM(S32:S50),999)","v":999},{"$f":"SUM(T32:T50)","v":0},null,{"$f":"IF(V49<>0,SUM(V32:V50),999)","v":999},{"$f":"IF(W49<>0,SUM(W32:W50),999)","v":999},{"$f":"IF(X49<>0,SUM(X32:X50),999)","v":999},{"$f":"IF(Y49<>0,SUM(Y32:Y50),999)","v":999},{"$f":"SUM(Z32:Z50)","v":0},null,{"$f":"IF(AB49<>0,SUM(AB32:AB50),999)","v":999},{"$f":"IF(AC49<>0,SUM(AC32:AC50),999)","v":999},{"$f":"IF(AD49<>0,SUM(AD32:AD50),999)","v":999},{"$f":"IF(AE49<>0,SUM(AE32:AE50),999)","v":999},{"$f":"SUM(AF32:AF50)","v":0}]
[null,null,null,{"$f":"SUM(D51:G51)","v":3996},null,null,null,null,null,{"$f":"SUM(J51:M51)","v":3996},null,null,null,null,null,{"$f":"SUM(P51:S51)","v":3996},null,null,null,null,null,{"$f":"SUM(V51:Y51)","v":3996},null,null,null,null,null,{"$f":"SUM(AB51:AE51)","v":3996}]
[null,null,null,{"$f":"IF(D32=0,\"DNS\",IF(D49=0,\"DNF\",1))","v":"DNS"},{"$f":"IF(E32=0,\"DNS\",IF(E49=0,\"DNF\",1))","v":"DNS"},{"$f":"IF(F32=0,\"DNS\",IF(F49=0,\"DNF\",1))","v":"DNS"},{"$f":"IF(G32=0,\"DNS\",IF(G49=0,\"DNF\",1))","v":"DNS"},{"$f":"IF(SUM(D53:G53)=Tagestabelle!$N$3,\"FIN\",\"DNF\")","v":"FIN"},null,{"$f":"IF(J32=0,\"DNS\",IF(J49=0,\"DNF\",1))","v":"DNS"},{"$f":"IF(K32=0,\"DNS\",IF(K49=0,\"DNF\",1))","v":"DNS"},{"$f":"IF(L32=0,\"DNS\",IF(L49=0,\"DNF\",1))","v":"DNS"},{"$f":"IF(M32=0,\"DNS\",IF(M49=0,\"DNF\",1))","v":"DNS"},{"$f":"IF(SUM(J53:M53)=Tagestabelle!$N$3,\"FIN\",\"DNF\")","v":"FIN"},null,{"$f":"IF(P32=0,\"DNS\",IF(P49=0,\"DNF\",1))","v":"DNS"},{"$f":"IF(Q32=0,\"DNS\",IF(Q49=0,\"DNF\",1))","v":"DNS"},{"$f":"IF(R32=0,\"DNS\",IF(R49=0,\"DNF\",1))","v":"DNS"},{"$f":"IF(S32=0,\"DNS\",IF(S49=0,\"DNF\",1))","v":"DNS"},{"$f":"IF(SUM(P53:S53)=Tagestabelle!$N$3,\"FIN\",\"DNF\")","v":"FIN"},null,{"$f":"IF(V32=0,\"DNS\",IF(V49=0,\"DNF\",1))","v":"DNS"},{"$f":"IF(W32=0,\"DNS\",IF(W49=0,\"DNF\",1))","v":"DNS"},{"$f":"IF(X32=0,\"DNS\",IF(X49=0,\"DNF\",1))","v":"DNS"},{"$f":"IF(Y32=0,\"DNS\",IF(Y49=0,\"DNF\",1))","v":"DNS"},{"$f":"IF(SUM(V53:Y53)=Tagestabelle!$N$3,\"FIN\",\"DNF\")","v":"FIN"},null,{"$f":"IF(AB32=0,\"DNS\",IF(AB49=0,\"DNF\",1))","v":"DNS"},{"$f":"IF(AC32=0,\"DNS\",IF(AC49=0,\"DNF\",1))","v":"DNS"},{"$f":"IF(AD32=0,\"DNS\",IF(AD49=0,\"DNF\",1))","v":"DNS"},{"$f":"IF(AE32=0,\"DNS\",IF(AE49=0,\"DNF\",1))","v":"DNS"},{"$f":"IF(SUM(AB53:AE53)=Tagestabelle!$N$3,\"FIN\",\"DNF\")","v":"FIN"}]
[null,"M1",null,"R1","R2","R3","R4"]
[null,"KKLEINSTE8",null,{"$f":"SMALL(D60:D67,8)","v":999.00008000000003},{"$f":"SMALL(E60:E67,8)","v":999.00008000000003},{"$f":"SMALL(F60:F67,8)","v":999.00008000000003},{"$f":"SMALL(G60:G67,8)","v":999.00008000000003}]
[null,"KKLEINSTE7",null,{"$f":"SMALL(D60:D67,7)","v":999.00007000000005},{"$f":"SMALL(E60:E67,7)","v":999.00007000000005},{"$f":"SMALL(F60:F67,7)","v":999.00007000000005},{"$f":"SMALL(G60:G67,7)","v":999.00007000000005}]
[null,"KKLEINSTE6",null,{"$f":"SMALL(D60:D67,6)","v":999.00005999999996},{"$f":"SMALL(E60:E67,6)","v":999.00005999999996},{"$f":"SMALL(F60:F67,6)","v":999.00005999999996},{"$f":"SMALL(G60:G67,6)","v":999.00005999999996}]
[null,"KKLEINSTE5",null,{"$f":"SMALL(D60:D67,5)","v":999.00004999999999},{"$f":"SMALL(E60:E67,5)","v":999.00004999999999},{"$f":"SMALL(F60:F67,5)","v":999.00004999999999},{"$f":"SMALL(G60:G67,5)","v":999.00004999999999}]
[]
[8.0000000000000007E-5,"S1",null,{"$f":"D25+A60","v":999.00008000000003},{"$f":"E25+A60","v":999.00008000000003},{"$f":"F25+A60","v":999.00008000000003},{"$f":"G25+A60","v":999.00008000000003},"S1"]
[6.9999999999999994E-5,"S2",null,{"$f":"J25+A61","v":999.00007000000005},{"$f":"K25+A61","v":999.00007000000005},{"$f":"L25+A61","v":999.00007000000005},{"$f":"M25+A61","v":999.00007000000005},"S2"]
[6.0000000000000002E-5,"S3",null,{"$f":"P25+A62","v":999.00005999999996},{"$f":"Q25+A62","v":999.00005999999996},{"$f":"R25+A62","v":999.00005999999996},{"$f":"S25+A62","v":999.00005999999996},"S3"]
[5.0000000000000002E-5,"S4",null,{"$f":"V25+A63","v":999.00004999999999},{"$f":"W25+A63","v":999.00004999999999},{"$f":"X25+A63","v":999.00004999999999},{"$f":"Y25+A63","v":999.00004999999999},"S4"]
[4.0000000000000003E-5,"S5",null,{"$f":"D51+A64","v":999.00004000000001},{"$f":"E51+A64","v":999.00004000000001},{"$f":"F51+A64","v":999.00004000000001},{"$f":"G51+A64","v":999.00004000000001},"S5"]
[3.0000000000000001E-5,"S6",null,{"$f":"J51+A65","v":999.00003000000004},{"$f":"K51+A65","v":999.00003000000004},{"$f":"L51+A65","v":999.00003000000004},{"$f":"M51+A65","v":999.00003000000004},"S6"]
[2.0000000000000002E-5,"S7",null,{"$f":"P51+A66","v":999.00001999999995},{"$f":"Q51+A66","v":999.00001999999995},{"$f":"R51+A66","v":999.00001999999995},{"$f":"S51+A66","v":999.00001999999995},"S7"]
[1.0000000000000001E-5,"S8",null,{"$f":"V51+A67","v":999.00000999999997},{"$f":"W51+A67","v":999.00000999999997},{"$f":"X51+A67","v":999.00000999999997},{"$f":"Y51+A67","v":999.00000999999997},"S8"]

{"sheet":"Ma2","index":10,"n_rows":67,"n_cols":58,"rows_kept":67,"cut":false,"hidden":false,"merged":[[23,27,23,28],[24,27,25,28],[18,27,18,28],[19,27,19,28],[20,27,20,28],[21,27,21,28],[22,27,22,28],[13,27,13,28],[14,27,14,28],[15,27,15,28],[16,27,16,28],[17,27,17,28],[8,27,8,28],[9,27,9,28],[10,27,10,28],[11,27,11,28],[12,27,12,28],[3,27,3,28],[4,27,4,28],[5,27,5,28],[6,27,6,28],[7,27,7,28],[50,0,50,1],[25,9,25,13],[25,15,25,19],[25,21,25,25],[28,0,28,1],[30,21,30,22],[25,3,25,7],[30,15,30,16],[30,27,30,28],[51,27,51,31],[2,0,2,1],[3,0,3,1],[4,9,4,10],[4,15,4,16],[30,9,30,10],[4,21,4,22],[30,3,30,4],[51,15,51,19],[51,21,51,25],[29,0,29,1],[24,0,24,1],[4,3,4,4],[51,9,51,13],[51,3,51,7],[2,27,2,28],[0,42,0,44],[1,42,1,57],[2,42,2,45],[2,46,2,49],[2,50,2,53],[2,54,2,57]]}
["Mannschaft:",null,null,{"$f":"+Ma2_Eing","v":"SG Arheilgen 3"},null,null,null,null,null,null,null,{"$f":"+Seite1!B3","v":"Gruppenliga"},null,null,null,null,null,null,null,{"$f":"+Seite1!C5","v":3},null,{"$f":"+Seite1!D5","v":". Spieltag         "},null,null,null,null,null,null,null,null,null,null,null,null,null,null,null,null,null,null,null,null,"Spieler in der Wertung:",null,null,{"$f":"AnzSpieler","v":5},"+ 1 (+1)"]
[null,null,null,"M2S1R1","M2S1R2","M2S1R3","M2S1R4",null,null,"M2S2R1","M2S2R2","M2S2R3","M2S2R4",null,null,"M2S3R1","M2S3R2","M2S3R3","M2S3R4",null,null,"M2S4R1","M2S4R2","M2S4R3","M2S4R4",null,null,null,null,null,null,null,null,null,null,null,null,null,null,null,null,null,"Streichrunden"]
[null,null,null,"Spieler 1",null,null,null,"Kat.",null,"Spieler 2",null,null,null,"Kat.",null,"Spieler 3",null,null,null,"Kat.",null,"Spieler 4",null,null,null,"Kat.",null,"Mannsch. ",null,null,null,null,null,null,null,null,null,null,null,null,null,null,"R1",null,null,null,"R2",null,null,null,"R3",null,null,null,"R3"]
["Bahn  ",null,null,{"$f":"+M2S1","v":{"$error":"#N/A"}},null,null,null,{"$f":"+M2S1Kat","v":{"$error":"#N/A"}},null,{"$f":"+M2S2","v":{"$error":"#N/A"}},null,null,null,{"$f":"+M2S2Kat","v":{"$error":"#N/A"}},null,{"$f":"+M2S3","v":{"$error":"#N/A"}},null,null,null,{"$f":"+M2S3Kat","v":{"$error":"#N/A"}},null,{"$f":"+M2S4","v":{"$error":"#N/A"}},null,null,null,{"$f":"+M2S4Kat","v":{"$error":"#N/A"}},null,"gesamt",null,null,null,null,null,null,null,null,null,null,null,null,null,null,"Kl_8","Kl_7","Kl_6","Kl_5","Kl_8","Kl_7","Kl_6","Kl_5","Kl_8","Kl_7","Kl_6","Kl_5","Kl_8","Kl_7","Kl_6","Kl_5"]
["Nr.","Bez. ",null,{"$f":"+M2S1p","v":0},null,null,null,null,null,{"$f":"+M2S2p","v":0},null,null,null,null,null,{"$f":"+M2S3p","v":0},null,null,null,null,null,{"$f":"+M2S4p","v":0},null,null,null,null,null,null,null,null,null,null,null,null,null,null,null,null,null,null,null,null,{"$f":"CONCATENATE($B$54,VLOOKUP(D$55,$D$60:$H$67,5,FALSE),$D$54)","v":"M2S1R1"},{"$f":"CONCATENATE($B$54,VLOOKUP(D$56,$D$60:$H$67,5,FALSE),$D$54)","v":"M2S2R1"},{"$f":"CONCATENATE($B$54,VLOOKUP(D$57,$D$60:$H$67,5,FALSE),$D$54)","v":"M2S3R1"},{"$f":"CONCATENATE($B$54,VLOOKUP(D$58,$D$60:$H$67,5,FALSE),$D$54)","v":"M2S4R1"},{"$f":"CONCATENATE($B$54,VLOOKUP(E$55,$E$60:$H$67,4,FALSE),$E$54)","v":"M2S1R2"},{"$f":"CONCATENATE($B$54,VLOOKUP(E$56,$E$60:$H$67,4,FALSE),$E$54)","v":"M2S2R2"},{"$f":"CONCATENATE($B$54,VLOOKUP(E$57,$E$60:$H$67,4,FALSE),$E$54)","v":"M2S3R2"},{"$f":"CONCATENATE($B$54,VLOOKUP(E$58,$E$60:$H$67,4,FALSE),$E$54)","v":"M2S4R2"},{"$f":"CONCATENATE($B$54,VLOOKUP(F$55,$F$60:$H$67,3,FALSE),$F$54)","v":"M2S1R3"},{"$f":"CONCATENATE($B$54,VLOOKUP(F$56,$F$60:$H$67,3,FALSE),$F$54)","v":"M2S2R3"},{"$f":"CONCATENATE($B$54,VLOOKUP(F$57,$F$60:$H$67,3,FALSE),$F$54)","v":"M2S3R3"},{"$f":"CONCATENATE($B$54,VLOOKUP(F$58,$F$60:$H$67,3,FALSE),$F$54)","v":"M2S4R3"},{"$f":"CONCATENATE($B$54,VLOOKUP(G$55,$G$60:$H$67,2,FALSE),$G$54)","v":"M2S1R4"},{"$f":"CONCATENATE($B$54,VLOOKUP(G$56,$G$60:$H$67,2,FALSE),$G$54)","v":"M2S2R4"},{"$f":"CONCATENATE($B$54,VLOOKUP(G$57,$G$60:$H$67,2,FALSE),$G$54)","v":"M2S3R4"},{"$f":"CONCATENATE($B$54,VLOOKUP(G$58,$G$60:$H$67,2,FALSE),$G$54)","v":"M2S4R4"}]
[1,{"$f":"IF(+Eing.Allg..Daten!$D$8<>\"\",+VLOOKUP(A6,Bahnen!$A$52:$B$144,2,0),\"\")","v":"Gerade Bahn ohne Hindernis"},null,null,null,null,null,{"$f":"SUM(D6:G6)","v":0},null,null,null,null,null,{"$f":"SUM(J6:M6)","v":0},null,null,null,null,null,{"$f":"SUM(P6:S6)","v":0},null,null,null,null,null,{"$f":"SUM(V6:Y6)","v":0},null,{"$f":"+H6+N6+T6+Z6+H32+N32++T32+Z32-AP6","v":0},null,null,null,null,null,null,null,null,null,null,null,null,null,{"$f":"IF($AT$1=6,SUM(AQ6:AR6,AU6:AV6,AY6:AZ6,BC6:BD6),IF($AT$1=5,SUM(AQ6:AS6,AU6:AW6,AY6:BA6,BC6:BE6),IF($AT$1=4,SUM(AQ6:AT6,AU6:AX6,AY6:BB6,BC6:BF6))))","v":0},{"$f":"(IF(ISNA(HLOOKUP(AQ$5,$D$2:$Z$23,5,FALSE))=TRUE,0,HLOOKUP(AQ$5,$D$2:$Z$23,5,FALSE)))+(IF(ISNA(HLOOKUP(AQ$5,$D$28:$Z$49,5,FALSE))=TRUE,0,HLOOKUP(AQ$5,$D$28:$Z$49,5,FALSE)))","v":0},0,0,0,0,0,0,0,0,0,0,0,0,0,0,0]
[2,{"$f":"IF(+Eing.Allg..Daten!$D$8<>\"\",+VLOOKUP(A7,Bahnen!$A$52:$B$144,2,0),\"\")","v":"Salto"},null,{"$f":"IF(D$6>0,Eing.Allg..Daten!$D$9,0)","v":0},{"$f":"IF(E$6>0,Eing.Allg..Daten!$D$9,0)","v":0},{"$f":"IF(F$6>0,Eing.Allg..Daten!$D$9,0)","v":0},{"$f":"IF(G$6>0,Eing.Allg..Daten!$D$9,0)","v":0},0,null,{"$f":"IF(J$6>0,Eing.Allg..Daten!$D$9,0)","v":0},{"$f":"IF(K$6>0,Eing.Allg..Daten!$D$9,0)","v":0},{"$f":"IF(L$6>0,Eing.Allg..Daten!$D$9,0)","v":0},{"$f":"IF(M$6>0,Eing.Allg..Daten!$D$9,0)","v":0},0,null,{"$f":"IF(P$6>0,Eing.Allg..Daten!$D$9,0)","v":0},{"$f":"IF(Q$6>0,Eing.Allg..Daten!$D$9,0)","v":0},{"$f":"IF(R$6>0,Eing.Allg..Daten!$D$9,0)","v":0},{"$f":"IF(S$6>0,Eing.Allg..Daten!$D$9,0)","v":0},0,null,{"$f":"IF(V$6>0,Eing.Allg..Daten!$D$9,0)","v":0},{"$f":"IF(W$6>0,Eing.Allg..Daten!$D$9,0)","v":0},{"$f":"IF(X$6>0,Eing.Allg..Daten!$D$9,0)","v":0},{"$f":"IF(Y$6>0,Eing.Allg..Daten!$D$9,0)","v":0},0,null,0,null,null,null,null,null,null,null,null,null,null,null,null,null,{"$f":"IF($AT$1=6,SUM(AQ7:AR7,AU7:AV7,AY7:AZ7,BC7:BD7),IF($AT$1=5,SUM(AQ7:AS7,AU7:AW7,AY7:BA7,BC7:BE7),IF($AT$1=4,SUM(AQ7:AT7,AU7:AX7,AY7:BB7,BC7:BF7))))","v":0},{"$f":"(IF(ISNA(HLOOKUP(AQ$5,$D$2:$Z$23,6,FALSE))=TRUE,0,HLOOKUP(AQ$5,$D$2:$Z$23,6,FALSE)))+(IF(ISNA(HLOOKUP(AQ$5,$D$28:$Z$49,6,FALSE))=TRUE,0,HLOOKUP(AQ$5,$D$28:$Z$49,6,FALSE)))","v":0},0,0,0,0,0,0,0,0,0,0,0,0,0,0,0]
[3,{"$f":"IF(+Eing.Allg..Daten!$D$8<>\"\",+VLOOKUP(A8,Bahnen!$A$52:$B$144,2,0),\"\")","v":"Pyramiden"},null,{"$f":"IF(D$6>0,Eing.Allg..Daten!$D$9,0)","v":0},{"$f":"IF(E$6>0,Eing.Allg..Daten!$D$9,0)","v":0},{"$f":"IF(F$6>0,Eing.Allg..Daten!$D$9,0)","v":0},{"$f":"IF(G$6>0,Eing.Allg..Daten!$D$9,0)","v":0},0,null,{"$f":"IF(J$6>0,Eing.Allg..Daten!$D$9,0)","v":0},{"$f":"IF(K$6>0,Eing.Allg..Daten!$D$9,0)","v":0},{"$f":"IF(L$6>0,Eing.Allg..Daten!$D$9,0)","v":0},{"$f":"IF(M$6>0,Eing.Allg..Daten!$D$9,0)","v":0},0,null,{"$f":"IF(P$6>0,Eing.Allg..Daten!$D$9,0)","v":0},{"$f":"IF(Q$6>0,Eing.Allg..Daten!$D$9,0)","v":0},{"$f":"IF(R$6>0,Eing.Allg..Daten!$D$9,0)","v":0},{"$f":"IF(S$6>0,Eing.Allg..Daten!$D$9,0)","v":0},0,null,{"$f":"IF(V$6>0,Eing.Allg..Daten!$D$9,0)","v":0},{"$f":"IF(W$6>0,Eing.Allg..Daten!$D$9,0)","v":0},{"$f":"IF(X$6>0,Eing.Allg..Daten!$D$9,0)","v":0},{"$f":"IF(Y$6>0,Eing.Allg..Daten!$D$9,0)","v":0},0,null,0,null,null,null,null,null,null,null,null,null,null,null,null,null,0,{"$f":"(IF(ISNA(HLOOKUP(AQ$5,$D$2:$Z$23,7,FALSE))=TRUE,0,HLOOKUP(AQ$5,$D$2:$Z$23,7,FALSE)))+(IF(ISNA(HLOOKUP(AQ$5,$D$28:$Z$49,7,FALSE))=TRUE,0,HLOOKUP(AQ$5,$D$28:$Z$49,7,FALSE)))","v":0},0,0,0,0,0,0,0,0,0,0,0,0,0,0,0]
[4,{"$f":"IF(+Eing.Allg..Daten!$D$8<>\"\",+VLOOKUP(A9,Bahnen!$A$52:$B$144,2,0),\"\")","v":"Mittelhügel"},null,{"$f":"IF(D$6>0,Eing.Allg..Daten!$D$9,0)","v":0},{"$f":"IF(E$6>0,Eing.Allg..Daten!$D$9,0)","v":0},{"$f":"IF(F$6>0,Eing.Allg..Daten!$D$9,0)","v":0},{"$f":"IF(G$6>0,Eing.Allg..Daten!$D$9,0)","v":0},0,null,{"$f":"IF(J$6>0,Eing.Allg..Daten!$D$9,0)","v":0},{"$f":"IF(K$6>0,Eing.Allg..Daten!$D$9,0)","v":0},{"$f":"IF(L$6>0,Eing.Allg..Daten!$D$9,0)","v":0},{"$f":"IF(M$6>0,Eing.Allg..Daten!$D$9,0)","v":0},0,null,{"$f":"IF(P$6>0,Eing.Allg..Daten!$D$9,0)","v":0},{"$f":"IF(Q$6>0,Eing.Allg..Daten!$D$9,0)","v":0},{"$f":"IF(R$6>0,Eing.Allg..Daten!$D$9,0)","v":0},{"$f":"IF(S$6>0,Eing.Allg..Daten!$D$9,0)","v":0},0,null,{"$f":"IF(V$6>0,Eing.Allg..Daten!$D$9,0)","v":0},{"$f":"IF(W$6>0,Eing.Allg..Daten!$D$9,0)","v":0},{"$f":"IF(X$6>0,Eing.Allg..Daten!$D$9,0)","v":0},{"$f":"IF(Y$6>0,Eing.Allg..Daten!$D$9,0)","v":0},0,null,0,null,null,null,null,null,null,null,null,null,null,null,null,null,0,{"$f":"(IF(ISNA(HLOOKUP(AQ$5,$D$2:$Z$23,8,FALSE))=TRUE,0,HLOOKUP(AQ$5,$D$2:$Z$23,8,FALSE)))+(IF(ISNA(HLOOKUP(AQ$5,$D$28:$Z$49,8,FALSE))=TRUE,0,HLOOKUP(AQ$5,$D$28:$Z$49,8,FALSE)))","v":0},0,0,0,0,0,0,0,0,0,0,0,0,0,0,0]
[5,{"$f":"IF(+Eing.Allg..Daten!$D$8<>\"\",+VLOOKUP(A10,Bahnen!$A$52:$B$144,2,0),\"\")","v":"\"V\" - Hindernis"},null,{"$f":"IF(D$6>0,Eing.Allg..Daten!$D$9,0)","v":0},{"$f":"IF(E$6>0,Eing.Allg..Daten!$D$9,0)","v":0},{"$f":"IF(F$6>0,Eing.Allg..Daten!$D$9,0)","v":0},{"$f":"IF(G$6>0,Eing.Allg..Daten!$D$9,0)","v":0},0,null,{"$f":"IF(J$6>0,Eing.Allg..Daten!$D$9,0)","v":0},{"$f":"IF(K$6>0,Eing.Allg..Daten!$D$9,0)","v":0},{"$f":"IF(L$6>0,Eing.Allg..Daten!$D$9,0)","v":0},{"$f":"IF(M$6>0,Eing.Allg..Daten!$D$9,0)","v":0},0,null,{"$f":"IF(P$6>0,Eing.Allg..Daten!$D$9,0)","v":0},{"$f":"IF(Q$6>0,Eing.Allg..Daten!$D$9,0)","v":0},{"$f":"IF(R$6>0,Eing.Allg..Daten!$D$9,0)","v":0},{"$f":"IF(S$6>0,Eing.Allg..Daten!$D$9,0)","v":0},0,null,{"$f":"IF(V$6>0,Eing.Allg..Daten!$D$9,0)","v":0},{"$f":"IF(W$6>0,Eing.Allg..Daten!$D$9,0)","v":0},{"$f":"IF(X$6>0,Eing.Allg..Daten!$D$9,0)","v":0},{"$f":"IF(Y$6>0,Eing.Allg..Daten!$D$9,0)","v":0},0,null,0,null,null,null,null,null,null,null,null,null,null,null,null,null,0,{"$f":"(IF(ISNA(HLOOKUP(AQ$5,$D$2:$Z$23,9,FALSE))=TRUE,0,HLOOKUP(AQ$5,$D$2:$Z$23,9,FALSE)))+(IF(ISNA(HLOOKUP(AQ$5,$D$28:$Z$49,9,FALSE))=TRUE,0,HLOOKUP(AQ$5,$D$28:$Z$49,9,FALSE)))","v":0},0,0,0,0,0,0,0,0,0,0,0,0,0,0,0]
[6,{"$f":"IF(+Eing.Allg..Daten!$D$8<>\"\",+VLOOKUP(A11,Bahnen!$A$52:$B$144,2,0),\"\")","v":"Doppelwellen"},null,{"$f":"IF(D$6>0,Eing.Allg..Daten!$D$9,0)","v":0},{"$f":"IF(E$6>0,Eing.Allg..Daten!$D$9,0)","v":0},{"$f":"IF(F$6>0,Eing.Allg..Daten!$D$9,0)","v":0},{"$f":"IF(G$6>0,Eing.Allg..Daten!$D$9,0)","v":0},0,null,{"$f":"IF(J$6>0,Eing.Allg..Daten!$D$9,0)","v":0},{"$f":"IF(K$6>0,Eing.Allg..Daten!$D$9,0)","v":0},{"$f":"IF(L$6>0,Eing.Allg..Daten!$D$9,0)","v":0},{"$f":"IF(M$6>0,Eing.Allg..Daten!$D$9,0)","v":0},0,null,{"$f":"IF(P$6>0,Eing.Allg..Daten!$D$9,0)","v":0},{"$f":"IF(Q$6>0,Eing.Allg..Daten!$D$9,0)","v":0},{"$f":"IF(R$6>0,Eing.Allg..Daten!$D$9,0)","v":0},{"$f":"IF(S$6>0,Eing.Allg..Daten!$D$9,0)","v":0},0,null,{"$f":"IF(V$6>0,Eing.Allg..Daten!$D$9,0)","v":0},{"$f":"IF(W$6>0,Eing.Allg..Daten!$D$9,0)","v":0},{"$f":"IF(X$6>0,Eing.Allg..Daten!$D$9,0)","v":0},{"$f":"IF(Y$6>0,Eing.Allg..Daten!$D$9,0)","v":0},0,null,0,null,null,null,null,null,null,null,null,null,null,null,null,null,0,{"$f":"(IF(ISNA(HLOOKUP(AQ$5,$D$2:$Z$23,10,FALSE))=TRUE,0,HLOOKUP(AQ$5,$D$2:$Z$23,10,FALSE)))+(IF(ISNA(HLOOKUP(AQ$5,$D$28:$Z$49,10,FALSE))=TRUE,0,HLOOKUP(AQ$5,$D$28:$Z$49,10,FALSE)))","v":0},0,0,0,0,0,0,0,0,0,0,0,0,0,0,0]
[7,{"$f":"IF(+Eing.Allg..Daten!$D$8<>\"\",+VLOOKUP(A12,Bahnen!$A$52:$B$144,2,0),\"\")","v":"Rohr"},null,{"$f":"IF(D$6>0,Eing.Allg..Daten!$D$9,0)","v":0},{"$f":"IF(E$6>0,Eing.Allg..Daten!$D$9,0)","v":0},{"$f":"IF(F$6>0,Eing.Allg..Daten!$D$9,0)","v":0},{"$f":"IF(G$6>0,Eing.Allg..Daten!$D$9,0)","v":0},0,null,{"$f":"IF(J$6>0,Eing.Allg..Daten!$D$9,0)","v":0},{"$f":"IF(K$6>0,Eing.Allg..Daten!$D$9,0)","v":0},{"$f":"IF(L$6>0,Eing.Allg..Daten!$D$9,0)","v":0},{"$f":"IF(M$6>0,Eing.Allg..Daten!$D$9,0)","v":0},0,null,{"$f":"IF(P$6>0,Eing.Allg..Daten!$D$9,0)","v":0},{"$f":"IF(Q$6>0,Eing.Allg..Daten!$D$9,0)","v":0},{"$f":"IF(R$6>0,Eing.Allg..Daten!$D$9,0)","v":0},{"$f":"IF(S$6>0,Eing.Allg..Daten!$D$9,0)","v":0},0,null,{"$f":"IF(V$6>0,Eing.Allg..Daten!$D$9,0)","v":0},{"$f":"IF(W$6>0,Eing.Allg..Daten!$D$9,0)","v":0},{"$f":"IF(X$6>0,Eing.Allg..Daten!$D$9,0)","v":0},{"$f":"IF(Y$6>0,Eing.Allg..Daten!$D$9,0)","v":0},0,null,0,null,null,null,null,null,null,null,null,null,null,null,null,null,0,{"$f":"(IF(ISNA(HLOOKUP(AQ$5,$D$2:$Z$23,11,FALSE))=TRUE,0,HLOOKUP(AQ$5,$D$2:$Z$23,11,FALSE)))+(IF(ISNA(HLOOKUP(AQ$5,$D$28:$Z$49,11,FALSE))=TRUE,0,HLOOKUP(AQ$5,$D$28:$Z$49,11,FALSE)))","v":0},0,0,0,0,0,0,0,0,0,0,0,0,0,0,0]
[8,{"$f":"IF(+Eing.Allg..Daten!$D$8<>\"\",+VLOOKUP(A13,Bahnen!$A$52:$B$144,2,0),\"\")","v":"Passagen"},null,{"$f":"IF(D$6>0,Eing.Allg..Daten!$D$9,0)","v":0},{"$f":"IF(E$6>0,Eing.Allg..Daten!$D$9,0)","v":0},{"$f":"IF(F$6>0,Eing.Allg..Daten!$D$9,0)","v":0},{"$f":"IF(G$6>0,Eing.Allg..Daten!$D$9,0)","v":0},0,null,{"$f":"IF(J$6>0,Eing.Allg..Daten!$D$9,0)","v":0},{"$f":"IF(K$6>0,Eing.Allg..Daten!$D$9,0)","v":0},{"$f":"IF(L$6>0,Eing.Allg..Daten!$D$9,0)","v":0},{"$f":"IF(M$6>0,Eing.Allg..Daten!$D$9,0)","v":0},0,null,{"$f":"IF(P$6>0,Eing.Allg..Daten!$D$9,0)","v":0},{"$f":"IF(Q$6>0,Eing.Allg..Daten!$D$9,0)","v":0},{"$f":"IF(R$6>0,Eing.Allg..Daten!$D$9,0)","v":0},{"$f":"IF(S$6>0,Eing.Allg..Daten!$D$9,0)","v":0},0,null,{"$f":"IF(V$6>0,Eing.Allg..Daten!$D$9,0)","v":0},{"$f":"IF(W$6>0,Eing.Allg..Daten!$D$9,0)","v":0},{"$f":"IF(X$6>0,Eing.Allg..Daten!$D$9,0)","v":0},{"$f":"IF(Y$6>0,Eing.Allg..Daten!$D$9,0)","v":0},0,null,0,null,null,null,null,null,null,null,{"$f":"+'Ma1'!$D$1","v":"MGC Bad Homburg 1"},null,null,null,null,null,0,{"$f":"(IF(ISNA(HLOOKUP(AQ$5,$D$2:$Z$23,12,FALSE))=TRUE,0,HLOOKUP(AQ$5,$D$2:$Z$23,12,FALSE)))+(IF(ISNA(HLOOKUP(AQ$5,$D$28:$Z$49,12,FALSE))=TRUE,0,HLOOKUP(AQ$5,$D$28:$Z$49,12,FALSE)))","v":0},0,0,0,0,0,0,0,0,0,0,0,0,0,0,0]
[9,{"$f":"IF(+Eing.Allg..Daten!$D$8<>\"\",+VLOOKUP(A14,Bahnen!$A$52:$B$144,2,0),\"\")","v":"Liegende Schleife"},null,{"$f":"IF(D$6>0,Eing.Allg..Daten!$D$9,0)","v":0},{"$f":"IF(E$6>0,Eing.Allg..Daten!$D$9,0)","v":0},{"$f":"IF(F$6>0,Eing.Allg..Daten!$D$9,0)","v":0},{"$f":"IF(G$6>0,Eing.Allg..Daten!$D$9,0)","v":0},0,null,{"$f":"IF(J$6>0,Eing.Allg..Daten!$D$9,0)","v":0},{"$f":"IF(K$6>0,Eing.Allg..Daten!$D$9,0)","v":0},{"$f":"IF(L$6>0,Eing.Allg..Daten!$D$9,0)","v":0},{"$f":"IF(M$6>0,Eing.Allg..Daten!$D$9,0)","v":0},0,null,{"$f":"IF(P$6>0,Eing.Allg..Daten!$D$9,0)","v":0},{"$f":"IF(Q$6>0,Eing.Allg..Daten!$D$9,0)","v":0},{"$f":"IF(R$6>0,Eing.Allg..Daten!$D$9,0)","v":0},{"$f":"IF(S$6>0,Eing.Allg..Daten!$D$9,0)","v":0},0,null,{"$f":"IF(V$6>0,Eing.Allg..Daten!$D$9,0)","v":0},{"$f":"IF(W$6>0,Eing.Allg..Daten!$D$9,0)","v":0},{"$f":"IF(X$6>0,Eing.Allg..Daten!$D$9,0)","v":0},{"$f":"IF(Y$6>0,Eing.Allg..Daten!$D$9,0)","v":0},0,null,0,null,null,null,null,null,null,null,null,null,null,null,null,null,0,{"$f":"(IF(ISNA(HLOOKUP(AQ$5,$D$2:$Z$23,13,FALSE))=TRUE,0,HLOOKUP(AQ$5,$D$2:$Z$23,13,FALSE)))+(IF(ISNA(HLOOKUP(AQ$5,$D$28:$Z$49,13,FALSE))=TRUE,0,HLOOKUP(AQ$5,$D$28:$Z$49,13,FALSE)))","v":0},0,0,0,0,0,0,0,0,0,0,0,0,0,0,0]
[10,{"$f":"IF(+Eing.Allg..Daten!$D$8<>\"\",+VLOOKUP(A15,Bahnen!$A$52:$B$144,2,0),\"\")","v":"Winkel"},null,{"$f":"IF(D$6>0,Eing.Allg..Daten!$D$9,0)","v":0},{"$f":"IF(E$6>0,Eing.Allg..Daten!$D$9,0)","v":0},{"$f":"IF(F$6>0,Eing.Allg..Daten!$D$9,0)","v":0},{"$f":"IF(G$6>0,Eing.Allg..Daten!$D$9,0)","v":0},0,null,{"$f":"IF(J$6>0,Eing.Allg..Daten!$D$9,0)","v":0},{"$f":"IF(K$6>0,Eing.Allg..Daten!$D$9,0)","v":0},{"$f":"IF(L$6>0,Eing.Allg..Daten!$D$9,0)","v":0},{"$f":"IF(M$6>0,Eing.Allg..Daten!$D$9,0)","v":0},0,null,{"$f":"IF(P$6>0,Eing.Allg..Daten!$D$9,0)","v":0},{"$f":"IF(Q$6>0,Eing.Allg..Daten!$D$9,0)","v":0},{"$f":"IF(R$6>0,Eing.Allg..Daten!$D$9,0)","v":0},{"$f":"IF(S$6>0,Eing.Allg..Daten!$D$9,0)","v":0},0,null,{"$f":"IF(V$6>0,Eing.Allg..Daten!$D$9,0)","v":0},{"$f":"IF(W$6>0,Eing.Allg..Daten!$D$9,0)","v":0},{"$f":"IF(X$6>0,Eing.Allg..Daten!$D$9,0)","v":0},{"$f":"IF(Y$6>0,Eing.Allg..Daten!$D$9,0)","v":0},0,null,0,null,null,null,null,null,null,null,{"$f":"+'Ma2'!$D$1","v":"SG Arheilgen 3"},null,null,null,null,null,0,{"$f":"(IF(ISNA(HLOOKUP(AQ$5,$D$2:$Z$23,14,FALSE))=TRUE,0,HLOOKUP(AQ$5,$D$2:$Z$23,14,FALSE)))+(IF(ISNA(HLOOKUP(AQ$5,$D$28:$Z$49,14,FALSE))=TRUE,0,HLOOKUP(AQ$5,$D$28:$Z$49,14,FALSE)))","v":0},0,0,0,0,0,0,0,0,0,0,0,0,0,0,0]
[11,{"$f":"IF(+Eing.Allg..Daten!$D$8<>\"\",+VLOOKUP(A16,Bahnen!$A$52:$B$144,2,0),\"\")","v":"Netz"},null,{"$f":"IF(D$6>0,Eing.Allg..Daten!$D$9,0)","v":0},{"$f":"IF(E$6>0,Eing.Allg..Daten!$D$9,0)","v":0},{"$f":"IF(F$6>0,Eing.Allg..Daten!$D$9,0)","v":0},{"$f":"IF(G$6>0,Eing.Allg..Daten!$D$9,0)","v":0},0,null,{"$f":"IF(J$6>0,Eing.Allg..Daten!$D$9,0)","v":0},{"$f":"IF(K$6>0,Eing.Allg..Daten!$D$9,0)","v":0},{"$f":"IF(L$6>0,Eing.Allg..Daten!$D$9,0)","v":0},{"$f":"IF(M$6>0,Eing.Allg..Daten!$D$9,0)","v":0},0,null,{"$f":"IF(P$6>0,Eing.Allg..Daten!$D$9,0)","v":0},{"$f":"IF(Q$6>0,Eing.Allg..Daten!$D$9,0)","v":0},{"$f":"IF(R$6>0,Eing.Allg..Daten!$D$9,0)","v":0},{"$f":"IF(S$6>0,Eing.Allg..Daten!$D$9,0)","v":0},0,null,{"$f":"IF(V$6>0,Eing.Allg..Daten!$D$9,0)","v":0},{"$f":"IF(W$6>0,Eing.Allg..Daten!$D$9,0)","v":0},{"$f":"IF(X$6>0,Eing.Allg..Daten!$D$9,0)","v":0},{"$f":"IF(Y$6>0,Eing.Allg..Daten!$D$9,0)","v":0},0,null,0,null,null,null,null,null,null,null,null,null,null,null,null,null,0,{"$f":"(IF(ISNA(HLOOKUP(AQ$5,$D$2:$Z$23,15,FALSE))=TRUE,0,HLOOKUP(AQ$5,$D$2:$Z$23,15,FALSE)))+(IF(ISNA(HLOOKUP(AQ$5,$D$28:$Z$49,15,FALSE))=TRUE,0,HLOOKUP(AQ$5,$D$28:$Z$49,15,FALSE)))","v":0},0,0,0,0,0,0,0,0,0,0,0,0,0,0,0]
[12,{"$f":"IF(+Eing.Allg..Daten!$D$8<>\"\",+VLOOKUP(A17,Bahnen!$A$52:$B$144,2,0),\"\")","v":"Doppelkeile"},null,{"$f":"IF(D$6>0,Eing.Allg..Daten!$D$9,0)","v":0},{"$f":"IF(E$6>0,Eing.Allg..Daten!$D$9,0)","v":0},{"$f":"IF(F$6>0,Eing.Allg..Daten!$D$9,0)","v":0},{"$f":"IF(G$6>0,Eing.Allg..Daten!$D$9,0)","v":0},0,null,{"$f":"IF(J$6>0,Eing.Allg..Daten!$D$9,0)","v":0},{"$f":"IF(K$6>0,Eing.Allg..Daten!$D$9,0)","v":0},{"$f":"IF(L$6>0,Eing.Allg..Daten!$D$9,0)","v":0},{"$f":"IF(M$6>0,Eing.Allg..Daten!$D$9,0)","v":0},0,null,{"$f":"IF(P$6>0,Eing.Allg..Daten!$D$9,0)","v":0},{"$f":"IF(Q$6>0,Eing.Allg..Daten!$D$9,0)","v":0},{"$f":"IF(R$6>0,Eing.Allg..Daten!$D$9,0)","v":0},{"$f":"IF(S$6>0,Eing.Allg..Daten!$D$9,0)","v":0},0,null,{"$f":"IF(V$6>0,Eing.Allg..Daten!$D$9,0)","v":0},{"$f":"IF(W$6>0,Eing.Allg..Daten!$D$9,0)","v":0},{"$f":"IF(X$6>0,Eing.Allg..Daten!$D$9,0)","v":0},{"$f":"IF(Y$6>0,Eing.Allg..Daten!$D$9,0)","v":0},0,null,0,null,null,null,null,null,null,null,{"$f":"+'Ma3'!$D$1","v":"MGC Kahler Sandhasen"},null,null,null,null,null,0,{"$f":"(IF(ISNA(HLOOKUP(AQ$5,$D$2:$Z$23,16,FALSE))=TRUE,0,HLOOKUP(AQ$5,$D$2:$Z$23,16,FALSE)))+(IF(ISNA(HLOOKUP(AQ$5,$D$28:$Z$49,16,FALSE))=TRUE,0,HLOOKUP(AQ$5,$D$28:$Z$49,16,FALSE)))","v":0},0,0,0,0,0,0,0,0,0,0,0,0,0,0,0]
[13,{"$f":"IF(+Eing.Allg..Daten!$D$8<>\"\",+VLOOKUP(A18,Bahnen!$A$52:$B$144,2,0),\"\")","v":"Stumpfe Kegel"},null,{"$f":"IF(D$6>0,Eing.Allg..Daten!$D$9,0)","v":0},{"$f":"IF(E$6>0,Eing.Allg..Daten!$D$9,0)","v":0},{"$f":"IF(F$6>0,Eing.Allg..Daten!$D$9,0)","v":0},{"$f":"IF(G$6>0,Eing.Allg..Daten!$D$9,0)","v":0},0,null,{"$f":"IF(J$6>0,Eing.Allg..Daten!$D$9,0)","v":0},{"$f":"IF(K$6>0,Eing.Allg..Daten!$D$9,0)","v":0},{"$f":"IF(L$6>0,Eing.Allg..Daten!$D$9,0)","v":0},{"$f":"IF(M$6>0,Eing.Allg..Daten!$D$9,0)","v":0},0,null,{"$f":"IF(P$6>0,Eing.Allg..Daten!$D$9,0)","v":0},{"$f":"IF(Q$6>0,Eing.Allg..Daten!$D$9,0)","v":0},{"$f":"IF(R$6>0,Eing.Allg..Daten!$D$9,0)","v":0},{"$f":"IF(S$6>0,Eing.Allg..Daten!$D$9,0)","v":0},0,null,{"$f":"IF(V$6>0,Eing.Allg..Daten!$D$9,0)","v":0},{"$f":"IF(W$6>0,Eing.Allg..Daten!$D$9,0)","v":0},{"$f":"IF(X$6>0,Eing.Allg..Daten!$D$9,0)","v":0},{"$f":"IF(Y$6>0,Eing.Allg..Daten!$D$9,0)","v":0},0,null,0,null,null,null,null,null,null,null,null,null,null,null,null,null,0,{"$f":"(IF(ISNA(HLOOKUP(AQ$5,$D$2:$Z$23,17,FALSE))=TRUE,0,HLOOKUP(AQ$5,$D$2:$Z$23,17,FALSE)))+(IF(ISNA(HLOOKUP(AQ$5,$D$28:$Z$49,17,FALSE))=TRUE,0,HLOOKUP(AQ$5,$D$28:$Z$49,17,FALSE)))","v":0},0,0,0,0,0,0,0,0,0,0,0,0,0,0,0]
[14,{"$f":"IF(+Eing.Allg..Daten!$D$8<>\"\",+VLOOKUP(A19,Bahnen!$A$52:$B$144,2,0),\"\")","v":"Schrägerkreis mit Niere"},null,{"$f":"IF(D$6>0,Eing.Allg..Daten!$D$9,0)","v":0},{"$f":"IF(E$6>0,Eing.Allg..Daten!$D$9,0)","v":0},{"$f":"IF(F$6>0,Eing.Allg..Daten!$D$9,0)","v":0},{"$f":"IF(G$6>0,Eing.Allg..Daten!$D$9,0)","v":0},0,null,{"$f":"IF(J$6>0,Eing.Allg..Daten!$D$9,0)","v":0},{"$f":"IF(K$6>0,Eing.Allg..Daten!$D$9,0)","v":0},{"$f":"IF(L$6>0,Eing.Allg..Daten!$D$9,0)","v":0},{"$f":"IF(M$6>0,Eing.Allg..Daten!$D$9,0)","v":0},0,null,{"$f":"IF(P$6>0,Eing.Allg..Daten!$D$9,0)","v":0},{"$f":"IF(Q$6>0,Eing.Allg..Daten!$D$9,0)","v":0},{"$f":"IF(R$6>0,Eing.Allg..Daten!$D$9,0)","v":0},{"$f":"IF(S$6>0,Eing.Allg..Daten!$D$9,0)","v":0},0,null,{"$f":"IF(V$6>0,Eing.Allg..Daten!$D$9,0)","v":0},{"$f":"IF(W$6>0,Eing.Allg..Daten!$D$9,0)","v":0},{"$f":"IF(X$6>0,Eing.Allg..Daten!$D$9,0)","v":0},{"$f":"IF(Y$6>0,Eing.Allg..Daten!$D$9,0)","v":0},0,null,0,null,null,null,null,null,null,null,{"$f":"+'Ma4'!$D$1","v":"SG Weiterstadt"},null,null,null,null,null,0,{"$f":"(IF(ISNA(HLOOKUP(AQ$5,$D$2:$Z$23,18,FALSE))=TRUE,0,HLOOKUP(AQ$5,$D$2:$Z$23,18,FALSE)))+(IF(ISNA(HLOOKUP(AQ$5,$D$28:$Z$49,18,FALSE))=TRUE,0,HLOOKUP(AQ$5,$D$28:$Z$49,18,FALSE)))","v":0},0,0,0,0,0,0,0,0,0,0,0,0,0,0,0]
[15,{"$f":"IF(+Eing.Allg..Daten!$D$8<>\"\",+VLOOKUP(A20,Bahnen!$A$52:$B$144,2,0),\"\")","v":"Brücke"},null,{"$f":"IF(D$6>0,Eing.Allg..Daten!$D$9,0)","v":0},{"$f":"IF(E$6>0,Eing.Allg..Daten!$D$9,0)","v":0},{"$f":"IF(F$6>0,Eing.Allg..Daten!$D$9,0)","v":0},{"$f":"IF(G$6>0,Eing.Allg..Daten!$D$9,0)","v":0},0,null,{"$f":"IF(J$6>0,Eing.Allg..Daten!$D$9,0)","v":0},{"$f":"IF(K$6>0,Eing.Allg..Daten!$D$9,0)","v":0},{"$f":"IF(L$6>0,Eing.Allg..Daten!$D$9,0)","v":0},{"$f":"IF(M$6>0,Eing.Allg..Daten!$D$9,0)","v":0},0,null,{"$f":"IF(P$6>0,Eing.Allg..Daten!$D$9,0)","v":0},{"$f":"IF(Q$6>0,Eing.Allg..Daten!$D$9,0)","v":0},{"$f":"IF(R$6>0,Eing.Allg..Daten!$D$9,0)","v":0},{"$f":"IF(S$6>0,Eing.Allg..Daten!$D$9,0)","v":0},0,null,{"$f":"IF(V$6>0,Eing.Allg..Daten!$D$9,0)","v":0},{"$f":"IF(W$6>0,Eing.Allg..Daten!$D$9,0)","v":0},{"$f":"IF(X$6>0,Eing.Allg..Daten!$D$9,0)","v":0},{"$f":"IF(Y$6>0,Eing.Allg..Daten!$D$9,0)","v":0},0,null,0,null,null,null,null,null,null,null,null,null,null,null,null,null,0,{"$f":"(IF(ISNA(HLOOKUP(AQ$5,$D$2:$Z$23,19,FALSE))=TRUE,0,HLOOKUP(AQ$5,$D$2:$Z$23,19,FALSE)))+(IF(ISNA(HLOOKUP(AQ$5,$D$28:$Z$49,19,FALSE))=TRUE,0,HLOOKUP(AQ$5,$D$28:$Z$49,19,FALSE)))","v":0},0,0,0,0,0,0,0,0,0,0,0,0,0,0,0]
[16,{"$f":"IF(+Eing.Allg..Daten!$D$8<>\"\",+VLOOKUP(A21,Bahnen!$A$52:$B$144,2,0),\"\")","v":"Vulkan"},null,{"$f":"IF(D$6>0,Eing.Allg..Daten!$D$9,0)","v":0},{"$f":"IF(E$6>0,Eing.Allg..Daten!$D$9,0)","v":0},{"$f":"IF(F$6>0,Eing.Allg..Daten!$D$9,0)","v":0},{"$f":"IF(G$6>0,Eing.Allg..Daten!$D$9,0)","v":0},0,null,{"$f":"IF(J$6>0,Eing.Allg..Daten!$D$9,0)","v":0},{"$f":"IF(K$6>0,Eing.Allg..Daten!$D$9,0)","v":0},{"$f":"IF(L$6>0,Eing.Allg..Daten!$D$9,0)","v":0},{"$f":"IF(M$6>0,Eing.Allg..Daten!$D$9,0)","v":0},0,null,{"$f":"IF(P$6>0,Eing.Allg..Daten!$D$9,0)","v":0},{"$f":"IF(Q$6>0,Eing.Allg..Daten!$D$9,0)","v":0},{"$f":"IF(R$6>0,Eing.Allg..Daten!$D$9,0)","v":0},{"$f":"IF(S$6>0,Eing.Allg..Daten!$D$9,0)","v":0},0,null,{"$f":"IF(V$6>0,Eing.Allg..Daten!$D$9,0)","v":0},{"$f":"IF(W$6>0,Eing.Allg..Daten!$D$9,0)","v":0},{"$f":"IF(X$6>0,Eing.Allg..Daten!$D$9,0)","v":0},{"$f":"IF(Y$6>0,Eing.Allg..Daten!$D$9,0)","v":0},0,null,0,null,null,null,null,null,null,null,{"$f":"+'Ma5'!$D$1","v":"MGC Bad Homburg 2"},null,null,null,null,null,0,{"$f":"(IF(ISNA(HLOOKUP(AQ$5,$D$2:$Z$23,20,FALSE))=TRUE,0,HLOOKUP(AQ$5,$D$2:$Z$23,20,FALSE)))+(IF(ISNA(HLOOKUP(AQ$5,$D$28:$Z$49,20,FALSE))=TRUE,0,HLOOKUP(AQ$5,$D$28:$Z$49,20,FALSE)))","v":0},0,0,0,0,0,0,0,0,0,0,0,0,0,0,0]
[17,{"$f":"IF(+Eing.Allg..Daten!$D$8<>\"\",+VLOOKUP(A22,Bahnen!$A$52:$B$144,2,0),\"\")","v":"Auflaufkeil mit Zielfenster"},null,{"$f":"IF(D$6>0,Eing.Allg..Daten!$D$9,0)","v":0},{"$f":"IF(E$6>0,Eing.Allg..Daten!$D$9,0)","v":0},{"$f":"IF(F$6>0,Eing.Allg..Daten!$D$9,0)","v":0},{"$f":"IF(G$6>0,Eing.Allg..Daten!$D$9,0)","v":0},0,null,{"$f":"IF(J$6>0,Eing.Allg..Daten!$D$9,0)","v":0},{"$f":"IF(K$6>0,Eing.Allg..Daten!$D$9,0)","v":0},{"$f":"IF(L$6>0,Eing.Allg..Daten!$D$9,0)","v":0},{"$f":"IF(M$6>0,Eing.Allg..Daten!$D$9,0)","v":0},0,null,{"$f":"IF(P$6>0,Eing.Allg..Daten!$D$9,0)","v":0},{"$f":"IF(Q$6>0,Eing.Allg..Daten!$D$9,0)","v":0},{"$f":"IF(R$6>0,Eing.Allg..Daten!$D$9,0)","v":0},{"$f":"IF(S$6>0,Eing.Allg..Daten!$D$9,0)","v":0},0,null,{"$f":"IF(V$6>0,Eing.Allg..Daten!$D$9,0)","v":0},{"$f":"IF(W$6>0,Eing.Allg..Daten!$D$9,0)","v":0},{"$f":"IF(X$6>0,Eing.Allg..Daten!$D$9,0)","v":0},{"$f":"IF(Y$6>0,Eing.Allg..Daten!$D$9,0)","v":0},0,null,0,null,null,null,null,null,null,null,null,null,null,null,null,null,0,{"$f":"(IF(ISNA(HLOOKUP(AQ$5,$D$2:$Z$23,21,FALSE))=TRUE,0,HLOOKUP(AQ$5,$D$2:$Z$23,21,FALSE)))+(IF(ISNA(HLOOKUP(AQ$5,$D$28:$Z$49,21,FALSE))=TRUE,0,HLOOKUP(AQ$5,$D$28:$Z$49,21,FALSE)))","v":0},0,0,0,0,0,0,0,0,0,0,0,0,0,0,0]
[18,{"$f":"IF(+Eing.Allg..Daten!$D$8<>\"\",+VLOOKUP(A23,Bahnen!$A$52:$B$144,2,0),\"\")","v":"Blitz"},null,{"$f":"IF(D$6>0,Eing.Allg..Daten!$D$9,0)","v":0},{"$f":"IF(E$6>0,Eing.Allg..Daten!$D$9,0)","v":0},{"$f":"IF(F$6>0,Eing.Allg..Daten!$D$9,0)","v":0},{"$f":"IF(G$6>0,Eing.Allg..Daten!$D$9,0)","v":0},0,null,{"$f":"IF(J$6>0,Eing.Allg..Daten!$D$9,0)","v":0},{"$f":"IF(K$6>0,Eing.Allg..Daten!$D$9,0)","v":0},{"$f":"IF(L$6>0,Eing.Allg..Daten!$D$9,0)","v":0},{"$f":"IF(M$6>0,Eing.Allg..Daten!$D$9,0)","v":0},0,null,{"$f":"IF(P$6>0,Eing.Allg..Daten!$D$9,0)","v":0},{"$f":"IF(Q$6>0,Eing.Allg..Daten!$D$9,0)","v":0},{"$f":"IF(R$6>0,Eing.Allg..Daten!$D$9,0)","v":0},{"$f":"IF(S$6>0,Eing.Allg..Daten!$D$9,0)","v":0},0,null,{"$f":"IF(V$6>0,Eing.Allg..Daten!$D$9,0)","v":0},{"$f":"IF(W$6>0,Eing.Allg..Daten!$D$9,0)","v":0},{"$f":"IF(X$6>0,Eing.Allg..Daten!$D$9,0)","v":0},{"$f":"IF(Y$6>0,Eing.Allg..Daten!$D$9,0)","v":0},0,null,0,null,null,null,null,null,null,null,{"$f":"+'Ma6'!$D$1","v":"SV Dreieichenhain"},null,null,null,null,null,0,{"$f":"(IF(ISNA(HLOOKUP(AQ$5,$D$2:$Z$23,22,FALSE))=TRUE,0,HLOOKUP(AQ$5,$D$2:$Z$23,22,FALSE)))+(IF(ISNA(HLOOKUP(AQ$5,$D$28:$Z$49,22,FALSE))=TRUE,0,HLOOKUP(AQ$5,$D$28:$Z$49,22,FALSE)))","v":0},0,0,0,0,0,0,0,0,0,0,0,0,0,0,0]
[null,"Strafpunkte",null,null,null,null,null,0,null,null,null,null,null,0,null,null,null,null,null,0,null,null,null,null,null,0]
[null,null,null,{"$f":"IF(D23<>0,SUM(D6:D24),999)","v":999},{"$f":"IF(E23<>0,SUM(E6:E24),999)","v":999},{"$f":"IF(F23<>0,SUM(F6:F24),999)","v":999},{"$f":"IF(G23<>0,SUM(G6:G24),999)","v":999},{"$f":"SUM(H6:H24)","v":0},null,{"$f":"IF(J23<>0,SUM(J6:J24),999)","v":999},{"$f":"IF(K23<>0,SUM(K6:K24),999)","v":999},{"$f":"IF(L23<>0,SUM(L6:L24),999)","v":999},{"$f":"IF(M23<>0,SUM(M6:M24),999)","v":999},{"$f":"SUM(N6:N24)","v":0},null,{"$f":"IF(P23<>0,SUM(P6:P24),999)","v":999},{"$f":"IF(Q23<>0,SUM(Q6:Q24),999)","v":999},{"$f":"IF(R23<>0,SUM(R6:R24),999)","v":999},{"$f":"IF(S23<>0,SUM(S6:S24),999)","v":999},{"$f":"SUM(T6:T24)","v":0},null,{"$f":"IF(V23<>0,SUM(V6:V24),999)","v":999},{"$f":"IF(W23<>0,SUM(W6:W24),999)","v":999},{"$f":"IF(X23<>0,SUM(X6:X24),999)","v":999},{"$f":"IF(Y23<>0,SUM(Y6:Y24),999)","v":999},{"$f":"SUM(Z6:Z24)","v":0},null,{"$f":"SUM(AB6:AB23)","v":0},null,null,null,null,null,null,null,{"$f":"+'Ma7'!$D$1","v":"MGC Heringen"},null,null,null,null,null,null,{"$f":"SUM(AQ6:AQ24)","v":0},0,0,0,0,0,0,0,0,0,0,0,0,0,0,0]
[null,null,null,{"$f":"SUM(D25:G25)","v":3996},null,null,null,null,null,{"$f":"SUM(J25:M25)","v":3996},null,null,null,null,null,{"$f":"SUM(P25:S25)","v":3996},null,null,null,null,null,{"$f":"SUM(V25:Y25)","v":3996}]
[null,null,null,{"$f":"IF(D6=0,\"DNS\",IF(D23=0,\"DNF\",1))","v":"DNS"},{"$f":"IF(E6=0,\"DNS\",IF(E23=0,\"DNF\",1))","v":"DNS"},{"$f":"IF(F6=0,\"DNS\",IF(F23=0,\"DNF\",1))","v":"DNS"},{"$f":"IF(G6=0,\"DNS\",IF(G23=0,\"DNF\",1))","v":"DNS"},{"$f":"IF(SUM(D27:G27)=Tagestabelle!$N$3,\"Fin\",\"DNF\")","v":"Fin"},null,{"$f":"IF(J6=0,\"DNS\",IF(J23=0,\"DNF\",1))","v":"DNS"},{"$f":"IF(K6=0,\"DNS\",IF(K23=0,\"DNF\",1))","v":"DNS"},{"$f":"IF(L6=0,\"DNS\",IF(L23=0,\"DNF\",1))","v":"DNS"},{"$f":"IF(M6=0,\"DNS\",IF(M23=0,\"DNF\",1))","v":"DNS"},{"$f":"IF(SUM(J27:M27)=Tagestabelle!$N$3,\"Fin\",\"DNF\")","v":"Fin"},null,{"$f":"IF(P6=0,\"DNS\",IF(P23=0,\"DNF\",1))","v":"DNS"},{"$f":"IF(Q6=0,\"DNS\",IF(Q23=0,\"DNF\",1))","v":"DNS"},{"$f":"IF(R6=0,\"DNS\",IF(R23=0,\"DNF\",1))","v":"DNS"},{"$f":"IF(S6=0,\"DNS\",IF(S23=0,\"DNF\",1))","v":"DNS"},{"$f":"IF(SUM(P27:S27)=Tagestabelle!$N$3,\"Fin\",\"DNF\")","v":"Fin"},null,{"$f":"IF(V6=0,\"DNS\",IF(V23=0,\"DNF\",1))","v":"DNS"},{"$f":"IF(W6=0,\"DNS\",IF(W23=0,\"DNF\",1))","v":"DNS"},{"$f":"IF(X6=0,\"DNS\",IF(X23=0,\"DNF\",1))","v":"DNS"},{"$f":"IF(Y6=0,\"DNS\",IF(Y23=0,\"DNF\",1))","v":"DNS"},{"$f":"IF(SUM(V27:Y27)=Tagestabelle!$N$3,\"Fin\",\"DNF\")","v":"Fin"},6]
[null,null,null,"M2S5R1","M2S5R2","M2S5R3","M2S5R4",null,null,"M2S6R1","M2S6R2","M2S6R3","M2S6R4",null,null,"M2S7R1","M2S7R2","M2S7R3","M2S7R4",null,null,"M2S8R1","M2S8R2","M2S8R3","M2S8R4"]
[null,null,null,"Spieler 5",null,null,null,"Kat.",null,"Spieler 6",null,null,null,"Kat.",null,"Spieler 7",null,null,null,"Kat.",null,"Spieler 8",null,null,null,"Kat.",null,"Zus. Einzelsp.",null,null,null,"Kat."]
["Bahn  ",null,null,{"$f":"+M2S5","v":{"$error":"#N/A"}},null,null,null,{"$f":"+M2S5Kat","v":{"$error":"#N/A"}},null,{"$f":"+M2S6","v":{"$error":"#N/A"}},null,null,null,{"$f":"+M2S6Kat","v":{"$error":"#N/A"}},null,{"$f":"M2S7","v":{"$error":"#N/A"}},null,null,null,{"$f":"+M2S7Kat","v":{"$error":"#N/A"}},null,{"$f":"M2S8","v":{"$error":"#N/A"}},null,null,null,{"$f":"+M2S8Kat","v":{"$error":"#N/A"}},null,{"$f":"M2SAK","v":{"$error":"#N/A"}},null,null,null,{"$f":"+M2SAKKat","v":{"$error":"#N/A"}}]
["Nr.","Bez. ",null,{"$f":"+M2S5p","v":0},null,null,null,null,null,{"$f":"+M2S6p","v":0},null,null,null,null,null,{"$f":"+M2S7p","v":0},null,null,null,null,null,{"$f":"+M2S8p","v":0},null,null,null,null,null,{"$f":"+M2SAKp","v":0}]
[1,{"$f":"IF(+Eing.Allg..Daten!$D$8<>\"\",+VLOOKUP(A32,Bahnen!$A$52:$B$144,2,0),\"\")","v":"Gerade Bahn ohne Hindernis"},null,null,null,null,null,{"$f":"SUM(D32:G32)","v":0},null,null,null,null,null,{"$f":"SUM(J32:M32)","v":0},null,null,null,null,null,{"$f":"SUM(P32:S32)","v":0},null,null,null,null,null,{"$f":"SUM(V32:Y32)","v":0},null,null,null,null,null,{"$f":"SUM(AB32:AE32)","v":0}]
[2,{"$f":"IF(+Eing.Allg..Daten!$D$8<>\"\",+VLOOKUP(A33,Bahnen!$A$52:$B$144,2,0),\"\")","v":"Salto"},null,{"$f":"IF(D$32>0,Eing.Allg..Daten!$D$9,0)","v":0},{"$f":"IF(E$32>0,Eing.Allg..Daten!$D$9,0)","v":0},{"$f":"IF(F$32>0,Eing.Allg..Daten!$D$9,0)","v":0},{"$f":"IF(G$32>0,Eing.Allg..Daten!$D$9,0)","v":0},0,null,{"$f":"IF(J$32>0,Eing.Allg..Daten!$D$9,0)","v":0},{"$f":"IF(K$32>0,Eing.Allg..Daten!$D$9,0)","v":0},{"$f":"IF(L$32>0,Eing.Allg..Daten!$D$9,0)","v":0},{"$f":"IF(M$32>0,Eing.Allg..Daten!$D$9,0)","v":0},0,null,{"$f":"IF(P$32>0,Eing.Allg..Daten!$D$9,0)","v":0},{"$f":"IF(Q$32>0,Eing.Allg..Daten!$D$9,0)","v":0},{"$f":"IF(R$32>0,Eing.Allg..Daten!$D$9,0)","v":0},{"$f":"IF(S$32>0,Eing.Allg..Daten!$D$9,0)","v":0},0,null,{"$f":"IF(V$32>0,Eing.Allg..Daten!$D$9,0)","v":0},{"$f":"IF(W$32>0,Eing.Allg..Daten!$D$9,0)","v":0},{"$f":"IF(X$32>0,Eing.Allg..Daten!$D$9,0)","v":0},{"$f":"IF(Y$32>0,Eing.Allg..Daten!$D$9,0)","v":0},0,null,{"$f":"IF(AB$32>0,Eing.Allg..Daten!$D$9,0)","v":0},{"$f":"IF(AC$32>0,Eing.Allg..Daten!$D$9,0)","v":0},{"$f":"IF(AD$32>0,Eing.Allg..Daten!$D$9,0)","v":0},{"$f":"IF(AE$32>0,Eing.Allg..Daten!$D$9,0)","v":0},0]
[3,{"$f":"IF(+Eing.Allg..Daten!$D$8<>\"\",+VLOOKUP(A34,Bahnen!$A$52:$B$144,2,0),\"\")","v":"Pyramiden"},null,{"$f":"IF(D$32>0,Eing.Allg..Daten!$D$9,0)","v":0},{"$f":"IF(E$32>0,Eing.Allg..Daten!$D$9,0)","v":0},{"$f":"IF(F$32>0,Eing.Allg..Daten!$D$9,0)","v":0},{"$f":"IF(G$32>0,Eing.Allg..Daten!$D$9,0)","v":0},0,null,{"$f":"IF(J$32>0,Eing.Allg..Daten!$D$9,0)","v":0},{"$f":"IF(K$32>0,Eing.Allg..Daten!$D$9,0)","v":0},{"$f":"IF(L$32>0,Eing.Allg..Daten!$D$9,0)","v":0},{"$f":"IF(M$32>0,Eing.Allg..Daten!$D$9,0)","v":0},0,null,{"$f":"IF(P$32>0,Eing.Allg..Daten!$D$9,0)","v":0},{"$f":"IF(Q$32>0,Eing.Allg..Daten!$D$9,0)","v":0},{"$f":"IF(R$32>0,Eing.Allg..Daten!$D$9,0)","v":0},{"$f":"IF(S$32>0,Eing.Allg..Daten!$D$9,0)","v":0},0,null,{"$f":"IF(V$32>0,Eing.Allg..Daten!$D$9,0)","v":0},{"$f":"IF(W$32>0,Eing.Allg..Daten!$D$9,0)","v":0},{"$f":"IF(X$32>0,Eing.Allg..Daten!$D$9,0)","v":0},{"$f":"IF(Y$32>0,Eing.Allg..Daten!$D$9,0)","v":0},0,null,{"$f":"IF(AB$32>0,Eing.Allg..Daten!$D$9,0)","v":0},{"$f":"IF(AC$32>0,Eing.Allg..Daten!$D$9,0)","v":0},{"$f":"IF(AD$32>0,Eing.Allg..Daten!$D$9,0)","v":0},{"$f":"IF(AE$32>0,Eing.Allg..Daten!$D$9,0)","v":0},0]
[4,{"$f":"IF(+Eing.Allg..Daten!$D$8<>\"\",+VLOOKUP(A35,Bahnen!$A$52:$B$144,2,0),\"\")","v":"Mittelhügel"},null,{"$f":"IF(D$32>0,Eing.Allg..Daten!$D$9,0)","v":0},{"$f":"IF(E$32>0,Eing.Allg..Daten!$D$9,0)","v":0},{"$f":"IF(F$32>0,Eing.Allg..Daten!$D$9,0)","v":0},{"$f":"IF(G$32>0,Eing.Allg..Daten!$D$9,0)","v":0},0,null,{"$f":"IF(J$32>0,Eing.Allg..Daten!$D$9,0)","v":0},{"$f":"IF(K$32>0,Eing.Allg..Daten!$D$9,0)","v":0},{"$f":"IF(L$32>0,Eing.Allg..Daten!$D$9,0)","v":0},{"$f":"IF(M$32>0,Eing.Allg..Daten!$D$9,0)","v":0},0,null,{"$f":"IF(P$32>0,Eing.Allg..Daten!$D$9,0)","v":0},{"$f":"IF(Q$32>0,Eing.Allg..Daten!$D$9,0)","v":0},{"$f":"IF(R$32>0,Eing.Allg..Daten!$D$9,0)","v":0},{"$f":"IF(S$32>0,Eing.Allg..Daten!$D$9,0)","v":0},0,null,{"$f":"IF(V$32>0,Eing.Allg..Daten!$D$9,0)","v":0},{"$f":"IF(W$32>0,Eing.Allg..Daten!$D$9,0)","v":0},{"$f":"IF(X$32>0,Eing.Allg..Daten!$D$9,0)","v":0},{"$f":"IF(Y$32>0,Eing.Allg..Daten!$D$9,0)","v":0},0,null,{"$f":"IF(AB$32>0,Eing.Allg..Daten!$D$9,0)","v":0},{"$f":"IF(AC$32>0,Eing.Allg..Daten!$D$9,0)","v":0},{"$f":"IF(AD$32>0,Eing.Allg..Daten!$D$9,0)","v":0},{"$f":"IF(AE$32>0,Eing.Allg..Daten!$D$9,0)","v":0},0]
[5,{"$f":"IF(+Eing.Allg..Daten!$D$8<>\"\",+VLOOKUP(A36,Bahnen!$A$52:$B$144,2,0),\"\")","v":"\"V\" - Hindernis"},null,{"$f":"IF(D$32>0,Eing.Allg..Daten!$D$9,0)","v":0},{"$f":"IF(E$32>0,Eing.Allg..Daten!$D$9,0)","v":0},{"$f":"IF(F$32>0,Eing.Allg..Daten!$D$9,0)","v":0},{"$f":"IF(G$32>0,Eing.Allg..Daten!$D$9,0)","v":0},0,null,{"$f":"IF(J$32>0,Eing.Allg..Daten!$D$9,0)","v":0},{"$f":"IF(K$32>0,Eing.Allg..Daten!$D$9,0)","v":0},{"$f":"IF(L$32>0,Eing.Allg..Daten!$D$9,0)","v":0},{"$f":"IF(M$32>0,Eing.Allg..Daten!$D$9,0)","v":0},0,null,{"$f":"IF(P$32>0,Eing.Allg..Daten!$D$9,0)","v":0},{"$f":"IF(Q$32>0,Eing.Allg..Daten!$D$9,0)","v":0},{"$f":"IF(R$32>0,Eing.Allg..Daten!$D$9,0)","v":0},{"$f":"IF(S$32>0,Eing.Allg..Daten!$D$9,0)","v":0},0,null,{"$f":"IF(V$32>0,Eing.Allg..Daten!$D$9,0)","v":0},{"$f":"IF(W$32>0,Eing.Allg..Daten!$D$9,0)","v":0},{"$f":"IF(X$32>0,Eing.Allg..Daten!$D$9,0)","v":0},{"$f":"IF(Y$32>0,Eing.Allg..Daten!$D$9,0)","v":0},0,null,{"$f":"IF(AB$32>0,Eing.Allg..Daten!$D$9,0)","v":0},{"$f":"IF(AC$32>0,Eing.Allg..Daten!$D$9,0)","v":0},{"$f":"IF(AD$32>0,Eing.Allg..Daten!$D$9,0)","v":0},{"$f":"IF(AE$32>0,Eing.Allg..Daten!$D$9,0)","v":0},0]
[6,{"$f":"IF(+Eing.Allg..Daten!$D$8<>\"\",+VLOOKUP(A37,Bahnen!$A$52:$B$144,2,0),\"\")","v":"Doppelwellen"},null,{"$f":"IF(D$32>0,Eing.Allg..Daten!$D$9,0)","v":0},{"$f":"IF(E$32>0,Eing.Allg..Daten!$D$9,0)","v":0},{"$f":"IF(F$32>0,Eing.Allg..Daten!$D$9,0)","v":0},{"$f":"IF(G$32>0,Eing.Allg..Daten!$D$9,0)","v":0},0,null,{"$f":"IF(J$32>0,Eing.Allg..Daten!$D$9,0)","v":0},{"$f":"IF(K$32>0,Eing.Allg..Daten!$D$9,0)","v":0},{"$f":"IF(L$32>0,Eing.Allg..Daten!$D$9,0)","v":0},{"$f":"IF(M$32>0,Eing.Allg..Daten!$D$9,0)","v":0},0,null,{"$f":"IF(P$32>0,Eing.Allg..Daten!$D$9,0)","v":0},{"$f":"IF(Q$32>0,Eing.Allg..Daten!$D$9,0)","v":0},{"$f":"IF(R$32>0,Eing.Allg..Daten!$D$9,0)","v":0},{"$f":"IF(S$32>0,Eing.Allg..Daten!$D$9,0)","v":0},0,null,{"$f":"IF(V$32>0,Eing.Allg..Daten!$D$9,0)","v":0},{"$f":"IF(W$32>0,Eing.Allg..Daten!$D$9,0)","v":0},{"$f":"IF(X$32>0,Eing.Allg..Daten!$D$9,0)","v":0},{"$f":"IF(Y$32>0,Eing.Allg..Daten!$D$9,0)","v":0},0,null,{"$f":"IF(AB$32>0,Eing.Allg..Daten!$D$9,0)","v":0},{"$f":"IF(AC$32>0,Eing.Allg..Daten!$D$9,0)","v":0},{"$f":"IF(AD$32>0,Eing.Allg..Daten!$D$9,0)","v":0},{"$f":"IF(AE$32>0,Eing.Allg..Daten!$D$9,0)","v":0},0]
[7,{"$f":"IF(+Eing.Allg..Daten!$D$8<>\"\",+VLOOKUP(A38,Bahnen!$A$52:$B$144,2,0),\"\")","v":"Rohr"},null,{"$f":"IF(D$32>0,Eing.Allg..Daten!$D$9,0)","v":0},{"$f":"IF(E$32>0,Eing.Allg..Daten!$D$9,0)","v":0},{"$f":"IF(F$32>0,Eing.Allg..Daten!$D$9,0)","v":0},{"$f":"IF(G$32>0,Eing.Allg..Daten!$D$9,0)","v":0},0,null,{"$f":"IF(J$32>0,Eing.Allg..Daten!$D$9,0)","v":0},{"$f":"IF(K$32>0,Eing.Allg..Daten!$D$9,0)","v":0},{"$f":"IF(L$32>0,Eing.Allg..Daten!$D$9,0)","v":0},{"$f":"IF(M$32>0,Eing.Allg..Daten!$D$9,0)","v":0},0,null,{"$f":"IF(P$32>0,Eing.Allg..Daten!$D$9,0)","v":0},{"$f":"IF(Q$32>0,Eing.Allg..Daten!$D$9,0)","v":0},{"$f":"IF(R$32>0,Eing.Allg..Daten!$D$9,0)","v":0},{"$f":"IF(S$32>0,Eing.Allg..Daten!$D$9,0)","v":0},0,null,{"$f":"IF(V$32>0,Eing.Allg..Daten!$D$9,0)","v":0},{"$f":"IF(W$32>0,Eing.Allg..Daten!$D$9,0)","v":0},{"$f":"IF(X$32>0,Eing.Allg..Daten!$D$9,0)","v":0},{"$f":"IF(Y$32>0,Eing.Allg..Daten!$D$9,0)","v":0},0,null,{"$f":"IF(AB$32>0,Eing.Allg..Daten!$D$9,0)","v":0},{"$f":"IF(AC$32>0,Eing.Allg..Daten!$D$9,0)","v":0},{"$f":"IF(AD$32>0,Eing.Allg..Daten!$D$9,0)","v":0},{"$f":"IF(AE$32>0,Eing.Allg..Daten!$D$9,0)","v":0},0]
[8,{"$f":"IF(+Eing.Allg..Daten!$D$8<>\"\",+VLOOKUP(A39,Bahnen!$A$52:$B$144,2,0),\"\")","v":"Passagen"},null,{"$f":"IF(D$32>0,Eing.Allg..Daten!$D$9,0)","v":0},{"$f":"IF(E$32>0,Eing.Allg..Daten!$D$9,0)","v":0},{"$f":"IF(F$32>0,Eing.Allg..Daten!$D$9,0)","v":0},{"$f":"IF(G$32>0,Eing.Allg..Daten!$D$9,0)","v":0},0,null,{"$f":"IF(J$32>0,Eing.Allg..Daten!$D$9,0)","v":0},{"$f":"IF(K$32>0,Eing.Allg..Daten!$D$9,0)","v":0},{"$f":"IF(L$32>0,Eing.Allg..Daten!$D$9,0)","v":0},{"$f":"IF(M$32>0,Eing.Allg..Daten!$D$9,0)","v":0},0,null,{"$f":"IF(P$32>0,Eing.Allg..Daten!$D$9,0)","v":0},{"$f":"IF(Q$32>0,Eing.Allg..Daten!$D$9,0)","v":0},{"$f":"IF(R$32>0,Eing.Allg..Daten!$D$9,0)","v":0},{"$f":"IF(S$32>0,Eing.Allg..Daten!$D$9,0)","v":0},0,null,{"$f":"IF(V$32>0,Eing.Allg..Daten!$D$9,0)","v":0},{"$f":"IF(W$32>0,Eing.Allg..Daten!$D$9,0)","v":0},{"$f":"IF(X$32>0,Eing.Allg..Daten!$D$9,0)","v":0},{"$f":"IF(Y$32>0,Eing.Allg..Daten!$D$9,0)","v":0},0,null,{"$f":"IF(AB$32>0,Eing.Allg..Daten!$D$9,0)","v":0},{"$f":"IF(AC$32>0,Eing.Allg..Daten!$D$9,0)","v":0},{"$f":"IF(AD$32>0,Eing.Allg..Daten!$D$9,0)","v":0},{"$f":"IF(AE$32>0,Eing.Allg..Daten!$D$9,0)","v":0},0]
[9,{"$f":"IF(+Eing.Allg..Daten!$D$8<>\"\",+VLOOKUP(A40,Bahnen!$A$52:$B$144,2,0),\"\")","v":"Liegende Schleife"},null,{"$f":"IF(D$32>0,Eing.Allg..Daten!$D$9,0)","v":0},{"$f":"IF(E$32>0,Eing.Allg..Daten!$D$9,0)","v":0},{"$f":"IF(F$32>0,Eing.Allg..Daten!$D$9,0)","v":0},{"$f":"IF(G$32>0,Eing.Allg..Daten!$D$9,0)","v":0},0,null,{"$f":"IF(J$32>0,Eing.Allg..Daten!$D$9,0)","v":0},{"$f":"IF(K$32>0,Eing.Allg..Daten!$D$9,0)","v":0},{"$f":"IF(L$32>0,Eing.Allg..Daten!$D$9,0)","v":0},{"$f":"IF(M$32>0,Eing.Allg..Daten!$D$9,0)","v":0},0,null,{"$f":"IF(P$32>0,Eing.Allg..Daten!$D$9,0)","v":0},{"$f":"IF(Q$32>0,Eing.Allg..Daten!$D$9,0)","v":0},{"$f":"IF(R$32>0,Eing.Allg..Daten!$D$9,0)","v":0},{"$f":"IF(S$32>0,Eing.Allg..Daten!$D$9,0)","v":0},0,null,{"$f":"IF(V$32>0,Eing.Allg..Daten!$D$9,0)","v":0},{"$f":"IF(W$32>0,Eing.Allg..Daten!$D$9,0)","v":0},{"$f":"IF(X$32>0,Eing.Allg..Daten!$D$9,0)","v":0},{"$f":"IF(Y$32>0,Eing.Allg..Daten!$D$9,0)","v":0},0,null,{"$f":"IF(AB$32>0,Eing.Allg..Daten!$D$9,0)","v":0},{"$f":"IF(AC$32>0,Eing.Allg..Daten!$D$9,0)","v":0},{"$f":"IF(AD$32>0,Eing.Allg..Daten!$D$9,0)","v":0},{"$f":"IF(AE$32>0,Eing.Allg..Daten!$D$9,0)","v":0},0]
[10,{"$f":"IF(+Eing.Allg..Daten!$D$8<>\"\",+VLOOKUP(A41,Bahnen!$A$52:$B$144,2,0),\"\")","v":"Winkel"},null,{"$f":"IF(D$32>0,Eing.Allg..Daten!$D$9,0)","v":0},{"$f":"IF(E$32>0,Eing.Allg..Daten!$D$9,0)","v":0},{"$f":"IF(F$32>0,Eing.Allg..Daten!$D$9,0)","v":0},{"$f":"IF(G$32>0,Eing.Allg..Daten!$D$9,0)","v":0},0,null,{"$f":"IF(J$32>0,Eing.Allg..Daten!$D$9,0)","v":0},{"$f":"IF(K$32>0,Eing.Allg..Daten!$D$9,0)","v":0},{"$f":"IF(L$32>0,Eing.Allg..Daten!$D$9,0)","v":0},{"$f":"IF(M$32>0,Eing.Allg..Daten!$D$9,0)","v":0},0,null,{"$f":"IF(P$32>0,Eing.Allg..Daten!$D$9,0)","v":0},{"$f":"IF(Q$32>0,Eing.Allg..Daten!$D$9,0)","v":0},{"$f":"IF(R$32>0,Eing.Allg..Daten!$D$9,0)","v":0},{"$f":"IF(S$32>0,Eing.Allg..Daten!$D$9,0)","v":0},0,null,{"$f":"IF(V$32>0,Eing.Allg..Daten!$D$9,0)","v":0},{"$f":"IF(W$32>0,Eing.Allg..Daten!$D$9,0)","v":0},{"$f":"IF(X$32>0,Eing.Allg..Daten!$D$9,0)","v":0},{"$f":"IF(Y$32>0,Eing.Allg..Daten!$D$9,0)","v":0},0,null,{"$f":"IF(AB$32>0,Eing.Allg..Daten!$D$9,0)","v":0},{"$f":"IF(AC$32>0,Eing.Allg..Daten!$D$9,0)","v":0},{"$f":"IF(AD$32>0,Eing.Allg..Daten!$D$9,0)","v":0},{"$f":"IF(AE$32>0,Eing.Allg..Daten!$D$9,0)","v":0},0]
[11,{"$f":"IF(+Eing.Allg..Daten!$D$8<>\"\",+VLOOKUP(A42,Bahnen!$A$52:$B$144,2,0),\"\")","v":"Netz"},null,{"$f":"IF(D$32>0,Eing.Allg..Daten!$D$9,0)","v":0},{"$f":"IF(E$32>0,Eing.Allg..Daten!$D$9,0)","v":0},{"$f":"IF(F$32>0,Eing.Allg..Daten!$D$9,0)","v":0},{"$f":"IF(G$32>0,Eing.Allg..Daten!$D$9,0)","v":0},0,null,{"$f":"IF(J$32>0,Eing.Allg..Daten!$D$9,0)","v":0},{"$f":"IF(K$32>0,Eing.Allg..Daten!$D$9,0)","v":0},{"$f":"IF(L$32>0,Eing.Allg..Daten!$D$9,0)","v":0},{"$f":"IF(M$32>0,Eing.Allg..Daten!$D$9,0)","v":0},0,null,{"$f":"IF(P$32>0,Eing.Allg..Daten!$D$9,0)","v":0},{"$f":"IF(Q$32>0,Eing.Allg..Daten!$D$9,0)","v":0},{"$f":"IF(R$32>0,Eing.Allg..Daten!$D$9,0)","v":0},{"$f":"IF(S$32>0,Eing.Allg..Daten!$D$9,0)","v":0},0,null,{"$f":"IF(V$32>0,Eing.Allg..Daten!$D$9,0)","v":0},{"$f":"IF(W$32>0,Eing.Allg..Daten!$D$9,0)","v":0},{"$f":"IF(X$32>0,Eing.Allg..Daten!$D$9,0)","v":0},{"$f":"IF(Y$32>0,Eing.Allg..Daten!$D$9,0)","v":0},0,null,{"$f":"IF(AB$32>0,Eing.Allg..Daten!$D$9,0)","v":0},{"$f":"IF(AC$32>0,Eing.Allg..Daten!$D$9,0)","v":0},{"$f":"IF(AD$32>0,Eing.Allg..Daten!$D$9,0)","v":0},{"$f":"IF(AE$32>0,Eing.Allg..Daten!$D$9,0)","v":0},0]
[12,{"$f":"IF(+Eing.Allg..Daten!$D$8<>\"\",+VLOOKUP(A43,Bahnen!$A$52:$B$144,2,0),\"\")","v":"Doppelkeile"},null,{"$f":"IF(D$32>0,Eing.Allg..Daten!$D$9,0)","v":0},{"$f":"IF(E$32>0,Eing.Allg..Daten!$D$9,0)","v":0},{"$f":"IF(F$32>0,Eing.Allg..Daten!$D$9,0)","v":0},{"$f":"IF(G$32>0,Eing.Allg..Daten!$D$9,0)","v":0},0,null,{"$f":"IF(J$32>0,Eing.Allg..Daten!$D$9,0)","v":0},{"$f":"IF(K$32>0,Eing.Allg..Daten!$D$9,0)","v":0},{"$f":"IF(L$32>0,Eing.Allg..Daten!$D$9,0)","v":0},{"$f":"IF(M$32>0,Eing.Allg..Daten!$D$9,0)","v":0},0,null,{"$f":"IF(P$32>0,Eing.Allg..Daten!$D$9,0)","v":0},{"$f":"IF(Q$32>0,Eing.Allg..Daten!$D$9,0)","v":0},{"$f":"IF(R$32>0,Eing.Allg..Daten!$D$9,0)","v":0},{"$f":"IF(S$32>0,Eing.Allg..Daten!$D$9,0)","v":0},0,null,{"$f":"IF(V$32>0,Eing.Allg..Daten!$D$9,0)","v":0},{"$f":"IF(W$32>0,Eing.Allg..Daten!$D$9,0)","v":0},{"$f":"IF(X$32>0,Eing.Allg..Daten!$D$9,0)","v":0},{"$f":"IF(Y$32>0,Eing.Allg..Daten!$D$9,0)","v":0},0,null,{"$f":"IF(AB$32>0,Eing.Allg..Daten!$D$9,0)","v":0},{"$f":"IF(AC$32>0,Eing.Allg..Daten!$D$9,0)","v":0},{"$f":"IF(AD$32>0,Eing.Allg..Daten!$D$9,0)","v":0},{"$f":"IF(AE$32>0,Eing.Allg..Daten!$D$9,0)","v":0},0]
[13,{"$f":"IF(+Eing.Allg..Daten!$D$8<>\"\",+VLOOKUP(A44,Bahnen!$A$52:$B$144,2,0),\"\")","v":"Stumpfe Kegel"},null,{"$f":"IF(D$32>0,Eing.Allg..Daten!$D$9,0)","v":0},{"$f":"IF(E$32>0,Eing.Allg..Daten!$D$9,0)","v":0},{"$f":"IF(F$32>0,Eing.Allg..Daten!$D$9,0)","v":0},{"$f":"IF(G$32>0,Eing.Allg..Daten!$D$9,0)","v":0},0,null,{"$f":"IF(J$32>0,Eing.Allg..Daten!$D$9,0)","v":0},{"$f":"IF(K$32>0,Eing.Allg..Daten!$D$9,0)","v":0},{"$f":"IF(L$32>0,Eing.Allg..Daten!$D$9,0)","v":0},{"$f":"IF(M$32>0,Eing.Allg..Daten!$D$9,0)","v":0},0,null,{"$f":"IF(P$32>0,Eing.Allg..Daten!$D$9,0)","v":0},{"$f":"IF(Q$32>0,Eing.Allg..Daten!$D$9,0)","v":0},{"$f":"IF(R$32>0,Eing.Allg..Daten!$D$9,0)","v":0},{"$f":"IF(S$32>0,Eing.Allg..Daten!$D$9,0)","v":0},0,null,{"$f":"IF(V$32>0,Eing.Allg..Daten!$D$9,0)","v":0},{"$f":"IF(W$32>0,Eing.Allg..Daten!$D$9,0)","v":0},{"$f":"IF(X$32>0,Eing.Allg..Daten!$D$9,0)","v":0},{"$f":"IF(Y$32>0,Eing.Allg..Daten!$D$9,0)","v":0},0,null,{"$f":"IF(AB$32>0,Eing.Allg..Daten!$D$9,0)","v":0},{"$f":"IF(AC$32>0,Eing.Allg..Daten!$D$9,0)","v":0},{"$f":"IF(AD$32>0,Eing.Allg..Daten!$D$9,0)","v":0},{"$f":"IF(AE$32>0,Eing.Allg..Daten!$D$9,0)","v":0},0]
[14,{"$f":"IF(+Eing.Allg..Daten!$D$8<>\"\",+VLOOKUP(A45,Bahnen!$A$52:$B$144,2,0),\"\")","v":"Schrägerkreis mit Niere"},null,{"$f":"IF(D$32>0,Eing.Allg..Daten!$D$9,0)","v":0},{"$f":"IF(E$32>0,Eing.Allg..Daten!$D$9,0)","v":0},{"$f":"IF(F$32>0,Eing.Allg..Daten!$D$9,0)","v":0},{"$f":"IF(G$32>0,Eing.Allg..Daten!$D$9,0)","v":0},0,null,{"$f":"IF(J$32>0,Eing.Allg..Daten!$D$9,0)","v":0},{"$f":"IF(K$32>0,Eing.Allg..Daten!$D$9,0)","v":0},{"$f":"IF(L$32>0,Eing.Allg..Daten!$D$9,0)","v":0},{"$f":"IF(M$32>0,Eing.Allg..Daten!$D$9,0)","v":0},0,null,{"$f":"IF(P$32>0,Eing.Allg..Daten!$D$9,0)","v":0},{"$f":"IF(Q$32>0,Eing.Allg..Daten!$D$9,0)","v":0},{"$f":"IF(R$32>0,Eing.Allg..Daten!$D$9,0)","v":0},{"$f":"IF(S$32>0,Eing.Allg..Daten!$D$9,0)","v":0},0,null,{"$f":"IF(V$32>0,Eing.Allg..Daten!$D$9,0)","v":0},{"$f":"IF(W$32>0,Eing.Allg..Daten!$D$9,0)","v":0},{"$f":"IF(X$32>0,Eing.Allg..Daten!$D$9,0)","v":0},{"$f":"IF(Y$32>0,Eing.Allg..Daten!$D$9,0)","v":0},0,null,{"$f":"IF(AB$32>0,Eing.Allg..Daten!$D$9,0)","v":0},{"$f":"IF(AC$32>0,Eing.Allg..Daten!$D$9,0)","v":0},{"$f":"IF(AD$32>0,Eing.Allg..Daten!$D$9,0)","v":0},{"$f":"IF(AE$32>0,Eing.Allg..Daten!$D$9,0)","v":0},0]
[15,{"$f":"IF(+Eing.Allg..Daten!$D$8<>\"\",+VLOOKUP(A46,Bahnen!$A$52:$B$144,2,0),\"\")","v":"Brücke"},null,{"$f":"IF(D$32>0,Eing.Allg..Daten!$D$9,0)","v":0},{"$f":"IF(E$32>0,Eing.Allg..Daten!$D$9,0)","v":0},{"$f":"IF(F$32>0,Eing.Allg..Daten!$D$9,0)","v":0},{"$f":"IF(G$32>0,Eing.Allg..Daten!$D$9,0)","v":0},0,null,{"$f":"IF(J$32>0,Eing.Allg..Daten!$D$9,0)","v":0},{"$f":"IF(K$32>0,Eing.Allg..Daten!$D$9,0)","v":0},{"$f":"IF(L$32>0,Eing.Allg..Daten!$D$9,0)","v":0},{"$f":"IF(M$32>0,Eing.Allg..Daten!$D$9,0)","v":0},0,null,{"$f":"IF(P$32>0,Eing.Allg..Daten!$D$9,0)","v":0},{"$f":"IF(Q$32>0,Eing.Allg..Daten!$D$9,0)","v":0},{"$f":"IF(R$32>0,Eing.Allg..Daten!$D$9,0)","v":0},{"$f":"IF(S$32>0,Eing.Allg..Daten!$D$9,0)","v":0},0,null,{"$f":"IF(V$32>0,Eing.Allg..Daten!$D$9,0)","v":0},{"$f":"IF(W$32>0,Eing.Allg..Daten!$D$9,0)","v":0},{"$f":"IF(X$32>0,Eing.Allg..Daten!$D$9,0)","v":0},{"$f":"IF(Y$32>0,Eing.Allg..Daten!$D$9,0)","v":0},0,null,{"$f":"IF(AB$32>0,Eing.Allg..Daten!$D$9,0)","v":0},{"$f":"IF(AC$32>0,Eing.Allg..Daten!$D$9,0)","v":0},{"$f":"IF(AD$32>0,Eing.Allg..Daten!$D$9,0)","v":0},{"$f":"IF(AE$32>0,Eing.Allg..Daten!$D$9,0)","v":0},0]
[16,{"$f":"IF(+Eing.Allg..Daten!$D$8<>\"\",+VLOOKUP(A47,Bahnen!$A$52:$B$144,2,0),\"\")","v":"Vulkan"},null,{"$f":"IF(D$32>0,Eing.Allg..Daten!$D$9,0)","v":0},{"$f":"IF(E$32>0,Eing.Allg..Daten!$D$9,0)","v":0},{"$f":"IF(F$32>0,Eing.Allg..Daten!$D$9,0)","v":0},{"$f":"IF(G$32>0,Eing.Allg..Daten!$D$9,0)","v":0},0,null,{"$f":"IF(J$32>0,Eing.Allg..Daten!$D$9,0)","v":0},{"$f":"IF(K$32>0,Eing.Allg..Daten!$D$9,0)","v":0},{"$f":"IF(L$32>0,Eing.Allg..Daten!$D$9,0)","v":0},{"$f":"IF(M$32>0,Eing.Allg..Daten!$D$9,0)","v":0},0,null,{"$f":"IF(P$32>0,Eing.Allg..Daten!$D$9,0)","v":0},{"$f":"IF(Q$32>0,Eing.Allg..Daten!$D$9,0)","v":0},{"$f":"IF(R$32>0,Eing.Allg..Daten!$D$9,0)","v":0},{"$f":"IF(S$32>0,Eing.Allg..Daten!$D$9,0)","v":0},0,null,{"$f":"IF(V$32>0,Eing.Allg..Daten!$D$9,0)","v":0},{"$f":"IF(W$32>0,Eing.Allg..Daten!$D$9,0)","v":0},{"$f":"IF(X$32>0,Eing.Allg..Daten!$D$9,0)","v":0},{"$f":"IF(Y$32>0,Eing.Allg..Daten!$D$9,0)","v":0},0,null,{"$f":"IF(AB$32>0,Eing.Allg..Daten!$D$9,0)","v":0},{"$f":"IF(AC$32>0,Eing.Allg..Daten!$D$9,0)","v":0},{"$f":"IF(AD$32>0,Eing.Allg..Daten!$D$9,0)","v":0},{"$f":"IF(AE$32>0,Eing.Allg..Daten!$D$9,0)","v":0},0]
[17,{"$f":"IF(+Eing.Allg..Daten!$D$8<>\"\",+VLOOKUP(A48,Bahnen!$A$52:$B$144,2,0),\"\")","v":"Auflaufkeil mit Zielfenster"},null,{"$f":"IF(D$32>0,Eing.Allg..Daten!$D$9,0)","v":0},{"$f":"IF(E$32>0,Eing.Allg..Daten!$D$9,0)","v":0},{"$f":"IF(F$32>0,Eing.Allg..Daten!$D$9,0)","v":0},{"$f":"IF(G$32>0,Eing.Allg..Daten!$D$9,0)","v":0},0,null,{"$f":"IF(J$32>0,Eing.Allg..Daten!$D$9,0)","v":0},{"$f":"IF(K$32>0,Eing.Allg..Daten!$D$9,0)","v":0},{"$f":"IF(L$32>0,Eing.Allg..Daten!$D$9,0)","v":0},{"$f":"IF(M$32>0,Eing.Allg..Daten!$D$9,0)","v":0},0,null,{"$f":"IF(P$32>0,Eing.Allg..Daten!$D$9,0)","v":0},{"$f":"IF(Q$32>0,Eing.Allg..Daten!$D$9,0)","v":0},{"$f":"IF(R$32>0,Eing.Allg..Daten!$D$9,0)","v":0},{"$f":"IF(S$32>0,Eing.Allg..Daten!$D$9,0)","v":0},0,null,{"$f":"IF(V$32>0,Eing.Allg..Daten!$D$9,0)","v":0},{"$f":"IF(W$32>0,Eing.Allg..Daten!$D$9,0)","v":0},{"$f":"IF(X$32>0,Eing.Allg..Daten!$D$9,0)","v":0},{"$f":"IF(Y$32>0,Eing.Allg..Daten!$D$9,0)","v":0},0,null,{"$f":"IF(AB$32>0,Eing.Allg..Daten!$D$9,0)","v":0},{"$f":"IF(AC$32>0,Eing.Allg..Daten!$D$9,0)","v":0},{"$f":"IF(AD$32>0,Eing.Allg..Daten!$D$9,0)","v":0},{"$f":"IF(AE$32>0,Eing.Allg..Daten!$D$9,0)","v":0},0]
[18,{"$f":"IF(+Eing.Allg..Daten!$D$8<>\"\",+VLOOKUP(A49,Bahnen!$A$52:$B$144,2,0),\"\")","v":"Blitz"},null,{"$f":"IF(D$32>0,Eing.Allg..Daten!$D$9,0)","v":0},{"$f":"IF(E$32>0,Eing.Allg..Daten!$D$9,0)","v":0},{"$f":"IF(F$32>0,Eing.Allg..Daten!$D$9,0)","v":0},{"$f":"IF(G$32>0,Eing.Allg..Daten!$D$9,0)","v":0},0,null,{"$f":"IF(J$32>0,Eing.Allg..Daten!$D$9,0)","v":0},{"$f":"IF(K$32>0,Eing.Allg..Daten!$D$9,0)","v":0},{"$f":"IF(L$32>0,Eing.Allg..Daten!$D$9,0)","v":0},{"$f":"IF(M$32>0,Eing.Allg..Daten!$D$9,0)","v":0},0,null,{"$f":"IF(P$32>0,Eing.Allg..Daten!$D$9,0)","v":0},{"$f":"IF(Q$32>0,Eing.Allg..Daten!$D$9,0)","v":0},{"$f":"IF(R$32>0,Eing.Allg..Daten!$D$9,0)","v":0},{"$f":"IF(S$32>0,Eing.Allg..Daten!$D$9,0)","v":0},0,null,{"$f":"IF(V$32>0,Eing.Allg..Daten!$D$9,0)","v":0},{"$f":"IF(W$32>0,Eing.Allg..Daten!$D$9,0)","v":0},{"$f":"IF(X$32>0,Eing.Allg..Daten!$D$9,0)","v":0},{"$f":"IF(Y$32>0,Eing.Allg..Daten!$D$9,0)","v":0},0,null,{"$f":"IF(AB$32>0,Eing.Allg..Daten!$D$9,0)","v":0},{"$f":"IF(AC$32>0,Eing.Allg..Daten!$D$9,0)","v":0},{"$f":"IF(AD$32>0,Eing.Allg..Daten!$D$9,0)","v":0},{"$f":"IF(AE$32>0,Eing.Allg..Daten!$D$9,0)","v":0},0]
[null,"Strafpunkte",null,null,null,null,null,0,null,null,null,null,null,0,null,null,null,null,null,0,null,null,null,null,null,0,null,null,null,null,null,0]
[null,null,null,{"$f":"IF(D49<>0,SUM(D32:D50),999)","v":999},{"$f":"IF(E49<>0,SUM(E32:E50),999)","v":999},{"$f":"IF(F49<>0,SUM(F32:F50),999)","v":999},{"$f":"IF(G49<>0,SUM(G32:G50),999)","v":999},{"$f":"SUM(H32:H50)","v":0},null,{"$f":"IF(J49<>0,SUM(J32:J50),999)","v":999},{"$f":"IF(K49<>0,SUM(K32:K50),999)","v":999},{"$f":"IF(L49<>0,SUM(L32:L50),999)","v":999},{"$f":"IF(M49<>0,SUM(M32:M50),999)","v":999},{"$f":"SUM(N32:N50)","v":0},null,{"$f":"IF(P49<>0,SUM(P32:P50),999)","v":999},{"$f":"IF(Q49<>0,SUM(Q32:Q50),999)","v":999},{"$f":"IF(R49<>0,SUM(R32:R50),999)","v":999},{"$f":"IF(S49<>0,SUM(S32:S50),999)","v":999},{"$f":"SUM(T32:T50)","v":0},null,{"$f":"IF(V49<>0,SUM(V32:V50),999)","v":999},{"$f":"IF(W49<>0,SUM(W32:W50),999)","v":999},{"$f":"IF(X49<>0,SUM(X32:X50),999)","v":999},{"$f":"IF(Y49<>0,SUM(Y32:Y50),999)","v":999},{"$f":"SUM(Z32:Z50)","v":0},null,{"$f":"IF(AB49<>0,SUM(AB32:AB50),999)","v":999},{"$f":"IF(AC49<>0,SUM(AC32:AC50),999)","v":999},{"$f":"IF(AD49<>0,SUM(AD32:AD50),999)","v":999},{"$f":"IF(AE49<>0,SUM(AE32:AE50),999)","v":999},{"$f":"SUM(AF32:AF50)","v":0}]
[null,null,null,{"$f":"SUM(D51:G51)","v":3996},null,null,null,null,null,{"$f":"SUM(J51:M51)","v":3996},null,null,null,null,null,{"$f":"SUM(P51:S51)","v":3996},null,null,null,null,null,{"$f":"SUM(V51:Y51)","v":3996},null,null,null,null,null,{"$f":"SUM(AB51:AE51)","v":3996}]
[null,null,null,{"$f":"IF(D32=0,\"DNS\",IF(D49=0,\"DNF\",1))","v":"DNS"},{"$f":"IF(E32=0,\"DNS\",IF(E49=0,\"DNF\",1))","v":"DNS"},{"$f":"IF(F32=0,\"DNS\",IF(F49=0,\"DNF\",1))","v":"DNS"},{"$f":"IF(G32=0,\"DNS\",IF(G49=0,\"DNF\",1))","v":"DNS"},{"$f":"IF(SUM(D53:G53)=Tagestabelle!$N$3,\"Fin\",\"DNF\")","v":"Fin"},null,{"$f":"IF(J32=0,\"DNS\",IF(J49=0,\"DNF\",1))","v":"DNS"},{"$f":"IF(K32=0,\"DNS\",IF(K49=0,\"DNF\",1))","v":"DNS"},{"$f":"IF(L32=0,\"DNS\",IF(L49=0,\"DNF\",1))","v":"DNS"},{"$f":"IF(M32=0,\"DNS\",IF(M49=0,\"DNF\",1))","v":"DNS"},{"$f":"IF(SUM(J53:M53)=Tagestabelle!$N$3,\"Fin\",\"DNF\")","v":"Fin"},null,{"$f":"IF(P32=0,\"DNS\",IF(P49=0,\"DNF\",1))","v":"DNS"},{"$f":"IF(Q32=0,\"DNS\",IF(Q49=0,\"DNF\",1))","v":"DNS"},{"$f":"IF(R32=0,\"DNS\",IF(R49=0,\"DNF\",1))","v":"DNS"},{"$f":"IF(S32=0,\"DNS\",IF(S49=0,\"DNF\",1))","v":"DNS"},{"$f":"IF(SUM(P53:S53)=Tagestabelle!$N$3,\"Fin\",\"DNF\")","v":"Fin"},null,{"$f":"IF(V32=0,\"DNS\",IF(V49=0,\"DNF\",1))","v":"DNS"},{"$f":"IF(W32=0,\"DNS\",IF(W49=0,\"DNF\",1))","v":"DNS"},{"$f":"IF(X32=0,\"DNS\",IF(X49=0,\"DNF\",1))","v":"DNS"},{"$f":"IF(Y32=0,\"DNS\",IF(Y49=0,\"DNF\",1))","v":"DNS"},{"$f":"IF(SUM(V53:Y53)=Tagestabelle!$N$3,\"Fin\",\"DNF\")","v":"Fin"},null,{"$f":"IF(AB32=0,\"DNS\",IF(AB49=0,\"DNF\",1))","v":"DNS"},{"$f":"IF(AC32=0,\"DNS\",IF(AC49=0,\"DNF\",1))","v":"DNS"},{"$f":"IF(AD32=0,\"DNS\",IF(AD49=0,\"DNF\",1))","v":"DNS"},{"$f":"IF(AE32=0,\"DNS\",IF(AE49=0,\"DNF\",1))","v":"DNS"},{"$f":"IF(SUM(AB53:AE53)=Tagestabelle!$N$3,\"Fin\",\"DNF\")","v":"Fin"}]
[null,"M2",null,"R1","R2","R3","R4"]
[null,"KKLEINSTE8",null,{"$f":"SMALL(D60:D67,8)","v":999.00008000000003},{"$f":"SMALL(E60:E67,8)","v":999.00008000000003},{"$f":"SMALL(F60:F67,8)","v":999.00008000000003},{"$f":"SMALL(G60:G67,8)","v":999.00008000000003}]
[null,"KKLEINSTE7",null,{"$f":"SMALL(D60:D67,7)","v":999.00007000000005},{"$f":"SMALL(E60:E67,7)","v":999.00007000000005},{"$f":"SMALL(F60:F67,7)","v":999.00007000000005},{"$f":"SMALL(G60:G67,7)","v":999.00007000000005}]
[null,"KKLEINSTE6",null,{"$f":"SMALL(D60:D67,6)","v":999.00005999999996},{"$f":"SMALL(E60:E67,6)","v":999.00005999999996},{"$f":"SMALL(F60:F67,6)","v":999.00005999999996},{"$f":"SMALL(G60:G67,6)","v":999.00005999999996}]
[null,"KKLEINSTE5",null,{"$f":"SMALL(D60:D67,5)","v":999.00004999999999},{"$f":"SMALL(E60:E67,5)","v":999.00004999999999},{"$f":"SMALL(F60:F67,5)","v":999.00004999999999},{"$f":"SMALL(G60:G67,5)","v":999.00004999999999}]
[]
[8.0000000000000007E-5,"S1",null,{"$f":"D25+A60","v":999.00008000000003},{"$f":"E25+A60","v":999.00008000000003},{"$f":"F25+A60","v":999.00008000000003},{"$f":"G25+A60","v":999.00008000000003},"S1"]
[6.9999999999999994E-5,"S2",null,{"$f":"J25+A61","v":999.00007000000005},{"$f":"K25+A61","v":999.00007000000005},{"$f":"L25+A61","v":999.00007000000005},{"$f":"M25+A61","v":999.00007000000005},"S2"]
[6.0000000000000002E-5,"S3",null,{"$f":"P25+A62","v":999.00005999999996},{"$f":"Q25+A62","v":999.00005999999996},{"$f":"R25+A62","v":999.00005999999996},{"$f":"S25+A62","v":999.00005999999996},"S3"]
[5.0000000000000002E-5,"S4",null,{"$f":"V25+A63","v":999.00004999999999},{"$f":"W25+A63","v":999.00004999999999},{"$f":"X25+A63","v":999.00004999999999},{"$f":"Y25+A63","v":999.00004999999999},"S4"]
[4.0000000000000003E-5,"S5",null,{"$f":"D51+A64","v":999.00004000000001},{"$f":"E51+A64","v":999.00004000000001},{"$f":"F51+A64","v":999.00004000000001},{"$f":"G51+A64","v":999.00004000000001},"S5"]
[3.0000000000000001E-5,"S6",null,{"$f":"J51+A65","v":999.00003000000004},{"$f":"K51+A65","v":999.00003000000004},{"$f":"L51+A65","v":999.00003000000004},{"$f":"M51+A65","v":999.00003000000004},"S6"]
[2.0000000000000002E-5,"S7",null,{"$f":"P51+A66","v":999.00001999999995},{"$f":"Q51+A66","v":999.00001999999995},{"$f":"R51+A66","v":999.00001999999995},{"$f":"S51+A66","v":999.00001999999995},"S7"]
[1.0000000000000001E-5,"S8",null,{"$f":"V51+A67","v":999.00000999999997},{"$f":"W51+A67","v":999.00000999999997},{"$f":"X51+A67","v":999.00000999999997},{"$f":"Y51+A67","v":999.00000999999997},"S8"]

{"sheet":"Ma3","index":11,"n_rows":67,"n_cols":58,"rows_kept":67,"cut":false,"hidden":false,"merged":[[51,15,51,19],[0,42,0,44],[1,42,1,57],[2,42,2,45],[2,46,2,49],[2,50,2,53],[2,54,2,57],[2,27,2,28],[3,27,3,28],[4,27,4,28],[5,27,5,28],[6,27,6,28],[14,27,14,28],[15,27,15,28],[16,27,16,28],[17,27,17,28],[4,21,4,22],[2,0,2,1],[3,0,3,1],[25,3,25,7],[51,21,51,25],[50,0,50,1],[25,9,25,13],[25,15,25,19],[25,21,25,25],[51,3,51,7],[30,15,30,16],[51,9,51,13],[28,0,28,1],[29,0,29,1],[24,0,24,1],[30,21,30,22],[30,3,30,4],[30,9,30,10],[4,3,4,4],[4,9,4,10],[4,15,4,16],[51,27,51,31],[7,27,7,28],[8,27,8,28],[9,27,9,28],[10,27,10,28],[11,27,11,28],[12,27,12,28],[13,27,13,28],[30,27,30,28],[18,27,18,28],[24,27,25,28],[19,27,19,28],[20,27,20,28],[21,27,21,28],[22,27,22,28],[23,27,23,28]]}
["Mannschaft:",null,null,{"$f":"+Ma3_Eing","v":"MGC Kahler Sandhasen"},null,null,null,null,null,null,null,{"$f":"+Seite1!B3","v":"Gruppenliga"},null,null,null,null,null,null,null,{"$f":"+Seite1!C5","v":3},null,{"$f":"+Seite1!D5","v":". Spieltag         "},null,null,null,null,null,null,null,null,null,null,null,null,null,null,null,null,null,null,null,null,"Spieler in der Wertung:",null,null,{"$f":"AnzSpieler","v":5},"+ 1 (+1)"]
[null,null,null,"M3S1R1","M3S1R2","M3S1R3","M3S1R4",null,null,"M3S2R1","M3S2R2","M3S2R3","M3S2R4",null,null,"M3S3R1","M3S3R2","M3S3R3","M3S3R4",null,null,"M3S4R1","M3S4R2","M3S4R3","M3S4R4",null,null,null,null,null,null,null,null,null,null,null,null,null,null,null,null,null,"Streichrunden"]
[null,null,null,"Spieler 1",null,null,null,"Kat.",null,"Spieler 2",null,null,null,"Kat.",null,"Spieler 3",null,null,null,"Kat.",null,"Spieler 4",null,null,null,"Kat.",null,"Mannsch. ",null,null,null,null,null,null,null,null,null,null,null,null,null,null,"R1",null,null,null,"R2",null,null,null,"R3",null,null,null,"R3"]
["Bahn  ",null,null,{"$f":"+M3S1","v":{"$error":"#N/A"}},null,null,null,{"$f":"+M3S1Kat","v":{"$error":"#N/A"}},null,{"$f":"+M3S2","v":{"$error":"#N/A"}},null,null,null,{"$f":"+M3S2Kat","v":{"$error":"#N/A"}},null,{"$f":"+M3S3","v":{"$error":"#N/A"}},null,null,null,{"$f":"+M3S3Kat","v":{"$error":"#N/A"}},null,{"$f":"+M3S4","v":{"$error":"#N/A"}},null,null,null,{"$f":"+M3S4Kat","v":{"$error":"#N/A"}},null,"gesamt",null,null,null,null,null,null,null,null,null,null,null,null,null,null,"Kl_8","Kl_7","Kl_6","Kl_5","Kl_8","Kl_7","Kl_6","Kl_5","Kl_8","Kl_7","Kl_6","Kl_5","Kl_8","Kl_7","Kl_6","Kl_5"]
["Nr.","Bez. ",null,{"$f":"+M3S1p","v":0},null,null,null,null,null,{"$f":"+M3S2p","v":0},null,null,null,null,null,{"$f":"+M3S3p","v":0},null,null,null,null,null,{"$f":"+M3S4p","v":0},null,null,null,null,null,null,null,null,null,null,null,null,null,null,null,null,null,null,null,null,{"$f":"CONCATENATE($B$54,VLOOKUP(D$55,$D$60:$H$67,5,FALSE),$D$54)","v":"M3S1R1"},{"$f":"CONCATENATE($B$54,VLOOKUP(D$56,$D$60:$H$67,5,FALSE),$D$54)","v":"M3S2R1"},{"$f":"CONCATENATE($B$54,VLOOKUP(D$57,$D$60:$H$67,5,FALSE),$D$54)","v":"M3S3R1"},{"$f":"CONCATENATE($B$54,VLOOKUP(D$58,$D$60:$H$67,5,FALSE),$D$54)","v":"M3S4R1"},{"$f":"CONCATENATE($B$54,VLOOKUP(E$55,$E$60:$H$67,4,FALSE),$E$54)","v":"M3S1R2"},{"$f":"CONCATENATE($B$54,VLOOKUP(E$56,$E$60:$H$67,4,FALSE),$E$54)","v":"M3S2R2"},{"$f":"CONCATENATE($B$54,VLOOKUP(E$57,$E$60:$H$67,4,FALSE),$E$54)","v":"M3S3R2"},{"$f":"CONCATENATE($B$54,VLOOKUP(E$58,$E$60:$H$67,4,FALSE),$E$54)","v":"M3S4R2"},{"$f":"CONCATENATE($B$54,VLOOKUP(F$55,$F$60:$H$67,3,FALSE),$F$54)","v":"M3S1R3"},{"$f":"CONCATENATE($B$54,VLOOKUP(F$56,$F$60:$H$67,3,FALSE),$F$54)","v":"M3S2R3"},{"$f":"CONCATENATE($B$54,VLOOKUP(F$57,$F$60:$H$67,3,FALSE),$F$54)","v":"M3S3R3"},{"$f":"CONCATENATE($B$54,VLOOKUP(F$58,$F$60:$H$67,3,FALSE),$F$54)","v":"M3S4R3"},{"$f":"CONCATENATE($B$54,VLOOKUP(G$55,$G$60:$H$67,2,FALSE),$G$54)","v":"M3S1R4"},{"$f":"CONCATENATE($B$54,VLOOKUP(G$56,$G$60:$H$67,2,FALSE),$G$54)","v":"M3S2R4"},{"$f":"CONCATENATE($B$54,VLOOKUP(G$57,$G$60:$H$67,2,FALSE),$G$54)","v":"M3S3R4"},{"$f":"CONCATENATE($B$54,VLOOKUP(G$58,$G$60:$H$67,2,FALSE),$G$54)","v":"M3S4R4"}]
[1,{"$f":"IF(+Eing.Allg..Daten!$D$8<>\"\",+VLOOKUP(A6,Bahnen!$A$52:$B$144,2,0),\"\")","v":"Gerade Bahn ohne Hindernis"},null,null,null,null,null,{"$f":"SUM(D6:G6)","v":0},null,null,null,null,null,{"$f":"SUM(J6:M6)","v":0},null,null,null,null,null,{"$f":"SUM(P6:S6)","v":0},null,null,null,null,null,{"$f":"SUM(V6:Y6)","v":0},null,{"$f":"+H6+N6+T6+Z6+H32+N32++T32+Z32-AP6","v":0},null,null,null,null,null,null,null,null,null,null,null,null,null,{"$f":"IF($AT$1=6,SUM(AQ6:AR6,AU6:AV6,AY6:AZ6,BC6:BD6),IF($AT$1=5,SUM(AQ6:AS6,AU6:AW6,AY6:BA6,BC6:BE6),IF($AT$1=4,SUM(AQ6:AT6,AU6:AX6,AY6:BB6,BC6:BF6))))","v":0},{"$f":"(IF(ISNA(HLOOKUP(AQ$5,$D$2:$Z$23,5,FALSE))=TRUE,0,HLOOKUP(AQ$5,$D$2:$Z$23,5,FALSE)))+(IF(ISNA(HLOOKUP(AQ$5,$D$28:$Z$49,5,FALSE))=TRUE,0,HLOOKUP(AQ$5,$D$28:$Z$49,5,FALSE)))","v":0},0,0,0,0,0,0,0,0,0,0,0,0,0,0,0]
[2,{"$f":"IF(+Eing.Allg..Daten!$D$8<>\"\",+VLOOKUP(A7,Bahnen!$A$52:$B$144,2,0),\"\")","v":"Salto"},null,{"$f":"IF(D$6>0,Eing.Allg..Daten!$D$9,0)","v":0},{"$f":"IF(E$6>0,Eing.Allg..Daten!$D$9,0)","v":0},{"$f":"IF(F$6>0,Eing.Allg..Daten!$D$9,0)","v":0},{"$f":"IF(G$6>0,Eing.Allg..Daten!$D$9,0)","v":0},0,null,{"$f":"IF(J$6>0,Eing.Allg..Daten!$D$9,0)","v":0},{"$f":"IF(K$6>0,Eing.Allg..Daten!$D$9,0)","v":0},{"$f":"IF(L$6>0,Eing.Allg..Daten!$D$9,0)","v":0},{"$f":"IF(M$6>0,Eing.Allg..Daten!$D$9,0)","v":0},0,null,{"$f":"IF(P$6>0,Eing.Allg..Daten!$D$9,0)","v":0},{"$f":"IF(Q$6>0,Eing.Allg..Daten!$D$9,0)","v":0},{"$f":"IF(R$6>0,Eing.Allg..Daten!$D$9,0)","v":0},{"$f":"IF(S$6>0,Eing.Allg..Daten!$D$9,0)","v":0},0,null,{"$f":"IF(V$6>0,Eing.Allg..Daten!$D$9,0)","v":0},{"$f":"IF(W$6>0,Eing.Allg..Daten!$D$9,0)","v":0},{"$f":"IF(X$6>0,Eing.Allg..Daten!$D$9,0)","v":0},{"$f":"IF(Y$6>0,Eing.Allg..Daten!$D$9,0)","v":0},0,null,0,null,null,null,null,null,null,null,null,null,null,null,null,null,{"$f":"IF($AT$1=6,SUM(AQ7:AR7,AU7:AV7,AY7:AZ7,BC7:BD7),IF($AT$1=5,SUM(AQ7:AS7,AU7:AW7,AY7:BA7,BC7:BE7),IF($AT$1=4,SUM(AQ7:AT7,AU7:AX7,AY7:BB7,BC7:BF7))))","v":0},{"$f":"(IF(ISNA(HLOOKUP(AQ$5,$D$2:$Z$23,6,FALSE))=TRUE,0,HLOOKUP(AQ$5,$D$2:$Z$23,6,FALSE)))+(IF(ISNA(HLOOKUP(AQ$5,$D$28:$Z$49,6,FALSE))=TRUE,0,HLOOKUP(AQ$5,$D$28:$Z$49,6,FALSE)))","v":0},0,0,0,0,0,0,0,0,0,0,0,0,0,0,0]
[3,{"$f":"IF(+Eing.Allg..Daten!$D$8<>\"\",+VLOOKUP(A8,Bahnen!$A$52:$B$144,2,0),\"\")","v":"Pyramiden"},null,{"$f":"IF(D$6>0,Eing.Allg..Daten!$D$9,0)","v":0},{"$f":"IF(E$6>0,Eing.Allg..Daten!$D$9,0)","v":0},{"$f":"IF(F$6>0,Eing.Allg..Daten!$D$9,0)","v":0},{"$f":"IF(G$6>0,Eing.Allg..Daten!$D$9,0)","v":0},0,null,{"$f":"IF(J$6>0,Eing.Allg..Daten!$D$9,0)","v":0},{"$f":"IF(K$6>0,Eing.Allg..Daten!$D$9,0)","v":0},{"$f":"IF(L$6>0,Eing.Allg..Daten!$D$9,0)","v":0},{"$f":"IF(M$6>0,Eing.Allg..Daten!$D$9,0)","v":0},0,null,{"$f":"IF(P$6>0,Eing.Allg..Daten!$D$9,0)","v":0},{"$f":"IF(Q$6>0,Eing.Allg..Daten!$D$9,0)","v":0},{"$f":"IF(R$6>0,Eing.Allg..Daten!$D$9,0)","v":0},{"$f":"IF(S$6>0,Eing.Allg..Daten!$D$9,0)","v":0},0,null,{"$f":"IF(V$6>0,Eing.Allg..Daten!$D$9,0)","v":0},{"$f":"IF(W$6>0,Eing.Allg..Daten!$D$9,0)","v":0},{"$f":"IF(X$6>0,Eing.Allg..Daten!$D$9,0)","v":0},{"$f":"IF(Y$6>0,Eing.Allg..Daten!$D$9,0)","v":0},0,null,0,null,null,null,null,null,null,null,null,null,null,null,null,null,0,{"$f":"(IF(ISNA(HLOOKUP(AQ$5,$D$2:$Z$23,7,FALSE))=TRUE,0,HLOOKUP(AQ$5,$D$2:$Z$23,7,FALSE)))+(IF(ISNA(HLOOKUP(AQ$5,$D$28:$Z$49,7,FALSE))=TRUE,0,HLOOKUP(AQ$5,$D$28:$Z$49,7,FALSE)))","v":0},0,0,0,0,0,0,0,0,0,0,0,0,0,0,0]
[4,{"$f":"IF(+Eing.Allg..Daten!$D$8<>\"\",+VLOOKUP(A9,Bahnen!$A$52:$B$144,2,0),\"\")","v":"Mittelhügel"},null,{"$f":"IF(D$6>0,Eing.Allg..Daten!$D$9,0)","v":0},{"$f":"IF(E$6>0,Eing.Allg..Daten!$D$9,0)","v":0},{"$f":"IF(F$6>0,Eing.Allg..Daten!$D$9,0)","v":0},{"$f":"IF(G$6>0,Eing.Allg..Daten!$D$9,0)","v":0},0,null,{"$f":"IF(J$6>0,Eing.Allg..Daten!$D$9,0)","v":0},{"$f":"IF(K$6>0,Eing.Allg..Daten!$D$9,0)","v":0},{"$f":"IF(L$6>0,Eing.Allg..Daten!$D$9,0)","v":0},{"$f":"IF(M$6>0,Eing.Allg..Daten!$D$9,0)","v":0},0,null,{"$f":"IF(P$6>0,Eing.Allg..Daten!$D$9,0)","v":0},{"$f":"IF(Q$6>0,Eing.Allg..Daten!$D$9,0)","v":0},{"$f":"IF(R$6>0,Eing.Allg..Daten!$D$9,0)","v":0},{"$f":"IF(S$6>0,Eing.Allg..Daten!$D$9,0)","v":0},0,null,{"$f":"IF(V$6>0,Eing.Allg..Daten!$D$9,0)","v":0},{"$f":"IF(W$6>0,Eing.Allg..Daten!$D$9,0)","v":0},{"$f":"IF(X$6>0,Eing.Allg..Daten!$D$9,0)","v":0},{"$f":"IF(Y$6>0,Eing.Allg..Daten!$D$9,0)","v":0},0,null,0,null,null,null,null,null,null,null,null,null,null,null,null,null,0,{"$f":"(IF(ISNA(HLOOKUP(AQ$5,$D$2:$Z$23,8,FALSE))=TRUE,0,HLOOKUP(AQ$5,$D$2:$Z$23,8,FALSE)))+(IF(ISNA(HLOOKUP(AQ$5,$D$28:$Z$49,8,FALSE))=TRUE,0,HLOOKUP(AQ$5,$D$28:$Z$49,8,FALSE)))","v":0},0,0,0,0,0,0,0,0,0,0,0,0,0,0,0]
[5,{"$f":"IF(+Eing.Allg..Daten!$D$8<>\"\",+VLOOKUP(A10,Bahnen!$A$52:$B$144,2,0),\"\")","v":"\"V\" - Hindernis"},null,{"$f":"IF(D$6>0,Eing.Allg..Daten!$D$9,0)","v":0},{"$f":"IF(E$6>0,Eing.Allg..Daten!$D$9,0)","v":0},{"$f":"IF(F$6>0,Eing.Allg..Daten!$D$9,0)","v":0},{"$f":"IF(G$6>0,Eing.Allg..Daten!$D$9,0)","v":0},0,null,{"$f":"IF(J$6>0,Eing.Allg..Daten!$D$9,0)","v":0},{"$f":"IF(K$6>0,Eing.Allg..Daten!$D$9,0)","v":0},{"$f":"IF(L$6>0,Eing.Allg..Daten!$D$9,0)","v":0},{"$f":"IF(M$6>0,Eing.Allg..Daten!$D$9,0)","v":0},0,null,{"$f":"IF(P$6>0,Eing.Allg..Daten!$D$9,0)","v":0},{"$f":"IF(Q$6>0,Eing.Allg..Daten!$D$9,0)","v":0},{"$f":"IF(R$6>0,Eing.Allg..Daten!$D$9,0)","v":0},{"$f":"IF(S$6>0,Eing.Allg..Daten!$D$9,0)","v":0},0,null,{"$f":"IF(V$6>0,Eing.Allg..Daten!$D$9,0)","v":0},{"$f":"IF(W$6>0,Eing.Allg..Daten!$D$9,0)","v":0},{"$f":"IF(X$6>0,Eing.Allg..Daten!$D$9,0)","v":0},{"$f":"IF(Y$6>0,Eing.Allg..Daten!$D$9,0)","v":0},0,null,0,null,null,null,null,null,null,null,null,null,null,null,null,null,0,{"$f":"(IF(ISNA(HLOOKUP(AQ$5,$D$2:$Z$23,9,FALSE))=TRUE,0,HLOOKUP(AQ$5,$D$2:$Z$23,9,FALSE)))+(IF(ISNA(HLOOKUP(AQ$5,$D$28:$Z$49,9,FALSE))=TRUE,0,HLOOKUP(AQ$5,$D$28:$Z$49,9,FALSE)))","v":0},0,0,0,0,0,0,0,0,0,0,0,0,0,0,0]
[6,{"$f":"IF(+Eing.Allg..Daten!$D$8<>\"\",+VLOOKUP(A11,Bahnen!$A$52:$B$144,2,0),\"\")","v":"Doppelwellen"},null,{"$f":"IF(D$6>0,Eing.Allg..Daten!$D$9,0)","v":0},{"$f":"IF(E$6>0,Eing.Allg..Daten!$D$9,0)","v":0},{"$f":"IF(F$6>0,Eing.Allg..Daten!$D$9,0)","v":0},{"$f":"IF(G$6>0,Eing.Allg..Daten!$D$9,0)","v":0},0,null,{"$f":"IF(J$6>0,Eing.Allg..Daten!$D$9,0)","v":0},{"$f":"IF(K$6>0,Eing.Allg..Daten!$D$9,0)","v":0},{"$f":"IF(L$6>0,Eing.Allg..Daten!$D$9,0)","v":0},{"$f":"IF(M$6>0,Eing.Allg..Daten!$D$9,0)","v":0},0,null,{"$f":"IF(P$6>0,Eing.Allg..Daten!$D$9,0)","v":0},{"$f":"IF(Q$6>0,Eing.Allg..Daten!$D$9,0)","v":0},{"$f":"IF(R$6>0,Eing.Allg..Daten!$D$9,0)","v":0},{"$f":"IF(S$6>0,Eing.Allg..Daten!$D$9,0)","v":0},0,null,{"$f":"IF(V$6>0,Eing.Allg..Daten!$D$9,0)","v":0},{"$f":"IF(W$6>0,Eing.Allg..Daten!$D$9,0)","v":0},{"$f":"IF(X$6>0,Eing.Allg..Daten!$D$9,0)","v":0},{"$f":"IF(Y$6>0,Eing.Allg..Daten!$D$9,0)","v":0},0,null,0,null,null,null,null,null,null,null,null,null,null,null,null,null,0,{"$f":"(IF(ISNA(HLOOKUP(AQ$5,$D$2:$Z$23,10,FALSE))=TRUE,0,HLOOKUP(AQ$5,$D$2:$Z$23,10,FALSE)))+(IF(ISNA(HLOOKUP(AQ$5,$D$28:$Z$49,10,FALSE))=TRUE,0,HLOOKUP(AQ$5,$D$28:$Z$49,10,FALSE)))","v":0},0,0,0,0,0,0,0,0,0,0,0,0,0,0,0]
[7,{"$f":"IF(+Eing.Allg..Daten!$D$8<>\"\",+VLOOKUP(A12,Bahnen!$A$52:$B$144,2,0),\"\")","v":"Rohr"},null,{"$f":"IF(D$6>0,Eing.Allg..Daten!$D$9,0)","v":0},{"$f":"IF(E$6>0,Eing.Allg..Daten!$D$9,0)","v":0},{"$f":"IF(F$6>0,Eing.Allg..Daten!$D$9,0)","v":0},{"$f":"IF(G$6>0,Eing.Allg..Daten!$D$9,0)","v":0},0,null,{"$f":"IF(J$6>0,Eing.Allg..Daten!$D$9,0)","v":0},{"$f":"IF(K$6>0,Eing.Allg..Daten!$D$9,0)","v":0},{"$f":"IF(L$6>0,Eing.Allg..Daten!$D$9,0)","v":0},{"$f":"IF(M$6>0,Eing.Allg..Daten!$D$9,0)","v":0},0,null,{"$f":"IF(P$6>0,Eing.Allg..Daten!$D$9,0)","v":0},{"$f":"IF(Q$6>0,Eing.Allg..Daten!$D$9,0)","v":0},{"$f":"IF(R$6>0,Eing.Allg..Daten!$D$9,0)","v":0},{"$f":"IF(S$6>0,Eing.Allg..Daten!$D$9,0)","v":0},0,null,{"$f":"IF(V$6>0,Eing.Allg..Daten!$D$9,0)","v":0},{"$f":"IF(W$6>0,Eing.Allg..Daten!$D$9,0)","v":0},{"$f":"IF(X$6>0,Eing.Allg..Daten!$D$9,0)","v":0},{"$f":"IF(Y$6>0,Eing.Allg..Daten!$D$9,0)","v":0},0,null,0,null,null,null,null,null,null,null,null,null,null,null,null,null,0,{"$f":"(IF(ISNA(HLOOKUP(AQ$5,$D$2:$Z$23,11,FALSE))=TRUE,0,HLOOKUP(AQ$5,$D$2:$Z$23,11,FALSE)))+(IF(ISNA(HLOOKUP(AQ$5,$D$28:$Z$49,11,FALSE))=TRUE,0,HLOOKUP(AQ$5,$D$28:$Z$49,11,FALSE)))","v":0},0,0,0,0,0,0,0,0,0,0,0,0,0,0,0]
[8,{"$f":"IF(+Eing.Allg..Daten!$D$8<>\"\",+VLOOKUP(A13,Bahnen!$A$52:$B$144,2,0),\"\")","v":"Passagen"},null,{"$f":"IF(D$6>0,Eing.Allg..Daten!$D$9,0)","v":0},{"$f":"IF(E$6>0,Eing.Allg..Daten!$D$9,0)","v":0},{"$f":"IF(F$6>0,Eing.Allg..Daten!$D$9,0)","v":0},{"$f":"IF(G$6>0,Eing.Allg..Daten!$D$9,0)","v":0},0,null,{"$f":"IF(J$6>0,Eing.Allg..Daten!$D$9,0)","v":0},{"$f":"IF(K$6>0,Eing.Allg..Daten!$D$9,0)","v":0},{"$f":"IF(L$6>0,Eing.Allg..Daten!$D$9,0)","v":0},{"$f":"IF(M$6>0,Eing.Allg..Daten!$D$9,0)","v":0},0,null,{"$f":"IF(P$6>0,Eing.Allg..Daten!$D$9,0)","v":0},{"$f":"IF(Q$6>0,Eing.Allg..Daten!$D$9,0)","v":0},{"$f":"IF(R$6>0,Eing.Allg..Daten!$D$9,0)","v":0},{"$f":"IF(S$6>0,Eing.Allg..Daten!$D$9,0)","v":0},0,null,{"$f":"IF(V$6>0,Eing.Allg..Daten!$D$9,0)","v":0},{"$f":"IF(W$6>0,Eing.Allg..Daten!$D$9,0)","v":0},{"$f":"IF(X$6>0,Eing.Allg..Daten!$D$9,0)","v":0},{"$f":"IF(Y$6>0,Eing.Allg..Daten!$D$9,0)","v":0},0,null,0,null,null,null,null,null,null,null,{"$f":"+'Ma1'!$D$1","v":"MGC Bad Homburg 1"},null,null,null,null,null,0,{"$f":"(IF(ISNA(HLOOKUP(AQ$5,$D$2:$Z$23,12,FALSE))=TRUE,0,HLOOKUP(AQ$5,$D$2:$Z$23,12,FALSE)))+(IF(ISNA(HLOOKUP(AQ$5,$D$28:$Z$49,12,FALSE))=TRUE,0,HLOOKUP(AQ$5,$D$28:$Z$49,12,FALSE)))","v":0},0,0,0,0,0,0,0,0,0,0,0,0,0,0,0]
[9,{"$f":"IF(+Eing.Allg..Daten!$D$8<>\"\",+VLOOKUP(A14,Bahnen!$A$52:$B$144,2,0),\"\")","v":"Liegende Schleife"},null,{"$f":"IF(D$6>0,Eing.Allg..Daten!$D$9,0)","v":0},{"$f":"IF(E$6>0,Eing.Allg..Daten!$D$9,0)","v":0},{"$f":"IF(F$6>0,Eing.Allg..Daten!$D$9,0)","v":0},{"$f":"IF(G$6>0,Eing.Allg..Daten!$D$9,0)","v":0},0,null,{"$f":"IF(J$6>0,Eing.Allg..Daten!$D$9,0)","v":0},{"$f":"IF(K$6>0,Eing.Allg..Daten!$D$9,0)","v":0},{"$f":"IF(L$6>0,Eing.Allg..Daten!$D$9,0)","v":0},{"$f":"IF(M$6>0,Eing.Allg..Daten!$D$9,0)","v":0},0,null,{"$f":"IF(P$6>0,Eing.Allg..Daten!$D$9,0)","v":0},{"$f":"IF(Q$6>0,Eing.Allg..Daten!$D$9,0)","v":0},{"$f":"IF(R$6>0,Eing.Allg..Daten!$D$9,0)","v":0},{"$f":"IF(S$6>0,Eing.Allg..Daten!$D$9,0)","v":0},0,null,{"$f":"IF(V$6>0,Eing.Allg..Daten!$D$9,0)","v":0},{"$f":"IF(W$6>0,Eing.Allg..Daten!$D$9,0)","v":0},{"$f":"IF(X$6>0,Eing.Allg..Daten!$D$9,0)","v":0},{"$f":"IF(Y$6>0,Eing.Allg..Daten!$D$9,0)","v":0},0,null,0,null,null,null,null,null,null,null,null,null,null,null,null,null,0,{"$f":"(IF(ISNA(HLOOKUP(AQ$5,$D$2:$Z$23,13,FALSE))=TRUE,0,HLOOKUP(AQ$5,$D$2:$Z$23,13,FALSE)))+(IF(ISNA(HLOOKUP(AQ$5,$D$28:$Z$49,13,FALSE))=TRUE,0,HLOOKUP(AQ$5,$D$28:$Z$49,13,FALSE)))","v":0},0,0,0,0,0,0,0,0,0,0,0,0,0,0,0]
[10,{"$f":"IF(+Eing.Allg..Daten!$D$8<>\"\",+VLOOKUP(A15,Bahnen!$A$52:$B$144,2,0),\"\")","v":"Winkel"},null,{"$f":"IF(D$6>0,Eing.Allg..Daten!$D$9,0)","v":0},{"$f":"IF(E$6>0,Eing.Allg..Daten!$D$9,0)","v":0},{"$f":"IF(F$6>0,Eing.Allg..Daten!$D$9,0)","v":0},{"$f":"IF(G$6>0,Eing.Allg..Daten!$D$9,0)","v":0},0,null,{"$f":"IF(J$6>0,Eing.Allg..Daten!$D$9,0)","v":0},{"$f":"IF(K$6>0,Eing.Allg..Daten!$D$9,0)","v":0},{"$f":"IF(L$6>0,Eing.Allg..Daten!$D$9,0)","v":0},{"$f":"IF(M$6>0,Eing.Allg..Daten!$D$9,0)","v":0},0,null,{"$f":"IF(P$6>0,Eing.Allg..Daten!$D$9,0)","v":0},{"$f":"IF(Q$6>0,Eing.Allg..Daten!$D$9,0)","v":0},{"$f":"IF(R$6>0,Eing.Allg..Daten!$D$9,0)","v":0},{"$f":"IF(S$6>0,Eing.Allg..Daten!$D$9,0)","v":0},0,null,{"$f":"IF(V$6>0,Eing.Allg..Daten!$D$9,0)","v":0},{"$f":"IF(W$6>0,Eing.Allg..Daten!$D$9,0)","v":0},{"$f":"IF(X$6>0,Eing.Allg..Daten!$D$9,0)","v":0},{"$f":"IF(Y$6>0,Eing.Allg..Daten!$D$9,0)","v":0},0,null,0,null,null,null,null,null,null,null,{"$f":"+'Ma2'!$D$1","v":"SG Arheilgen 3"},null,null,null,null,null,0,{"$f":"(IF(ISNA(HLOOKUP(AQ$5,$D$2:$Z$23,14,FALSE))=TRUE,0,HLOOKUP(AQ$5,$D$2:$Z$23,14,FALSE)))+(IF(ISNA(HLOOKUP(AQ$5,$D$28:$Z$49,14,FALSE))=TRUE,0,HLOOKUP(AQ$5,$D$28:$Z$49,14,FALSE)))","v":0},0,0,0,0,0,0,0,0,0,0,0,0,0,0,0]
[11,{"$f":"IF(+Eing.Allg..Daten!$D$8<>\"\",+VLOOKUP(A16,Bahnen!$A$52:$B$144,2,0),\"\")","v":"Netz"},null,{"$f":"IF(D$6>0,Eing.Allg..Daten!$D$9,0)","v":0},{"$f":"IF(E$6>0,Eing.Allg..Daten!$D$9,0)","v":0},{"$f":"IF(F$6>0,Eing.Allg..Daten!$D$9,0)","v":0},{"$f":"IF(G$6>0,Eing.Allg..Daten!$D$9,0)","v":0},0,null,{"$f":"IF(J$6>0,Eing.Allg..Daten!$D$9,0)","v":0},{"$f":"IF(K$6>0,Eing.Allg..Daten!$D$9,0)","v":0},{"$f":"IF(L$6>0,Eing.Allg..Daten!$D$9,0)","v":0},{"$f":"IF(M$6>0,Eing.Allg..Daten!$D$9,0)","v":0},0,null,{"$f":"IF(P$6>0,Eing.Allg..Daten!$D$9,0)","v":0},{"$f":"IF(Q$6>0,Eing.Allg..Daten!$D$9,0)","v":0},{"$f":"IF(R$6>0,Eing.Allg..Daten!$D$9,0)","v":0},{"$f":"IF(S$6>0,Eing.Allg..Daten!$D$9,0)","v":0},0,null,{"$f":"IF(V$6>0,Eing.Allg..Daten!$D$9,0)","v":0},{"$f":"IF(W$6>0,Eing.Allg..Daten!$D$9,0)","v":0},{"$f":"IF(X$6>0,Eing.Allg..Daten!$D$9,0)","v":0},{"$f":"IF(Y$6>0,Eing.Allg..Daten!$D$9,0)","v":0},0,null,0,null,null,null,null,null,null,null,null,null,null,null,null,null,0,{"$f":"(IF(ISNA(HLOOKUP(AQ$5,$D$2:$Z$23,15,FALSE))=TRUE,0,HLOOKUP(AQ$5,$D$2:$Z$23,15,FALSE)))+(IF(ISNA(HLOOKUP(AQ$5,$D$28:$Z$49,15,FALSE))=TRUE,0,HLOOKUP(AQ$5,$D$28:$Z$49,15,FALSE)))","v":0},0,0,0,0,0,0,0,0,0,0,0,0,0,0,0]
[12,{"$f":"IF(+Eing.Allg..Daten!$D$8<>\"\",+VLOOKUP(A17,Bahnen!$A$52:$B$144,2,0),\"\")","v":"Doppelkeile"},null,{"$f":"IF(D$6>0,Eing.Allg..Daten!$D$9,0)","v":0},{"$f":"IF(E$6>0,Eing.Allg..Daten!$D$9,0)","v":0},{"$f":"IF(F$6>0,Eing.Allg..Daten!$D$9,0)","v":0},{"$f":"IF(G$6>0,Eing.Allg..Daten!$D$9,0)","v":0},0,null,{"$f":"IF(J$6>0,Eing.Allg..Daten!$D$9,0)","v":0},{"$f":"IF(K$6>0,Eing.Allg..Daten!$D$9,0)","v":0},{"$f":"IF(L$6>0,Eing.Allg..Daten!$D$9,0)","v":0},{"$f":"IF(M$6>0,Eing.Allg..Daten!$D$9,0)","v":0},0,null,{"$f":"IF(P$6>0,Eing.Allg..Daten!$D$9,0)","v":0},{"$f":"IF(Q$6>0,Eing.Allg..Daten!$D$9,0)","v":0},{"$f":"IF(R$6>0,Eing.Allg..Daten!$D$9,0)","v":0},{"$f":"IF(S$6>0,Eing.Allg..Daten!$D$9,0)","v":0},0,null,{"$f":"IF(V$6>0,Eing.Allg..Daten!$D$9,0)","v":0},{"$f":"IF(W$6>0,Eing.Allg..Daten!$D$9,0)","v":0},{"$f":"IF(X$6>0,Eing.Allg..Daten!$D$9,0)","v":0},{"$f":"IF(Y$6>0,Eing.Allg..Daten!$D$9,0)","v":0},0,null,0,null,null,null,null,null,null,null,{"$f":"+'Ma3'!$D$1","v":"MGC Kahler Sandhasen"},null,null,null,null,null,0,{"$f":"(IF(ISNA(HLOOKUP(AQ$5,$D$2:$Z$23,16,FALSE))=TRUE,0,HLOOKUP(AQ$5,$D$2:$Z$23,16,FALSE)))+(IF(ISNA(HLOOKUP(AQ$5,$D$28:$Z$49,16,FALSE))=TRUE,0,HLOOKUP(AQ$5,$D$28:$Z$49,16,FALSE)))","v":0},0,0,0,0,0,0,0,0,0,0,0,0,0,0,0]
[13,{"$f":"IF(+Eing.Allg..Daten!$D$8<>\"\",+VLOOKUP(A18,Bahnen!$A$52:$B$144,2,0),\"\")","v":"Stumpfe Kegel"},null,{"$f":"IF(D$6>0,Eing.Allg..Daten!$D$9,0)","v":0},{"$f":"IF(E$6>0,Eing.Allg..Daten!$D$9,0)","v":0},{"$f":"IF(F$6>0,Eing.Allg..Daten!$D$9,0)","v":0},{"$f":"IF(G$6>0,Eing.Allg..Daten!$D$9,0)","v":0},0,null,{"$f":"IF(J$6>0,Eing.Allg..Daten!$D$9,0)","v":0},{"$f":"IF(K$6>0,Eing.Allg..Daten!$D$9,0)","v":0},{"$f":"IF(L$6>0,Eing.Allg..Daten!$D$9,0)","v":0},{"$f":"IF(M$6>0,Eing.Allg..Daten!$D$9,0)","v":0},0,null,{"$f":"IF(P$6>0,Eing.Allg..Daten!$D$9,0)","v":0},{"$f":"IF(Q$6>0,Eing.Allg..Daten!$D$9,0)","v":0},{"$f":"IF(R$6>0,Eing.Allg..Daten!$D$9,0)","v":0},{"$f":"IF(S$6>0,Eing.Allg..Daten!$D$9,0)","v":0},0,null,{"$f":"IF(V$6>0,Eing.Allg..Daten!$D$9,0)","v":0},{"$f":"IF(W$6>0,Eing.Allg..Daten!$D$9,0)","v":0},{"$f":"IF(X$6>0,Eing.Allg..Daten!$D$9,0)","v":0},{"$f":"IF(Y$6>0,Eing.Allg..Daten!$D$9,0)","v":0},0,null,0,null,null,null,null,null,null,null,null,null,null,null,null,null,0,{"$f":"(IF(ISNA(HLOOKUP(AQ$5,$D$2:$Z$23,17,FALSE))=TRUE,0,HLOOKUP(AQ$5,$D$2:$Z$23,17,FALSE)))+(IF(ISNA(HLOOKUP(AQ$5,$D$28:$Z$49,17,FALSE))=TRUE,0,HLOOKUP(AQ$5,$D$28:$Z$49,17,FALSE)))","v":0},0,0,0,0,0,0,0,0,0,0,0,0,0,0,0]
[14,{"$f":"IF(+Eing.Allg..Daten!$D$8<>\"\",+VLOOKUP(A19,Bahnen!$A$52:$B$144,2,0),\"\")","v":"Schrägerkreis mit Niere"},null,{"$f":"IF(D$6>0,Eing.Allg..Daten!$D$9,0)","v":0},{"$f":"IF(E$6>0,Eing.Allg..Daten!$D$9,0)","v":0},{"$f":"IF(F$6>0,Eing.Allg..Daten!$D$9,0)","v":0},{"$f":"IF(G$6>0,Eing.Allg..Daten!$D$9,0)","v":0},0,null,{"$f":"IF(J$6>0,Eing.Allg..Daten!$D$9,0)","v":0},{"$f":"IF(K$6>0,Eing.Allg..Daten!$D$9,0)","v":0},{"$f":"IF(L$6>0,Eing.Allg..Daten!$D$9,0)","v":0},{"$f":"IF(M$6>0,Eing.Allg..Daten!$D$9,0)","v":0},0,null,{"$f":"IF(P$6>0,Eing.Allg..Daten!$D$9,0)","v":0},{"$f":"IF(Q$6>0,Eing.Allg..Daten!$D$9,0)","v":0},{"$f":"IF(R$6>0,Eing.Allg..Daten!$D$9,0)","v":0},{"$f":"IF(S$6>0,Eing.Allg..Daten!$D$9,0)","v":0},0,null,{"$f":"IF(V$6>0,Eing.Allg..Daten!$D$9,0)","v":0},{"$f":"IF(W$6>0,Eing.Allg..Daten!$D$9,0)","v":0},{"$f":"IF(X$6>0,Eing.Allg..Daten!$D$9,0)","v":0},{"$f":"IF(Y$6>0,Eing.Allg..Daten!$D$9,0)","v":0},0,null,0,null,null,null,null,null,null,null,{"$f":"+'Ma4'!$D$1","v":"SG Weiterstadt"},null,null,null,null,null,0,{"$f":"(IF(ISNA(HLOOKUP(AQ$5,$D$2:$Z$23,18,FALSE))=TRUE,0,HLOOKUP(AQ$5,$D$2:$Z$23,18,FALSE)))+(IF(ISNA(HLOOKUP(AQ$5,$D$28:$Z$49,18,FALSE))=TRUE,0,HLOOKUP(AQ$5,$D$28:$Z$49,18,FALSE)))","v":0},0,0,0,0,0,0,0,0,0,0,0,0,0,0,0]
[15,{"$f":"IF(+Eing.Allg..Daten!$D$8<>\"\",+VLOOKUP(A20,Bahnen!$A$52:$B$144,2,0),\"\")","v":"Brücke"},null,{"$f":"IF(D$6>0,Eing.Allg..Daten!$D$9,0)","v":0},{"$f":"IF(E$6>0,Eing.Allg..Daten!$D$9,0)","v":0},{"$f":"IF(F$6>0,Eing.Allg..Daten!$D$9,0)","v":0},{"$f":"IF(G$6>0,Eing.Allg..Daten!$D$9,0)","v":0},0,null,{"$f":"IF(J$6>0,Eing.Allg..Daten!$D$9,0)","v":0},{"$f":"IF(K$6>0,Eing.Allg..Daten!$D$9,0)","v":0},{"$f":"IF(L$6>0,Eing.Allg..Daten!$D$9,0)","v":0},{"$f":"IF(M$6>0,Eing.Allg..Daten!$D$9,0)","v":0},0,null,{"$f":"IF(P$6>0,Eing.Allg..Daten!$D$9,0)","v":0},{"$f":"IF(Q$6>0,Eing.Allg..Daten!$D$9,0)","v":0},{"$f":"IF(R$6>0,Eing.Allg..Daten!$D$9,0)","v":0},{"$f":"IF(S$6>0,Eing.Allg..Daten!$D$9,0)","v":0},0,null,{"$f":"IF(V$6>0,Eing.Allg..Daten!$D$9,0)","v":0},{"$f":"IF(W$6>0,Eing.Allg..Daten!$D$9,0)","v":0},{"$f":"IF(X$6>0,Eing.Allg..Daten!$D$9,0)","v":0},{"$f":"IF(Y$6>0,Eing.Allg..Daten!$D$9,0)","v":0},0,null,0,null,null,null,null,null,null,null,null,null,null,null,null,null,0,{"$f":"(IF(ISNA(HLOOKUP(AQ$5,$D$2:$Z$23,19,FALSE))=TRUE,0,HLOOKUP(AQ$5,$D$2:$Z$23,19,FALSE)))+(IF(ISNA(HLOOKUP(AQ$5,$D$28:$Z$49,19,FALSE))=TRUE,0,HLOOKUP(AQ$5,$D$28:$Z$49,19,FALSE)))","v":0},0,0,0,0,0,0,0,0,0,0,0,0,0,0,0]
[16,{"$f":"IF(+Eing.Allg..Daten!$D$8<>\"\",+VLOOKUP(A21,Bahnen!$A$52:$B$144,2,0),\"\")","v":"Vulkan"},null,{"$f":"IF(D$6>0,Eing.Allg..Daten!$D$9,0)","v":0},{"$f":"IF(E$6>0,Eing.Allg..Daten!$D$9,0)","v":0},{"$f":"IF(F$6>0,Eing.Allg..Daten!$D$9,0)","v":0},{"$f":"IF(G$6>0,Eing.Allg..Daten!$D$9,0)","v":0},0,null,{"$f":"IF(J$6>0,Eing.Allg..Daten!$D$9,0)","v":0},{"$f":"IF(K$6>0,Eing.Allg..Daten!$D$9,0)","v":0},{"$f":"IF(L$6>0,Eing.Allg..Daten!$D$9,0)","v":0},{"$f":"IF(M$6>0,Eing.Allg..Daten!$D$9,0)","v":0},0,null,{"$f":"IF(P$6>0,Eing.Allg..Daten!$D$9,0)","v":0},{"$f":"IF(Q$6>0,Eing.Allg..Daten!$D$9,0)","v":0},{"$f":"IF(R$6>0,Eing.Allg..Daten!$D$9,0)","v":0},{"$f":"IF(S$6>0,Eing.Allg..Daten!$D$9,0)","v":0},0,null,{"$f":"IF(V$6>0,Eing.Allg..Daten!$D$9,0)","v":0},{"$f":"IF(W$6>0,Eing.Allg..Daten!$D$9,0)","v":0},{"$f":"IF(X$6>0,Eing.Allg..Daten!$D$9,0)","v":0},{"$f":"IF(Y$6>0,Eing.Allg..Daten!$D$9,0)","v":0},0,null,0,null,null,null,null,null,null,null,{"$f":"+'Ma5'!$D$1","v":"MGC Bad Homburg 2"},null,null,null,null,null,0,{"$f":"(IF(ISNA(HLOOKUP(AQ$5,$D$2:$Z$23,20,FALSE))=TRUE,0,HLOOKUP(AQ$5,$D$2:$Z$23,20,FALSE)))+(IF(ISNA(HLOOKUP(AQ$5,$D$28:$Z$49,20,FALSE))=TRUE,0,HLOOKUP(AQ$5,$D$28:$Z$49,20,FALSE)))","v":0},0,0,0,0,0,0,0,0,0,0,0,0,0,0,0]
[17,{"$f":"IF(+Eing.Allg..Daten!$D$8<>\"\",+VLOOKUP(A22,Bahnen!$A$52:$B$144,2,0),\"\")","v":"Auflaufkeil mit Zielfenster"},null,{"$f":"IF(D$6>0,Eing.Allg..Daten!$D$9,0)","v":0},{"$f":"IF(E$6>0,Eing.Allg..Daten!$D$9,0)","v":0},{"$f":"IF(F$6>0,Eing.Allg..Daten!$D$9,0)","v":0},{"$f":"IF(G$6>0,Eing.Allg..Daten!$D$9,0)","v":0},0,null,{"$f":"IF(J$6>0,Eing.Allg..Daten!$D$9,0)","v":0},{"$f":"IF(K$6>0,Eing.Allg..Daten!$D$9,0)","v":0},{"$f":"IF(L$6>0,Eing.Allg..Daten!$D$9,0)","v":0},{"$f":"IF(M$6>0,Eing.Allg..Daten!$D$9,0)","v":0},0,null,{"$f":"IF(P$6>0,Eing.Allg..Daten!$D$9,0)","v":0},{"$f":"IF(Q$6>0,Eing.Allg..Daten!$D$9,0)","v":0},{"$f":"IF(R$6>0,Eing.Allg..Daten!$D$9,0)","v":0},{"$f":"IF(S$6>0,Eing.Allg..Daten!$D$9,0)","v":0},0,null,{"$f":"IF(V$6>0,Eing.Allg..Daten!$D$9,0)","v":0},{"$f":"IF(W$6>0,Eing.Allg..Daten!$D$9,0)","v":0},{"$f":"IF(X$6>0,Eing.Allg..Daten!$D$9,0)","v":0},{"$f":"IF(Y$6>0,Eing.Allg..Daten!$D$9,0)","v":0},0,null,0,null,null,null,null,null,null,null,null,null,null,null,null,null,0,{"$f":"(IF(ISNA(HLOOKUP(AQ$5,$D$2:$Z$23,21,FALSE))=TRUE,0,HLOOKUP(AQ$5,$D$2:$Z$23,21,FALSE)))+(IF(ISNA(HLOOKUP(AQ$5,$D$28:$Z$49,21,FALSE))=TRUE,0,HLOOKUP(AQ$5,$D$28:$Z$49,21,FALSE)))","v":0},0,0,0,0,0,0,0,0,0,0,0,0,0,0,0]
[18,{"$f":"IF(+Eing.Allg..Daten!$D$8<>\"\",+VLOOKUP(A23,Bahnen!$A$52:$B$144,2,0),\"\")","v":"Blitz"},null,{"$f":"IF(D$6>0,Eing.Allg..Daten!$D$9,0)","v":0},{"$f":"IF(E$6>0,Eing.Allg..Daten!$D$9,0)","v":0},{"$f":"IF(F$6>0,Eing.Allg..Daten!$D$9,0)","v":0},{"$f":"IF(G$6>0,Eing.Allg..Daten!$D$9,0)","v":0},0,null,{"$f":"IF(J$6>0,Eing.Allg..Daten!$D$9,0)","v":0},{"$f":"IF(K$6>0,Eing.Allg..Daten!$D$9,0)","v":0},{"$f":"IF(L$6>0,Eing.Allg..Daten!$D$9,0)","v":0},{"$f":"IF(M$6>0,Eing.Allg..Daten!$D$9,0)","v":0},0,null,{"$f":"IF(P$6>0,Eing.Allg..Daten!$D$9,0)","v":0},{"$f":"IF(Q$6>0,Eing.Allg..Daten!$D$9,0)","v":0},{"$f":"IF(R$6>0,Eing.Allg..Daten!$D$9,0)","v":0},{"$f":"IF(S$6>0,Eing.Allg..Daten!$D$9,0)","v":0},0,null,{"$f":"IF(V$6>0,Eing.Allg..Daten!$D$9,0)","v":0},{"$f":"IF(W$6>0,Eing.Allg..Daten!$D$9,0)","v":0},{"$f":"IF(X$6>0,Eing.Allg..Daten!$D$9,0)","v":0},{"$f":"IF(Y$6>0,Eing.Allg..Daten!$D$9,0)","v":0},0,null,0,null,null,null,null,null,null,null,{"$f":"+'Ma6'!$D$1","v":"SV Dreieichenhain"},null,null,null,null,null,0,{"$f":"(IF(ISNA(HLOOKUP(AQ$5,$D$2:$Z$23,22,FALSE))=TRUE,0,HLOOKUP(AQ$5,$D$2:$Z$23,22,FALSE)))+(IF(ISNA(HLOOKUP(AQ$5,$D$28:$Z$49,22,FALSE))=TRUE,0,HLOOKUP(AQ$5,$D$28:$Z$49,22,FALSE)))","v":0},0,0,0,0,0,0,0,0,0,0,0,0,0,0,0]
[null,"Strafpunkte",null,null,null,null,null,0,null,null,null,null,null,0,null,null,null,null,null,0,null,null,null,null,null,0]
[null,null,null,{"$f":"IF(D23<>0,SUM(D6:D24),999)","v":999},{"$f":"IF(E23<>0,SUM(E6:E24),999)","v":999},{"$f":"IF(F23<>0,SUM(F6:F24),999)","v":999},{"$f":"IF(G23<>0,SUM(G6:G24),999)","v":999},{"$f":"SUM(H6:H24)","v":0},null,{"$f":"IF(J23<>0,SUM(J6:J24),999)","v":999},{"$f":"IF(K23<>0,SUM(K6:K24),999)","v":999},{"$f":"IF(L23<>0,SUM(L6:L24),999)","v":999},{"$f":"IF(M23<>0,SUM(M6:M24),999)","v":999},{"$f":"SUM(N6:N24)","v":0},null,{"$f":"IF(P23<>0,SUM(P6:P24),999)","v":999},{"$f":"IF(Q23<>0,SUM(Q6:Q24),999)","v":999},{"$f":"IF(R23<>0,SUM(R6:R24),999)","v":999},{"$f":"IF(S23<>0,SUM(S6:S24),999)","v":999},{"$f":"SUM(T6:T24)","v":0},null,{"$f":"IF(V23<>0,SUM(V6:V24),999)","v":999},{"$f":"IF(W23<>0,SUM(W6:W24),999)","v":999},{"$f":"IF(X23<>0,SUM(X6:X24),999)","v":999},{"$f":"IF(Y23<>0,SUM(Y6:Y24),999)","v":999},{"$f":"SUM(Z6:Z24)","v":0},null,{"$f":"SUM(AB6:AB23)","v":0},null,null,null,null,null,null,null,{"$f":"+'Ma7'!$D$1","v":"MGC Heringen"},null,null,null,null,null,null,{"$f":"SUM(AQ6:AQ24)","v":0},0,0,0,0,0,0,0,0,0,0,0,0,0,0,0]
[null,null,null,{"$f":"SUM(D25:G25)","v":3996},null,null,null,null,null,{"$f":"SUM(J25:M25)","v":3996},null,null,null,null,null,{"$f":"SUM(P25:S25)","v":3996},null,null,null,null,null,{"$f":"SUM(V25:Y25)","v":3996}]
[null,null,null,{"$f":"IF(D6=0,\"DNS\",IF(D23=0,\"DNF\",1))","v":"DNS"},{"$f":"IF(E6=0,\"DNS\",IF(E23=0,\"DNF\",1))","v":"DNS"},{"$f":"IF(F6=0,\"DNS\",IF(F23=0,\"DNF\",1))","v":"DNS"},{"$f":"IF(G6=0,\"DNS\",IF(G23=0,\"DNF\",1))","v":"DNS"},{"$f":"IF(SUM(D27:G27)=Tagestabelle!$N$3,\"FIN\",\"DNF\")","v":"FIN"},null,{"$f":"IF(J6=0,\"DNS\",IF(J23=0,\"DNF\",1))","v":"DNS"},{"$f":"IF(K6=0,\"DNS\",IF(K23=0,\"DNF\",1))","v":"DNS"},{"$f":"IF(L6=0,\"DNS\",IF(L23=0,\"DNF\",1))","v":"DNS"},{"$f":"IF(M6=0,\"DNS\",IF(M23=0,\"DNF\",1))","v":"DNS"},{"$f":"IF(SUM(J27:M27)=Tagestabelle!$N$3,\"FIN\",\"DNF\")","v":"FIN"},null,{"$f":"IF(P6=0,\"DNS\",IF(P23=0,\"DNF\",1))","v":"DNS"},{"$f":"IF(Q6=0,\"DNS\",IF(Q23=0,\"DNF\",1))","v":"DNS"},{"$f":"IF(R6=0,\"DNS\",IF(R23=0,\"DNF\",1))","v":"DNS"},{"$f":"IF(S6=0,\"DNS\",IF(S23=0,\"DNF\",1))","v":"DNS"},{"$f":"IF(SUM(P27:S27)=Tagestabelle!$N$3,\"FIN\",\"DNF\")","v":"FIN"},null,{"$f":"IF(V6=0,\"DNS\",IF(V23=0,\"DNF\",1))","v":"DNS"},{"$f":"IF(W6=0,\"DNS\",IF(W23=0,\"DNF\",1))","v":"DNS"},{"$f":"IF(X6=0,\"DNS\",IF(X23=0,\"DNF\",1))","v":"DNS"},{"$f":"IF(Y6=0,\"DNS\",IF(Y23=0,\"DNF\",1))","v":"DNS"},{"$f":"IF(SUM(V27:Y27)=Tagestabelle!$N$3,\"FIN\",\"DNF\")","v":"FIN"},6]
[null,null,null,"M3S5R1","M3S5R2","M3S5R3","M3S5R4",null,null,"M3S6R1","M3S6R2","M3S6R3","M3S6R4",null,null,"M3S7R1","M3S7R2","M3S7R3","M3S7R4",null,null,"M3S8R1","M3S8R2","M3S8R3","M3S8R4"]
[null,null,null,"Spieler 5",null,null,null,"Kat.",null,"Spieler 6",null,null,null,"Kat.",null,"Spieler 7",null,null,null,"Kat.",null,"Spieler 8",null,null,null,"Kat.",null,"Zus. Einzelsp.",null,null,null,"Kat."]
["Bahn  ",null,null,{"$f":"+M3S5","v":{"$error":"#N/A"}},null,null,null,{"$f":"+M3S5Kat","v":{"$error":"#N/A"}},null,{"$f":"+M3S6","v":{"$error":"#N/A"}},null,null,null,{"$f":"+M3S6Kat","v":{"$error":"#N/A"}},null,{"$f":"M3S7","v":{"$error":"#N/A"}},null,null,null,{"$f":"+M3S7Kat","v":{"$error":"#N/A"}},null,{"$f":"M3S8","v":{"$error":"#N/A"}},null,null,null,{"$f":"+M3S8Kat","v":{"$error":"#N/A"}},null,{"$f":"M3SAK","v":{"$error":"#N/A"}},null,null,null,{"$f":"+M3SAKKat","v":{"$error":"#N/A"}}]
["Nr.","Bez. ",null,{"$f":"+M3S5p","v":0},null,null,null,null,null,{"$f":"+M3S6p","v":0},null,null,null,null,null,{"$f":"+M3S7p","v":0},null,null,null,null,null,{"$f":"+M3S8p","v":0},null,null,null,null,null,{"$f":"+M3SAKp","v":0}]
[1,{"$f":"IF(+Eing.Allg..Daten!$D$8<>\"\",+VLOOKUP(A32,Bahnen!$A$52:$B$144,2,0),\"\")","v":"Gerade Bahn ohne Hindernis"},null,null,null,null,null,{"$f":"SUM(D32:G32)","v":0},null,null,null,null,null,{"$f":"SUM(J32:M32)","v":0},null,null,null,null,null,{"$f":"SUM(P32:S32)","v":0},null,null,null,null,null,{"$f":"SUM(V32:Y32)","v":0},null,null,null,null,null,{"$f":"SUM(AB32:AE32)","v":0}]
[2,{"$f":"IF(+Eing.Allg..Daten!$D$8<>\"\",+VLOOKUP(A33,Bahnen!$A$52:$B$144,2,0),\"\")","v":"Salto"},null,{"$f":"IF(D$32>0,Eing.Allg..Daten!$D$9,0)","v":0},{"$f":"IF(E$32>0,Eing.Allg..Daten!$D$9,0)","v":0},{"$f":"IF(F$32>0,Eing.Allg..Daten!$D$9,0)","v":0},{"$f":"IF(G$32>0,Eing.Allg..Daten!$D$9,0)","v":0},0,null,{"$f":"IF(J$32>0,Eing.Allg..Daten!$D$9,0)","v":0},{"$f":"IF(K$32>0,Eing.Allg..Daten!$D$9,0)","v":0},{"$f":"IF(L$32>0,Eing.Allg..Daten!$D$9,0)","v":0},{"$f":"IF(M$32>0,Eing.Allg..Daten!$D$9,0)","v":0},0,null,{"$f":"IF(P$32>0,Eing.Allg..Daten!$D$9,0)","v":0},{"$f":"IF(Q$32>0,Eing.Allg..Daten!$D$9,0)","v":0},{"$f":"IF(R$32>0,Eing.Allg..Daten!$D$9,0)","v":0},{"$f":"IF(S$32>0,Eing.Allg..Daten!$D$9,0)","v":0},0,null,{"$f":"IF(V$32>0,Eing.Allg..Daten!$D$9,0)","v":0},{"$f":"IF(W$32>0,Eing.Allg..Daten!$D$9,0)","v":0},{"$f":"IF(X$32>0,Eing.Allg..Daten!$D$9,0)","v":0},{"$f":"IF(Y$32>0,Eing.Allg..Daten!$D$9,0)","v":0},0,null,{"$f":"IF(AB$32>0,Eing.Allg..Daten!$D$9,0)","v":0},{"$f":"IF(AC$32>0,Eing.Allg..Daten!$D$9,0)","v":0},{"$f":"IF(AD$32>0,Eing.Allg..Daten!$D$9,0)","v":0},{"$f":"IF(AE$32>0,Eing.Allg..Daten!$D$9,0)","v":0},0]
[3,{"$f":"IF(+Eing.Allg..Daten!$D$8<>\"\",+VLOOKUP(A34,Bahnen!$A$52:$B$144,2,0),\"\")","v":"Pyramiden"},null,{"$f":"IF(D$32>0,Eing.Allg..Daten!$D$9,0)","v":0},{"$f":"IF(E$32>0,Eing.Allg..Daten!$D$9,0)","v":0},{"$f":"IF(F$32>0,Eing.Allg..Daten!$D$9,0)","v":0},{"$f":"IF(G$32>0,Eing.Allg..Daten!$D$9,0)","v":0},0,null,{"$f":"IF(J$32>0,Eing.Allg..Daten!$D$9,0)","v":0},{"$f":"IF(K$32>0,Eing.Allg..Daten!$D$9,0)","v":0},{"$f":"IF(L$32>0,Eing.Allg..Daten!$D$9,0)","v":0},{"$f":"IF(M$32>0,Eing.Allg..Daten!$D$9,0)","v":0},0,null,{"$f":"IF(P$32>0,Eing.Allg..Daten!$D$9,0)","v":0},{"$f":"IF(Q$32>0,Eing.Allg..Daten!$D$9,0)","v":0},{"$f":"IF(R$32>0,Eing.Allg..Daten!$D$9,0)","v":0},{"$f":"IF(S$32>0,Eing.Allg..Daten!$D$9,0)","v":0},0,null,{"$f":"IF(V$32>0,Eing.Allg..Daten!$D$9,0)","v":0},{"$f":"IF(W$32>0,Eing.Allg..Daten!$D$9,0)","v":0},{"$f":"IF(X$32>0,Eing.Allg..Daten!$D$9,0)","v":0},{"$f":"IF(Y$32>0,Eing.Allg..Daten!$D$9,0)","v":0},0,null,{"$f":"IF(AB$32>0,Eing.Allg..Daten!$D$9,0)","v":0},{"$f":"IF(AC$32>0,Eing.Allg..Daten!$D$9,0)","v":0},{"$f":"IF(AD$32>0,Eing.Allg..Daten!$D$9,0)","v":0},{"$f":"IF(AE$32>0,Eing.Allg..Daten!$D$9,0)","v":0},0]
[4,{"$f":"IF(+Eing.Allg..Daten!$D$8<>\"\",+VLOOKUP(A35,Bahnen!$A$52:$B$144,2,0),\"\")","v":"Mittelhügel"},null,{"$f":"IF(D$32>0,Eing.Allg..Daten!$D$9,0)","v":0},{"$f":"IF(E$32>0,Eing.Allg..Daten!$D$9,0)","v":0},{"$f":"IF(F$32>0,Eing.Allg..Daten!$D$9,0)","v":0},{"$f":"IF(G$32>0,Eing.Allg..Daten!$D$9,0)","v":0},0,null,{"$f":"IF(J$32>0,Eing.Allg..Daten!$D$9,0)","v":0},{"$f":"IF(K$32>0,Eing.Allg..Daten!$D$9,0)","v":0},{"$f":"IF(L$32>0,Eing.Allg..Daten!$D$9,0)","v":0},{"$f":"IF(M$32>0,Eing.Allg..Daten!$D$9,0)","v":0},0,null,{"$f":"IF(P$32>0,Eing.Allg..Daten!$D$9,0)","v":0},{"$f":"IF(Q$32>0,Eing.Allg..Daten!$D$9,0)","v":0},{"$f":"IF(R$32>0,Eing.Allg..Daten!$D$9,0)","v":0},{"$f":"IF(S$32>0,Eing.Allg..Daten!$D$9,0)","v":0},0,null,{"$f":"IF(V$32>0,Eing.Allg..Daten!$D$9,0)","v":0},{"$f":"IF(W$32>0,Eing.Allg..Daten!$D$9,0)","v":0},{"$f":"IF(X$32>0,Eing.Allg..Daten!$D$9,0)","v":0},{"$f":"IF(Y$32>0,Eing.Allg..Daten!$D$9,0)","v":0},0,null,{"$f":"IF(AB$32>0,Eing.Allg..Daten!$D$9,0)","v":0},{"$f":"IF(AC$32>0,Eing.Allg..Daten!$D$9,0)","v":0},{"$f":"IF(AD$32>0,Eing.Allg..Daten!$D$9,0)","v":0},{"$f":"IF(AE$32>0,Eing.Allg..Daten!$D$9,0)","v":0},0]
[5,{"$f":"IF(+Eing.Allg..Daten!$D$8<>\"\",+VLOOKUP(A36,Bahnen!$A$52:$B$144,2,0),\"\")","v":"\"V\" - Hindernis"},null,{"$f":"IF(D$32>0,Eing.Allg..Daten!$D$9,0)","v":0},{"$f":"IF(E$32>0,Eing.Allg..Daten!$D$9,0)","v":0},{"$f":"IF(F$32>0,Eing.Allg..Daten!$D$9,0)","v":0},{"$f":"IF(G$32>0,Eing.Allg..Daten!$D$9,0)","v":0},0,null,{"$f":"IF(J$32>0,Eing.Allg..Daten!$D$9,0)","v":0},{"$f":"IF(K$32>0,Eing.Allg..Daten!$D$9,0)","v":0},{"$f":"IF(L$32>0,Eing.Allg..Daten!$D$9,0)","v":0},{"$f":"IF(M$32>0,Eing.Allg..Daten!$D$9,0)","v":0},0,null,{"$f":"IF(P$32>0,Eing.Allg..Daten!$D$9,0)","v":0},{"$f":"IF(Q$32>0,Eing.Allg..Daten!$D$9,0)","v":0},{"$f":"IF(R$32>0,Eing.Allg..Daten!$D$9,0)","v":0},{"$f":"IF(S$32>0,Eing.Allg..Daten!$D$9,0)","v":0},0,null,{"$f":"IF(V$32>0,Eing.Allg..Daten!$D$9,0)","v":0},{"$f":"IF(W$32>0,Eing.Allg..Daten!$D$9,0)","v":0},{"$f":"IF(X$32>0,Eing.Allg..Daten!$D$9,0)","v":0},{"$f":"IF(Y$32>0,Eing.Allg..Daten!$D$9,0)","v":0},0,null,{"$f":"IF(AB$32>0,Eing.Allg..Daten!$D$9,0)","v":0},{"$f":"IF(AC$32>0,Eing.Allg..Daten!$D$9,0)","v":0},{"$f":"IF(AD$32>0,Eing.Allg..Daten!$D$9,0)","v":0},{"$f":"IF(AE$32>0,Eing.Allg..Daten!$D$9,0)","v":0},0]
[6,{"$f":"IF(+Eing.Allg..Daten!$D$8<>\"\",+VLOOKUP(A37,Bahnen!$A$52:$B$144,2,0),\"\")","v":"Doppelwellen"},null,{"$f":"IF(D$32>0,Eing.Allg..Daten!$D$9,0)","v":0},{"$f":"IF(E$32>0,Eing.Allg..Daten!$D$9,0)","v":0},{"$f":"IF(F$32>0,Eing.Allg..Daten!$D$9,0)","v":0},{"$f":"IF(G$32>0,Eing.Allg..Daten!$D$9,0)","v":0},0,null,{"$f":"IF(J$32>0,Eing.Allg..Daten!$D$9,0)","v":0},{"$f":"IF(K$32>0,Eing.Allg..Daten!$D$9,0)","v":0},{"$f":"IF(L$32>0,Eing.Allg..Daten!$D$9,0)","v":0},{"$f":"IF(M$32>0,Eing.Allg..Daten!$D$9,0)","v":0},0,null,{"$f":"IF(P$32>0,Eing.Allg..Daten!$D$9,0)","v":0},{"$f":"IF(Q$32>0,Eing.Allg..Daten!$D$9,0)","v":0},{"$f":"IF(R$32>0,Eing.Allg..Daten!$D$9,0)","v":0},{"$f":"IF(S$32>0,Eing.Allg..Daten!$D$9,0)","v":0},0,null,{"$f":"IF(V$32>0,Eing.Allg..Daten!$D$9,0)","v":0},{"$f":"IF(W$32>0,Eing.Allg..Daten!$D$9,0)","v":0},{"$f":"IF(X$32>0,Eing.Allg..Daten!$D$9,0)","v":0},{"$f":"IF(Y$32>0,Eing.Allg..Daten!$D$9,0)","v":0},0,null,{"$f":"IF(AB$32>0,Eing.Allg..Daten!$D$9,0)","v":0},{"$f":"IF(AC$32>0,Eing.Allg..Daten!$D$9,0)","v":0},{"$f":"IF(AD$32>0,Eing.Allg..Daten!$D$9,0)","v":0},{"$f":"IF(AE$32>0,Eing.Allg..Daten!$D$9,0)","v":0},0]
[7,{"$f":"IF(+Eing.Allg..Daten!$D$8<>\"\",+VLOOKUP(A38,Bahnen!$A$52:$B$144,2,0),\"\")","v":"Rohr"},null,{"$f":"IF(D$32>0,Eing.Allg..Daten!$D$9,0)","v":0},{"$f":"IF(E$32>0,Eing.Allg..Daten!$D$9,0)","v":0},{"$f":"IF(F$32>0,Eing.Allg..Daten!$D$9,0)","v":0},{"$f":"IF(G$32>0,Eing.Allg..Daten!$D$9,0)","v":0},0,null,{"$f":"IF(J$32>0,Eing.Allg..Daten!$D$9,0)","v":0},{"$f":"IF(K$32>0,Eing.Allg..Daten!$D$9,0)","v":0},{"$f":"IF(L$32>0,Eing.Allg..Daten!$D$9,0)","v":0},{"$f":"IF(M$32>0,Eing.Allg..Daten!$D$9,0)","v":0},0,null,{"$f":"IF(P$32>0,Eing.Allg..Daten!$D$9,0)","v":0},{"$f":"IF(Q$32>0,Eing.Allg..Daten!$D$9,0)","v":0},{"$f":"IF(R$32>0,Eing.Allg..Daten!$D$9,0)","v":0},{"$f":"IF(S$32>0,Eing.Allg..Daten!$D$9,0)","v":0},0,null,{"$f":"IF(V$32>0,Eing.Allg..Daten!$D$9,0)","v":0},{"$f":"IF(W$32>0,Eing.Allg..Daten!$D$9,0)","v":0},{"$f":"IF(X$32>0,Eing.Allg..Daten!$D$9,0)","v":0},{"$f":"IF(Y$32>0,Eing.Allg..Daten!$D$9,0)","v":0},0,null,{"$f":"IF(AB$32>0,Eing.Allg..Daten!$D$9,0)","v":0},{"$f":"IF(AC$32>0,Eing.Allg..Daten!$D$9,0)","v":0},{"$f":"IF(AD$32>0,Eing.Allg..Daten!$D$9,0)","v":0},{"$f":"IF(AE$32>0,Eing.Allg..Daten!$D$9,0)","v":0},0]
[8,{"$f":"IF(+Eing.Allg..Daten!$D$8<>\"\",+VLOOKUP(A39,Bahnen!$A$52:$B$144,2,0),\"\")","v":"Passagen"},null,{"$f":"IF(D$32>0,Eing.Allg..Daten!$D$9,0)","v":0},{"$f":"IF(E$32>0,Eing.Allg..Daten!$D$9,0)","v":0},{"$f":"IF(F$32>0,Eing.Allg..Daten!$D$9,0)","v":0},{"$f":"IF(G$32>0,Eing.Allg..Daten!$D$9,0)","v":0},0,null,{"$f":"IF(J$32>0,Eing.Allg..Daten!$D$9,0)","v":0},{"$f":"IF(K$32>0,Eing.Allg..Daten!$D$9,0)","v":0},{"$f":"IF(L$32>0,Eing.Allg..Daten!$D$9,0)","v":0},{"$f":"IF(M$32>0,Eing.Allg..Daten!$D$9,0)","v":0},0,null,{"$f":"IF(P$32>0,Eing.Allg..Daten!$D$9,0)","v":0},{"$f":"IF(Q$32>0,Eing.Allg..Daten!$D$9,0)","v":0},{"$f":"IF(R$32>0,Eing.Allg..Daten!$D$9,0)","v":0},{"$f":"IF(S$32>0,Eing.Allg..Daten!$D$9,0)","v":0},0,null,{"$f":"IF(V$32>0,Eing.Allg..Daten!$D$9,0)","v":0},{"$f":"IF(W$32>0,Eing.Allg..Daten!$D$9,0)","v":0},{"$f":"IF(X$32>0,Eing.Allg..Daten!$D$9,0)","v":0},{"$f":"IF(Y$32>0,Eing.Allg..Daten!$D$9,0)","v":0},0,null,{"$f":"IF(AB$32>0,Eing.Allg..Daten!$D$9,0)","v":0},{"$f":"IF(AC$32>0,Eing.Allg..Daten!$D$9,0)","v":0},{"$f":"IF(AD$32>0,Eing.Allg..Daten!$D$9,0)","v":0},{"$f":"IF(AE$32>0,Eing.Allg..Daten!$D$9,0)","v":0},0]
[9,{"$f":"IF(+Eing.Allg..Daten!$D$8<>\"\",+VLOOKUP(A40,Bahnen!$A$52:$B$144,2,0),\"\")","v":"Liegende Schleife"},null,{"$f":"IF(D$32>0,Eing.Allg..Daten!$D$9,0)","v":0},{"$f":"IF(E$32>0,Eing.Allg..Daten!$D$9,0)","v":0},{"$f":"IF(F$32>0,Eing.Allg..Daten!$D$9,0)","v":0},{"$f":"IF(G$32>0,Eing.Allg..Daten!$D$9,0)","v":0},0,null,{"$f":"IF(J$32>0,Eing.Allg..Daten!$D$9,0)","v":0},{"$f":"IF(K$32>0,Eing.Allg..Daten!$D$9,0)","v":0},{"$f":"IF(L$32>0,Eing.Allg..Daten!$D$9,0)","v":0},{"$f":"IF(M$32>0,Eing.Allg..Daten!$D$9,0)","v":0},0,null,{"$f":"IF(P$32>0,Eing.Allg..Daten!$D$9,0)","v":0},{"$f":"IF(Q$32>0,Eing.Allg..Daten!$D$9,0)","v":0},{"$f":"IF(R$32>0,Eing.Allg..Daten!$D$9,0)","v":0},{"$f":"IF(S$32>0,Eing.Allg..Daten!$D$9,0)","v":0},0,null,{"$f":"IF(V$32>0,Eing.Allg..Daten!$D$9,0)","v":0},{"$f":"IF(W$32>0,Eing.Allg..Daten!$D$9,0)","v":0},{"$f":"IF(X$32>0,Eing.Allg..Daten!$D$9,0)","v":0},{"$f":"IF(Y$32>0,Eing.Allg..Daten!$D$9,0)","v":0},0,null,{"$f":"IF(AB$32>0,Eing.Allg..Daten!$D$9,0)","v":0},{"$f":"IF(AC$32>0,Eing.Allg..Daten!$D$9,0)","v":0},{"$f":"IF(AD$32>0,Eing.Allg..Daten!$D$9,0)","v":0},{"$f":"IF(AE$32>0,Eing.Allg..Daten!$D$9,0)","v":0},0]
[10,{"$f":"IF(+Eing.Allg..Daten!$D$8<>\"\",+VLOOKUP(A41,Bahnen!$A$52:$B$144,2,0),\"\")","v":"Winkel"},null,{"$f":"IF(D$32>0,Eing.Allg..Daten!$D$9,0)","v":0},{"$f":"IF(E$32>0,Eing.Allg..Daten!$D$9,0)","v":0},{"$f":"IF(F$32>0,Eing.Allg..Daten!$D$9,0)","v":0},{"$f":"IF(G$32>0,Eing.Allg..Daten!$D$9,0)","v":0},0,null,{"$f":"IF(J$32>0,Eing.Allg..Daten!$D$9,0)","v":0},{"$f":"IF(K$32>0,Eing.Allg..Daten!$D$9,0)","v":0},{"$f":"IF(L$32>0,Eing.Allg..Daten!$D$9,0)","v":0},{"$f":"IF(M$32>0,Eing.Allg..Daten!$D$9,0)","v":0},0,null,{"$f":"IF(P$32>0,Eing.Allg..Daten!$D$9,0)","v":0},{"$f":"IF(Q$32>0,Eing.Allg..Daten!$D$9,0)","v":0},{"$f":"IF(R$32>0,Eing.Allg..Daten!$D$9,0)","v":0},{"$f":"IF(S$32>0,Eing.Allg..Daten!$D$9,0)","v":0},0,null,{"$f":"IF(V$32>0,Eing.Allg..Daten!$D$9,0)","v":0},{"$f":"IF(W$32>0,Eing.Allg..Daten!$D$9,0)","v":0},{"$f":"IF(X$32>0,Eing.Allg..Daten!$D$9,0)","v":0},{"$f":"IF(Y$32>0,Eing.Allg..Daten!$D$9,0)","v":0},0,null,{"$f":"IF(AB$32>0,Eing.Allg..Daten!$D$9,0)","v":0},{"$f":"IF(AC$32>0,Eing.Allg..Daten!$D$9,0)","v":0},{"$f":"IF(AD$32>0,Eing.Allg..Daten!$D$9,0)","v":0},{"$f":"IF(AE$32>0,Eing.Allg..Daten!$D$9,0)","v":0},0]
[11,{"$f":"IF(+Eing.Allg..Daten!$D$8<>\"\",+VLOOKUP(A42,Bahnen!$A$52:$B$144,2,0),\"\")","v":"Netz"},null,{"$f":"IF(D$32>0,Eing.Allg..Daten!$D$9,0)","v":0},{"$f":"IF(E$32>0,Eing.Allg..Daten!$D$9,0)","v":0},{"$f":"IF(F$32>0,Eing.Allg..Daten!$D$9,0)","v":0},{"$f":"IF(G$32>0,Eing.Allg..Daten!$D$9,0)","v":0},0,null,{"$f":"IF(J$32>0,Eing.Allg..Daten!$D$9,0)","v":0},{"$f":"IF(K$32>0,Eing.Allg..Daten!$D$9,0)","v":0},{"$f":"IF(L$32>0,Eing.Allg..Daten!$D$9,0)","v":0},{"$f":"IF(M$32>0,Eing.Allg..Daten!$D$9,0)","v":0},0,null,{"$f":"IF(P$32>0,Eing.Allg..Daten!$D$9,0)","v":0},{"$f":"IF(Q$32>0,Eing.Allg..Daten!$D$9,0)","v":0},{"$f":"IF(R$32>0,Eing.Allg..Daten!$D$9,0)","v":0},{"$f":"IF(S$32>0,Eing.Allg..Daten!$D$9,0)","v":0},0,null,{"$f":"IF(V$32>0,Eing.Allg..Daten!$D$9,0)","v":0},{"$f":"IF(W$32>0,Eing.Allg..Daten!$D$9,0)","v":0},{"$f":"IF(X$32>0,Eing.Allg..Daten!$D$9,0)","v":0},{"$f":"IF(Y$32>0,Eing.Allg..Daten!$D$9,0)","v":0},0,null,{"$f":"IF(AB$32>0,Eing.Allg..Daten!$D$9,0)","v":0},{"$f":"IF(AC$32>0,Eing.Allg..Daten!$D$9,0)","v":0},{"$f":"IF(AD$32>0,Eing.Allg..Daten!$D$9,0)","v":0},{"$f":"IF(AE$32>0,Eing.Allg..Daten!$D$9,0)","v":0},0]
[12,{"$f":"IF(+Eing.Allg..Daten!$D$8<>\"\",+VLOOKUP(A43,Bahnen!$A$52:$B$144,2,0),\"\")","v":"Doppelkeile"},null,{"$f":"IF(D$32>0,Eing.Allg..Daten!$D$9,0)","v":0},{"$f":"IF(E$32>0,Eing.Allg..Daten!$D$9,0)","v":0},{"$f":"IF(F$32>0,Eing.Allg..Daten!$D$9,0)","v":0},{"$f":"IF(G$32>0,Eing.Allg..Daten!$D$9,0)","v":0},0,null,{"$f":"IF(J$32>0,Eing.Allg..Daten!$D$9,0)","v":0},{"$f":"IF(K$32>0,Eing.Allg..Daten!$D$9,0)","v":0},{"$f":"IF(L$32>0,Eing.Allg..Daten!$D$9,0)","v":0},{"$f":"IF(M$32>0,Eing.Allg..Daten!$D$9,0)","v":0},0,null,{"$f":"IF(P$32>0,Eing.Allg..Daten!$D$9,0)","v":0},{"$f":"IF(Q$32>0,Eing.Allg..Daten!$D$9,0)","v":0},{"$f":"IF(R$32>0,Eing.Allg..Daten!$D$9,0)","v":0},{"$f":"IF(S$32>0,Eing.Allg..Daten!$D$9,0)","v":0},0,null,{"$f":"IF(V$32>0,Eing.Allg..Daten!$D$9,0)","v":0},{"$f":"IF(W$32>0,Eing.Allg..Daten!$D$9,0)","v":0},{"$f":"IF(X$32>0,Eing.Allg..Daten!$D$9,0)","v":0},{"$f":"IF(Y$32>0,Eing.Allg..Daten!$D$9,0)","v":0},0,null,{"$f":"IF(AB$32>0,Eing.Allg..Daten!$D$9,0)","v":0},{"$f":"IF(AC$32>0,Eing.Allg..Daten!$D$9,0)","v":0},{"$f":"IF(AD$32>0,Eing.Allg..Daten!$D$9,0)","v":0},{"$f":"IF(AE$32>0,Eing.Allg..Daten!$D$9,0)","v":0},0]
[13,{"$f":"IF(+Eing.Allg..Daten!$D$8<>\"\",+VLOOKUP(A44,Bahnen!$A$52:$B$144,2,0),\"\")","v":"Stumpfe Kegel"},null,{"$f":"IF(D$32>0,Eing.Allg..Daten!$D$9,0)","v":0},{"$f":"IF(E$32>0,Eing.Allg..Daten!$D$9,0)","v":0},{"$f":"IF(F$32>0,Eing.Allg..Daten!$D$9,0)","v":0},{"$f":"IF(G$32>0,Eing.Allg..Daten!$D$9,0)","v":0},0,null,{"$f":"IF(J$32>0,Eing.Allg..Daten!$D$9,0)","v":0},{"$f":"IF(K$32>0,Eing.Allg..Daten!$D$9,0)","v":0},{"$f":"IF(L$32>0,Eing.Allg..Daten!$D$9,0)","v":0},{"$f":"IF(M$32>0,Eing.Allg..Daten!$D$9,0)","v":0},0,null,{"$f":"IF(P$32>0,Eing.Allg..Daten!$D$9,0)","v":0},{"$f":"IF(Q$32>0,Eing.Allg..Daten!$D$9,0)","v":0},{"$f":"IF(R$32>0,Eing.Allg..Daten!$D$9,0)","v":0},{"$f":"IF(S$32>0,Eing.Allg..Daten!$D$9,0)","v":0},0,null,{"$f":"IF(V$32>0,Eing.Allg..Daten!$D$9,0)","v":0},{"$f":"IF(W$32>0,Eing.Allg..Daten!$D$9,0)","v":0},{"$f":"IF(X$32>0,Eing.Allg..Daten!$D$9,0)","v":0},{"$f":"IF(Y$32>0,Eing.Allg..Daten!$D$9,0)","v":0},0,null,{"$f":"IF(AB$32>0,Eing.Allg..Daten!$D$9,0)","v":0},{"$f":"IF(AC$32>0,Eing.Allg..Daten!$D$9,0)","v":0},{"$f":"IF(AD$32>0,Eing.Allg..Daten!$D$9,0)","v":0},{"$f":"IF(AE$32>0,Eing.Allg..Daten!$D$9,0)","v":0},0]
[14,{"$f":"IF(+Eing.Allg..Daten!$D$8<>\"\",+VLOOKUP(A45,Bahnen!$A$52:$B$144,2,0),\"\")","v":"Schrägerkreis mit Niere"},null,{"$f":"IF(D$32>0,Eing.Allg..Daten!$D$9,0)","v":0},{"$f":"IF(E$32>0,Eing.Allg..Daten!$D$9,0)","v":0},{"$f":"IF(F$32>0,Eing.Allg..Daten!$D$9,0)","v":0},{"$f":"IF(G$32>0,Eing.Allg..Daten!$D$9,0)","v":0},0,null,{"$f":"IF(J$32>0,Eing.Allg..Daten!$D$9,0)","v":0},{"$f":"IF(K$32>0,Eing.Allg..Daten!$D$9,0)","v":0},{"$f":"IF(L$32>0,Eing.Allg..Daten!$D$9,0)","v":0},{"$f":"IF(M$32>0,Eing.Allg..Daten!$D$9,0)","v":0},0,null,{"$f":"IF(P$32>0,Eing.Allg..Daten!$D$9,0)","v":0},{"$f":"IF(Q$32>0,Eing.Allg..Daten!$D$9,0)","v":0},{"$f":"IF(R$32>0,Eing.Allg..Daten!$D$9,0)","v":0},{"$f":"IF(S$32>0,Eing.Allg..Daten!$D$9,0)","v":0},0,null,{"$f":"IF(V$32>0,Eing.Allg..Daten!$D$9,0)","v":0},{"$f":"IF(W$32>0,Eing.Allg..Daten!$D$9,0)","v":0},{"$f":"IF(X$32>0,Eing.Allg..Daten!$D$9,0)","v":0},{"$f":"IF(Y$32>0,Eing.Allg..Daten!$D$9,0)","v":0},0,null,{"$f":"IF(AB$32>0,Eing.Allg..Daten!$D$9,0)","v":0},{"$f":"IF(AC$32>0,Eing.Allg..Daten!$D$9,0)","v":0},{"$f":"IF(AD$32>0,Eing.Allg..Daten!$D$9,0)","v":0},{"$f":"IF(AE$32>0,Eing.Allg..Daten!$D$9,0)","v":0},0]
[15,{"$f":"IF(+Eing.Allg..Daten!$D$8<>\"\",+VLOOKUP(A46,Bahnen!$A$52:$B$144,2,0),\"\")","v":"Brücke"},null,{"$f":"IF(D$32>0,Eing.Allg..Daten!$D$9,0)","v":0},{"$f":"IF(E$32>0,Eing.Allg..Daten!$D$9,0)","v":0},{"$f":"IF(F$32>0,Eing.Allg..Daten!$D$9,0)","v":0},{"$f":"IF(G$32>0,Eing.Allg..Daten!$D$9,0)","v":0},0,null,{"$f":"IF(J$32>0,Eing.Allg..Daten!$D$9,0)","v":0},{"$f":"IF(K$32>0,Eing.Allg..Daten!$D$9,0)","v":0},{"$f":"IF(L$32>0,Eing.Allg..Daten!$D$9,0)","v":0},{"$f":"IF(M$32>0,Eing.Allg..Daten!$D$9,0)","v":0},0,null,{"$f":"IF(P$32>0,Eing.Allg..Daten!$D$9,0)","v":0},{"$f":"IF(Q$32>0,Eing.Allg..Daten!$D$9,0)","v":0},{"$f":"IF(R$32>0,Eing.Allg..Daten!$D$9,0)","v":0},{"$f":"IF(S$32>0,Eing.Allg..Daten!$D$9,0)","v":0},0,null,{"$f":"IF(V$32>0,Eing.Allg..Daten!$D$9,0)","v":0},{"$f":"IF(W$32>0,Eing.Allg..Daten!$D$9,0)","v":0},{"$f":"IF(X$32>0,Eing.Allg..Daten!$D$9,0)","v":0},{"$f":"IF(Y$32>0,Eing.Allg..Daten!$D$9,0)","v":0},0,null,{"$f":"IF(AB$32>0,Eing.Allg..Daten!$D$9,0)","v":0},{"$f":"IF(AC$32>0,Eing.Allg..Daten!$D$9,0)","v":0},{"$f":"IF(AD$32>0,Eing.Allg..Daten!$D$9,0)","v":0},{"$f":"IF(AE$32>0,Eing.Allg..Daten!$D$9,0)","v":0},0]
[16,{"$f":"IF(+Eing.Allg..Daten!$D$8<>\"\",+VLOOKUP(A47,Bahnen!$A$52:$B$144,2,0),\"\")","v":"Vulkan"},null,{"$f":"IF(D$32>0,Eing.Allg..Daten!$D$9,0)","v":0},{"$f":"IF(E$32>0,Eing.Allg..Daten!$D$9,0)","v":0},{"$f":"IF(F$32>0,Eing.Allg..Daten!$D$9,0)","v":0},{"$f":"IF(G$32>0,Eing.Allg..Daten!$D$9,0)","v":0},0,null,{"$f":"IF(J$32>0,Eing.Allg..Daten!$D$9,0)","v":0},{"$f":"IF(K$32>0,Eing.Allg..Daten!$D$9,0)","v":0},{"$f":"IF(L$32>0,Eing.Allg..Daten!$D$9,0)","v":0},{"$f":"IF(M$32>0,Eing.Allg..Daten!$D$9,0)","v":0},0,null,{"$f":"IF(P$32>0,Eing.Allg..Daten!$D$9,0)","v":0},{"$f":"IF(Q$32>0,Eing.Allg..Daten!$D$9,0)","v":0},{"$f":"IF(R$32>0,Eing.Allg..Daten!$D$9,0)","v":0},{"$f":"IF(S$32>0,Eing.Allg..Daten!$D$9,0)","v":0},0,null,{"$f":"IF(V$32>0,Eing.Allg..Daten!$D$9,0)","v":0},{"$f":"IF(W$32>0,Eing.Allg..Daten!$D$9,0)","v":0},{"$f":"IF(X$32>0,Eing.Allg..Daten!$D$9,0)","v":0},{"$f":"IF(Y$32>0,Eing.Allg..Daten!$D$9,0)","v":0},0,null,{"$f":"IF(AB$32>0,Eing.Allg..Daten!$D$9,0)","v":0},{"$f":"IF(AC$32>0,Eing.Allg..Daten!$D$9,0)","v":0},{"$f":"IF(AD$32>0,Eing.Allg..Daten!$D$9,0)","v":0},{"$f":"IF(AE$32>0,Eing.Allg..Daten!$D$9,0)","v":0},0]
[17,{"$f":"IF(+Eing.Allg..Daten!$D$8<>\"\",+VLOOKUP(A48,Bahnen!$A$52:$B$144,2,0),\"\")","v":"Auflaufkeil mit Zielfenster"},null,{"$f":"IF(D$32>0,Eing.Allg..Daten!$D$9,0)","v":0},{"$f":"IF(E$32>0,Eing.Allg..Daten!$D$9,0)","v":0},{"$f":"IF(F$32>0,Eing.Allg..Daten!$D$9,0)","v":0},{"$f":"IF(G$32>0,Eing.Allg..Daten!$D$9,0)","v":0},0,null,{"$f":"IF(J$32>0,Eing.Allg..Daten!$D$9,0)","v":0},{"$f":"IF(K$32>0,Eing.Allg..Daten!$D$9,0)","v":0},{"$f":"IF(L$32>0,Eing.Allg..Daten!$D$9,0)","v":0},{"$f":"IF(M$32>0,Eing.Allg..Daten!$D$9,0)","v":0},0,null,{"$f":"IF(P$32>0,Eing.Allg..Daten!$D$9,0)","v":0},{"$f":"IF(Q$32>0,Eing.Allg..Daten!$D$9,0)","v":0},{"$f":"IF(R$32>0,Eing.Allg..Daten!$D$9,0)","v":0},{"$f":"IF(S$32>0,Eing.Allg..Daten!$D$9,0)","v":0},0,null,{"$f":"IF(V$32>0,Eing.Allg..Daten!$D$9,0)","v":0},{"$f":"IF(W$32>0,Eing.Allg..Daten!$D$9,0)","v":0},{"$f":"IF(X$32>0,Eing.Allg..Daten!$D$9,0)","v":0},{"$f":"IF(Y$32>0,Eing.Allg..Daten!$D$9,0)","v":0},0,null,{"$f":"IF(AB$32>0,Eing.Allg..Daten!$D$9,0)","v":0},{"$f":"IF(AC$32>0,Eing.Allg..Daten!$D$9,0)","v":0},{"$f":"IF(AD$32>0,Eing.Allg..Daten!$D$9,0)","v":0},{"$f":"IF(AE$32>0,Eing.Allg..Daten!$D$9,0)","v":0},0]
[18,{"$f":"IF(+Eing.Allg..Daten!$D$8<>\"\",+VLOOKUP(A49,Bahnen!$A$52:$B$144,2,0),\"\")","v":"Blitz"},null,{"$f":"IF(D$32>0,Eing.Allg..Daten!$D$9,0)","v":0},{"$f":"IF(E$32>0,Eing.Allg..Daten!$D$9,0)","v":0},{"$f":"IF(F$32>0,Eing.Allg..Daten!$D$9,0)","v":0},{"$f":"IF(G$32>0,Eing.Allg..Daten!$D$9,0)","v":0},0,null,{"$f":"IF(J$32>0,Eing.Allg..Daten!$D$9,0)","v":0},{"$f":"IF(K$32>0,Eing.Allg..Daten!$D$9,0)","v":0},{"$f":"IF(L$32>0,Eing.Allg..Daten!$D$9,0)","v":0},{"$f":"IF(M$32>0,Eing.Allg..Daten!$D$9,0)","v":0},0,null,{"$f":"IF(P$32>0,Eing.Allg..Daten!$D$9,0)","v":0},{"$f":"IF(Q$32>0,Eing.Allg..Daten!$D$9,0)","v":0},{"$f":"IF(R$32>0,Eing.Allg..Daten!$D$9,0)","v":0},{"$f":"IF(S$32>0,Eing.Allg..Daten!$D$9,0)","v":0},0,null,{"$f":"IF(V$32>0,Eing.Allg..Daten!$D$9,0)","v":0},{"$f":"IF(W$32>0,Eing.Allg..Daten!$D$9,0)","v":0},{"$f":"IF(X$32>0,Eing.Allg..Daten!$D$9,0)","v":0},{"$f":"IF(Y$32>0,Eing.Allg..Daten!$D$9,0)","v":0},0,null,{"$f":"IF(AB$32>0,Eing.Allg..Daten!$D$9,0)","v":0},{"$f":"IF(AC$32>0,Eing.Allg..Daten!$D$9,0)","v":0},{"$f":"IF(AD$32>0,Eing.Allg..Daten!$D$9,0)","v":0},{"$f":"IF(AE$32>0,Eing.Allg..Daten!$D$9,0)","v":0},0]
[null,"Strafpunkte",null,null,null,null,null,0,null,null,null,null,null,0,null,null,null,null,null,0,null,null,null,null,null,0,null,null,null,null,null,0]
[null,null,null,{"$f":"IF(D49<>0,SUM(D32:D50),999)","v":999},{"$f":"IF(E49<>0,SUM(E32:E50),999)","v":999},{"$f":"IF(F49<>0,SUM(F32:F50),999)","v":999},{"$f":"IF(G49<>0,SUM(G32:G50),999)","v":999},{"$f":"SUM(H32:H50)","v":0},null,{"$f":"IF(J49<>0,SUM(J32:J50),999)","v":999},{"$f":"IF(K49<>0,SUM(K32:K50),999)","v":999},{"$f":"IF(L49<>0,SUM(L32:L50),999)","v":999},{"$f":"IF(M49<>0,SUM(M32:M50),999)","v":999},{"$f":"SUM(N32:N50)","v":0},null,{"$f":"IF(P49<>0,SUM(P32:P50),999)","v":999},{"$f":"IF(Q49<>0,SUM(Q32:Q50),999)","v":999},{"$f":"IF(R49<>0,SUM(R32:R50),999)","v":999},{"$f":"IF(S49<>0,SUM(S32:S50),999)","v":999},{"$f":"SUM(T32:T50)","v":0},null,{"$f":"IF(V49<>0,SUM(V32:V50),999)","v":999},{"$f":"IF(W49<>0,SUM(W32:W50),999)","v":999},{"$f":"IF(X49<>0,SUM(X32:X50),999)","v":999},{"$f":"IF(Y49<>0,SUM(Y32:Y50),999)","v":999},{"$f":"SUM(Z32:Z50)","v":0},null,{"$f":"IF(AB49<>0,SUM(AB32:AB50),999)","v":999},{"$f":"IF(AC49<>0,SUM(AC32:AC50),999)","v":999},{"$f":"IF(AD49<>0,SUM(AD32:AD50),999)","v":999},{"$f":"IF(AE49<>0,SUM(AE32:AE50),999)","v":999},{"$f":"SUM(AF32:AF50)","v":0}]
[null,null,null,{"$f":"SUM(D51:G51)","v":3996},null,null,null,null,null,{"$f":"SUM(J51:M51)","v":3996},null,null,null,null,null,{"$f":"SUM(P51:S51)","v":3996},null,null,null,null,null,{"$f":"SUM(V51:Y51)","v":3996},null,null,null,null,null,{"$f":"SUM(AB51:AE51)","v":3996}]
[null,null,null,{"$f":"IF(D32=0,\"DNS\",IF(D49=0,\"DNF\",1))","v":"DNS"},{"$f":"IF(E32=0,\"DNS\",IF(E49=0,\"DNF\",1))","v":"DNS"},{"$f":"IF(F32=0,\"DNS\",IF(F49=0,\"DNF\",1))","v":"DNS"},{"$f":"IF(G32=0,\"DNS\",IF(G49=0,\"DNF\",1))","v":"DNS"},{"$f":"IF(SUM(D53:G53)=Tagestabelle!$N$3,\"FIN\",\"DNF\")","v":"FIN"},null,{"$f":"IF(J32=0,\"DNS\",IF(J49=0,\"DNF\",1))","v":"DNS"},{"$f":"IF(K32=0,\"DNS\",IF(K49=0,\"DNF\",1))","v":"DNS"},{"$f":"IF(L32=0,\"DNS\",IF(L49=0,\"DNF\",1))","v":"DNS"},{"$f":"IF(M32=0,\"DNS\",IF(M49=0,\"DNF\",1))","v":"DNS"},{"$f":"IF(SUM(J53:M53)=Tagestabelle!$N$3,\"FIN\",\"DNF\")","v":"FIN"},null,{"$f":"IF(P32=0,\"DNS\",IF(P49=0,\"DNF\",1))","v":"DNS"},{"$f":"IF(Q32=0,\"DNS\",IF(Q49=0,\"DNF\",1))","v":"DNS"},{"$f":"IF(R32=0,\"DNS\",IF(R49=0,\"DNF\",1))","v":"DNS"},{"$f":"IF(S32=0,\"DNS\",IF(S49=0,\"DNF\",1))","v":"DNS"},{"$f":"IF(SUM(P53:S53)=Tagestabelle!$N$3,\"FIN\",\"DNF\")","v":"FIN"},null,{"$f":"IF(V32=0,\"DNS\",IF(V49=0,\"DNF\",1))","v":"DNS"},{"$f":"IF(W32=0,\"DNS\",IF(W49=0,\"DNF\",1))","v":"DNS"},{"$f":"IF(X32=0,\"DNS\",IF(X49=0,\"DNF\",1))","v":"DNS"},{"$f":"IF(Y32=0,\"DNS\",IF(Y49=0,\"DNF\",1))","v":"DNS"},{"$f":"IF(SUM(V53:Y53)=Tagestabelle!$N$3,\"FIN\",\"DNF\")","v":"FIN"},null,{"$f":"IF(AB32=0,\"DNS\",IF(AB49=0,\"DNF\",1))","v":"DNS"},{"$f":"IF(AC32=0,\"DNS\",IF(AC49=0,\"DNF\",1))","v":"DNS"},{"$f":"IF(AD32=0,\"DNS\",IF(AD49=0,\"DNF\",1))","v":"DNS"},{"$f":"IF(AE32=0,\"DNS\",IF(AE49=0,\"DNF\",1))","v":"DNS"},{"$f":"IF(SUM(AB53:AE53)=Tagestabelle!$N$3,\"FIN\",\"DNF\")","v":"FIN"}]
[null,"M3",null,"R1","R2","R3","R4"]
[null,"KKLEINSTE8",null,{"$f":"SMALL(D60:D67,8)","v":999.00008000000003},{"$f":"SMALL(E60:E67,8)","v":999.00008000000003},{"$f":"SMALL(F60:F67,8)","v":999.00008000000003},{"$f":"SMALL(G60:G67,8)","v":999.00008000000003}]
[null,"KKLEINSTE7",null,{"$f":"SMALL(D60:D67,7)","v":999.00007000000005},{"$f":"SMALL(E60:E67,7)","v":999.00007000000005},{"$f":"SMALL(F60:F67,7)","v":999.00007000000005},{"$f":"SMALL(G60:G67,7)","v":999.00007000000005}]
[null,"KKLEINSTE6",null,{"$f":"SMALL(D60:D67,6)","v":999.00005999999996},{"$f":"SMALL(E60:E67,6)","v":999.00005999999996},{"$f":"SMALL(F60:F67,6)","v":999.00005999999996},{"$f":"SMALL(G60:G67,6)","v":999.00005999999996}]
[null,"KKLEINSTE5",null,{"$f":"SMALL(D60:D67,5)","v":999.00004999999999},{"$f":"SMALL(E60:E67,5)","v":999.00004999999999},{"$f":"SMALL(F60:F67,5)","v":999.00004999999999},{"$f":"SMALL(G60:G67,5)","v":999.00004999999999}]
[]
[8.0000000000000007E-5,"S1",null,{"$f":"D25+A60","v":999.00008000000003},{"$f":"E25+A60","v":999.00008000000003},{"$f":"F25+A60","v":999.00008000000003},{"$f":"G25+A60","v":999.00008000000003},"S1"]
[6.9999999999999994E-5,"S2",null,{"$f":"J25+A61","v":999.00007000000005},{"$f":"K25+A61","v":999.00007000000005},{"$f":"L25+A61","v":999.00007000000005},{"$f":"M25+A61","v":999.00007000000005},"S2"]
[6.0000000000000002E-5,"S3",null,{"$f":"P25+A62","v":999.00005999999996},{"$f":"Q25+A62","v":999.00005999999996},{"$f":"R25+A62","v":999.00005999999996},{"$f":"S25+A62","v":999.00005999999996},"S3"]
[5.0000000000000002E-5,"S4",null,{"$f":"V25+A63","v":999.00004999999999},{"$f":"W25+A63","v":999.00004999999999},{"$f":"X25+A63","v":999.00004999999999},{"$f":"Y25+A63","v":999.00004999999999},"S4"]
[4.0000000000000003E-5,"S5",null,{"$f":"D51+A64","v":999.00004000000001},{"$f":"E51+A64","v":999.00004000000001},{"$f":"F51+A64","v":999.00004000000001},{"$f":"G51+A64","v":999.00004000000001},"S5"]
[3.0000000000000001E-5,"S6",null,{"$f":"J51+A65","v":999.00003000000004},{"$f":"K51+A65","v":999.00003000000004},{"$f":"L51+A65","v":999.00003000000004},{"$f":"M51+A65","v":999.00003000000004},"S6"]
[2.0000000000000002E-5,"S7",null,{"$f":"P51+A66","v":999.00001999999995},{"$f":"Q51+A66","v":999.00001999999995},{"$f":"R51+A66","v":999.00001999999995},{"$f":"S51+A66","v":999.00001999999995},"S7"]
[1.0000000000000001E-5,"S8",null,{"$f":"V51+A67","v":999.00000999999997},{"$f":"W51+A67","v":999.00000999999997},{"$f":"X51+A67","v":999.00000999999997},{"$f":"Y51+A67","v":999.00000999999997},"S8"]

{"sheet":"Ma4","index":12,"n_rows":67,"n_cols":58,"rows_kept":67,"cut":false,"hidden":false,"merged":[[14,27,14,28],[15,27,15,28],[16,27,16,28],[17,27,17,28],[23,27,23,28],[18,27,18,28],[19,27,19,28],[20,27,20,28],[21,27,21,28],[22,27,22,28],[9,27,9,28],[10,27,10,28],[11,27,11,28],[12,27,12,28],[13,27,13,28],[2,0,2,1],[3,0,3,1],[51,15,51,19],[28,0,28,1],[29,0,29,1],[25,3,25,7],[30,15,30,16],[24,0,24,1],[50,0,50,1],[4,3,4,4],[51,3,51,7],[51,9,51,13],[30,9,30,10],[4,15,4,16],[30,3,30,4],[4,9,4,10],[25,9,25,13],[25,15,25,19],[25,21,25,25],[30,21,30,22],[30,27,30,28],[24,27,25,28],[51,27,51,31],[51,21,51,25],[7,27,7,28],[0,42,0,44],[1,42,1,57],[2,42,2,45],[2,46,2,49],[2,50,2,53],[2,54,2,57],[4,21,4,22],[2,27,2,28],[3,27,3,28],[4,27,4,28],[5,27,5,28],[6,27,6,28],[8,27,8,28]]}
["Mannschaft:",null,null,{"$f":"+Eing.Mannsch.aufstellung!B104","v":"SG Weiterstadt"},null,null,null,null,null,null,null,{"$f":"+Seite1!B3","v":"Gruppenliga"},null,null,null,null,null,null,null,{"$f":"+Seite1!C5","v":3},null,{"$f":"+Seite1!D5","v":". Spieltag         "},null,null,null,null,null,null,null,null,null,null,null,null,null,null,null,null,null,null,null,null,"Spieler in der Wertung:",null,null,{"$f":"AnzSpieler","v":5},"+ 1 (+1)"]
[null,null,null,"M4S1R1","M4S1R2","M4S1R3","M4S1R4",null,null,"M4S2R1","M4S2R2","M4S2R3","M4S2R4",null,null,"M4S3R1","M4S3R2","M4S3R3","M4S3R4",null,null,"M4S4R1","M4S4R2","M4S4R3","M4S4R4",null,null,null,null,null,null,null,null,null,null,null,null,null,null,null,null,null,"Streichrunden"]
[null,null,null,"Spieler 1",null,null,null,"Kat.",null,"Spieler 2",null,null,null,"Kat.",null,"Spieler 3",null,null,null,"Kat.",null,"Spieler 4",null,null,null,"Kat.",null,"Mannsch. ",null,null,null,null,null,null,null,null,null,null,null,null,null,null,"R1",null,null,null,"R2",null,null,null,"R3",null,null,null,"R3"]
["Bahn  ",null,null,{"$f":"+M4S1","v":{"$error":"#N/A"}},null,null,null,{"$f":"+M4S1Kat","v":{"$error":"#N/A"}},null,{"$f":"+M4S2","v":{"$error":"#N/A"}},null,null,null,{"$f":"+M4S2Kat","v":{"$error":"#N/A"}},null,{"$f":"+M4S3","v":{"$error":"#N/A"}},null,null,null,{"$f":"+M4S3Kat","v":{"$error":"#N/A"}},null,{"$f":"+M4S4","v":{"$error":"#N/A"}},null,null,null,{"$f":"+M4S4Kat","v":{"$error":"#N/A"}},null,"gesamt",null,null,null,null,null,null,null,null,null,null,null,null,null,null,"Kl_8","Kl_7","Kl_6","Kl_5","Kl_8","Kl_7","Kl_6","Kl_5","Kl_8","Kl_7","Kl_6","Kl_5","Kl_8","Kl_7","Kl_6","Kl_5"]
["Nr.","Bez. ",null,{"$f":"+M4S1p","v":0},null,null,null,null,null,{"$f":"+M4S2p","v":0},null,null,null,null,null,{"$f":"+M4S3p","v":0},null,null,null,null,null,{"$f":"+M4S4p","v":0},null,null,null,null,null,null,null,null,null,null,null,null,null,null,null,null,null,null,null,null,{"$f":"CONCATENATE($B$54,VLOOKUP(D$55,$D$60:$H$67,5,FALSE),$D$54)","v":"M4S1R1"},{"$f":"CONCATENATE($B$54,VLOOKUP(D$56,$D$60:$H$67,5,FALSE),$D$54)","v":"M4S2R1"},{"$f":"CONCATENATE($B$54,VLOOKUP(D$57,$D$60:$H$67,5,FALSE),$D$54)","v":"M4S3R1"},{"$f":"CONCATENATE($B$54,VLOOKUP(D$58,$D$60:$H$67,5,FALSE),$D$54)","v":"M4S4R1"},{"$f":"CONCATENATE($B$54,VLOOKUP(E$55,$E$60:$H$67,4,FALSE),$E$54)","v":"M4S1R2"},{"$f":"CONCATENATE($B$54,VLOOKUP(E$56,$E$60:$H$67,4,FALSE),$E$54)","v":"M4S2R2"},{"$f":"CONCATENATE($B$54,VLOOKUP(E$57,$E$60:$H$67,4,FALSE),$E$54)","v":"M4S3R2"},{"$f":"CONCATENATE($B$54,VLOOKUP(E$58,$E$60:$H$67,4,FALSE),$E$54)","v":"M4S4R2"},{"$f":"CONCATENATE($B$54,VLOOKUP(F$55,$F$60:$H$67,3,FALSE),$F$54)","v":"M4S1R3"},{"$f":"CONCATENATE($B$54,VLOOKUP(F$56,$F$60:$H$67,3,FALSE),$F$54)","v":"M4S2R3"},{"$f":"CONCATENATE($B$54,VLOOKUP(F$57,$F$60:$H$67,3,FALSE),$F$54)","v":"M4S3R3"},{"$f":"CONCATENATE($B$54,VLOOKUP(F$58,$F$60:$H$67,3,FALSE),$F$54)","v":"M4S4R3"},{"$f":"CONCATENATE($B$54,VLOOKUP(G$55,$G$60:$H$67,2,FALSE),$G$54)","v":"M4S1R4"},{"$f":"CONCATENATE($B$54,VLOOKUP(G$56,$G$60:$H$67,2,FALSE),$G$54)","v":"M4S2R4"},{"$f":"CONCATENATE($B$54,VLOOKUP(G$57,$G$60:$H$67,2,FALSE),$G$54)","v":"M4S3R4"},{"$f":"CONCATENATE($B$54,VLOOKUP(G$58,$G$60:$H$67,2,FALSE),$G$54)","v":"M4S4R4"}]
[1,{"$f":"IF(+Eing.Allg..Daten!$D$8<>\"\",+VLOOKUP(A6,Bahnen!$A$52:$B$144,2,0),\"\")","v":"Gerade Bahn ohne Hindernis"},null,null,null,null,null,{"$f":"SUM(D6:G6)","v":0},null,null,null,null,null,{"$f":"SUM(J6:M6)","v":0},null,null,null,null,null,{"$f":"SUM(P6:S6)","v":0},null,null,null,null,null,{"$f":"SUM(V6:Y6)","v":0},null,{"$f":"+H6+N6+T6+Z6+H32+N32++T32+Z32-AP6","v":0},null,null,null,null,null,null,null,null,null,null,null,null,null,{"$f":"IF($AT$1=6,SUM(AQ6:AR6,AU6:AV6,AY6:AZ6,BC6:BD6),IF($AT$1=5,SUM(AQ6:AS6,AU6:AW6,AY6:BA6,BC6:BE6),IF($AT$1=4,SUM(AQ6:AT6,AU6:AX6,AY6:BB6,BC6:BF6))))","v":0},{"$f":"(IF(ISNA(HLOOKUP(AQ$5,$D$2:$Z$23,5,FALSE))=TRUE,0,HLOOKUP(AQ$5,$D$2:$Z$23,5,FALSE)))+(IF(ISNA(HLOOKUP(AQ$5,$D$28:$Z$49,5,FALSE))=TRUE,0,HLOOKUP(AQ$5,$D$28:$Z$49,5,FALSE)))","v":0},0,0,0,0,0,0,0,0,0,0,0,0,0,0,0]
[2,{"$f":"IF(+Eing.Allg..Daten!$D$8<>\"\",+VLOOKUP(A7,Bahnen!$A$52:$B$144,2,0),\"\")","v":"Salto"},null,{"$f":"IF(D$6>0,Eing.Allg..Daten!$D$9,0)","v":0},{"$f":"IF(E$6>0,Eing.Allg..Daten!$D$9,0)","v":0},{"$f":"IF(F$6>0,Eing.Allg..Daten!$D$9,0)","v":0},{"$f":"IF(G$6>0,Eing.Allg..Daten!$D$9,0)","v":0},0,null,{"$f":"IF(J$6>0,Eing.Allg..Daten!$D$9,0)","v":0},{"$f":"IF(K$6>0,Eing.Allg..Daten!$D$9,0)","v":0},{"$f":"IF(L$6>0,Eing.Allg..Daten!$D$9,0)","v":0},{"$f":"IF(M$6>0,Eing.Allg..Daten!$D$9,0)","v":0},0,null,{"$f":"IF(P$6>0,Eing.Allg..Daten!$D$9,0)","v":0},{"$f":"IF(Q$6>0,Eing.Allg..Daten!$D$9,0)","v":0},{"$f":"IF(R$6>0,Eing.Allg..Daten!$D$9,0)","v":0},{"$f":"IF(S$6>0,Eing.Allg..Daten!$D$9,0)","v":0},0,null,{"$f":"IF(V$6>0,Eing.Allg..Daten!$D$9,0)","v":0},{"$f":"IF(W$6>0,Eing.Allg..Daten!$D$9,0)","v":0},{"$f":"IF(X$6>0,Eing.Allg..Daten!$D$9,0)","v":0},{"$f":"IF(Y$6>0,Eing.Allg..Daten!$D$9,0)","v":0},0,null,0,null,null,null,null,null,null,null,null,null,null,null,null,null,{"$f":"IF($AT$1=6,SUM(AQ7:AR7,AU7:AV7,AY7:AZ7,BC7:BD7),IF($AT$1=5,SUM(AQ7:AS7,AU7:AW7,AY7:BA7,BC7:BE7),IF($AT$1=4,SUM(AQ7:AT7,AU7:AX7,AY7:BB7,BC7:BF7))))","v":0},{"$f":"(IF(ISNA(HLOOKUP(AQ$5,$D$2:$Z$23,6,FALSE))=TRUE,0,HLOOKUP(AQ$5,$D$2:$Z$23,6,FALSE)))+(IF(ISNA(HLOOKUP(AQ$5,$D$28:$Z$49,6,FALSE))=TRUE,0,HLOOKUP(AQ$5,$D$28:$Z$49,6,FALSE)))","v":0},0,0,0,0,0,0,0,0,0,0,0,0,0,0,0]
[3,{"$f":"IF(+Eing.Allg..Daten!$D$8<>\"\",+VLOOKUP(A8,Bahnen!$A$52:$B$144,2,0),\"\")","v":"Pyramiden"},null,{"$f":"IF(D$6>0,Eing.Allg..Daten!$D$9,0)","v":0},{"$f":"IF(E$6>0,Eing.Allg..Daten!$D$9,0)","v":0},{"$f":"IF(F$6>0,Eing.Allg..Daten!$D$9,0)","v":0},{"$f":"IF(G$6>0,Eing.Allg..Daten!$D$9,0)","v":0},0,null,{"$f":"IF(J$6>0,Eing.Allg..Daten!$D$9,0)","v":0},{"$f":"IF(K$6>0,Eing.Allg..Daten!$D$9,0)","v":0},{"$f":"IF(L$6>0,Eing.Allg..Daten!$D$9,0)","v":0},{"$f":"IF(M$6>0,Eing.Allg..Daten!$D$9,0)","v":0},0,null,{"$f":"IF(P$6>0,Eing.Allg..Daten!$D$9,0)","v":0},{"$f":"IF(Q$6>0,Eing.Allg..Daten!$D$9,0)","v":0},{"$f":"IF(R$6>0,Eing.Allg..Daten!$D$9,0)","v":0},{"$f":"IF(S$6>0,Eing.Allg..Daten!$D$9,0)","v":0},0,null,{"$f":"IF(V$6>0,Eing.Allg..Daten!$D$9,0)","v":0},{"$f":"IF(W$6>0,Eing.Allg..Daten!$D$9,0)","v":0},{"$f":"IF(X$6>0,Eing.Allg..Daten!$D$9,0)","v":0},{"$f":"IF(Y$6>0,Eing.Allg..Daten!$D$9,0)","v":0},0,null,0,null,null,null,null,null,null,null,null,null,null,null,null,null,0,{"$f":"(IF(ISNA(HLOOKUP(AQ$5,$D$2:$Z$23,7,FALSE))=TRUE,0,HLOOKUP(AQ$5,$D$2:$Z$23,7,FALSE)))+(IF(ISNA(HLOOKUP(AQ$5,$D$28:$Z$49,7,FALSE))=TRUE,0,HLOOKUP(AQ$5,$D$28:$Z$49,7,FALSE)))","v":0},0,0,0,0,0,0,0,0,0,0,0,0,0,0,0]
[4,{"$f":"IF(+Eing.Allg..Daten!$D$8<>\"\",+VLOOKUP(A9,Bahnen!$A$52:$B$144,2,0),\"\")","v":"Mittelhügel"},null,{"$f":"IF(D$6>0,Eing.Allg..Daten!$D$9,0)","v":0},{"$f":"IF(E$6>0,Eing.Allg..Daten!$D$9,0)","v":0},{"$f":"IF(F$6>0,Eing.Allg..Daten!$D$9,0)","v":0},{"$f":"IF(G$6>0,Eing.Allg..Daten!$D$9,0)","v":0},0,null,{"$f":"IF(J$6>0,Eing.Allg..Daten!$D$9,0)","v":0},{"$f":"IF(K$6>0,Eing.Allg..Daten!$D$9,0)","v":0},{"$f":"IF(L$6>0,Eing.Allg..Daten!$D$9,0)","v":0},{"$f":"IF(M$6>0,Eing.Allg..Daten!$D$9,0)","v":0},0,null,{"$f":"IF(P$6>0,Eing.Allg..Daten!$D$9,0)","v":0},{"$f":"IF(Q$6>0,Eing.Allg..Daten!$D$9,0)","v":0},{"$f":"IF(R$6>0,Eing.Allg..Daten!$D$9,0)","v":0},{"$f":"IF(S$6>0,Eing.Allg..Daten!$D$9,0)","v":0},0,null,{"$f":"IF(V$6>0,Eing.Allg..Daten!$D$9,0)","v":0},{"$f":"IF(W$6>0,Eing.Allg..Daten!$D$9,0)","v":0},{"$f":"IF(X$6>0,Eing.Allg..Daten!$D$9,0)","v":0},{"$f":"IF(Y$6>0,Eing.Allg..Daten!$D$9,0)","v":0},0,null,0,null,null,null,null,null,null,null,null,null,null,null,null,null,0,{"$f":"(IF(ISNA(HLOOKUP(AQ$5,$D$2:$Z$23,8,FALSE))=TRUE,0,HLOOKUP(AQ$5,$D$2:$Z$23,8,FALSE)))+(IF(ISNA(HLOOKUP(AQ$5,$D$28:$Z$49,8,FALSE))=TRUE,0,HLOOKUP(AQ$5,$D$28:$Z$49,8,FALSE)))","v":0},0,0,0,0,0,0,0,0,0,0,0,0,0,0,0]
[5,{"$f":"IF(+Eing.Allg..Daten!$D$8<>\"\",+VLOOKUP(A10,Bahnen!$A$52:$B$144,2,0),\"\")","v":"\"V\" - Hindernis"},null,{"$f":"IF(D$6>0,Eing.Allg..Daten!$D$9,0)","v":0},{"$f":"IF(E$6>0,Eing.Allg..Daten!$D$9,0)","v":0},{"$f":"IF(F$6>0,Eing.Allg..Daten!$D$9,0)","v":0},{"$f":"IF(G$6>0,Eing.Allg..Daten!$D$9,0)","v":0},0,null,{"$f":"IF(J$6>0,Eing.Allg..Daten!$D$9,0)","v":0},{"$f":"IF(K$6>0,Eing.Allg..Daten!$D$9,0)","v":0},{"$f":"IF(L$6>0,Eing.Allg..Daten!$D$9,0)","v":0},{"$f":"IF(M$6>0,Eing.Allg..Daten!$D$9,0)","v":0},0,null,{"$f":"IF(P$6>0,Eing.Allg..Daten!$D$9,0)","v":0},{"$f":"IF(Q$6>0,Eing.Allg..Daten!$D$9,0)","v":0},{"$f":"IF(R$6>0,Eing.Allg..Daten!$D$9,0)","v":0},{"$f":"IF(S$6>0,Eing.Allg..Daten!$D$9,0)","v":0},0,null,{"$f":"IF(V$6>0,Eing.Allg..Daten!$D$9,0)","v":0},{"$f":"IF(W$6>0,Eing.Allg..Daten!$D$9,0)","v":0},{"$f":"IF(X$6>0,Eing.Allg..Daten!$D$9,0)","v":0},{"$f":"IF(Y$6>0,Eing.Allg..Daten!$D$9,0)","v":0},0,null,0,null,null,null,null,null,null,null,null,null,null,null,null,null,0,{"$f":"(IF(ISNA(HLOOKUP(AQ$5,$D$2:$Z$23,9,FALSE))=TRUE,0,HLOOKUP(AQ$5,$D$2:$Z$23,9,FALSE)))+(IF(ISNA(HLOOKUP(AQ$5,$D$28:$Z$49,9,FALSE))=TRUE,0,HLOOKUP(AQ$5,$D$28:$Z$49,9,FALSE)))","v":0},0,0,0,0,0,0,0,0,0,0,0,0,0,0,0]
[6,{"$f":"IF(+Eing.Allg..Daten!$D$8<>\"\",+VLOOKUP(A11,Bahnen!$A$52:$B$144,2,0),\"\")","v":"Doppelwellen"},null,{"$f":"IF(D$6>0,Eing.Allg..Daten!$D$9,0)","v":0},{"$f":"IF(E$6>0,Eing.Allg..Daten!$D$9,0)","v":0},{"$f":"IF(F$6>0,Eing.Allg..Daten!$D$9,0)","v":0},{"$f":"IF(G$6>0,Eing.Allg..Daten!$D$9,0)","v":0},0,null,{"$f":"IF(J$6>0,Eing.Allg..Daten!$D$9,0)","v":0},{"$f":"IF(K$6>0,Eing.Allg..Daten!$D$9,0)","v":0},{"$f":"IF(L$6>0,Eing.Allg..Daten!$D$9,0)","v":0},{"$f":"IF(M$6>0,Eing.Allg..Daten!$D$9,0)","v":0},0,null,{"$f":"IF(P$6>0,Eing.Allg..Daten!$D$9,0)","v":0},{"$f":"IF(Q$6>0,Eing.Allg..Daten!$D$9,0)","v":0},{"$f":"IF(R$6>0,Eing.Allg..Daten!$D$9,0)","v":0},{"$f":"IF(S$6>0,Eing.Allg..Daten!$D$9,0)","v":0},0,null,{"$f":"IF(V$6>0,Eing.Allg..Daten!$D$9,0)","v":0},{"$f":"IF(W$6>0,Eing.Allg..Daten!$D$9,0)","v":0},{"$f":"IF(X$6>0,Eing.Allg..Daten!$D$9,0)","v":0},{"$f":"IF(Y$6>0,Eing.Allg..Daten!$D$9,0)","v":0},0,null,0,null,null,null,null,null,null,null,null,null,null,null,null,null,0,{"$f":"(IF(ISNA(HLOOKUP(AQ$5,$D$2:$Z$23,10,FALSE))=TRUE,0,HLOOKUP(AQ$5,$D$2:$Z$23,10,FALSE)))+(IF(ISNA(HLOOKUP(AQ$5,$D$28:$Z$49,10,FALSE))=TRUE,0,HLOOKUP(AQ$5,$D$28:$Z$49,10,FALSE)))","v":0},0,0,0,0,0,0,0,0,0,0,0,0,0,0,0]
[7,{"$f":"IF(+Eing.Allg..Daten!$D$8<>\"\",+VLOOKUP(A12,Bahnen!$A$52:$B$144,2,0),\"\")","v":"Rohr"},null,{"$f":"IF(D$6>0,Eing.Allg..Daten!$D$9,0)","v":0},{"$f":"IF(E$6>0,Eing.Allg..Daten!$D$9,0)","v":0},{"$f":"IF(F$6>0,Eing.Allg..Daten!$D$9,0)","v":0},{"$f":"IF(G$6>0,Eing.Allg..Daten!$D$9,0)","v":0},0,null,{"$f":"IF(J$6>0,Eing.Allg..Daten!$D$9,0)","v":0},{"$f":"IF(K$6>0,Eing.Allg..Daten!$D$9,0)","v":0},{"$f":"IF(L$6>0,Eing.Allg..Daten!$D$9,0)","v":0},{"$f":"IF(M$6>0,Eing.Allg..Daten!$D$9,0)","v":0},0,null,{"$f":"IF(P$6>0,Eing.Allg..Daten!$D$9,0)","v":0},{"$f":"IF(Q$6>0,Eing.Allg..Daten!$D$9,0)","v":0},{"$f":"IF(R$6>0,Eing.Allg..Daten!$D$9,0)","v":0},{"$f":"IF(S$6>0,Eing.Allg..Daten!$D$9,0)","v":0},0,null,{"$f":"IF(V$6>0,Eing.Allg..Daten!$D$9,0)","v":0},{"$f":"IF(W$6>0,Eing.Allg..Daten!$D$9,0)","v":0},{"$f":"IF(X$6>0,Eing.Allg..Daten!$D$9,0)","v":0},{"$f":"IF(Y$6>0,Eing.Allg..Daten!$D$9,0)","v":0},0,null,0,null,null,null,null,null,null,null,null,null,null,null,null,null,0,{"$f":"(IF(ISNA(HLOOKUP(AQ$5,$D$2:$Z$23,11,FALSE))=TRUE,0,HLOOKUP(AQ$5,$D$2:$Z$23,11,FALSE)))+(IF(ISNA(HLOOKUP(AQ$5,$D$28:$Z$49,11,FALSE))=TRUE,0,HLOOKUP(AQ$5,$D$28:$Z$49,11,FALSE)))","v":0},0,0,0,0,0,0,0,0,0,0,0,0,0,0,0]
[8,{"$f":"IF(+Eing.Allg..Daten!$D$8<>\"\",+VLOOKUP(A13,Bahnen!$A$52:$B$144,2,0),\"\")","v":"Passagen"},null,{"$f":"IF(D$6>0,Eing.Allg..Daten!$D$9,0)","v":0},{"$f":"IF(E$6>0,Eing.Allg..Daten!$D$9,0)","v":0},{"$f":"IF(F$6>0,Eing.Allg..Daten!$D$9,0)","v":0},{"$f":"IF(G$6>0,Eing.Allg..Daten!$D$9,0)","v":0},0,null,{"$f":"IF(J$6>0,Eing.Allg..Daten!$D$9,0)","v":0},{"$f":"IF(K$6>0,Eing.Allg..Daten!$D$9,0)","v":0},{"$f":"IF(L$6>0,Eing.Allg..Daten!$D$9,0)","v":0},{"$f":"IF(M$6>0,Eing.Allg..Daten!$D$9,0)","v":0},0,null,{"$f":"IF(P$6>0,Eing.Allg..Daten!$D$9,0)","v":0},{"$f":"IF(Q$6>0,Eing.Allg..Daten!$D$9,0)","v":0},{"$f":"IF(R$6>0,Eing.Allg..Daten!$D$9,0)","v":0},{"$f":"IF(S$6>0,Eing.Allg..Daten!$D$9,0)","v":0},0,null,{"$f":"IF(V$6>0,Eing.Allg..Daten!$D$9,0)","v":0},{"$f":"IF(W$6>0,Eing.Allg..Daten!$D$9,0)","v":0},{"$f":"IF(X$6>0,Eing.Allg..Daten!$D$9,0)","v":0},{"$f":"IF(Y$6>0,Eing.Allg..Daten!$D$9,0)","v":0},0,null,0,null,null,null,null,null,null,null,{"$f":"+'Ma1'!$D$1","v":"MGC Bad Homburg 1"},null,null,null,null,null,0,{"$f":"(IF(ISNA(HLOOKUP(AQ$5,$D$2:$Z$23,12,FALSE))=TRUE,0,HLOOKUP(AQ$5,$D$2:$Z$23,12,FALSE)))+(IF(ISNA(HLOOKUP(AQ$5,$D$28:$Z$49,12,FALSE))=TRUE,0,HLOOKUP(AQ$5,$D$28:$Z$49,12,FALSE)))","v":0},0,0,0,0,0,0,0,0,0,0,0,0,0,0,0]
[9,{"$f":"IF(+Eing.Allg..Daten!$D$8<>\"\",+VLOOKUP(A14,Bahnen!$A$52:$B$144,2,0),\"\")","v":"Liegende Schleife"},null,{"$f":"IF(D$6>0,Eing.Allg..Daten!$D$9,0)","v":0},{"$f":"IF(E$6>0,Eing.Allg..Daten!$D$9,0)","v":0},{"$f":"IF(F$6>0,Eing.Allg..Daten!$D$9,0)","v":0},{"$f":"IF(G$6>0,Eing.Allg..Daten!$D$9,0)","v":0},0,null,{"$f":"IF(J$6>0,Eing.Allg..Daten!$D$9,0)","v":0},{"$f":"IF(K$6>0,Eing.Allg..Daten!$D$9,0)","v":0},{"$f":"IF(L$6>0,Eing.Allg..Daten!$D$9,0)","v":0},{"$f":"IF(M$6>0,Eing.Allg..Daten!$D$9,0)","v":0},0,null,{"$f":"IF(P$6>0,Eing.Allg..Daten!$D$9,0)","v":0},{"$f":"IF(Q$6>0,Eing.Allg..Daten!$D$9,0)","v":0},{"$f":"IF(R$6>0,Eing.Allg..Daten!$D$9,0)","v":0},{"$f":"IF(S$6>0,Eing.Allg..Daten!$D$9,0)","v":0},0,null,{"$f":"IF(V$6>0,Eing.Allg..Daten!$D$9,0)","v":0},{"$f":"IF(W$6>0,Eing.Allg..Daten!$D$9,0)","v":0},{"$f":"IF(X$6>0,Eing.Allg..Daten!$D$9,0)","v":0},{"$f":"IF(Y$6>0,Eing.Allg..Daten!$D$9,0)","v":0},0,null,0,null,null,null,null,null,null,null,null,null,null,null,null,null,0,{"$f":"(IF(ISNA(HLOOKUP(AQ$5,$D$2:$Z$23,13,FALSE))=TRUE,0,HLOOKUP(AQ$5,$D$2:$Z$23,13,FALSE)))+(IF(ISNA(HLOOKUP(AQ$5,$D$28:$Z$49,13,FALSE))=TRUE,0,HLOOKUP(AQ$5,$D$28:$Z$49,13,FALSE)))","v":0},0,0,0,0,0,0,0,0,0,0,0,0,0,0,0]
[10,{"$f":"IF(+Eing.Allg..Daten!$D$8<>\"\",+VLOOKUP(A15,Bahnen!$A$52:$B$144,2,0),\"\")","v":"Winkel"},null,{"$f":"IF(D$6>0,Eing.Allg..Daten!$D$9,0)","v":0},{"$f":"IF(E$6>0,Eing.Allg..Daten!$D$9,0)","v":0},{"$f":"IF(F$6>0,Eing.Allg..Daten!$D$9,0)","v":0},{"$f":"IF(G$6>0,Eing.Allg..Daten!$D$9,0)","v":0},0,null,{"$f":"IF(J$6>0,Eing.Allg..Daten!$D$9,0)","v":0},{"$f":"IF(K$6>0,Eing.Allg..Daten!$D$9,0)","v":0},{"$f":"IF(L$6>0,Eing.Allg..Daten!$D$9,0)","v":0},{"$f":"IF(M$6>0,Eing.Allg..Daten!$D$9,0)","v":0},0,null,{"$f":"IF(P$6>0,Eing.Allg..Daten!$D$9,0)","v":0},{"$f":"IF(Q$6>0,Eing.Allg..Daten!$D$9,0)","v":0},{"$f":"IF(R$6>0,Eing.Allg..Daten!$D$9,0)","v":0},{"$f":"IF(S$6>0,Eing.Allg..Daten!$D$9,0)","v":0},0,null,{"$f":"IF(V$6>0,Eing.Allg..Daten!$D$9,0)","v":0},{"$f":"IF(W$6>0,Eing.Allg..Daten!$D$9,0)","v":0},{"$f":"IF(X$6>0,Eing.Allg..Daten!$D$9,0)","v":0},{"$f":"IF(Y$6>0,Eing.Allg..Daten!$D$9,0)","v":0},0,null,0,null,null,null,null,null,null,null,{"$f":"+'Ma2'!$D$1","v":"SG Arheilgen 3"},null,null,null,null,null,0,{"$f":"(IF(ISNA(HLOOKUP(AQ$5,$D$2:$Z$23,14,FALSE))=TRUE,0,HLOOKUP(AQ$5,$D$2:$Z$23,14,FALSE)))+(IF(ISNA(HLOOKUP(AQ$5,$D$28:$Z$49,14,FALSE))=TRUE,0,HLOOKUP(AQ$5,$D$28:$Z$49,14,FALSE)))","v":0},0,0,0,0,0,0,0,0,0,0,0,0,0,0,0]
[11,{"$f":"IF(+Eing.Allg..Daten!$D$8<>\"\",+VLOOKUP(A16,Bahnen!$A$52:$B$144,2,0),\"\")","v":"Netz"},null,{"$f":"IF(D$6>0,Eing.Allg..Daten!$D$9,0)","v":0},{"$f":"IF(E$6>0,Eing.Allg..Daten!$D$9,0)","v":0},{"$f":"IF(F$6>0,Eing.Allg..Daten!$D$9,0)","v":0},{"$f":"IF(G$6>0,Eing.Allg..Daten!$D$9,0)","v":0},0,null,{"$f":"IF(J$6>0,Eing.Allg..Daten!$D$9,0)","v":0},{"$f":"IF(K$6>0,Eing.Allg..Daten!$D$9,0)","v":0},{"$f":"IF(L$6>0,Eing.Allg..Daten!$D$9,0)","v":0},{"$f":"IF(M$6>0,Eing.Allg..Daten!$D$9,0)","v":0},0,null,{"$f":"IF(P$6>0,Eing.Allg..Daten!$D$9,0)","v":0},{"$f":"IF(Q$6>0,Eing.Allg..Daten!$D$9,0)","v":0},{"$f":"IF(R$6>0,Eing.Allg..Daten!$D$9,0)","v":0},{"$f":"IF(S$6>0,Eing.Allg..Daten!$D$9,0)","v":0},0,null,{"$f":"IF(V$6>0,Eing.Allg..Daten!$D$9,0)","v":0},{"$f":"IF(W$6>0,Eing.Allg..Daten!$D$9,0)","v":0},{"$f":"IF(X$6>0,Eing.Allg..Daten!$D$9,0)","v":0},{"$f":"IF(Y$6>0,Eing.Allg..Daten!$D$9,0)","v":0},0,null,0,null,null,null,null,null,null,null,null,null,null,null,null,null,0,{"$f":"(IF(ISNA(HLOOKUP(AQ$5,$D$2:$Z$23,15,FALSE))=TRUE,0,HLOOKUP(AQ$5,$D$2:$Z$23,15,FALSE)))+(IF(ISNA(HLOOKUP(AQ$5,$D$28:$Z$49,15,FALSE))=TRUE,0,HLOOKUP(AQ$5,$D$28:$Z$49,15,FALSE)))","v":0},0,0,0,0,0,0,0,0,0,0,0,0,0,0,0]
[12,{"$f":"IF(+Eing.Allg..Daten!$D$8<>\"\",+VLOOKUP(A17,Bahnen!$A$52:$B$144,2,0),\"\")","v":"Doppelkeile"},null,{"$f":"IF(D$6>0,Eing.Allg..Daten!$D$9,0)","v":0},{"$f":"IF(E$6>0,Eing.Allg..Daten!$D$9,0)","v":0},{"$f":"IF(F$6>0,Eing.Allg..Daten!$D$9,0)","v":0},{"$f":"IF(G$6>0,Eing.Allg..Daten!$D$9,0)","v":0},0,null,{"$f":"IF(J$6>0,Eing.Allg..Daten!$D$9,0)","v":0},{"$f":"IF(K$6>0,Eing.Allg..Daten!$D$9,0)","v":0},{"$f":"IF(L$6>0,Eing.Allg..Daten!$D$9,0)","v":0},{"$f":"IF(M$6>0,Eing.Allg..Daten!$D$9,0)","v":0},0,null,{"$f":"IF(P$6>0,Eing.Allg..Daten!$D$9,0)","v":0},{"$f":"IF(Q$6>0,Eing.Allg..Daten!$D$9,0)","v":0},{"$f":"IF(R$6>0,Eing.Allg..Daten!$D$9,0)","v":0},{"$f":"IF(S$6>0,Eing.Allg..Daten!$D$9,0)","v":0},0,null,{"$f":"IF(V$6>0,Eing.Allg..Daten!$D$9,0)","v":0},{"$f":"IF(W$6>0,Eing.Allg..Daten!$D$9,0)","v":0},{"$f":"IF(X$6>0,Eing.Allg..Daten!$D$9,0)","v":0},{"$f":"IF(Y$6>0,Eing.Allg..Daten!$D$9,0)","v":0},0,null,0,null,null,null,null,null,null,null,{"$f":"+'Ma3'!$D$1","v":"MGC Kahler Sandhasen"},null,null,null,null,null,0,{"$f":"(IF(ISNA(HLOOKUP(AQ$5,$D$2:$Z$23,16,FALSE))=TRUE,0,HLOOKUP(AQ$5,$D$2:$Z$23,16,FALSE)))+(IF(ISNA(HLOOKUP(AQ$5,$D$28:$Z$49,16,FALSE))=TRUE,0,HLOOKUP(AQ$5,$D$28:$Z$49,16,FALSE)))","v":0},0,0,0,0,0,0,0,0,0,0,0,0,0,0,0]
[13,{"$f":"IF(+Eing.Allg..Daten!$D$8<>\"\",+VLOOKUP(A18,Bahnen!$A$52:$B$144,2,0),\"\")","v":"Stumpfe Kegel"},null,{"$f":"IF(D$6>0,Eing.Allg..Daten!$D$9,0)","v":0},{"$f":"IF(E$6>0,Eing.Allg..Daten!$D$9,0)","v":0},{"$f":"IF(F$6>0,Eing.Allg..Daten!$D$9,0)","v":0},{"$f":"IF(G$6>0,Eing.Allg..Daten!$D$9,0)","v":0},0,null,{"$f":"IF(J$6>0,Eing.Allg..Daten!$D$9,0)","v":0},{"$f":"IF(K$6>0,Eing.Allg..Daten!$D$9,0)","v":0},{"$f":"IF(L$6>0,Eing.Allg..Daten!$D$9,0)","v":0},{"$f":"IF(M$6>0,Eing.Allg..Daten!$D$9,0)","v":0},0,null,{"$f":"IF(P$6>0,Eing.Allg..Daten!$D$9,0)","v":0},{"$f":"IF(Q$6>0,Eing.Allg..Daten!$D$9,0)","v":0},{"$f":"IF(R$6>0,Eing.Allg..Daten!$D$9,0)","v":0},{"$f":"IF(S$6>0,Eing.Allg..Daten!$D$9,0)","v":0},0,null,{"$f":"IF(V$6>0,Eing.Allg..Daten!$D$9,0)","v":0},{"$f":"IF(W$6>0,Eing.Allg..Daten!$D$9,0)","v":0},{"$f":"IF(X$6>0,Eing.Allg..Daten!$D$9,0)","v":0},{"$f":"IF(Y$6>0,Eing.Allg..Daten!$D$9,0)","v":0},0,null,0,null,null,null,null,null,null,null,null,null,null,null,null,null,0,{"$f":"(IF(ISNA(HLOOKUP(AQ$5,$D$2:$Z$23,17,FALSE))=TRUE,0,HLOOKUP(AQ$5,$D$2:$Z$23,17,FALSE)))+(IF(ISNA(HLOOKUP(AQ$5,$D$28:$Z$49,17,FALSE))=TRUE,0,HLOOKUP(AQ$5,$D$28:$Z$49,17,FALSE)))","v":0},0,0,0,0,0,0,0,0,0,0,0,0,0,0,0]
[14,{"$f":"IF(+Eing.Allg..Daten!$D$8<>\"\",+VLOOKUP(A19,Bahnen!$A$52:$B$144,2,0),\"\")","v":"Schrägerkreis mit Niere"},null,{"$f":"IF(D$6>0,Eing.Allg..Daten!$D$9,0)","v":0},{"$f":"IF(E$6>0,Eing.Allg..Daten!$D$9,0)","v":0},{"$f":"IF(F$6>0,Eing.Allg..Daten!$D$9,0)","v":0},{"$f":"IF(G$6>0,Eing.Allg..Daten!$D$9,0)","v":0},0,null,{"$f":"IF(J$6>0,Eing.Allg..Daten!$D$9,0)","v":0},{"$f":"IF(K$6>0,Eing.Allg..Daten!$D$9,0)","v":0},{"$f":"IF(L$6>0,Eing.Allg..Daten!$D$9,0)","v":0},{"$f":"IF(M$6>0,Eing.Allg..Daten!$D$9,0)","v":0},0,null,{"$f":"IF(P$6>0,Eing.Allg..Daten!$D$9,0)","v":0},{"$f":"IF(Q$6>0,Eing.Allg..Daten!$D$9,0)","v":0},{"$f":"IF(R$6>0,Eing.Allg..Daten!$D$9,0)","v":0},{"$f":"IF(S$6>0,Eing.Allg..Daten!$D$9,0)","v":0},0,null,{"$f":"IF(V$6>0,Eing.Allg..Daten!$D$9,0)","v":0},{"$f":"IF(W$6>0,Eing.Allg..Daten!$D$9,0)","v":0},{"$f":"IF(X$6>0,Eing.Allg..Daten!$D$9,0)","v":0},{"$f":"IF(Y$6>0,Eing.Allg..Daten!$D$9,0)","v":0},0,null,0,null,null,null,null,null,null,null,{"$f":"+'Ma4'!$D$1","v":"SG Weiterstadt"},null,null,null,null,null,0,{"$f":"(IF(ISNA(HLOOKUP(AQ$5,$D$2:$Z$23,18,FALSE))=TRUE,0,HLOOKUP(AQ$5,$D$2:$Z$23,18,FALSE)))+(IF(ISNA(HLOOKUP(AQ$5,$D$28:$Z$49,18,FALSE))=TRUE,0,HLOOKUP(AQ$5,$D$28:$Z$49,18,FALSE)))","v":0},0,0,0,0,0,0,0,0,0,0,0,0,0,0,0]
[15,{"$f":"IF(+Eing.Allg..Daten!$D$8<>\"\",+VLOOKUP(A20,Bahnen!$A$52:$B$144,2,0),\"\")","v":"Brücke"},null,{"$f":"IF(D$6>0,Eing.Allg..Daten!$D$9,0)","v":0},{"$f":"IF(E$6>0,Eing.Allg..Daten!$D$9,0)","v":0},{"$f":"IF(F$6>0,Eing.Allg..Daten!$D$9,0)","v":0},{"$f":"IF(G$6>0,Eing.Allg..Daten!$D$9,0)","v":0},0,null,{"$f":"IF(J$6>0,Eing.Allg..Daten!$D$9,0)","v":0},{"$f":"IF(K$6>0,Eing.Allg..Daten!$D$9,0)","v":0},{"$f":"IF(L$6>0,Eing.Allg..Daten!$D$9,0)","v":0},{"$f":"IF(M$6>0,Eing.Allg..Daten!$D$9,0)","v":0},0,null,{"$f":"IF(P$6>0,Eing.Allg..Daten!$D$9,0)","v":0},{"$f":"IF(Q$6>0,Eing.Allg..Daten!$D$9,0)","v":0},{"$f":"IF(R$6>0,Eing.Allg..Daten!$D$9,0)","v":0},{"$f":"IF(S$6>0,Eing.Allg..Daten!$D$9,0)","v":0},0,null,{"$f":"IF(V$6>0,Eing.Allg..Daten!$D$9,0)","v":0},{"$f":"IF(W$6>0,Eing.Allg..Daten!$D$9,0)","v":0},{"$f":"IF(X$6>0,Eing.Allg..Daten!$D$9,0)","v":0},{"$f":"IF(Y$6>0,Eing.Allg..Daten!$D$9,0)","v":0},0,null,0,null,null,null,null,null,null,null,null,null,null,null,null,null,0,{"$f":"(IF(ISNA(HLOOKUP(AQ$5,$D$2:$Z$23,19,FALSE))=TRUE,0,HLOOKUP(AQ$5,$D$2:$Z$23,19,FALSE)))+(IF(ISNA(HLOOKUP(AQ$5,$D$28:$Z$49,19,FALSE))=TRUE,0,HLOOKUP(AQ$5,$D$28:$Z$49,19,FALSE)))","v":0},0,0,0,0,0,0,0,0,0,0,0,0,0,0,0]
[16,{"$f":"IF(+Eing.Allg..Daten!$D$8<>\"\",+VLOOKUP(A21,Bahnen!$A$52:$B$144,2,0),\"\")","v":"Vulkan"},null,{"$f":"IF(D$6>0,Eing.Allg..Daten!$D$9,0)","v":0},{"$f":"IF(E$6>0,Eing.Allg..Daten!$D$9,0)","v":0},{"$f":"IF(F$6>0,Eing.Allg..Daten!$D$9,0)","v":0},{"$f":"IF(G$6>0,Eing.Allg..Daten!$D$9,0)","v":0},0,null,{"$f":"IF(J$6>0,Eing.Allg..Daten!$D$9,0)","v":0},{"$f":"IF(K$6>0,Eing.Allg..Daten!$D$9,0)","v":0},{"$f":"IF(L$6>0,Eing.Allg..Daten!$D$9,0)","v":0},{"$f":"IF(M$6>0,Eing.Allg..Daten!$D$9,0)","v":0},0,null,{"$f":"IF(P$6>0,Eing.Allg..Daten!$D$9,0)","v":0},{"$f":"IF(Q$6>0,Eing.Allg..Daten!$D$9,0)","v":0},{"$f":"IF(R$6>0,Eing.Allg..Daten!$D$9,0)","v":0},{"$f":"IF(S$6>0,Eing.Allg..Daten!$D$9,0)","v":0},0,null,{"$f":"IF(V$6>0,Eing.Allg..Daten!$D$9,0)","v":0},{"$f":"IF(W$6>0,Eing.Allg..Daten!$D$9,0)","v":0},{"$f":"IF(X$6>0,Eing.Allg..Daten!$D$9,0)","v":0},{"$f":"IF(Y$6>0,Eing.Allg..Daten!$D$9,0)","v":0},0,null,0,null,null,null,null,null,null,null,{"$f":"+'Ma5'!$D$1","v":"MGC Bad Homburg 2"},null,null,null,null,null,0,{"$f":"(IF(ISNA(HLOOKUP(AQ$5,$D$2:$Z$23,20,FALSE))=TRUE,0,HLOOKUP(AQ$5,$D$2:$Z$23,20,FALSE)))+(IF(ISNA(HLOOKUP(AQ$5,$D$28:$Z$49,20,FALSE))=TRUE,0,HLOOKUP(AQ$5,$D$28:$Z$49,20,FALSE)))","v":0},0,0,0,0,0,0,0,0,0,0,0,0,0,0,0]
[17,{"$f":"IF(+Eing.Allg..Daten!$D$8<>\"\",+VLOOKUP(A22,Bahnen!$A$52:$B$144,2,0),\"\")","v":"Auflaufkeil mit Zielfenster"},null,{"$f":"IF(D$6>0,Eing.Allg..Daten!$D$9,0)","v":0},{"$f":"IF(E$6>0,Eing.Allg..Daten!$D$9,0)","v":0},{"$f":"IF(F$6>0,Eing.Allg..Daten!$D$9,0)","v":0},{"$f":"IF(G$6>0,Eing.Allg..Daten!$D$9,0)","v":0},0,null,{"$f":"IF(J$6>0,Eing.Allg..Daten!$D$9,0)","v":0},{"$f":"IF(K$6>0,Eing.Allg..Daten!$D$9,0)","v":0},{"$f":"IF(L$6>0,Eing.Allg..Daten!$D$9,0)","v":0},{"$f":"IF(M$6>0,Eing.Allg..Daten!$D$9,0)","v":0},0,null,{"$f":"IF(P$6>0,Eing.Allg..Daten!$D$9,0)","v":0},{"$f":"IF(Q$6>0,Eing.Allg..Daten!$D$9,0)","v":0},{"$f":"IF(R$6>0,Eing.Allg..Daten!$D$9,0)","v":0},{"$f":"IF(S$6>0,Eing.Allg..Daten!$D$9,0)","v":0},0,null,{"$f":"IF(V$6>0,Eing.Allg..Daten!$D$9,0)","v":0},{"$f":"IF(W$6>0,Eing.Allg..Daten!$D$9,0)","v":0},{"$f":"IF(X$6>0,Eing.Allg..Daten!$D$9,0)","v":0},{"$f":"IF(Y$6>0,Eing.Allg..Daten!$D$9,0)","v":0},0,null,0,null,null,null,null,null,null,null,null,null,null,null,null,null,0,{"$f":"(IF(ISNA(HLOOKUP(AQ$5,$D$2:$Z$23,21,FALSE))=TRUE,0,HLOOKUP(AQ$5,$D$2:$Z$23,21,FALSE)))+(IF(ISNA(HLOOKUP(AQ$5,$D$28:$Z$49,21,FALSE))=TRUE,0,HLOOKUP(AQ$5,$D$28:$Z$49,21,FALSE)))","v":0},0,0,0,0,0,0,0,0,0,0,0,0,0,0,0]
[18,{"$f":"IF(+Eing.Allg..Daten!$D$8<>\"\",+VLOOKUP(A23,Bahnen!$A$52:$B$144,2,0),\"\")","v":"Blitz"},null,{"$f":"IF(D$6>0,Eing.Allg..Daten!$D$9,0)","v":0},{"$f":"IF(E$6>0,Eing.Allg..Daten!$D$9,0)","v":0},{"$f":"IF(F$6>0,Eing.Allg..Daten!$D$9,0)","v":0},{"$f":"IF(G$6>0,Eing.Allg..Daten!$D$9,0)","v":0},0,null,{"$f":"IF(J$6>0,Eing.Allg..Daten!$D$9,0)","v":0},{"$f":"IF(K$6>0,Eing.Allg..Daten!$D$9,0)","v":0},{"$f":"IF(L$6>0,Eing.Allg..Daten!$D$9,0)","v":0},{"$f":"IF(M$6>0,Eing.Allg..Daten!$D$9,0)","v":0},0,null,{"$f":"IF(P$6>0,Eing.Allg..Daten!$D$9,0)","v":0},{"$f":"IF(Q$6>0,Eing.Allg..Daten!$D$9,0)","v":0},{"$f":"IF(R$6>0,Eing.Allg..Daten!$D$9,0)","v":0},{"$f":"IF(S$6>0,Eing.Allg..Daten!$D$9,0)","v":0},0,null,{"$f":"IF(V$6>0,Eing.Allg..Daten!$D$9,0)","v":0},{"$f":"IF(W$6>0,Eing.Allg..Daten!$D$9,0)","v":0},{"$f":"IF(X$6>0,Eing.Allg..Daten!$D$9,0)","v":0},{"$f":"IF(Y$6>0,Eing.Allg..Daten!$D$9,0)","v":0},0,null,0,null,null,null,null,null,null,null,{"$f":"+'Ma6'!$D$1","v":"SV Dreieichenhain"},null,null,null,null,null,0,{"$f":"(IF(ISNA(HLOOKUP(AQ$5,$D$2:$Z$23,22,FALSE))=TRUE,0,HLOOKUP(AQ$5,$D$2:$Z$23,22,FALSE)))+(IF(ISNA(HLOOKUP(AQ$5,$D$28:$Z$49,22,FALSE))=TRUE,0,HLOOKUP(AQ$5,$D$28:$Z$49,22,FALSE)))","v":0},0,0,0,0,0,0,0,0,0,0,0,0,0,0,0]
[null,"Strafpunkte",null,null,null,null,null,0,null,null,null,null,null,0,null,null,null,null,null,0,null,null,null,null,null,0]
[null,null,null,{"$f":"IF(D23<>0,SUM(D6:D24),999)","v":999},{"$f":"IF(E23<>0,SUM(E6:E24),999)","v":999},{"$f":"IF(F23<>0,SUM(F6:F24),999)","v":999},{"$f":"IF(G23<>0,SUM(G6:G24),999)","v":999},{"$f":"SUM(H6:H24)","v":0},null,{"$f":"IF(J23<>0,SUM(J6:J24),999)","v":999},{"$f":"IF(K23<>0,SUM(K6:K24),999)","v":999},{"$f":"IF(L23<>0,SUM(L6:L24),999)","v":999},{"$f":"IF(M23<>0,SUM(M6:M24),999)","v":999},{"$f":"SUM(N6:N24)","v":0},null,{"$f":"IF(P23<>0,SUM(P6:P24),999)","v":999},{"$f":"IF(Q23<>0,SUM(Q6:Q24),999)","v":999},{"$f":"IF(R23<>0,SUM(R6:R24),999)","v":999},{"$f":"IF(S23<>0,SUM(S6:S24),999)","v":999},{"$f":"SUM(T6:T24)","v":0},null,{"$f":"IF(V23<>0,SUM(V6:V24),999)","v":999},{"$f":"IF(W23<>0,SUM(W6:W24),999)","v":999},{"$f":"IF(X23<>0,SUM(X6:X24),999)","v":999},{"$f":"IF(Y23<>0,SUM(Y6:Y24),999)","v":999},{"$f":"SUM(Z6:Z24)","v":0},null,{"$f":"SUM(AB6:AB23)","v":0},null,null,null,null,null,null,null,{"$f":"+'Ma7'!$D$1","v":"MGC Heringen"},null,null,null,null,null,null,{"$f":"SUM(AQ6:AQ24)","v":0},0,0,0,0,0,0,0,0,0,0,0,0,0,0,0]
[null,null,null,{"$f":"SUM(D25:G25)","v":3996},null,null,null,null,null,{"$f":"SUM(J25:M25)","v":3996},null,null,null,null,null,{"$f":"SUM(P25:S25)","v":3996},null,null,null,null,null,{"$f":"SUM(V25:Y25)","v":3996}]
[null,null,null,{"$f":"IF(D6=0,\"DNS\",IF(D23=0,\"DNF\",1))","v":"DNS"},{"$f":"IF(E6=0,\"DNS\",IF(E23=0,\"DNF\",1))","v":"DNS"},{"$f":"IF(F6=0,\"DNS\",IF(F23=0,\"DNF\",1))","v":"DNS"},{"$f":"IF(G6=0,\"DNS\",IF(G23=0,\"DNF\",1))","v":"DNS"},{"$f":"IF(SUM(D27:G27)=Tagestabelle!$N$3,\"FIN\",\"DNF\")","v":"FIN"},null,{"$f":"IF(J6=0,\"DNS\",IF(J23=0,\"DNF\",1))","v":"DNS"},{"$f":"IF(K6=0,\"DNS\",IF(K23=0,\"DNF\",1))","v":"DNS"},{"$f":"IF(L6=0,\"DNS\",IF(L23=0,\"DNF\",1))","v":"DNS"},{"$f":"IF(M6=0,\"DNS\",IF(M23=0,\"DNF\",1))","v":"DNS"},{"$f":"IF(SUM(J27:M27)=Tagestabelle!$N$3,\"FIN\",\"DNF\")","v":"FIN"},null,{"$f":"IF(P6=0,\"DNS\",IF(P23=0,\"DNF\",1))","v":"DNS"},{"$f":"IF(Q6=0,\"DNS\",IF(Q23=0,\"DNF\",1))","v":"DNS"},{"$f":"IF(R6=0,\"DNS\",IF(R23=0,\"DNF\",1))","v":"DNS"},{"$f":"IF(S6=0,\"DNS\",IF(S23=0,\"DNF\",1))","v":"DNS"},{"$f":"IF(SUM(P27:S27)=Tagestabelle!$N$3,\"FIN\",\"DNF\")","v":"FIN"},null,{"$f":"IF(V6=0,\"DNS\",IF(V23=0,\"DNF\",1))","v":"DNS"},{"$f":"IF(W6=0,\"DNS\",IF(W23=0,\"DNF\",1))","v":"DNS"},{"$f":"IF(X6=0,\"DNS\",IF(X23=0,\"DNF\",1))","v":"DNS"},{"$f":"IF(Y6=0,\"DNS\",IF(Y23=0,\"DNF\",1))","v":"DNS"},{"$f":"IF(SUM(V27:Y27)=Tagestabelle!$N$3,\"FIN\",\"DNF\")","v":"FIN"},6]
[null,null,null,"M4S5R1","M4S5R2","M4S5R3","M4S5R4",null,null,"M4S6R1","M4S6R2","M4S6R3","M4S6R4",null,null,"M4S7R1","M4S7R2","M4S7R3","M4S7R4",null,null,"M4S8R1","M4S8R2","M4S8R3","M4S8R4"]
[null,null,null,"Spieler 5",null,null,null,"Kat.",null,"Spieler 6",null,null,null,"Kat.",null,"Spieler 7",null,null,null,"Kat.",null,"Spieler 8",null,null,null,"Kat.",null,"Zus. Einzelsp.",null,null,null,"Kat."]
["Bahn  ",null,null,{"$f":"+M4S5","v":{"$error":"#N/A"}},null,null,null,{"$f":"+M4S5Kat","v":{"$error":"#N/A"}},null,{"$f":"+M4S6","v":{"$error":"#N/A"}},null,null,null,{"$f":"+M4S6Kat","v":{"$error":"#N/A"}},null,{"$f":"M4S7","v":{"$error":"#N/A"}},null,null,null,{"$f":"+M4S7Kat","v":{"$error":"#N/A"}},null,{"$f":"M4S8","v":{"$error":"#N/A"}},null,null,null,{"$f":"+M4S8Kat","v":{"$error":"#N/A"}},null,{"$f":"M4SAK","v":{"$error":"#N/A"}},null,null,null,{"$f":"+M4SAKKat","v":{"$error":"#N/A"}}]
["Nr.","Bez. ",null,{"$f":"+M4S5p","v":0},null,null,null,null,null,{"$f":"+M4S6p","v":0},null,null,null,null,null,{"$f":"+M4S7p","v":0},null,null,null,null,null,{"$f":"+M4S8p","v":0},null,null,null,null,null,{"$f":"+M4SAKp","v":0}]
[1,{"$f":"IF(+Eing.Allg..Daten!$D$8<>\"\",+VLOOKUP(A32,Bahnen!$A$52:$B$144,2,0),\"\")","v":"Gerade Bahn ohne Hindernis"},null,null,null,null,null,{"$f":"SUM(D32:G32)","v":0},null,null,null,null,null,{"$f":"SUM(J32:M32)","v":0},null,null,null,null,null,{"$f":"SUM(P32:S32)","v":0},null,null,null,null,null,{"$f":"SUM(V32:Y32)","v":0},null,null,null,null,null,{"$f":"SUM(AB32:AE32)","v":0}]
[2,{"$f":"IF(+Eing.Allg..Daten!$D$8<>\"\",+VLOOKUP(A33,Bahnen!$A$52:$B$144,2,0),\"\")","v":"Salto"},null,{"$f":"IF(D$32>0,Eing.Allg..Daten!$D$9,0)","v":0},{"$f":"IF(E$32>0,Eing.Allg..Daten!$D$9,0)","v":0},{"$f":"IF(F$32>0,Eing.Allg..Daten!$D$9,0)","v":0},{"$f":"IF(G$32>0,Eing.Allg..Daten!$D$9,0)","v":0},0,null,{"$f":"IF(J$32>0,Eing.Allg..Daten!$D$9,0)","v":0},{"$f":"IF(K$32>0,Eing.Allg..Daten!$D$9,0)","v":0},{"$f":"IF(L$32>0,Eing.Allg..Daten!$D$9,0)","v":0},{"$f":"IF(M$32>0,Eing.Allg..Daten!$D$9,0)","v":0},0,null,{"$f":"IF(P$32>0,Eing.Allg..Daten!$D$9,0)","v":0},{"$f":"IF(Q$32>0,Eing.Allg..Daten!$D$9,0)","v":0},{"$f":"IF(R$32>0,Eing.Allg..Daten!$D$9,0)","v":0},{"$f":"IF(S$32>0,Eing.Allg..Daten!$D$9,0)","v":0},0,null,{"$f":"IF(V$32>0,Eing.Allg..Daten!$D$9,0)","v":0},{"$f":"IF(W$32>0,Eing.Allg..Daten!$D$9,0)","v":0},{"$f":"IF(X$32>0,Eing.Allg..Daten!$D$9,0)","v":0},{"$f":"IF(Y$32>0,Eing.Allg..Daten!$D$9,0)","v":0},0,null,{"$f":"IF(AB$32>0,Eing.Allg..Daten!$D$9,0)","v":0},{"$f":"IF(AC$32>0,Eing.Allg..Daten!$D$9,0)","v":0},{"$f":"IF(AD$32>0,Eing.Allg..Daten!$D$9,0)","v":0},{"$f":"IF(AE$32>0,Eing.Allg..Daten!$D$9,0)","v":0},0]
[3,{"$f":"IF(+Eing.Allg..Daten!$D$8<>\"\",+VLOOKUP(A34,Bahnen!$A$52:$B$144,2,0),\"\")","v":"Pyramiden"},null,{"$f":"IF(D$32>0,Eing.Allg..Daten!$D$9,0)","v":0},{"$f":"IF(E$32>0,Eing.Allg..Daten!$D$9,0)","v":0},{"$f":"IF(F$32>0,Eing.Allg..Daten!$D$9,0)","v":0},{"$f":"IF(G$32>0,Eing.Allg..Daten!$D$9,0)","v":0},0,null,{"$f":"IF(J$32>0,Eing.Allg..Daten!$D$9,0)","v":0},{"$f":"IF(K$32>0,Eing.Allg..Daten!$D$9,0)","v":0},{"$f":"IF(L$32>0,Eing.Allg..Daten!$D$9,0)","v":0},{"$f":"IF(M$32>0,Eing.Allg..Daten!$D$9,0)","v":0},0,null,{"$f":"IF(P$32>0,Eing.Allg..Daten!$D$9,0)","v":0},{"$f":"IF(Q$32>0,Eing.Allg..Daten!$D$9,0)","v":0},{"$f":"IF(R$32>0,Eing.Allg..Daten!$D$9,0)","v":0},{"$f":"IF(S$32>0,Eing.Allg..Daten!$D$9,0)","v":0},0,null,{"$f":"IF(V$32>0,Eing.Allg..Daten!$D$9,0)","v":0},{"$f":"IF(W$32>0,Eing.Allg..Daten!$D$9,0)","v":0},{"$f":"IF(X$32>0,Eing.Allg..Daten!$D$9,0)","v":0},{"$f":"IF(Y$32>0,Eing.Allg..Daten!$D$9,0)","v":0},0,null,{"$f":"IF(AB$32>0,Eing.Allg..Daten!$D$9,0)","v":0},{"$f":"IF(AC$32>0,Eing.Allg..Daten!$D$9,0)","v":0},{"$f":"IF(AD$32>0,Eing.Allg..Daten!$D$9,0)","v":0},{"$f":"IF(AE$32>0,Eing.Allg..Daten!$D$9,0)","v":0},0]
[4,{"$f":"IF(+Eing.Allg..Daten!$D$8<>\"\",+VLOOKUP(A35,Bahnen!$A$52:$B$144,2,0),\"\")","v":"Mittelhügel"},null,{"$f":"IF(D$32>0,Eing.Allg..Daten!$D$9,0)","v":0},{"$f":"IF(E$32>0,Eing.Allg..Daten!$D$9,0)","v":0},{"$f":"IF(F$32>0,Eing.Allg..Daten!$D$9,0)","v":0},{"$f":"IF(G$32>0,Eing.Allg..Daten!$D$9,0)","v":0},0,null,{"$f":"IF(J$32>0,Eing.Allg..Daten!$D$9,0)","v":0},{"$f":"IF(K$32>0,Eing.Allg..Daten!$D$9,0)","v":0},{"$f":"IF(L$32>0,Eing.Allg..Daten!$D$9,0)","v":0},{"$f":"IF(M$32>0,Eing.Allg..Daten!$D$9,0)","v":0},0,null,{"$f":"IF(P$32>0,Eing.Allg..Daten!$D$9,0)","v":0},{"$f":"IF(Q$32>0,Eing.Allg..Daten!$D$9,0)","v":0},{"$f":"IF(R$32>0,Eing.Allg..Daten!$D$9,0)","v":0},{"$f":"IF(S$32>0,Eing.Allg..Daten!$D$9,0)","v":0},0,null,{"$f":"IF(V$32>0,Eing.Allg..Daten!$D$9,0)","v":0},{"$f":"IF(W$32>0,Eing.Allg..Daten!$D$9,0)","v":0},{"$f":"IF(X$32>0,Eing.Allg..Daten!$D$9,0)","v":0},{"$f":"IF(Y$32>0,Eing.Allg..Daten!$D$9,0)","v":0},0,null,{"$f":"IF(AB$32>0,Eing.Allg..Daten!$D$9,0)","v":0},{"$f":"IF(AC$32>0,Eing.Allg..Daten!$D$9,0)","v":0},{"$f":"IF(AD$32>0,Eing.Allg..Daten!$D$9,0)","v":0},{"$f":"IF(AE$32>0,Eing.Allg..Daten!$D$9,0)","v":0},0]
[5,{"$f":"IF(+Eing.Allg..Daten!$D$8<>\"\",+VLOOKUP(A36,Bahnen!$A$52:$B$144,2,0),\"\")","v":"\"V\" - Hindernis"},null,{"$f":"IF(D$32>0,Eing.Allg..Daten!$D$9,0)","v":0},{"$f":"IF(E$32>0,Eing.Allg..Daten!$D$9,0)","v":0},{"$f":"IF(F$32>0,Eing.Allg..Daten!$D$9,0)","v":0},{"$f":"IF(G$32>0,Eing.Allg..Daten!$D$9,0)","v":0},0,null,{"$f":"IF(J$32>0,Eing.Allg..Daten!$D$9,0)","v":0},{"$f":"IF(K$32>0,Eing.Allg..Daten!$D$9,0)","v":0},{"$f":"IF(L$32>0,Eing.Allg..Daten!$D$9,0)","v":0},{"$f":"IF(M$32>0,Eing.Allg..Daten!$D$9,0)","v":0},0,null,{"$f":"IF(P$32>0,Eing.Allg..Daten!$D$9,0)","v":0},{"$f":"IF(Q$32>0,Eing.Allg..Daten!$D$9,0)","v":0},{"$f":"IF(R$32>0,Eing.Allg..Daten!$D$9,0)","v":0},{"$f":"IF(S$32>0,Eing.Allg..Daten!$D$9,0)","v":0},0,null,{"$f":"IF(V$32>0,Eing.Allg..Daten!$D$9,0)","v":0},{"$f":"IF(W$32>0,Eing.Allg..Daten!$D$9,0)","v":0},{"$f":"IF(X$32>0,Eing.Allg..Daten!$D$9,0)","v":0},{"$f":"IF(Y$32>0,Eing.Allg..Daten!$D$9,0)","v":0},0,null,{"$f":"IF(AB$32>0,Eing.Allg..Daten!$D$9,0)","v":0},{"$f":"IF(AC$32>0,Eing.Allg..Daten!$D$9,0)","v":0},{"$f":"IF(AD$32>0,Eing.Allg..Daten!$D$9,0)","v":0},{"$f":"IF(AE$32>0,Eing.Allg..Daten!$D$9,0)","v":0},0]
[6,{"$f":"IF(+Eing.Allg..Daten!$D$8<>\"\",+VLOOKUP(A37,Bahnen!$A$52:$B$144,2,0),\"\")","v":"Doppelwellen"},null,{"$f":"IF(D$32>0,Eing.Allg..Daten!$D$9,0)","v":0},{"$f":"IF(E$32>0,Eing.Allg..Daten!$D$9,0)","v":0},{"$f":"IF(F$32>0,Eing.Allg..Daten!$D$9,0)","v":0},{"$f":"IF(G$32>0,Eing.Allg..Daten!$D$9,0)","v":0},0,null,{"$f":"IF(J$32>0,Eing.Allg..Daten!$D$9,0)","v":0},{"$f":"IF(K$32>0,Eing.Allg..Daten!$D$9,0)","v":0},{"$f":"IF(L$32>0,Eing.Allg..Daten!$D$9,0)","v":0},{"$f":"IF(M$32>0,Eing.Allg..Daten!$D$9,0)","v":0},0,null,{"$f":"IF(P$32>0,Eing.Allg..Daten!$D$9,0)","v":0},{"$f":"IF(Q$32>0,Eing.Allg..Daten!$D$9,0)","v":0},{"$f":"IF(R$32>0,Eing.Allg..Daten!$D$9,0)","v":0},{"$f":"IF(S$32>0,Eing.Allg..Daten!$D$9,0)","v":0},0,null,{"$f":"IF(V$32>0,Eing.Allg..Daten!$D$9,0)","v":0},{"$f":"IF(W$32>0,Eing.Allg..Daten!$D$9,0)","v":0},{"$f":"IF(X$32>0,Eing.Allg..Daten!$D$9,0)","v":0},{"$f":"IF(Y$32>0,Eing.Allg..Daten!$D$9,0)","v":0},0,null,{"$f":"IF(AB$32>0,Eing.Allg..Daten!$D$9,0)","v":0},{"$f":"IF(AC$32>0,Eing.Allg..Daten!$D$9,0)","v":0},{"$f":"IF(AD$32>0,Eing.Allg..Daten!$D$9,0)","v":0},{"$f":"IF(AE$32>0,Eing.Allg..Daten!$D$9,0)","v":0},0]
[7,{"$f":"IF(+Eing.Allg..Daten!$D$8<>\"\",+VLOOKUP(A38,Bahnen!$A$52:$B$144,2,0),\"\")","v":"Rohr"},null,{"$f":"IF(D$32>0,Eing.Allg..Daten!$D$9,0)","v":0},{"$f":"IF(E$32>0,Eing.Allg..Daten!$D$9,0)","v":0},{"$f":"IF(F$32>0,Eing.Allg..Daten!$D$9,0)","v":0},{"$f":"IF(G$32>0,Eing.Allg..Daten!$D$9,0)","v":0},0,null,{"$f":"IF(J$32>0,Eing.Allg..Daten!$D$9,0)","v":0},{"$f":"IF(K$32>0,Eing.Allg..Daten!$D$9,0)","v":0},{"$f":"IF(L$32>0,Eing.Allg..Daten!$D$9,0)","v":0},{"$f":"IF(M$32>0,Eing.Allg..Daten!$D$9,0)","v":0},0,null,{"$f":"IF(P$32>0,Eing.Allg..Daten!$D$9,0)","v":0},{"$f":"IF(Q$32>0,Eing.Allg..Daten!$D$9,0)","v":0},{"$f":"IF(R$32>0,Eing.Allg..Daten!$D$9,0)","v":0},{"$f":"IF(S$32>0,Eing.Allg..Daten!$D$9,0)","v":0},0,null,{"$f":"IF(V$32>0,Eing.Allg..Daten!$D$9,0)","v":0},{"$f":"IF(W$32>0,Eing.Allg..Daten!$D$9,0)","v":0},{"$f":"IF(X$32>0,Eing.Allg..Daten!$D$9,0)","v":0},{"$f":"IF(Y$32>0,Eing.Allg..Daten!$D$9,0)","v":0},0,null,{"$f":"IF(AB$32>0,Eing.Allg..Daten!$D$9,0)","v":0},{"$f":"IF(AC$32>0,Eing.Allg..Daten!$D$9,0)","v":0},{"$f":"IF(AD$32>0,Eing.Allg..Daten!$D$9,0)","v":0},{"$f":"IF(AE$32>0,Eing.Allg..Daten!$D$9,0)","v":0},0]
[8,{"$f":"IF(+Eing.Allg..Daten!$D$8<>\"\",+VLOOKUP(A39,Bahnen!$A$52:$B$144,2,0),\"\")","v":"Passagen"},null,{"$f":"IF(D$32>0,Eing.Allg..Daten!$D$9,0)","v":0},{"$f":"IF(E$32>0,Eing.Allg..Daten!$D$9,0)","v":0},{"$f":"IF(F$32>0,Eing.Allg..Daten!$D$9,0)","v":0},{"$f":"IF(G$32>0,Eing.Allg..Daten!$D$9,0)","v":0},0,null,{"$f":"IF(J$32>0,Eing.Allg..Daten!$D$9,0)","v":0},{"$f":"IF(K$32>0,Eing.Allg..Daten!$D$9,0)","v":0},{"$f":"IF(L$32>0,Eing.Allg..Daten!$D$9,0)","v":0},{"$f":"IF(M$32>0,Eing.Allg..Daten!$D$9,0)","v":0},0,null,{"$f":"IF(P$32>0,Eing.Allg..Daten!$D$9,0)","v":0},{"$f":"IF(Q$32>0,Eing.Allg..Daten!$D$9,0)","v":0},{"$f":"IF(R$32>0,Eing.Allg..Daten!$D$9,0)","v":0},{"$f":"IF(S$32>0,Eing.Allg..Daten!$D$9,0)","v":0},0,null,{"$f":"IF(V$32>0,Eing.Allg..Daten!$D$9,0)","v":0},{"$f":"IF(W$32>0,Eing.Allg..Daten!$D$9,0)","v":0},{"$f":"IF(X$32>0,Eing.Allg..Daten!$D$9,0)","v":0},{"$f":"IF(Y$32>0,Eing.Allg..Daten!$D$9,0)","v":0},0,null,{"$f":"IF(AB$32>0,Eing.Allg..Daten!$D$9,0)","v":0},{"$f":"IF(AC$32>0,Eing.Allg..Daten!$D$9,0)","v":0},{"$f":"IF(AD$32>0,Eing.Allg..Daten!$D$9,0)","v":0},{"$f":"IF(AE$32>0,Eing.Allg..Daten!$D$9,0)","v":0},0]
[9,{"$f":"IF(+Eing.Allg..Daten!$D$8<>\"\",+VLOOKUP(A40,Bahnen!$A$52:$B$144,2,0),\"\")","v":"Liegende Schleife"},null,{"$f":"IF(D$32>0,Eing.Allg..Daten!$D$9,0)","v":0},{"$f":"IF(E$32>0,Eing.Allg..Daten!$D$9,0)","v":0},{"$f":"IF(F$32>0,Eing.Allg..Daten!$D$9,0)","v":0},{"$f":"IF(G$32>0,Eing.Allg..Daten!$D$9,0)","v":0},0,null,{"$f":"IF(J$32>0,Eing.Allg..Daten!$D$9,0)","v":0},{"$f":"IF(K$32>0,Eing.Allg..Daten!$D$9,0)","v":0},{"$f":"IF(L$32>0,Eing.Allg..Daten!$D$9,0)","v":0},{"$f":"IF(M$32>0,Eing.Allg..Daten!$D$9,0)","v":0},0,null,{"$f":"IF(P$32>0,Eing.Allg..Daten!$D$9,0)","v":0},{"$f":"IF(Q$32>0,Eing.Allg..Daten!$D$9,0)","v":0},{"$f":"IF(R$32>0,Eing.Allg..Daten!$D$9,0)","v":0},{"$f":"IF(S$32>0,Eing.Allg..Daten!$D$9,0)","v":0},0,null,{"$f":"IF(V$32>0,Eing.Allg..Daten!$D$9,0)","v":0},{"$f":"IF(W$32>0,Eing.Allg..Daten!$D$9,0)","v":0},{"$f":"IF(X$32>0,Eing.Allg..Daten!$D$9,0)","v":0},{"$f":"IF(Y$32>0,Eing.Allg..Daten!$D$9,0)","v":0},0,null,{"$f":"IF(AB$32>0,Eing.Allg..Daten!$D$9,0)","v":0},{"$f":"IF(AC$32>0,Eing.Allg..Daten!$D$9,0)","v":0},{"$f":"IF(AD$32>0,Eing.Allg..Daten!$D$9,0)","v":0},{"$f":"IF(AE$32>0,Eing.Allg..Daten!$D$9,0)","v":0},0]
[10,{"$f":"IF(+Eing.Allg..Daten!$D$8<>\"\",+VLOOKUP(A41,Bahnen!$A$52:$B$144,2,0),\"\")","v":"Winkel"},null,{"$f":"IF(D$32>0,Eing.Allg..Daten!$D$9,0)","v":0},{"$f":"IF(E$32>0,Eing.Allg..Daten!$D$9,0)","v":0},{"$f":"IF(F$32>0,Eing.Allg..Daten!$D$9,0)","v":0},{"$f":"IF(G$32>0,Eing.Allg..Daten!$D$9,0)","v":0},0,null,{"$f":"IF(J$32>0,Eing.Allg..Daten!$D$9,0)","v":0},{"$f":"IF(K$32>0,Eing.Allg..Daten!$D$9,0)","v":0},{"$f":"IF(L$32>0,Eing.Allg..Daten!$D$9,0)","v":0},{"$f":"IF(M$32>0,Eing.Allg..Daten!$D$9,0)","v":0},0,null,{"$f":"IF(P$32>0,Eing.Allg..Daten!$D$9,0)","v":0},{"$f":"IF(Q$32>0,Eing.Allg..Daten!$D$9,0)","v":0},{"$f":"IF(R$32>0,Eing.Allg..Daten!$D$9,0)","v":0},{"$f":"IF(S$32>0,Eing.Allg..Daten!$D$9,0)","v":0},0,null,{"$f":"IF(V$32>0,Eing.Allg..Daten!$D$9,0)","v":0},{"$f":"IF(W$32>0,Eing.Allg..Daten!$D$9,0)","v":0},{"$f":"IF(X$32>0,Eing.Allg..Daten!$D$9,0)","v":0},{"$f":"IF(Y$32>0,Eing.Allg..Daten!$D$9,0)","v":0},0,null,{"$f":"IF(AB$32>0,Eing.Allg..Daten!$D$9,0)","v":0},{"$f":"IF(AC$32>0,Eing.Allg..Daten!$D$9,0)","v":0},{"$f":"IF(AD$32>0,Eing.Allg..Daten!$D$9,0)","v":0},{"$f":"IF(AE$32>0,Eing.Allg..Daten!$D$9,0)","v":0},0]
[11,{"$f":"IF(+Eing.Allg..Daten!$D$8<>\"\",+VLOOKUP(A42,Bahnen!$A$52:$B$144,2,0),\"\")","v":"Netz"},null,{"$f":"IF(D$32>0,Eing.Allg..Daten!$D$9,0)","v":0},{"$f":"IF(E$32>0,Eing.Allg..Daten!$D$9,0)","v":0},{"$f":"IF(F$32>0,Eing.Allg..Daten!$D$9,0)","v":0},{"$f":"IF(G$32>0,Eing.Allg..Daten!$D$9,0)","v":0},0,null,{"$f":"IF(J$32>0,Eing.Allg..Daten!$D$9,0)","v":0},{"$f":"IF(K$32>0,Eing.Allg..Daten!$D$9,0)","v":0},{"$f":"IF(L$32>0,Eing.Allg..Daten!$D$9,0)","v":0},{"$f":"IF(M$32>0,Eing.Allg..Daten!$D$9,0)","v":0},0,null,{"$f":"IF(P$32>0,Eing.Allg..Daten!$D$9,0)","v":0},{"$f":"IF(Q$32>0,Eing.Allg..Daten!$D$9,0)","v":0},{"$f":"IF(R$32>0,Eing.Allg..Daten!$D$9,0)","v":0},{"$f":"IF(S$32>0,Eing.Allg..Daten!$D$9,0)","v":0},0,null,{"$f":"IF(V$32>0,Eing.Allg..Daten!$D$9,0)","v":0},{"$f":"IF(W$32>0,Eing.Allg..Daten!$D$9,0)","v":0},{"$f":"IF(X$32>0,Eing.Allg..Daten!$D$9,0)","v":0},{"$f":"IF(Y$32>0,Eing.Allg..Daten!$D$9,0)","v":0},0,null,{"$f":"IF(AB$32>0,Eing.Allg..Daten!$D$9,0)","v":0},{"$f":"IF(AC$32>0,Eing.Allg..Daten!$D$9,0)","v":0},{"$f":"IF(AD$32>0,Eing.Allg..Daten!$D$9,0)","v":0},{"$f":"IF(AE$32>0,Eing.Allg..Daten!$D$9,0)","v":0},0]
[12,{"$f":"IF(+Eing.Allg..Daten!$D$8<>\"\",+VLOOKUP(A43,Bahnen!$A$52:$B$144,2,0),\"\")","v":"Doppelkeile"},null,{"$f":"IF(D$32>0,Eing.Allg..Daten!$D$9,0)","v":0},{"$f":"IF(E$32>0,Eing.Allg..Daten!$D$9,0)","v":0},{"$f":"IF(F$32>0,Eing.Allg..Daten!$D$9,0)","v":0},{"$f":"IF(G$32>0,Eing.Allg..Daten!$D$9,0)","v":0},0,null,{"$f":"IF(J$32>0,Eing.Allg..Daten!$D$9,0)","v":0},{"$f":"IF(K$32>0,Eing.Allg..Daten!$D$9,0)","v":0},{"$f":"IF(L$32>0,Eing.Allg..Daten!$D$9,0)","v":0},{"$f":"IF(M$32>0,Eing.Allg..Daten!$D$9,0)","v":0},0,null,{"$f":"IF(P$32>0,Eing.Allg..Daten!$D$9,0)","v":0},{"$f":"IF(Q$32>0,Eing.Allg..Daten!$D$9,0)","v":0},{"$f":"IF(R$32>0,Eing.Allg..Daten!$D$9,0)","v":0},{"$f":"IF(S$32>0,Eing.Allg..Daten!$D$9,0)","v":0},0,null,{"$f":"IF(V$32>0,Eing.Allg..Daten!$D$9,0)","v":0},{"$f":"IF(W$32>0,Eing.Allg..Daten!$D$9,0)","v":0},{"$f":"IF(X$32>0,Eing.Allg..Daten!$D$9,0)","v":0},{"$f":"IF(Y$32>0,Eing.Allg..Daten!$D$9,0)","v":0},0,null,{"$f":"IF(AB$32>0,Eing.Allg..Daten!$D$9,0)","v":0},{"$f":"IF(AC$32>0,Eing.Allg..Daten!$D$9,0)","v":0},{"$f":"IF(AD$32>0,Eing.Allg..Daten!$D$9,0)","v":0},{"$f":"IF(AE$32>0,Eing.Allg..Daten!$D$9,0)","v":0},0]
[13,{"$f":"IF(+Eing.Allg..Daten!$D$8<>\"\",+VLOOKUP(A44,Bahnen!$A$52:$B$144,2,0),\"\")","v":"Stumpfe Kegel"},null,{"$f":"IF(D$32>0,Eing.Allg..Daten!$D$9,0)","v":0},{"$f":"IF(E$32>0,Eing.Allg..Daten!$D$9,0)","v":0},{"$f":"IF(F$32>0,Eing.Allg..Daten!$D$9,0)","v":0},{"$f":"IF(G$32>0,Eing.Allg..Daten!$D$9,0)","v":0},0,null,{"$f":"IF(J$32>0,Eing.Allg..Daten!$D$9,0)","v":0},{"$f":"IF(K$32>0,Eing.Allg..Daten!$D$9,0)","v":0},{"$f":"IF(L$32>0,Eing.Allg..Daten!$D$9,0)","v":0},{"$f":"IF(M$32>0,Eing.Allg..Daten!$D$9,0)","v":0},0,null,{"$f":"IF(P$32>0,Eing.Allg..Daten!$D$9,0)","v":0},{"$f":"IF(Q$32>0,Eing.Allg..Daten!$D$9,0)","v":0},{"$f":"IF(R$32>0,Eing.Allg..Daten!$D$9,0)","v":0},{"$f":"IF(S$32>0,Eing.Allg..Daten!$D$9,0)","v":0},0,null,{"$f":"IF(V$32>0,Eing.Allg..Daten!$D$9,0)","v":0},{"$f":"IF(W$32>0,Eing.Allg..Daten!$D$9,0)","v":0},{"$f":"IF(X$32>0,Eing.Allg..Daten!$D$9,0)","v":0},{"$f":"IF(Y$32>0,Eing.Allg..Daten!$D$9,0)","v":0},0,null,{"$f":"IF(AB$32>0,Eing.Allg..Daten!$D$9,0)","v":0},{"$f":"IF(AC$32>0,Eing.Allg..Daten!$D$9,0)","v":0},{"$f":"IF(AD$32>0,Eing.Allg..Daten!$D$9,0)","v":0},{"$f":"IF(AE$32>0,Eing.Allg..Daten!$D$9,0)","v":0},0]
[14,{"$f":"IF(+Eing.Allg..Daten!$D$8<>\"\",+VLOOKUP(A45,Bahnen!$A$52:$B$144,2,0),\"\")","v":"Schrägerkreis mit Niere"},null,{"$f":"IF(D$32>0,Eing.Allg..Daten!$D$9,0)","v":0},{"$f":"IF(E$32>0,Eing.Allg..Daten!$D$9,0)","v":0},{"$f":"IF(F$32>0,Eing.Allg..Daten!$D$9,0)","v":0},{"$f":"IF(G$32>0,Eing.Allg..Daten!$D$9,0)","v":0},0,null,{"$f":"IF(J$32>0,Eing.Allg..Daten!$D$9,0)","v":0},{"$f":"IF(K$32>0,Eing.Allg..Daten!$D$9,0)","v":0},{"$f":"IF(L$32>0,Eing.Allg..Daten!$D$9,0)","v":0},{"$f":"IF(M$32>0,Eing.Allg..Daten!$D$9,0)","v":0},0,null,{"$f":"IF(P$32>0,Eing.Allg..Daten!$D$9,0)","v":0},{"$f":"IF(Q$32>0,Eing.Allg..Daten!$D$9,0)","v":0},{"$f":"IF(R$32>0,Eing.Allg..Daten!$D$9,0)","v":0},{"$f":"IF(S$32>0,Eing.Allg..Daten!$D$9,0)","v":0},0,null,{"$f":"IF(V$32>0,Eing.Allg..Daten!$D$9,0)","v":0},{"$f":"IF(W$32>0,Eing.Allg..Daten!$D$9,0)","v":0},{"$f":"IF(X$32>0,Eing.Allg..Daten!$D$9,0)","v":0},{"$f":"IF(Y$32>0,Eing.Allg..Daten!$D$9,0)","v":0},0,null,{"$f":"IF(AB$32>0,Eing.Allg..Daten!$D$9,0)","v":0},{"$f":"IF(AC$32>0,Eing.Allg..Daten!$D$9,0)","v":0},{"$f":"IF(AD$32>0,Eing.Allg..Daten!$D$9,0)","v":0},{"$f":"IF(AE$32>0,Eing.Allg..Daten!$D$9,0)","v":0},0]
[15,{"$f":"IF(+Eing.Allg..Daten!$D$8<>\"\",+VLOOKUP(A46,Bahnen!$A$52:$B$144,2,0),\"\")","v":"Brücke"},null,{"$f":"IF(D$32>0,Eing.Allg..Daten!$D$9,0)","v":0},{"$f":"IF(E$32>0,Eing.Allg..Daten!$D$9,0)","v":0},{"$f":"IF(F$32>0,Eing.Allg..Daten!$D$9,0)","v":0},{"$f":"IF(G$32>0,Eing.Allg..Daten!$D$9,0)","v":0},0,null,{"$f":"IF(J$32>0,Eing.Allg..Daten!$D$9,0)","v":0},{"$f":"IF(K$32>0,Eing.Allg..Daten!$D$9,0)","v":0},{"$f":"IF(L$32>0,Eing.Allg..Daten!$D$9,0)","v":0},{"$f":"IF(M$32>0,Eing.Allg..Daten!$D$9,0)","v":0},0,null,{"$f":"IF(P$32>0,Eing.Allg..Daten!$D$9,0)","v":0},{"$f":"IF(Q$32>0,Eing.Allg..Daten!$D$9,0)","v":0},{"$f":"IF(R$32>0,Eing.Allg..Daten!$D$9,0)","v":0},{"$f":"IF(S$32>0,Eing.Allg..Daten!$D$9,0)","v":0},0,null,{"$f":"IF(V$32>0,Eing.Allg..Daten!$D$9,0)","v":0},{"$f":"IF(W$32>0,Eing.Allg..Daten!$D$9,0)","v":0},{"$f":"IF(X$32>0,Eing.Allg..Daten!$D$9,0)","v":0},{"$f":"IF(Y$32>0,Eing.Allg..Daten!$D$9,0)","v":0},0,null,{"$f":"IF(AB$32>0,Eing.Allg..Daten!$D$9,0)","v":0},{"$f":"IF(AC$32>0,Eing.Allg..Daten!$D$9,0)","v":0},{"$f":"IF(AD$32>0,Eing.Allg..Daten!$D$9,0)","v":0},{"$f":"IF(AE$32>0,Eing.Allg..Daten!$D$9,0)","v":0},0]
[16,{"$f":"IF(+Eing.Allg..Daten!$D$8<>\"\",+VLOOKUP(A47,Bahnen!$A$52:$B$144,2,0),\"\")","v":"Vulkan"},null,{"$f":"IF(D$32>0,Eing.Allg..Daten!$D$9,0)","v":0},{"$f":"IF(E$32>0,Eing.Allg..Daten!$D$9,0)","v":0},{"$f":"IF(F$32>0,Eing.Allg..Daten!$D$9,0)","v":0},{"$f":"IF(G$32>0,Eing.Allg..Daten!$D$9,0)","v":0},0,null,{"$f":"IF(J$32>0,Eing.Allg..Daten!$D$9,0)","v":0},{"$f":"IF(K$32>0,Eing.Allg..Daten!$D$9,0)","v":0},{"$f":"IF(L$32>0,Eing.Allg..Daten!$D$9,0)","v":0},{"$f":"IF(M$32>0,Eing.Allg..Daten!$D$9,0)","v":0},0,null,{"$f":"IF(P$32>0,Eing.Allg..Daten!$D$9,0)","v":0},{"$f":"IF(Q$32>0,Eing.Allg..Daten!$D$9,0)","v":0},{"$f":"IF(R$32>0,Eing.Allg..Daten!$D$9,0)","v":0},{"$f":"IF(S$32>0,Eing.Allg..Daten!$D$9,0)","v":0},0,null,{"$f":"IF(V$32>0,Eing.Allg..Daten!$D$9,0)","v":0},{"$f":"IF(W$32>0,Eing.Allg..Daten!$D$9,0)","v":0},{"$f":"IF(X$32>0,Eing.Allg..Daten!$D$9,0)","v":0},{"$f":"IF(Y$32>0,Eing.Allg..Daten!$D$9,0)","v":0},0,null,{"$f":"IF(AB$32>0,Eing.Allg..Daten!$D$9,0)","v":0},{"$f":"IF(AC$32>0,Eing.Allg..Daten!$D$9,0)","v":0},{"$f":"IF(AD$32>0,Eing.Allg..Daten!$D$9,0)","v":0},{"$f":"IF(AE$32>0,Eing.Allg..Daten!$D$9,0)","v":0},0]
[17,{"$f":"IF(+Eing.Allg..Daten!$D$8<>\"\",+VLOOKUP(A48,Bahnen!$A$52:$B$144,2,0),\"\")","v":"Auflaufkeil mit Zielfenster"},null,{"$f":"IF(D$32>0,Eing.Allg..Daten!$D$9,0)","v":0},{"$f":"IF(E$32>0,Eing.Allg..Daten!$D$9,0)","v":0},{"$f":"IF(F$32>0,Eing.Allg..Daten!$D$9,0)","v":0},{"$f":"IF(G$32>0,Eing.Allg..Daten!$D$9,0)","v":0},0,null,{"$f":"IF(J$32>0,Eing.Allg..Daten!$D$9,0)","v":0},{"$f":"IF(K$32>0,Eing.Allg..Daten!$D$9,0)","v":0},{"$f":"IF(L$32>0,Eing.Allg..Daten!$D$9,0)","v":0},{"$f":"IF(M$32>0,Eing.Allg..Daten!$D$9,0)","v":0},0,null,{"$f":"IF(P$32>0,Eing.Allg..Daten!$D$9,0)","v":0},{"$f":"IF(Q$32>0,Eing.Allg..Daten!$D$9,0)","v":0},{"$f":"IF(R$32>0,Eing.Allg..Daten!$D$9,0)","v":0},{"$f":"IF(S$32>0,Eing.Allg..Daten!$D$9,0)","v":0},0,null,{"$f":"IF(V$32>0,Eing.Allg..Daten!$D$9,0)","v":0},{"$f":"IF(W$32>0,Eing.Allg..Daten!$D$9,0)","v":0},{"$f":"IF(X$32>0,Eing.Allg..Daten!$D$9,0)","v":0},{"$f":"IF(Y$32>0,Eing.Allg..Daten!$D$9,0)","v":0},0,null,{"$f":"IF(AB$32>0,Eing.Allg..Daten!$D$9,0)","v":0},{"$f":"IF(AC$32>0,Eing.Allg..Daten!$D$9,0)","v":0},{"$f":"IF(AD$32>0,Eing.Allg..Daten!$D$9,0)","v":0},{"$f":"IF(AE$32>0,Eing.Allg..Daten!$D$9,0)","v":0},0]
[18,{"$f":"IF(+Eing.Allg..Daten!$D$8<>\"\",+VLOOKUP(A49,Bahnen!$A$52:$B$144,2,0),\"\")","v":"Blitz"},null,{"$f":"IF(D$32>0,Eing.Allg..Daten!$D$9,0)","v":0},{"$f":"IF(E$32>0,Eing.Allg..Daten!$D$9,0)","v":0},{"$f":"IF(F$32>0,Eing.Allg..Daten!$D$9,0)","v":0},{"$f":"IF(G$32>0,Eing.Allg..Daten!$D$9,0)","v":0},0,null,{"$f":"IF(J$32>0,Eing.Allg..Daten!$D$9,0)","v":0},{"$f":"IF(K$32>0,Eing.Allg..Daten!$D$9,0)","v":0},{"$f":"IF(L$32>0,Eing.Allg..Daten!$D$9,0)","v":0},{"$f":"IF(M$32>0,Eing.Allg..Daten!$D$9,0)","v":0},0,null,{"$f":"IF(P$32>0,Eing.Allg..Daten!$D$9,0)","v":0},{"$f":"IF(Q$32>0,Eing.Allg..Daten!$D$9,0)","v":0},{"$f":"IF(R$32>0,Eing.Allg..Daten!$D$9,0)","v":0},{"$f":"IF(S$32>0,Eing.Allg..Daten!$D$9,0)","v":0},0,null,{"$f":"IF(V$32>0,Eing.Allg..Daten!$D$9,0)","v":0},{"$f":"IF(W$32>0,Eing.Allg..Daten!$D$9,0)","v":0},{"$f":"IF(X$32>0,Eing.Allg..Daten!$D$9,0)","v":0},{"$f":"IF(Y$32>0,Eing.Allg..Daten!$D$9,0)","v":0},0,null,{"$f":"IF(AB$32>0,Eing.Allg..Daten!$D$9,0)","v":0},{"$f":"IF(AC$32>0,Eing.Allg..Daten!$D$9,0)","v":0},{"$f":"IF(AD$32>0,Eing.Allg..Daten!$D$9,0)","v":0},{"$f":"IF(AE$32>0,Eing.Allg..Daten!$D$9,0)","v":0},0]
[null,"Strafpunkte",null,null,null,null,null,0,null,null,null,null,null,0,null,null,null,null,null,0,null,null,null,null,null,0,null,null,null,null,null,0]
[null,null,null,{"$f":"IF(D49<>0,SUM(D32:D50),999)","v":999},{"$f":"IF(E49<>0,SUM(E32:E50),999)","v":999},{"$f":"IF(F49<>0,SUM(F32:F50),999)","v":999},{"$f":"IF(G49<>0,SUM(G32:G50),999)","v":999},{"$f":"SUM(H32:H50)","v":0},null,{"$f":"IF(J49<>0,SUM(J32:J50),999)","v":999},{"$f":"IF(K49<>0,SUM(K32:K50),999)","v":999},{"$f":"IF(L49<>0,SUM(L32:L50),999)","v":999},{"$f":"IF(M49<>0,SUM(M32:M50),999)","v":999},{"$f":"SUM(N32:N50)","v":0},null,{"$f":"IF(P49<>0,SUM(P32:P50),999)","v":999},{"$f":"IF(Q49<>0,SUM(Q32:Q50),999)","v":999},{"$f":"IF(R49<>0,SUM(R32:R50),999)","v":999},{"$f":"IF(S49<>0,SUM(S32:S50),999)","v":999},{"$f":"SUM(T32:T50)","v":0},null,{"$f":"IF(V49<>0,SUM(V32:V50),999)","v":999},{"$f":"IF(W49<>0,SUM(W32:W50),999)","v":999},{"$f":"IF(X49<>0,SUM(X32:X50),999)","v":999},{"$f":"IF(Y49<>0,SUM(Y32:Y50),999)","v":999},{"$f":"SUM(Z32:Z50)","v":0},null,{"$f":"IF(AB49<>0,SUM(AB32:AB50),999)","v":999},{"$f":"IF(AC49<>0,SUM(AC32:AC50),999)","v":999},{"$f":"IF(AD49<>0,SUM(AD32:AD50),999)","v":999},{"$f":"IF(AE49<>0,SUM(AE32:AE50),999)","v":999},{"$f":"SUM(AF32:AF50)","v":0}]
[null,null,null,{"$f":"SUM(D51:G51)","v":3996},null,null,null,null,null,{"$f":"SUM(J51:M51)","v":3996},null,null,null,null,null,{"$f":"SUM(P51:S51)","v":3996},null,null,null,null,null,{"$f":"SUM(V51:Y51)","v":3996},null,null,null,null,null,{"$f":"SUM(AB51:AE51)","v":3996}]
[null,null,null,{"$f":"IF(D32=0,\"DNS\",IF(D49=0,\"DNF\",1))","v":"DNS"},{"$f":"IF(E32=0,\"DNS\",IF(E49=0,\"DNF\",1))","v":"DNS"},{"$f":"IF(F32=0,\"DNS\",IF(F49=0,\"DNF\",1))","v":"DNS"},{"$f":"IF(G32=0,\"DNS\",IF(G49=0,\"DNF\",1))","v":"DNS"},{"$f":"IF(SUM(D53:G53)=Tagestabelle!$N$3,\"FIN\",\"DNF\")","v":"FIN"},null,{"$f":"IF(J32=0,\"DNS\",IF(J49=0,\"DNF\",1))","v":"DNS"},{"$f":"IF(K32=0,\"DNS\",IF(K49=0,\"DNF\",1))","v":"DNS"},{"$f":"IF(L32=0,\"DNS\",IF(L49=0,\"DNF\",1))","v":"DNS"},{"$f":"IF(M32=0,\"DNS\",IF(M49=0,\"DNF\",1))","v":"DNS"},{"$f":"IF(SUM(J53:M53)=Tagestabelle!$N$3,\"FIN\",\"DNF\")","v":"FIN"},null,{"$f":"IF(P32=0,\"DNS\",IF(P49=0,\"DNF\",1))","v":"DNS"},{"$f":"IF(Q32=0,\"DNS\",IF(Q49=0,\"DNF\",1))","v":"DNS"},{"$f":"IF(R32=0,\"DNS\",IF(R49=0,\"DNF\",1))","v":"DNS"},{"$f":"IF(S32=0,\"DNS\",IF(S49=0,\"DNF\",1))","v":"DNS"},{"$f":"IF(SUM(P53:S53)=Tagestabelle!$N$3,\"FIN\",\"DNF\")","v":"FIN"},null,{"$f":"IF(V32=0,\"DNS\",IF(V49=0,\"DNF\",1))","v":"DNS"},{"$f":"IF(W32=0,\"DNS\",IF(W49=0,\"DNF\",1))","v":"DNS"},{"$f":"IF(X32=0,\"DNS\",IF(X49=0,\"DNF\",1))","v":"DNS"},{"$f":"IF(Y32=0,\"DNS\",IF(Y49=0,\"DNF\",1))","v":"DNS"},{"$f":"IF(SUM(V53:Y53)=Tagestabelle!$N$3,\"FIN\",\"DNF\")","v":"FIN"},null,{"$f":"IF(AB32=0,\"DNS\",IF(AB49=0,\"DNF\",1))","v":"DNS"},{"$f":"IF(AC32=0,\"DNS\",IF(AC49=0,\"DNF\",1))","v":"DNS"},{"$f":"IF(AD32=0,\"DNS\",IF(AD49=0,\"DNF\",1))","v":"DNS"},{"$f":"IF(AE32=0,\"DNS\",IF(AE49=0,\"DNF\",1))","v":"DNS"},{"$f":"IF(SUM(AB53:AE53)=Tagestabelle!$N$3,\"FIN\",\"DNF\")","v":"FIN"}]
[null,"M4",null,"R1","R2","R3","R4"]
[null,"KKLEINSTE8",null,{"$f":"SMALL(D60:D67,8)","v":999.00008000000003},{"$f":"SMALL(E60:E67,8)","v":999.00008000000003},{"$f":"SMALL(F60:F67,8)","v":999.00008000000003},{"$f":"SMALL(G60:G67,8)","v":999.00008000000003}]
[null,"KKLEINSTE7",null,{"$f":"SMALL(D60:D67,7)","v":999.00007000000005},{"$f":"SMALL(E60:E67,7)","v":999.00007000000005},{"$f":"SMALL(F60:F67,7)","v":999.00007000000005},{"$f":"SMALL(G60:G67,7)","v":999.00007000000005}]
[null,"KKLEINSTE6",null,{"$f":"SMALL(D60:D67,6)","v":999.00005999999996},{"$f":"SMALL(E60:E67,6)","v":999.00005999999996},{"$f":"SMALL(F60:F67,6)","v":999.00005999999996},{"$f":"SMALL(G60:G67,6)","v":999.00005999999996}]
[null,"KKLEINSTE5",null,{"$f":"SMALL(D60:D67,5)","v":999.00004999999999},{"$f":"SMALL(E60:E67,5)","v":999.00004999999999},{"$f":"SMALL(F60:F67,5)","v":999.00004999999999},{"$f":"SMALL(G60:G67,5)","v":999.00004999999999}]
[]
[8.0000000000000007E-5,"S1",null,{"$f":"D25+A60","v":999.00008000000003},{"$f":"E25+A60","v":999.00008000000003},{"$f":"F25+A60","v":999.00008000000003},{"$f":"G25+A60","v":999.00008000000003},"S1"]
[6.9999999999999994E-5,"S2",null,{"$f":"J25+A61","v":999.00007000000005},{"$f":"K25+A61","v":999.00007000000005},{"$f":"L25+A61","v":999.00007000000005},{"$f":"M25+A61","v":999.00007000000005},"S2"]
[6.0000000000000002E-5,"S3",null,{"$f":"P25+A62","v":999.00005999999996},{"$f":"Q25+A62","v":999.00005999999996},{"$f":"R25+A62","v":999.00005999999996},{"$f":"S25+A62","v":999.00005999999996},"S3"]
[5.0000000000000002E-5,"S4",null,{"$f":"V25+A63","v":999.00004999999999},{"$f":"W25+A63","v":999.00004999999999},{"$f":"X25+A63","v":999.00004999999999},{"$f":"Y25+A63","v":999.00004999999999},"S4"]
[4.0000000000000003E-5,"S5",null,{"$f":"D51+A64","v":999.00004000000001},{"$f":"E51+A64","v":999.00004000000001},{"$f":"F51+A64","v":999.00004000000001},{"$f":"G51+A64","v":999.00004000000001},"S5"]
[3.0000000000000001E-5,"S6",null,{"$f":"J51+A65","v":999.00003000000004},{"$f":"K51+A65","v":999.00003000000004},{"$f":"L51+A65","v":999.00003000000004},{"$f":"M51+A65","v":999.00003000000004},"S6"]
[2.0000000000000002E-5,"S7",null,{"$f":"P51+A66","v":999.00001999999995},{"$f":"Q51+A66","v":999.00001999999995},{"$f":"R51+A66","v":999.00001999999995},{"$f":"S51+A66","v":999.00001999999995},"S7"]
[1.0000000000000001E-5,"S8",null,{"$f":"V51+A67","v":999.00000999999997},{"$f":"W51+A67","v":999.00000999999997},{"$f":"X51+A67","v":999.00000999999997},{"$f":"Y51+A67","v":999.00000999999997},"S8"]

{"sheet":"Ma5","index":13,"n_rows":67,"n_cols":58,"rows_kept":67,"cut":false,"hidden":false,"merged":[[24,27,25,28],[18,27,18,28],[19,27,19,28],[20,27,20,28],[21,27,21,28],[22,27,22,28],[14,27,14,28],[15,27,15,28],[16,27,16,28],[17,27,17,28],[23,27,23,28],[9,27,9,28],[10,27,10,28],[11,27,11,28],[12,27,12,28],[13,27,13,28],[4,27,4,28],[5,27,5,28],[6,27,6,28],[7,27,7,28],[8,27,8,28],[51,9,51,13],[0,42,0,44],[1,42,1,57],[2,42,2,45],[2,46,2,49],[2,50,2,53],[2,54,2,57],[51,21,51,25],[30,27,30,28],[51,27,51,31],[30,9,30,10],[4,21,4,22],[25,21,25,25],[30,21,30,22],[2,27,2,28],[3,27,3,28],[2,0,2,1],[3,0,3,1],[51,15,51,19],[28,0,28,1],[29,0,29,1],[25,3,25,7],[30,15,30,16],[24,0,24,1],[50,0,50,1],[4,3,4,4],[4,9,4,10],[4,15,4,16],[30,3,30,4],[25,15,25,19],[25,9,25,13],[51,3,51,7]]}
["Mannschaft:",null,null,{"$f":"+Ma5_Eing","v":"MGC Bad Homburg 2"},null,null,null,null,null,null,null,{"$f":"+Seite1!B3","v":"Gruppenliga"},null,null,null,null,null,null,null,{"$f":"+Seite1!C5","v":3},null,{"$f":"+Seite1!D5","v":". Spieltag         "},null,null,null,null,null,null,null,null,null,null,null,null,null,null,null,null,null,null,null,null,"Spieler in der Wertung:",null,null,{"$f":"AnzSpieler","v":5},"+ 1 (+1)"]
[null,null,null,"M5S1R1","M5S1R2","M5S1R3","M5S1R4",null,null,"M5S2R1","M5S2R2","M5S2R3","M5S2R4",null,null,"M5S3R1","M5S3R2","M5S3R3","M5S3R4",null,null,"M5S4R1","M5S4R2","M5S4R3","M5S4R4",null,null,null,null,null,null,null,null,null,null,null,null,null,null,null,null,null,"Streichrunden"]
[null,null,null,"Spieler 1",null,null,null,"Kat.",null,"Spieler 2",null,null,null,"Kat.",null,"Spieler 3",null,null,null,"Kat.",null,"Spieler 4",null,null,null,"Kat.",null,"Mannsch. ",null,null,null,null,null,null,null,null,null,null,null,null,null,null,"R1",null,null,null,"R2",null,null,null,"R3",null,null,null,"R3"]
["Bahn  ",null,null,{"$f":"+M5S1","v":{"$error":"#N/A"}},null,null,null,{"$f":"+M5S1Kat","v":{"$error":"#N/A"}},null,{"$f":"+M5S2","v":{"$error":"#N/A"}},null,null,null,{"$f":"+M5S2Kat","v":{"$error":"#N/A"}},null,{"$f":"+M5S3","v":{"$error":"#N/A"}},null,null,null,{"$f":"+M5S3Kat","v":{"$error":"#N/A"}},null,{"$f":"+M5S4","v":{"$error":"#N/A"}},null,null,null,{"$f":"+M5S4Kat","v":{"$error":"#N/A"}},null,"gesamt",null,null,null,null,null,null,null,null,null,null,null,null,null,null,"Kl_8","Kl_7","Kl_6","Kl_5","Kl_8","Kl_7","Kl_6","Kl_5","Kl_8","Kl_7","Kl_6","Kl_5","Kl_8","Kl_7","Kl_6","Kl_5"]
["Nr.","Bez. ",null,{"$f":"+M5S1p","v":0},null,null,null,null,null,{"$f":"+M5S2p","v":0},null,null,null,null,null,{"$f":"+M5S3p","v":0},null,null,null,null,null,{"$f":"+M5S4p","v":0},null,null,null,null,null,null,null,null,null,null,null,null,null,null,null,null,null,null,null,null,{"$f":"CONCATENATE($B$54,VLOOKUP(D$55,$D$60:$H$67,5,FALSE),$D$54)","v":"M5S1R1"},{"$f":"CONCATENATE($B$54,VLOOKUP(D$56,$D$60:$H$67,5,FALSE),$D$54)","v":"M5S2R1"},{"$f":"CONCATENATE($B$54,VLOOKUP(D$57,$D$60:$H$67,5,FALSE),$D$54)","v":"M5S3R1"},{"$f":"CONCATENATE($B$54,VLOOKUP(D$58,$D$60:$H$67,5,FALSE),$D$54)","v":"M5S4R1"},{"$f":"CONCATENATE($B$54,VLOOKUP(E$55,$E$60:$H$67,4,FALSE),$E$54)","v":"M5S1R2"},{"$f":"CONCATENATE($B$54,VLOOKUP(E$56,$E$60:$H$67,4,FALSE),$E$54)","v":"M5S2R2"},{"$f":"CONCATENATE($B$54,VLOOKUP(E$57,$E$60:$H$67,4,FALSE),$E$54)","v":"M5S3R2"},{"$f":"CONCATENATE($B$54,VLOOKUP(E$58,$E$60:$H$67,4,FALSE),$E$54)","v":"M5S4R2"},{"$f":"CONCATENATE($B$54,VLOOKUP(F$55,$F$60:$H$67,3,FALSE),$F$54)","v":"M5S1R3"},{"$f":"CONCATENATE($B$54,VLOOKUP(F$56,$F$60:$H$67,3,FALSE),$F$54)","v":"M5S2R3"},{"$f":"CONCATENATE($B$54,VLOOKUP(F$57,$F$60:$H$67,3,FALSE),$F$54)","v":"M5S3R3"},{"$f":"CONCATENATE($B$54,VLOOKUP(F$58,$F$60:$H$67,3,FALSE),$F$54)","v":"M5S4R3"},{"$f":"CONCATENATE($B$54,VLOOKUP(G$55,$G$60:$H$67,2,FALSE),$G$54)","v":"M5S1R4"},{"$f":"CONCATENATE($B$54,VLOOKUP(G$56,$G$60:$H$67,2,FALSE),$G$54)","v":"M5S2R4"},{"$f":"CONCATENATE($B$54,VLOOKUP(G$57,$G$60:$H$67,2,FALSE),$G$54)","v":"M5S3R4"},{"$f":"CONCATENATE($B$54,VLOOKUP(G$58,$G$60:$H$67,2,FALSE),$G$54)","v":"M5S4R4"}]
[1,{"$f":"IF(+Eing.Allg..Daten!$D$8<>\"\",+VLOOKUP(A6,Bahnen!$A$52:$B$144,2,0),\"\")","v":"Gerade Bahn ohne Hindernis"},null,null,null,null,null,{"$f":"SUM(D6:G6)","v":0},null,null,null,null,null,{"$f":"SUM(J6:M6)","v":0},null,null,null,null,null,{"$f":"SUM(P6:S6)","v":0},null,null,null,null,null,{"$f":"SUM(V6:Y6)","v":0},null,{"$f":"+H6+N6+T6+Z6+H32+N32++T32+Z32-AP6","v":0},null,null,null,null,null,null,null,null,null,null,null,null,null,{"$f":"IF($AT$1=6,SUM(AQ6:AR6,AU6:AV6,AY6:AZ6,BC6:BD6),IF($AT$1=5,SUM(AQ6:AS6,AU6:AW6,AY6:BA6,BC6:BE6),IF($AT$1=4,SUM(AQ6:AT6,AU6:AX6,AY6:BB6,BC6:BF6))))","v":0},{"$f":"(IF(ISNA(HLOOKUP(AQ$5,$D$2:$Z$23,5,FALSE))=TRUE,0,HLOOKUP(AQ$5,$D$2:$Z$23,5,FALSE)))+(IF(ISNA(HLOOKUP(AQ$5,$D$28:$Z$49,5,FALSE))=TRUE,0,HLOOKUP(AQ$5,$D$28:$Z$49,5,FALSE)))","v":0},0,0,0,0,0,0,0,0,0,0,0,0,0,0,0]
[2,{"$f":"IF(+Eing.Allg..Daten!$D$8<>\"\",+VLOOKUP(A7,Bahnen!$A$52:$B$144,2,0),\"\")","v":"Salto"},null,{"$f":"IF(D$6>0,Eing.Allg..Daten!$D$9,0)","v":0},{"$f":"IF(E$6>0,Eing.Allg..Daten!$D$9,0)","v":0},{"$f":"IF(F$6>0,Eing.Allg..Daten!$D$9,0)","v":0},{"$f":"IF(G$6>0,Eing.Allg..Daten!$D$9,0)","v":0},0,null,{"$f":"IF(J$6>0,Eing.Allg..Daten!$D$9,0)","v":0},{"$f":"IF(K$6>0,Eing.Allg..Daten!$D$9,0)","v":0},{"$f":"IF(L$6>0,Eing.Allg..Daten!$D$9,0)","v":0},{"$f":"IF(M$6>0,Eing.Allg..Daten!$D$9,0)","v":0},0,null,{"$f":"IF(P$6>0,Eing.Allg..Daten!$D$9,0)","v":0},{"$f":"IF(Q$6>0,Eing.Allg..Daten!$D$9,0)","v":0},{"$f":"IF(R$6>0,Eing.Allg..Daten!$D$9,0)","v":0},{"$f":"IF(S$6>0,Eing.Allg..Daten!$D$9,0)","v":0},0,null,{"$f":"IF(V$6>0,Eing.Allg..Daten!$D$9,0)","v":0},{"$f":"IF(W$6>0,Eing.Allg..Daten!$D$9,0)","v":0},{"$f":"IF(X$6>0,Eing.Allg..Daten!$D$9,0)","v":0},{"$f":"IF(Y$6>0,Eing.Allg..Daten!$D$9,0)","v":0},0,null,0,null,null,null,null,null,null,null,null,null,null,null,null,null,{"$f":"IF($AT$1=6,SUM(AQ7:AR7,AU7:AV7,AY7:AZ7,BC7:BD7),IF($AT$1=5,SUM(AQ7:AS7,AU7:AW7,AY7:BA7,BC7:BE7),IF($AT$1=4,SUM(AQ7:AT7,AU7:AX7,AY7:BB7,BC7:BF7))))","v":0},{"$f":"(IF(ISNA(HLOOKUP(AQ$5,$D$2:$Z$23,6,FALSE))=TRUE,0,HLOOKUP(AQ$5,$D$2:$Z$23,6,FALSE)))+(IF(ISNA(HLOOKUP(AQ$5,$D$28:$Z$49,6,FALSE))=TRUE,0,HLOOKUP(AQ$5,$D$28:$Z$49,6,FALSE)))","v":0},0,0,0,0,0,0,0,0,0,0,0,0,0,0,0]
[3,{"$f":"IF(+Eing.Allg..Daten!$D$8<>\"\",+VLOOKUP(A8,Bahnen!$A$52:$B$144,2,0),\"\")","v":"Pyramiden"},null,{"$f":"IF(D$6>0,Eing.Allg..Daten!$D$9,0)","v":0},{"$f":"IF(E$6>0,Eing.Allg..Daten!$D$9,0)","v":0},{"$f":"IF(F$6>0,Eing.Allg..Daten!$D$9,0)","v":0},{"$f":"IF(G$6>0,Eing.Allg..Daten!$D$9,0)","v":0},0,null,{"$f":"IF(J$6>0,Eing.Allg..Daten!$D$9,0)","v":0},{"$f":"IF(K$6>0,Eing.Allg..Daten!$D$9,0)","v":0},{"$f":"IF(L$6>0,Eing.Allg..Daten!$D$9,0)","v":0},{"$f":"IF(M$6>0,Eing.Allg..Daten!$D$9,0)","v":0},0,null,{"$f":"IF(P$6>0,Eing.Allg..Daten!$D$9,0)","v":0},{"$f":"IF(Q$6>0,Eing.Allg..Daten!$D$9,0)","v":0},{"$f":"IF(R$6>0,Eing.Allg..Daten!$D$9,0)","v":0},{"$f":"IF(S$6>0,Eing.Allg..Daten!$D$9,0)","v":0},0,null,{"$f":"IF(V$6>0,Eing.Allg..Daten!$D$9,0)","v":0},{"$f":"IF(W$6>0,Eing.Allg..Daten!$D$9,0)","v":0},{"$f":"IF(X$6>0,Eing.Allg..Daten!$D$9,0)","v":0},{"$f":"IF(Y$6>0,Eing.Allg..Daten!$D$9,0)","v":0},0,null,0,null,null,null,null,null,null,null,null,null,null,null,null,null,0,{"$f":"(IF(ISNA(HLOOKUP(AQ$5,$D$2:$Z$23,7,FALSE))=TRUE,0,HLOOKUP(AQ$5,$D$2:$Z$23,7,FALSE)))+(IF(ISNA(HLOOKUP(AQ$5,$D$28:$Z$49,7,FALSE))=TRUE,0,HLOOKUP(AQ$5,$D$28:$Z$49,7,FALSE)))","v":0},0,0,0,0,0,0,0,0,0,0,0,0,0,0,0]
[4,{"$f":"IF(+Eing.Allg..Daten!$D$8<>\"\",+VLOOKUP(A9,Bahnen!$A$52:$B$144,2,0),\"\")","v":"Mittelhügel"},null,{"$f":"IF(D$6>0,Eing.Allg..Daten!$D$9,0)","v":0},{"$f":"IF(E$6>0,Eing.Allg..Daten!$D$9,0)","v":0},{"$f":"IF(F$6>0,Eing.Allg..Daten!$D$9,0)","v":0},{"$f":"IF(G$6>0,Eing.Allg..Daten!$D$9,0)","v":0},0,null,{"$f":"IF(J$6>0,Eing.Allg..Daten!$D$9,0)","v":0},{"$f":"IF(K$6>0,Eing.Allg..Daten!$D$9,0)","v":0},{"$f":"IF(L$6>0,Eing.Allg..Daten!$D$9,0)","v":0},{"$f":"IF(M$6>0,Eing.Allg..Daten!$D$9,0)","v":0},0,null,{"$f":"IF(P$6>0,Eing.Allg..Daten!$D$9,0)","v":0},{"$f":"IF(Q$6>0,Eing.Allg..Daten!$D$9,0)","v":0},{"$f":"IF(R$6>0,Eing.Allg..Daten!$D$9,0)","v":0},{"$f":"IF(S$6>0,Eing.Allg..Daten!$D$9,0)","v":0},0,null,{"$f":"IF(V$6>0,Eing.Allg..Daten!$D$9,0)","v":0},{"$f":"IF(W$6>0,Eing.Allg..Daten!$D$9,0)","v":0},{"$f":"IF(X$6>0,Eing.Allg..Daten!$D$9,0)","v":0},{"$f":"IF(Y$6>0,Eing.Allg..Daten!$D$9,0)","v":0},0,null,0,null,null,null,null,null,null,null,null,null,null,null,null,null,0,{"$f":"(IF(ISNA(HLOOKUP(AQ$5,$D$2:$Z$23,8,FALSE))=TRUE,0,HLOOKUP(AQ$5,$D$2:$Z$23,8,FALSE)))+(IF(ISNA(HLOOKUP(AQ$5,$D$28:$Z$49,8,FALSE))=TRUE,0,HLOOKUP(AQ$5,$D$28:$Z$49,8,FALSE)))","v":0},0,0,0,0,0,0,0,0,0,0,0,0,0,0,0]
[5,{"$f":"IF(+Eing.Allg..Daten!$D$8<>\"\",+VLOOKUP(A10,Bahnen!$A$52:$B$144,2,0),\"\")","v":"\"V\" - Hindernis"},null,{"$f":"IF(D$6>0,Eing.Allg..Daten!$D$9,0)","v":0},{"$f":"IF(E$6>0,Eing.Allg..Daten!$D$9,0)","v":0},{"$f":"IF(F$6>0,Eing.Allg..Daten!$D$9,0)","v":0},{"$f":"IF(G$6>0,Eing.Allg..Daten!$D$9,0)","v":0},0,null,{"$f":"IF(J$6>0,Eing.Allg..Daten!$D$9,0)","v":0},{"$f":"IF(K$6>0,Eing.Allg..Daten!$D$9,0)","v":0},{"$f":"IF(L$6>0,Eing.Allg..Daten!$D$9,0)","v":0},{"$f":"IF(M$6>0,Eing.Allg..Daten!$D$9,0)","v":0},0,null,{"$f":"IF(P$6>0,Eing.Allg..Daten!$D$9,0)","v":0},{"$f":"IF(Q$6>0,Eing.Allg..Daten!$D$9,0)","v":0},{"$f":"IF(R$6>0,Eing.Allg..Daten!$D$9,0)","v":0},{"$f":"IF(S$6>0,Eing.Allg..Daten!$D$9,0)","v":0},0,null,{"$f":"IF(V$6>0,Eing.Allg..Daten!$D$9,0)","v":0},{"$f":"IF(W$6>0,Eing.Allg..Daten!$D$9,0)","v":0},{"$f":"IF(X$6>0,Eing.Allg..Daten!$D$9,0)","v":0},{"$f":"IF(Y$6>0,Eing.Allg..Daten!$D$9,0)","v":0},0,null,0,null,null,null,null,null,null,null,null,null,null,null,null,null,0,{"$f":"(IF(ISNA(HLOOKUP(AQ$5,$D$2:$Z$23,9,FALSE))=TRUE,0,HLOOKUP(AQ$5,$D$2:$Z$23,9,FALSE)))+(IF(ISNA(HLOOKUP(AQ$5,$D$28:$Z$49,9,FALSE))=TRUE,0,HLOOKUP(AQ$5,$D$28:$Z$49,9,FALSE)))","v":0},0,0,0,0,0,0,0,0,0,0,0,0,0,0,0]
[6,{"$f":"IF(+Eing.Allg..Daten!$D$8<>\"\",+VLOOKUP(A11,Bahnen!$A$52:$B$144,2,0),\"\")","v":"Doppelwellen"},null,{"$f":"IF(D$6>0,Eing.Allg..Daten!$D$9,0)","v":0},{"$f":"IF(E$6>0,Eing.Allg..Daten!$D$9,0)","v":0},{"$f":"IF(F$6>0,Eing.Allg..Daten!$D$9,0)","v":0},{"$f":"IF(G$6>0,Eing.Allg..Daten!$D$9,0)","v":0},0,null,{"$f":"IF(J$6>0,Eing.Allg..Daten!$D$9,0)","v":0},{"$f":"IF(K$6>0,Eing.Allg..Daten!$D$9,0)","v":0},{"$f":"IF(L$6>0,Eing.Allg..Daten!$D$9,0)","v":0},{"$f":"IF(M$6>0,Eing.Allg..Daten!$D$9,0)","v":0},0,null,{"$f":"IF(P$6>0,Eing.Allg..Daten!$D$9,0)","v":0},{"$f":"IF(Q$6>0,Eing.Allg..Daten!$D$9,0)","v":0},{"$f":"IF(R$6>0,Eing.Allg..Daten!$D$9,0)","v":0},{"$f":"IF(S$6>0,Eing.Allg..Daten!$D$9,0)","v":0},0,null,{"$f":"IF(V$6>0,Eing.Allg..Daten!$D$9,0)","v":0},{"$f":"IF(W$6>0,Eing.Allg..Daten!$D$9,0)","v":0},{"$f":"IF(X$6>0,Eing.Allg..Daten!$D$9,0)","v":0},{"$f":"IF(Y$6>0,Eing.Allg..Daten!$D$9,0)","v":0},0,null,0,null,null,null,null,null,null,null,null,null,null,null,null,null,0,{"$f":"(IF(ISNA(HLOOKUP(AQ$5,$D$2:$Z$23,10,FALSE))=TRUE,0,HLOOKUP(AQ$5,$D$2:$Z$23,10,FALSE)))+(IF(ISNA(HLOOKUP(AQ$5,$D$28:$Z$49,10,FALSE))=TRUE,0,HLOOKUP(AQ$5,$D$28:$Z$49,10,FALSE)))","v":0},0,0,0,0,0,0,0,0,0,0,0,0,0,0,0]
[7,{"$f":"IF(+Eing.Allg..Daten!$D$8<>\"\",+VLOOKUP(A12,Bahnen!$A$52:$B$144,2,0),\"\")","v":"Rohr"},null,{"$f":"IF(D$6>0,Eing.Allg..Daten!$D$9,0)","v":0},{"$f":"IF(E$6>0,Eing.Allg..Daten!$D$9,0)","v":0},{"$f":"IF(F$6>0,Eing.Allg..Daten!$D$9,0)","v":0},{"$f":"IF(G$6>0,Eing.Allg..Daten!$D$9,0)","v":0},0,null,{"$f":"IF(J$6>0,Eing.Allg..Daten!$D$9,0)","v":0},{"$f":"IF(K$6>0,Eing.Allg..Daten!$D$9,0)","v":0},{"$f":"IF(L$6>0,Eing.Allg..Daten!$D$9,0)","v":0},{"$f":"IF(M$6>0,Eing.Allg..Daten!$D$9,0)","v":0},0,null,{"$f":"IF(P$6>0,Eing.Allg..Daten!$D$9,0)","v":0},{"$f":"IF(Q$6>0,Eing.Allg..Daten!$D$9,0)","v":0},{"$f":"IF(R$6>0,Eing.Allg..Daten!$D$9,0)","v":0},{"$f":"IF(S$6>0,Eing.Allg..Daten!$D$9,0)","v":0},0,null,{"$f":"IF(V$6>0,Eing.Allg..Daten!$D$9,0)","v":0},{"$f":"IF(W$6>0,Eing.Allg..Daten!$D$9,0)","v":0},{"$f":"IF(X$6>0,Eing.Allg..Daten!$D$9,0)","v":0},{"$f":"IF(Y$6>0,Eing.Allg..Daten!$D$9,0)","v":0},0,null,0,null,null,null,null,null,null,null,null,null,null,null,null,null,0,{"$f":"(IF(ISNA(HLOOKUP(AQ$5,$D$2:$Z$23,11,FALSE))=TRUE,0,HLOOKUP(AQ$5,$D$2:$Z$23,11,FALSE)))+(IF(ISNA(HLOOKUP(AQ$5,$D$28:$Z$49,11,FALSE))=TRUE,0,HLOOKUP(AQ$5,$D$28:$Z$49,11,FALSE)))","v":0},0,0,0,0,0,0,0,0,0,0,0,0,0,0,0]
[8,{"$f":"IF(+Eing.Allg..Daten!$D$8<>\"\",+VLOOKUP(A13,Bahnen!$A$52:$B$144,2,0),\"\")","v":"Passagen"},null,{"$f":"IF(D$6>0,Eing.Allg..Daten!$D$9,0)","v":0},{"$f":"IF(E$6>0,Eing.Allg..Daten!$D$9,0)","v":0},{"$f":"IF(F$6>0,Eing.Allg..Daten!$D$9,0)","v":0},{"$f":"IF(G$6>0,Eing.Allg..Daten!$D$9,0)","v":0},0,null,{"$f":"IF(J$6>0,Eing.Allg..Daten!$D$9,0)","v":0},{"$f":"IF(K$6>0,Eing.Allg..Daten!$D$9,0)","v":0},{"$f":"IF(L$6>0,Eing.Allg..Daten!$D$9,0)","v":0},{"$f":"IF(M$6>0,Eing.Allg..Daten!$D$9,0)","v":0},0,null,{"$f":"IF(P$6>0,Eing.Allg..Daten!$D$9,0)","v":0},{"$f":"IF(Q$6>0,Eing.Allg..Daten!$D$9,0)","v":0},{"$f":"IF(R$6>0,Eing.Allg..Daten!$D$9,0)","v":0},{"$f":"IF(S$6>0,Eing.Allg..Daten!$D$9,0)","v":0},0,null,{"$f":"IF(V$6>0,Eing.Allg..Daten!$D$9,0)","v":0},{"$f":"IF(W$6>0,Eing.Allg..Daten!$D$9,0)","v":0},{"$f":"IF(X$6>0,Eing.Allg..Daten!$D$9,0)","v":0},{"$f":"IF(Y$6>0,Eing.Allg..Daten!$D$9,0)","v":0},0,null,0,null,null,null,null,null,null,null,{"$f":"+'Ma1'!$D$1","v":"MGC Bad Homburg 1"},null,null,null,null,null,0,{"$f":"(IF(ISNA(HLOOKUP(AQ$5,$D$2:$Z$23,12,FALSE))=TRUE,0,HLOOKUP(AQ$5,$D$2:$Z$23,12,FALSE)))+(IF(ISNA(HLOOKUP(AQ$5,$D$28:$Z$49,12,FALSE))=TRUE,0,HLOOKUP(AQ$5,$D$28:$Z$49,12,FALSE)))","v":0},0,0,0,0,0,0,0,0,0,0,0,0,0,0,0]
[9,{"$f":"IF(+Eing.Allg..Daten!$D$8<>\"\",+VLOOKUP(A14,Bahnen!$A$52:$B$144,2,0),\"\")","v":"Liegende Schleife"},null,{"$f":"IF(D$6>0,Eing.Allg..Daten!$D$9,0)","v":0},{"$f":"IF(E$6>0,Eing.Allg..Daten!$D$9,0)","v":0},{"$f":"IF(F$6>0,Eing.Allg..Daten!$D$9,0)","v":0},{"$f":"IF(G$6>0,Eing.Allg..Daten!$D$9,0)","v":0},0,null,{"$f":"IF(J$6>0,Eing.Allg..Daten!$D$9,0)","v":0},{"$f":"IF(K$6>0,Eing.Allg..Daten!$D$9,0)","v":0},{"$f":"IF(L$6>0,Eing.Allg..Daten!$D$9,0)","v":0},{"$f":"IF(M$6>0,Eing.Allg..Daten!$D$9,0)","v":0},0,null,{"$f":"IF(P$6>0,Eing.Allg..Daten!$D$9,0)","v":0},{"$f":"IF(Q$6>0,Eing.Allg..Daten!$D$9,0)","v":0},{"$f":"IF(R$6>0,Eing.Allg..Daten!$D$9,0)","v":0},{"$f":"IF(S$6>0,Eing.Allg..Daten!$D$9,0)","v":0},0,null,{"$f":"IF(V$6>0,Eing.Allg..Daten!$D$9,0)","v":0},{"$f":"IF(W$6>0,Eing.Allg..Daten!$D$9,0)","v":0},{"$f":"IF(X$6>0,Eing.Allg..Daten!$D$9,0)","v":0},{"$f":"IF(Y$6>0,Eing.Allg..Daten!$D$9,0)","v":0},0,null,0,null,null,null,null,null,null,null,null,null,null,null,null,null,0,{"$f":"(IF(ISNA(HLOOKUP(AQ$5,$D$2:$Z$23,13,FALSE))=TRUE,0,HLOOKUP(AQ$5,$D$2:$Z$23,13,FALSE)))+(IF(ISNA(HLOOKUP(AQ$5,$D$28:$Z$49,13,FALSE))=TRUE,0,HLOOKUP(AQ$5,$D$28:$Z$49,13,FALSE)))","v":0},0,0,0,0,0,0,0,0,0,0,0,0,0,0,0]
[10,{"$f":"IF(+Eing.Allg..Daten!$D$8<>\"\",+VLOOKUP(A15,Bahnen!$A$52:$B$144,2,0),\"\")","v":"Winkel"},null,{"$f":"IF(D$6>0,Eing.Allg..Daten!$D$9,0)","v":0},{"$f":"IF(E$6>0,Eing.Allg..Daten!$D$9,0)","v":0},{"$f":"IF(F$6>0,Eing.Allg..Daten!$D$9,0)","v":0},{"$f":"IF(G$6>0,Eing.Allg..Daten!$D$9,0)","v":0},0,null,{"$f":"IF(J$6>0,Eing.Allg..Daten!$D$9,0)","v":0},{"$f":"IF(K$6>0,Eing.Allg..Daten!$D$9,0)","v":0},{"$f":"IF(L$6>0,Eing.Allg..Daten!$D$9,0)","v":0},{"$f":"IF(M$6>0,Eing.Allg..Daten!$D$9,0)","v":0},0,null,{"$f":"IF(P$6>0,Eing.Allg..Daten!$D$9,0)","v":0},{"$f":"IF(Q$6>0,Eing.Allg..Daten!$D$9,0)","v":0},{"$f":"IF(R$6>0,Eing.Allg..Daten!$D$9,0)","v":0},{"$f":"IF(S$6>0,Eing.Allg..Daten!$D$9,0)","v":0},0,null,{"$f":"IF(V$6>0,Eing.Allg..Daten!$D$9,0)","v":0},{"$f":"IF(W$6>0,Eing.Allg..Daten!$D$9,0)","v":0},{"$f":"IF(X$6>0,Eing.Allg..Daten!$D$9,0)","v":0},{"$f":"IF(Y$6>0,Eing.Allg..Daten!$D$9,0)","v":0},0,null,0,null,null,null,null,null,null,null,{"$f":"+'Ma2'!$D$1","v":"SG Arheilgen 3"},null,null,null,null,null,0,{"$f":"(IF(ISNA(HLOOKUP(AQ$5,$D$2:$Z$23,14,FALSE))=TRUE,0,HLOOKUP(AQ$5,$D$2:$Z$23,14,FALSE)))+(IF(ISNA(HLOOKUP(AQ$5,$D$28:$Z$49,14,FALSE))=TRUE,0,HLOOKUP(AQ$5,$D$28:$Z$49,14,FALSE)))","v":0},0,0,0,0,0,0,0,0,0,0,0,0,0,0,0]
[11,{"$f":"IF(+Eing.Allg..Daten!$D$8<>\"\",+VLOOKUP(A16,Bahnen!$A$52:$B$144,2,0),\"\")","v":"Netz"},null,{"$f":"IF(D$6>0,Eing.Allg..Daten!$D$9,0)","v":0},{"$f":"IF(E$6>0,Eing.Allg..Daten!$D$9,0)","v":0},{"$f":"IF(F$6>0,Eing.Allg..Daten!$D$9,0)","v":0},{"$f":"IF(G$6>0,Eing.Allg..Daten!$D$9,0)","v":0},0,null,{"$f":"IF(J$6>0,Eing.Allg..Daten!$D$9,0)","v":0},{"$f":"IF(K$6>0,Eing.Allg..Daten!$D$9,0)","v":0},{"$f":"IF(L$6>0,Eing.Allg..Daten!$D$9,0)","v":0},{"$f":"IF(M$6>0,Eing.Allg..Daten!$D$9,0)","v":0},0,null,{"$f":"IF(P$6>0,Eing.Allg..Daten!$D$9,0)","v":0},{"$f":"IF(Q$6>0,Eing.Allg..Daten!$D$9,0)","v":0},{"$f":"IF(R$6>0,Eing.Allg..Daten!$D$9,0)","v":0},{"$f":"IF(S$6>0,Eing.Allg..Daten!$D$9,0)","v":0},0,null,{"$f":"IF(V$6>0,Eing.Allg..Daten!$D$9,0)","v":0},{"$f":"IF(W$6>0,Eing.Allg..Daten!$D$9,0)","v":0},{"$f":"IF(X$6>0,Eing.Allg..Daten!$D$9,0)","v":0},{"$f":"IF(Y$6>0,Eing.Allg..Daten!$D$9,0)","v":0},0,null,0,null,null,null,null,null,null,null,null,null,null,null,null,null,0,{"$f":"(IF(ISNA(HLOOKUP(AQ$5,$D$2:$Z$23,15,FALSE))=TRUE,0,HLOOKUP(AQ$5,$D$2:$Z$23,15,FALSE)))+(IF(ISNA(HLOOKUP(AQ$5,$D$28:$Z$49,15,FALSE))=TRUE,0,HLOOKUP(AQ$5,$D$28:$Z$49,15,FALSE)))","v":0},0,0,0,0,0,0,0,0,0,0,0,0,0,0,0]
[12,{"$f":"IF(+Eing.Allg..Daten!$D$8<>\"\",+VLOOKUP(A17,Bahnen!$A$52:$B$144,2,0),\"\")","v":"Doppelkeile"},null,{"$f":"IF(D$6>0,Eing.Allg..Daten!$D$9,0)","v":0},{"$f":"IF(E$6>0,Eing.Allg..Daten!$D$9,0)","v":0},{"$f":"IF(F$6>0,Eing.Allg..Daten!$D$9,0)","v":0},{"$f":"IF(G$6>0,Eing.Allg..Daten!$D$9,0)","v":0},0,null,{"$f":"IF(J$6>0,Eing.Allg..Daten!$D$9,0)","v":0},{"$f":"IF(K$6>0,Eing.Allg..Daten!$D$9,0)","v":0},{"$f":"IF(L$6>0,Eing.Allg..Daten!$D$9,0)","v":0},{"$f":"IF(M$6>0,Eing.Allg..Daten!$D$9,0)","v":0},0,null,{"$f":"IF(P$6>0,Eing.Allg..Daten!$D$9,0)","v":0},{"$f":"IF(Q$6>0,Eing.Allg..Daten!$D$9,0)","v":0},{"$f":"IF(R$6>0,Eing.Allg..Daten!$D$9,0)","v":0},{"$f":"IF(S$6>0,Eing.Allg..Daten!$D$9,0)","v":0},0,null,{"$f":"IF(V$6>0,Eing.Allg..Daten!$D$9,0)","v":0},{"$f":"IF(W$6>0,Eing.Allg..Daten!$D$9,0)","v":0},{"$f":"IF(X$6>0,Eing.Allg..Daten!$D$9,0)","v":0},{"$f":"IF(Y$6>0,Eing.Allg..Daten!$D$9,0)","v":0},0,null,0,null,null,null,null,null,null,null,{"$f":"+'Ma3'!$D$1","v":"MGC Kahler Sandhasen"},null,null,null,null,null,0,{"$f":"(IF(ISNA(HLOOKUP(AQ$5,$D$2:$Z$23,16,FALSE))=TRUE,0,HLOOKUP(AQ$5,$D$2:$Z$23,16,FALSE)))+(IF(ISNA(HLOOKUP(AQ$5,$D$28:$Z$49,16,FALSE))=TRUE,0,HLOOKUP(AQ$5,$D$28:$Z$49,16,FALSE)))","v":0},0,0,0,0,0,0,0,0,0,0,0,0,0,0,0]
[13,{"$f":"IF(+Eing.Allg..Daten!$D$8<>\"\",+VLOOKUP(A18,Bahnen!$A$52:$B$144,2,0),\"\")","v":"Stumpfe Kegel"},null,{"$f":"IF(D$6>0,Eing.Allg..Daten!$D$9,0)","v":0},{"$f":"IF(E$6>0,Eing.Allg..Daten!$D$9,0)","v":0},{"$f":"IF(F$6>0,Eing.Allg..Daten!$D$9,0)","v":0},{"$f":"IF(G$6>0,Eing.Allg..Daten!$D$9,0)","v":0},0,null,{"$f":"IF(J$6>0,Eing.Allg..Daten!$D$9,0)","v":0},{"$f":"IF(K$6>0,Eing.Allg..Daten!$D$9,0)","v":0},{"$f":"IF(L$6>0,Eing.Allg..Daten!$D$9,0)","v":0},{"$f":"IF(M$6>0,Eing.Allg..Daten!$D$9,0)","v":0},0,null,{"$f":"IF(P$6>0,Eing.Allg..Daten!$D$9,0)","v":0},{"$f":"IF(Q$6>0,Eing.Allg..Daten!$D$9,0)","v":0},{"$f":"IF(R$6>0,Eing.Allg..Daten!$D$9,0)","v":0},{"$f":"IF(S$6>0,Eing.Allg..Daten!$D$9,0)","v":0},0,null,{"$f":"IF(V$6>0,Eing.Allg..Daten!$D$9,0)","v":0},{"$f":"IF(W$6>0,Eing.Allg..Daten!$D$9,0)","v":0},{"$f":"IF(X$6>0,Eing.Allg..Daten!$D$9,0)","v":0},{"$f":"IF(Y$6>0,Eing.Allg..Daten!$D$9,0)","v":0},0,null,0,null,null,null,null,null,null,null,null,null,null,null,null,null,0,{"$f":"(IF(ISNA(HLOOKUP(AQ$5,$D$2:$Z$23,17,FALSE))=TRUE,0,HLOOKUP(AQ$5,$D$2:$Z$23,17,FALSE)))+(IF(ISNA(HLOOKUP(AQ$5,$D$28:$Z$49,17,FALSE))=TRUE,0,HLOOKUP(AQ$5,$D$28:$Z$49,17,FALSE)))","v":0},0,0,0,0,0,0,0,0,0,0,0,0,0,0,0]
[14,{"$f":"IF(+Eing.Allg..Daten!$D$8<>\"\",+VLOOKUP(A19,Bahnen!$A$52:$B$144,2,0),\"\")","v":"Schrägerkreis mit Niere"},null,{"$f":"IF(D$6>0,Eing.Allg..Daten!$D$9,0)","v":0},{"$f":"IF(E$6>0,Eing.Allg..Daten!$D$9,0)","v":0},{"$f":"IF(F$6>0,Eing.Allg..Daten!$D$9,0)","v":0},{"$f":"IF(G$6>0,Eing.Allg..Daten!$D$9,0)","v":0},0,null,{"$f":"IF(J$6>0,Eing.Allg..Daten!$D$9,0)","v":0},{"$f":"IF(K$6>0,Eing.Allg..Daten!$D$9,0)","v":0},{"$f":"IF(L$6>0,Eing.Allg..Daten!$D$9,0)","v":0},{"$f":"IF(M$6>0,Eing.Allg..Daten!$D$9,0)","v":0},0,null,{"$f":"IF(P$6>0,Eing.Allg..Daten!$D$9,0)","v":0},{"$f":"IF(Q$6>0,Eing.Allg..Daten!$D$9,0)","v":0},{"$f":"IF(R$6>0,Eing.Allg..Daten!$D$9,0)","v":0},{"$f":"IF(S$6>0,Eing.Allg..Daten!$D$9,0)","v":0},0,null,{"$f":"IF(V$6>0,Eing.Allg..Daten!$D$9,0)","v":0},{"$f":"IF(W$6>0,Eing.Allg..Daten!$D$9,0)","v":0},{"$f":"IF(X$6>0,Eing.Allg..Daten!$D$9,0)","v":0},{"$f":"IF(Y$6>0,Eing.Allg..Daten!$D$9,0)","v":0},0,null,0,null,null,null,null,null,null,null,{"$f":"+'Ma4'!$D$1","v":"SG Weiterstadt"},null,null,null,null,null,0,{"$f":"(IF(ISNA(HLOOKUP(AQ$5,$D$2:$Z$23,18,FALSE))=TRUE,0,HLOOKUP(AQ$5,$D$2:$Z$23,18,FALSE)))+(IF(ISNA(HLOOKUP(AQ$5,$D$28:$Z$49,18,FALSE))=TRUE,0,HLOOKUP(AQ$5,$D$28:$Z$49,18,FALSE)))","v":0},0,0,0,0,0,0,0,0,0,0,0,0,0,0,0]
[15,{"$f":"IF(+Eing.Allg..Daten!$D$8<>\"\",+VLOOKUP(A20,Bahnen!$A$52:$B$144,2,0),\"\")","v":"Brücke"},null,{"$f":"IF(D$6>0,Eing.Allg..Daten!$D$9,0)","v":0},{"$f":"IF(E$6>0,Eing.Allg..Daten!$D$9,0)","v":0},{"$f":"IF(F$6>0,Eing.Allg..Daten!$D$9,0)","v":0},{"$f":"IF(G$6>0,Eing.Allg..Daten!$D$9,0)","v":0},0,null,{"$f":"IF(J$6>0,Eing.Allg..Daten!$D$9,0)","v":0},{"$f":"IF(K$6>0,Eing.Allg..Daten!$D$9,0)","v":0},{"$f":"IF(L$6>0,Eing.Allg..Daten!$D$9,0)","v":0},{"$f":"IF(M$6>0,Eing.Allg..Daten!$D$9,0)","v":0},0,null,{"$f":"IF(P$6>0,Eing.Allg..Daten!$D$9,0)","v":0},{"$f":"IF(Q$6>0,Eing.Allg..Daten!$D$9,0)","v":0},{"$f":"IF(R$6>0,Eing.Allg..Daten!$D$9,0)","v":0},{"$f":"IF(S$6>0,Eing.Allg..Daten!$D$9,0)","v":0},0,null,{"$f":"IF(V$6>0,Eing.Allg..Daten!$D$9,0)","v":0},{"$f":"IF(W$6>0,Eing.Allg..Daten!$D$9,0)","v":0},{"$f":"IF(X$6>0,Eing.Allg..Daten!$D$9,0)","v":0},{"$f":"IF(Y$6>0,Eing.Allg..Daten!$D$9,0)","v":0},0,null,0,null,null,null,null,null,null,null,null,null,null,null,null,null,0,{"$f":"(IF(ISNA(HLOOKUP(AQ$5,$D$2:$Z$23,19,FALSE))=TRUE,0,HLOOKUP(AQ$5,$D$2:$Z$23,19,FALSE)))+(IF(ISNA(HLOOKUP(AQ$5,$D$28:$Z$49,19,FALSE))=TRUE,0,HLOOKUP(AQ$5,$D$28:$Z$49,19,FALSE)))","v":0},0,0,0,0,0,0,0,0,0,0,0,0,0,0,0]
[16,{"$f":"IF(+Eing.Allg..Daten!$D$8<>\"\",+VLOOKUP(A21,Bahnen!$A$52:$B$144,2,0),\"\")","v":"Vulkan"},null,{"$f":"IF(D$6>0,Eing.Allg..Daten!$D$9,0)","v":0},{"$f":"IF(E$6>0,Eing.Allg..Daten!$D$9,0)","v":0},{"$f":"IF(F$6>0,Eing.Allg..Daten!$D$9,0)","v":0},{"$f":"IF(G$6>0,Eing.Allg..Daten!$D$9,0)","v":0},0,null,{"$f":"IF(J$6>0,Eing.Allg..Daten!$D$9,0)","v":0},{"$f":"IF(K$6>0,Eing.Allg..Daten!$D$9,0)","v":0},{"$f":"IF(L$6>0,Eing.Allg..Daten!$D$9,0)","v":0},{"$f":"IF(M$6>0,Eing.Allg..Daten!$D$9,0)","v":0},0,null,{"$f":"IF(P$6>0,Eing.Allg..Daten!$D$9,0)","v":0},{"$f":"IF(Q$6>0,Eing.Allg..Daten!$D$9,0)","v":0},{"$f":"IF(R$6>0,Eing.Allg..Daten!$D$9,0)","v":0},{"$f":"IF(S$6>0,Eing.Allg..Daten!$D$9,0)","v":0},0,null,{"$f":"IF(V$6>0,Eing.Allg..Daten!$D$9,0)","v":0},{"$f":"IF(W$6>0,Eing.Allg..Daten!$D$9,0)","v":0},{"$f":"IF(X$6>0,Eing.Allg..Daten!$D$9,0)","v":0},{"$f":"IF(Y$6>0,Eing.Allg..Daten!$D$9,0)","v":0},0,null,0,null,null,null,null,null,null,null,{"$f":"+'Ma5'!$D$1","v":"MGC Bad Homburg 2"},null,null,null,null,null,0,{"$f":"(IF(ISNA(HLOOKUP(AQ$5,$D$2:$Z$23,20,FALSE))=TRUE,0,HLOOKUP(AQ$5,$D$2:$Z$23,20,FALSE)))+(IF(ISNA(HLOOKUP(AQ$5,$D$28:$Z$49,20,FALSE))=TRUE,0,HLOOKUP(AQ$5,$D$28:$Z$49,20,FALSE)))","v":0},0,0,0,0,0,0,0,0,0,0,0,0,0,0,0]
[17,{"$f":"IF(+Eing.Allg..Daten!$D$8<>\"\",+VLOOKUP(A22,Bahnen!$A$52:$B$144,2,0),\"\")","v":"Auflaufkeil mit Zielfenster"},null,{"$f":"IF(D$6>0,Eing.Allg..Daten!$D$9,0)","v":0},{"$f":"IF(E$6>0,Eing.Allg..Daten!$D$9,0)","v":0},{"$f":"IF(F$6>0,Eing.Allg..Daten!$D$9,0)","v":0},{"$f":"IF(G$6>0,Eing.Allg..Daten!$D$9,0)","v":0},0,null,{"$f":"IF(J$6>0,Eing.Allg..Daten!$D$9,0)","v":0},{"$f":"IF(K$6>0,Eing.Allg..Daten!$D$9,0)","v":0},{"$f":"IF(L$6>0,Eing.Allg..Daten!$D$9,0)","v":0},{"$f":"IF(M$6>0,Eing.Allg..Daten!$D$9,0)","v":0},0,null,{"$f":"IF(P$6>0,Eing.Allg..Daten!$D$9,0)","v":0},{"$f":"IF(Q$6>0,Eing.Allg..Daten!$D$9,0)","v":0},{"$f":"IF(R$6>0,Eing.Allg..Daten!$D$9,0)","v":0},{"$f":"IF(S$6>0,Eing.Allg..Daten!$D$9,0)","v":0},0,null,{"$f":"IF(V$6>0,Eing.Allg..Daten!$D$9,0)","v":0},{"$f":"IF(W$6>0,Eing.Allg..Daten!$D$9,0)","v":0},{"$f":"IF(X$6>0,Eing.Allg..Daten!$D$9,0)","v":0},{"$f":"IF(Y$6>0,Eing.Allg..Daten!$D$9,0)","v":0},0,null,0,null,null,null,null,null,null,null,null,null,null,null,null,null,0,{"$f":"(IF(ISNA(HLOOKUP(AQ$5,$D$2:$Z$23,21,FALSE))=TRUE,0,HLOOKUP(AQ$5,$D$2:$Z$23,21,FALSE)))+(IF(ISNA(HLOOKUP(AQ$5,$D$28:$Z$49,21,FALSE))=TRUE,0,HLOOKUP(AQ$5,$D$28:$Z$49,21,FALSE)))","v":0},0,0,0,0,0,0,0,0,0,0,0,0,0,0,0]
[18,{"$f":"IF(+Eing.Allg..Daten!$D$8<>\"\",+VLOOKUP(A23,Bahnen!$A$52:$B$144,2,0),\"\")","v":"Blitz"},null,{"$f":"IF(D$6>0,Eing.Allg..Daten!$D$9,0)","v":0},{"$f":"IF(E$6>0,Eing.Allg..Daten!$D$9,0)","v":0},{"$f":"IF(F$6>0,Eing.Allg..Daten!$D$9,0)","v":0},{"$f":"IF(G$6>0,Eing.Allg..Daten!$D$9,0)","v":0},0,null,{"$f":"IF(J$6>0,Eing.Allg..Daten!$D$9,0)","v":0},{"$f":"IF(K$6>0,Eing.Allg..Daten!$D$9,0)","v":0},{"$f":"IF(L$6>0,Eing.Allg..Daten!$D$9,0)","v":0},{"$f":"IF(M$6>0,Eing.Allg..Daten!$D$9,0)","v":0},0,null,{"$f":"IF(P$6>0,Eing.Allg..Daten!$D$9,0)","v":0},{"$f":"IF(Q$6>0,Eing.Allg..Daten!$D$9,0)","v":0},{"$f":"IF(R$6>0,Eing.Allg..Daten!$D$9,0)","v":0},{"$f":"IF(S$6>0,Eing.Allg..Daten!$D$9,0)","v":0},0,null,{"$f":"IF(V$6>0,Eing.Allg..Daten!$D$9,0)","v":0},{"$f":"IF(W$6>0,Eing.Allg..Daten!$D$9,0)","v":0},{"$f":"IF(X$6>0,Eing.Allg..Daten!$D$9,0)","v":0},{"$f":"IF(Y$6>0,Eing.Allg..Daten!$D$9,0)","v":0},0,null,0,null,null,null,null,null,null,null,{"$f":"+'Ma6'!$D$1","v":"SV Dreieichenhain"},null,null,null,null,null,0,{"$f":"(IF(ISNA(HLOOKUP(AQ$5,$D$2:$Z$23,22,FALSE))=TRUE,0,HLOOKUP(AQ$5,$D$2:$Z$23,22,FALSE)))+(IF(ISNA(HLOOKUP(AQ$5,$D$28:$Z$49,22,FALSE))=TRUE,0,HLOOKUP(AQ$5,$D$28:$Z$49,22,FALSE)))","v":0},0,0,0,0,0,0,0,0,0,0,0,0,0,0,0]
[null,"Strafpunkte",null,null,null,null,null,0,null,null,null,null,null,0,null,null,null,null,null,0,null,null,null,null,null,0]
[null,null,null,{"$f":"IF(D23<>0,SUM(D6:D24),999)","v":999},{"$f":"IF(E23<>0,SUM(E6:E24),999)","v":999},{"$f":"IF(F23<>0,SUM(F6:F24),999)","v":999},{"$f":"IF(G23<>0,SUM(G6:G24),999)","v":999},{"$f":"SUM(H6:H24)","v":0},null,{"$f":"IF(J23<>0,SUM(J6:J24),999)","v":999},{"$f":"IF(K23<>0,SUM(K6:K24),999)","v":999},{"$f":"IF(L23<>0,SUM(L6:L24),999)","v":999},{"$f":"IF(M23<>0,SUM(M6:M24),999)","v":999},{"$f":"SUM(N6:N24)","v":0},null,{"$f":"IF(P23<>0,SUM(P6:P24),999)","v":999},{"$f":"IF(Q23<>0,SUM(Q6:Q24),999)","v":999},{"$f":"IF(R23<>0,SUM(R6:R24),999)","v":999},{"$f":"IF(S23<>0,SUM(S6:S24),999)","v":999},{"$f":"SUM(T6:T24)","v":0},null,{"$f":"IF(V23<>0,SUM(V6:V24),999)","v":999},{"$f":"IF(W23<>0,SUM(W6:W24),999)","v":999},{"$f":"IF(X23<>0,SUM(X6:X24),999)","v":999},{"$f":"IF(Y23<>0,SUM(Y6:Y24),999)","v":999},{"$f":"SUM(Z6:Z24)","v":0},null,{"$f":"SUM(AB6:AB23)","v":0},null,null,null,null,null,null,null,{"$f":"+'Ma7'!$D$1","v":"MGC Heringen"},null,null,null,null,null,null,{"$f":"SUM(AQ6:AQ24)","v":0},0,0,0,0,0,0,0,0,0,0,0,0,0,0,0]
[null,null,null,{"$f":"SUM(D25:G25)","v":3996},null,null,null,null,null,{"$f":"SUM(J25:M25)","v":3996},null,null,null,null,null,{"$f":"SUM(P25:S25)","v":3996},null,null,null,null,null,{"$f":"SUM(V25:Y25)","v":3996}]
[null,null,null,{"$f":"IF(D6=0,\"DNS\",IF(D23=0,\"DNF\",1))","v":"DNS"},{"$f":"IF(E6=0,\"DNS\",IF(E23=0,\"DNF\",1))","v":"DNS"},{"$f":"IF(F6=0,\"DNS\",IF(F23=0,\"DNF\",1))","v":"DNS"},{"$f":"IF(G6=0,\"DNS\",IF(G23=0,\"DNF\",1))","v":"DNS"},{"$f":"IF(SUM(D27:G27)=Tagestabelle!$N$3,\"FIN\",\"DNF\")","v":"FIN"},null,{"$f":"IF(J6=0,\"DNS\",IF(J23=0,\"DNF\",1))","v":"DNS"},{"$f":"IF(K6=0,\"DNS\",IF(K23=0,\"DNF\",1))","v":"DNS"},{"$f":"IF(L6=0,\"DNS\",IF(L23=0,\"DNF\",1))","v":"DNS"},{"$f":"IF(M6=0,\"DNS\",IF(M23=0,\"DNF\",1))","v":"DNS"},{"$f":"IF(SUM(J27:M27)=Tagestabelle!$N$3,\"FIN\",\"DNF\")","v":"FIN"},null,{"$f":"IF(P6=0,\"DNS\",IF(P23=0,\"DNF\",1))","v":"DNS"},{"$f":"IF(Q6=0,\"DNS\",IF(Q23=0,\"DNF\",1))","v":"DNS"},{"$f":"IF(R6=0,\"DNS\",IF(R23=0,\"DNF\",1))","v":"DNS"},{"$f":"IF(S6=0,\"DNS\",IF(S23=0,\"DNF\",1))","v":"DNS"},{"$f":"IF(SUM(P27:S27)=Tagestabelle!$N$3,\"FIN\",\"DNF\")","v":"FIN"},null,{"$f":"IF(V6=0,\"DNS\",IF(V23=0,\"DNF\",1))","v":"DNS"},{"$f":"IF(W6=0,\"DNS\",IF(W23=0,\"DNF\",1))","v":"DNS"},{"$f":"IF(X6=0,\"DNS\",IF(X23=0,\"DNF\",1))","v":"DNS"},{"$f":"IF(Y6=0,\"DNS\",IF(Y23=0,\"DNF\",1))","v":"DNS"},{"$f":"IF(SUM(V27:Y27)=Tagestabelle!$N$3,\"FIN\",\"DNF\")","v":"FIN"},6]
[null,null,null,"M5S5R1","M5S5R2","M5S5R3","M5S5R4",null,null,"M5S6R1","M5S6R2","M5S6R3","M5S6R4",null,null,"M5S7R1","M5S7R2","M5S7R3","M5S7R4",null,null,"M5S8R1","M5S8R2","M5S8R3","M5S8R4"]
[null,null,null,"Spieler 5",null,null,null,"Kat.",null,"Spieler 6",null,null,null,"Kat.",null,"Spieler 7",null,null,null,"Kat.",null,"Spieler 8",null,null,null,"Kat.",null,"Zus. Einzelsp.",null,null,null,"Kat."]
["Bahn  ",null,null,{"$f":"+M5S5","v":{"$error":"#N/A"}},null,null,null,{"$f":"+M5S5Kat","v":{"$error":"#N/A"}},null,{"$f":"+M5S6","v":{"$error":"#N/A"}},null,null,null,{"$f":"+M5S6Kat","v":{"$error":"#N/A"}},null,{"$f":"M5S7","v":{"$error":"#N/A"}},null,null,null,{"$f":"+M5S7Kat","v":{"$error":"#N/A"}},null,{"$f":"M5S8","v":{"$error":"#N/A"}},null,null,null,{"$f":"+M5S8Kat","v":{"$error":"#N/A"}},null,{"$f":"M5SAK","v":{"$error":"#N/A"}},null,null,null,{"$f":"+M5SAKKat","v":{"$error":"#N/A"}}]
["Nr.","Bez. ",null,{"$f":"+M5S5p","v":0},null,null,null,null,null,{"$f":"+M5S6p","v":0},null,null,null,null,null,{"$f":"+M5S7p","v":0},null,null,null,null,null,{"$f":"+M5S8p","v":0},null,null,null,null,null,{"$f":"+M5SAKp","v":0}]
[1,{"$f":"IF(+Eing.Allg..Daten!$D$8<>\"\",+VLOOKUP(A32,Bahnen!$A$52:$B$144,2,0),\"\")","v":"Gerade Bahn ohne Hindernis"},null,null,null,null,null,{"$f":"SUM(D32:G32)","v":0},null,null,null,null,null,{"$f":"SUM(J32:M32)","v":0},null,null,null,null,null,{"$f":"SUM(P32:S32)","v":0},null,null,null,null,null,{"$f":"SUM(V32:Y32)","v":0},null,null,null,null,null,{"$f":"SUM(AB32:AE32)","v":0}]
[2,{"$f":"IF(+Eing.Allg..Daten!$D$8<>\"\",+VLOOKUP(A33,Bahnen!$A$52:$B$144,2,0),\"\")","v":"Salto"},null,{"$f":"IF(D$32>0,Eing.Allg..Daten!$D$9,0)","v":0},{"$f":"IF(E$32>0,Eing.Allg..Daten!$D$9,0)","v":0},{"$f":"IF(F$32>0,Eing.Allg..Daten!$D$9,0)","v":0},{"$f":"IF(G$32>0,Eing.Allg..Daten!$D$9,0)","v":0},0,null,{"$f":"IF(J$32>0,Eing.Allg..Daten!$D$9,0)","v":0},{"$f":"IF(K$32>0,Eing.Allg..Daten!$D$9,0)","v":0},{"$f":"IF(L$32>0,Eing.Allg..Daten!$D$9,0)","v":0},{"$f":"IF(M$32>0,Eing.Allg..Daten!$D$9,0)","v":0},0,null,{"$f":"IF(P$32>0,Eing.Allg..Daten!$D$9,0)","v":0},{"$f":"IF(Q$32>0,Eing.Allg..Daten!$D$9,0)","v":0},{"$f":"IF(R$32>0,Eing.Allg..Daten!$D$9,0)","v":0},{"$f":"IF(S$32>0,Eing.Allg..Daten!$D$9,0)","v":0},0,null,{"$f":"IF(V$32>0,Eing.Allg..Daten!$D$9,0)","v":0},{"$f":"IF(W$32>0,Eing.Allg..Daten!$D$9,0)","v":0},{"$f":"IF(X$32>0,Eing.Allg..Daten!$D$9,0)","v":0},{"$f":"IF(Y$32>0,Eing.Allg..Daten!$D$9,0)","v":0},0,null,{"$f":"IF(AB$32>0,Eing.Allg..Daten!$D$9,0)","v":0},{"$f":"IF(AC$32>0,Eing.Allg..Daten!$D$9,0)","v":0},{"$f":"IF(AD$32>0,Eing.Allg..Daten!$D$9,0)","v":0},{"$f":"IF(AE$32>0,Eing.Allg..Daten!$D$9,0)","v":0},0]
[3,{"$f":"IF(+Eing.Allg..Daten!$D$8<>\"\",+VLOOKUP(A34,Bahnen!$A$52:$B$144,2,0),\"\")","v":"Pyramiden"},null,{"$f":"IF(D$32>0,Eing.Allg..Daten!$D$9,0)","v":0},{"$f":"IF(E$32>0,Eing.Allg..Daten!$D$9,0)","v":0},{"$f":"IF(F$32>0,Eing.Allg..Daten!$D$9,0)","v":0},{"$f":"IF(G$32>0,Eing.Allg..Daten!$D$9,0)","v":0},0,null,{"$f":"IF(J$32>0,Eing.Allg..Daten!$D$9,0)","v":0},{"$f":"IF(K$32>0,Eing.Allg..Daten!$D$9,0)","v":0},{"$f":"IF(L$32>0,Eing.Allg..Daten!$D$9,0)","v":0},{"$f":"IF(M$32>0,Eing.Allg..Daten!$D$9,0)","v":0},0,null,{"$f":"IF(P$32>0,Eing.Allg..Daten!$D$9,0)","v":0},{"$f":"IF(Q$32>0,Eing.Allg..Daten!$D$9,0)","v":0},{"$f":"IF(R$32>0,Eing.Allg..Daten!$D$9,0)","v":0},{"$f":"IF(S$32>0,Eing.Allg..Daten!$D$9,0)","v":0},0,null,{"$f":"IF(V$32>0,Eing.Allg..Daten!$D$9,0)","v":0},{"$f":"IF(W$32>0,Eing.Allg..Daten!$D$9,0)","v":0},{"$f":"IF(X$32>0,Eing.Allg..Daten!$D$9,0)","v":0},{"$f":"IF(Y$32>0,Eing.Allg..Daten!$D$9,0)","v":0},0,null,{"$f":"IF(AB$32>0,Eing.Allg..Daten!$D$9,0)","v":0},{"$f":"IF(AC$32>0,Eing.Allg..Daten!$D$9,0)","v":0},{"$f":"IF(AD$32>0,Eing.Allg..Daten!$D$9,0)","v":0},{"$f":"IF(AE$32>0,Eing.Allg..Daten!$D$9,0)","v":0},0]
[4,{"$f":"IF(+Eing.Allg..Daten!$D$8<>\"\",+VLOOKUP(A35,Bahnen!$A$52:$B$144,2,0),\"\")","v":"Mittelhügel"},null,{"$f":"IF(D$32>0,Eing.Allg..Daten!$D$9,0)","v":0},{"$f":"IF(E$32>0,Eing.Allg..Daten!$D$9,0)","v":0},{"$f":"IF(F$32>0,Eing.Allg..Daten!$D$9,0)","v":0},{"$f":"IF(G$32>0,Eing.Allg..Daten!$D$9,0)","v":0},0,null,{"$f":"IF(J$32>0,Eing.Allg..Daten!$D$9,0)","v":0},{"$f":"IF(K$32>0,Eing.Allg..Daten!$D$9,0)","v":0},{"$f":"IF(L$32>0,Eing.Allg..Daten!$D$9,0)","v":0},{"$f":"IF(M$32>0,Eing.Allg..Daten!$D$9,0)","v":0},0,null,{"$f":"IF(P$32>0,Eing.Allg..Daten!$D$9,0)","v":0},{"$f":"IF(Q$32>0,Eing.Allg..Daten!$D$9,0)","v":0},{"$f":"IF(R$32>0,Eing.Allg..Daten!$D$9,0)","v":0},{"$f":"IF(S$32>0,Eing.Allg..Daten!$D$9,0)","v":0},0,null,{"$f":"IF(V$32>0,Eing.Allg..Daten!$D$9,0)","v":0},{"$f":"IF(W$32>0,Eing.Allg..Daten!$D$9,0)","v":0},{"$f":"IF(X$32>0,Eing.Allg..Daten!$D$9,0)","v":0},{"$f":"IF(Y$32>0,Eing.Allg..Daten!$D$9,0)","v":0},0,null,{"$f":"IF(AB$32>0,Eing.Allg..Daten!$D$9,0)","v":0},{"$f":"IF(AC$32>0,Eing.Allg..Daten!$D$9,0)","v":0},{"$f":"IF(AD$32>0,Eing.Allg..Daten!$D$9,0)","v":0},{"$f":"IF(AE$32>0,Eing.Allg..Daten!$D$9,0)","v":0},0]
[5,{"$f":"IF(+Eing.Allg..Daten!$D$8<>\"\",+VLOOKUP(A36,Bahnen!$A$52:$B$144,2,0),\"\")","v":"\"V\" - Hindernis"},null,{"$f":"IF(D$32>0,Eing.Allg..Daten!$D$9,0)","v":0},{"$f":"IF(E$32>0,Eing.Allg..Daten!$D$9,0)","v":0},{"$f":"IF(F$32>0,Eing.Allg..Daten!$D$9,0)","v":0},{"$f":"IF(G$32>0,Eing.Allg..Daten!$D$9,0)","v":0},0,null,{"$f":"IF(J$32>0,Eing.Allg..Daten!$D$9,0)","v":0},{"$f":"IF(K$32>0,Eing.Allg..Daten!$D$9,0)","v":0},{"$f":"IF(L$32>0,Eing.Allg..Daten!$D$9,0)","v":0},{"$f":"IF(M$32>0,Eing.Allg..Daten!$D$9,0)","v":0},0,null,{"$f":"IF(P$32>0,Eing.Allg..Daten!$D$9,0)","v":0},{"$f":"IF(Q$32>0,Eing.Allg..Daten!$D$9,0)","v":0},{"$f":"IF(R$32>0,Eing.Allg..Daten!$D$9,0)","v":0},{"$f":"IF(S$32>0,Eing.Allg..Daten!$D$9,0)","v":0},0,null,{"$f":"IF(V$32>0,Eing.Allg..Daten!$D$9,0)","v":0},{"$f":"IF(W$32>0,Eing.Allg..Daten!$D$9,0)","v":0},{"$f":"IF(X$32>0,Eing.Allg..Daten!$D$9,0)","v":0},{"$f":"IF(Y$32>0,Eing.Allg..Daten!$D$9,0)","v":0},0,null,{"$f":"IF(AB$32>0,Eing.Allg..Daten!$D$9,0)","v":0},{"$f":"IF(AC$32>0,Eing.Allg..Daten!$D$9,0)","v":0},{"$f":"IF(AD$32>0,Eing.Allg..Daten!$D$9,0)","v":0},{"$f":"IF(AE$32>0,Eing.Allg..Daten!$D$9,0)","v":0},0]
[6,{"$f":"IF(+Eing.Allg..Daten!$D$8<>\"\",+VLOOKUP(A37,Bahnen!$A$52:$B$144,2,0),\"\")","v":"Doppelwellen"},null,{"$f":"IF(D$32>0,Eing.Allg..Daten!$D$9,0)","v":0},{"$f":"IF(E$32>0,Eing.Allg..Daten!$D$9,0)","v":0},{"$f":"IF(F$32>0,Eing.Allg..Daten!$D$9,0)","v":0},{"$f":"IF(G$32>0,Eing.Allg..Daten!$D$9,0)","v":0},0,null,{"$f":"IF(J$32>0,Eing.Allg..Daten!$D$9,0)","v":0},{"$f":"IF(K$32>0,Eing.Allg..Daten!$D$9,0)","v":0},{"$f":"IF(L$32>0,Eing.Allg..Daten!$D$9,0)","v":0},{"$f":"IF(M$32>0,Eing.Allg..Daten!$D$9,0)","v":0},0,null,{"$f":"IF(P$32>0,Eing.Allg..Daten!$D$9,0)","v":0},{"$f":"IF(Q$32>0,Eing.Allg..Daten!$D$9,0)","v":0},{"$f":"IF(R$32>0,Eing.Allg..Daten!$D$9,0)","v":0},{"$f":"IF(S$32>0,Eing.Allg..Daten!$D$9,0)","v":0},0,null,{"$f":"IF(V$32>0,Eing.Allg..Daten!$D$9,0)","v":0},{"$f":"IF(W$32>0,Eing.Allg..Daten!$D$9,0)","v":0},{"$f":"IF(X$32>0,Eing.Allg..Daten!$D$9,0)","v":0},{"$f":"IF(Y$32>0,Eing.Allg..Daten!$D$9,0)","v":0},0,null,{"$f":"IF(AB$32>0,Eing.Allg..Daten!$D$9,0)","v":0},{"$f":"IF(AC$32>0,Eing.Allg..Daten!$D$9,0)","v":0},{"$f":"IF(AD$32>0,Eing.Allg..Daten!$D$9,0)","v":0},{"$f":"IF(AE$32>0,Eing.Allg..Daten!$D$9,0)","v":0},0]
[7,{"$f":"IF(+Eing.Allg..Daten!$D$8<>\"\",+VLOOKUP(A38,Bahnen!$A$52:$B$144,2,0),\"\")","v":"Rohr"},null,{"$f":"IF(D$32>0,Eing.Allg..Daten!$D$9,0)","v":0},{"$f":"IF(E$32>0,Eing.Allg..Daten!$D$9,0)","v":0},{"$f":"IF(F$32>0,Eing.Allg..Daten!$D$9,0)","v":0},{"$f":"IF(G$32>0,Eing.Allg..Daten!$D$9,0)","v":0},0,null,{"$f":"IF(J$32>0,Eing.Allg..Daten!$D$9,0)","v":0},{"$f":"IF(K$32>0,Eing.Allg..Daten!$D$9,0)","v":0},{"$f":"IF(L$32>0,Eing.Allg..Daten!$D$9,0)","v":0},{"$f":"IF(M$32>0,Eing.Allg..Daten!$D$9,0)","v":0},0,null,{"$f":"IF(P$32>0,Eing.Allg..Daten!$D$9,0)","v":0},{"$f":"IF(Q$32>0,Eing.Allg..Daten!$D$9,0)","v":0},{"$f":"IF(R$32>0,Eing.Allg..Daten!$D$9,0)","v":0},{"$f":"IF(S$32>0,Eing.Allg..Daten!$D$9,0)","v":0},0,null,{"$f":"IF(V$32>0,Eing.Allg..Daten!$D$9,0)","v":0},{"$f":"IF(W$32>0,Eing.Allg..Daten!$D$9,0)","v":0},{"$f":"IF(X$32>0,Eing.Allg..Daten!$D$9,0)","v":0},{"$f":"IF(Y$32>0,Eing.Allg..Daten!$D$9,0)","v":0},0,null,{"$f":"IF(AB$32>0,Eing.Allg..Daten!$D$9,0)","v":0},{"$f":"IF(AC$32>0,Eing.Allg..Daten!$D$9,0)","v":0},{"$f":"IF(AD$32>0,Eing.Allg..Daten!$D$9,0)","v":0},{"$f":"IF(AE$32>0,Eing.Allg..Daten!$D$9,0)","v":0},0]
[8,{"$f":"IF(+Eing.Allg..Daten!$D$8<>\"\",+VLOOKUP(A39,Bahnen!$A$52:$B$144,2,0),\"\")","v":"Passagen"},null,{"$f":"IF(D$32>0,Eing.Allg..Daten!$D$9,0)","v":0},{"$f":"IF(E$32>0,Eing.Allg..Daten!$D$9,0)","v":0},{"$f":"IF(F$32>0,Eing.Allg..Daten!$D$9,0)","v":0},{"$f":"IF(G$32>0,Eing.Allg..Daten!$D$9,0)","v":0},0,null,{"$f":"IF(J$32>0,Eing.Allg..Daten!$D$9,0)","v":0},{"$f":"IF(K$32>0,Eing.Allg..Daten!$D$9,0)","v":0},{"$f":"IF(L$32>0,Eing.Allg..Daten!$D$9,0)","v":0},{"$f":"IF(M$32>0,Eing.Allg..Daten!$D$9,0)","v":0},0,null,{"$f":"IF(P$32>0,Eing.Allg..Daten!$D$9,0)","v":0},{"$f":"IF(Q$32>0,Eing.Allg..Daten!$D$9,0)","v":0},{"$f":"IF(R$32>0,Eing.Allg..Daten!$D$9,0)","v":0},{"$f":"IF(S$32>0,Eing.Allg..Daten!$D$9,0)","v":0},0,null,{"$f":"IF(V$32>0,Eing.Allg..Daten!$D$9,0)","v":0},{"$f":"IF(W$32>0,Eing.Allg..Daten!$D$9,0)","v":0},{"$f":"IF(X$32>0,Eing.Allg..Daten!$D$9,0)","v":0},{"$f":"IF(Y$32>0,Eing.Allg..Daten!$D$9,0)","v":0},0,null,{"$f":"IF(AB$32>0,Eing.Allg..Daten!$D$9,0)","v":0},{"$f":"IF(AC$32>0,Eing.Allg..Daten!$D$9,0)","v":0},{"$f":"IF(AD$32>0,Eing.Allg..Daten!$D$9,0)","v":0},{"$f":"IF(AE$32>0,Eing.Allg..Daten!$D$9,0)","v":0},0]
[9,{"$f":"IF(+Eing.Allg..Daten!$D$8<>\"\",+VLOOKUP(A40,Bahnen!$A$52:$B$144,2,0),\"\")","v":"Liegende Schleife"},null,{"$f":"IF(D$32>0,Eing.Allg..Daten!$D$9,0)","v":0},{"$f":"IF(E$32>0,Eing.Allg..Daten!$D$9,0)","v":0},{"$f":"IF(F$32>0,Eing.Allg..Daten!$D$9,0)","v":0},{"$f":"IF(G$32>0,Eing.Allg..Daten!$D$9,0)","v":0},0,null,{"$f":"IF(J$32>0,Eing.Allg..Daten!$D$9,0)","v":0},{"$f":"IF(K$32>0,Eing.Allg..Daten!$D$9,0)","v":0},{"$f":"IF(L$32>0,Eing.Allg..Daten!$D$9,0)","v":0},{"$f":"IF(M$32>0,Eing.Allg..Daten!$D$9,0)","v":0},0,null,{"$f":"IF(P$32>0,Eing.Allg..Daten!$D$9,0)","v":0},{"$f":"IF(Q$32>0,Eing.Allg..Daten!$D$9,0)","v":0},{"$f":"IF(R$32>0,Eing.Allg..Daten!$D$9,0)","v":0},{"$f":"IF(S$32>0,Eing.Allg..Daten!$D$9,0)","v":0},0,null,{"$f":"IF(V$32>0,Eing.Allg..Daten!$D$9,0)","v":0},{"$f":"IF(W$32>0,Eing.Allg..Daten!$D$9,0)","v":0},{"$f":"IF(X$32>0,Eing.Allg..Daten!$D$9,0)","v":0},{"$f":"IF(Y$32>0,Eing.Allg..Daten!$D$9,0)","v":0},0,null,{"$f":"IF(AB$32>0,Eing.Allg..Daten!$D$9,0)","v":0},{"$f":"IF(AC$32>0,Eing.Allg..Daten!$D$9,0)","v":0},{"$f":"IF(AD$32>0,Eing.Allg..Daten!$D$9,0)","v":0},{"$f":"IF(AE$32>0,Eing.Allg..Daten!$D$9,0)","v":0},0]
[10,{"$f":"IF(+Eing.Allg..Daten!$D$8<>\"\",+VLOOKUP(A41,Bahnen!$A$52:$B$144,2,0),\"\")","v":"Winkel"},null,{"$f":"IF(D$32>0,Eing.Allg..Daten!$D$9,0)","v":0},{"$f":"IF(E$32>0,Eing.Allg..Daten!$D$9,0)","v":0},{"$f":"IF(F$32>0,Eing.Allg..Daten!$D$9,0)","v":0},{"$f":"IF(G$32>0,Eing.Allg..Daten!$D$9,0)","v":0},0,null,{"$f":"IF(J$32>0,Eing.Allg..Daten!$D$9,0)","v":0},{"$f":"IF(K$32>0,Eing.Allg..Daten!$D$9,0)","v":0},{"$f":"IF(L$32>0,Eing.Allg..Daten!$D$9,0)","v":0},{"$f":"IF(M$32>0,Eing.Allg..Daten!$D$9,0)","v":0},0,null,{"$f":"IF(P$32>0,Eing.Allg..Daten!$D$9,0)","v":0},{"$f":"IF(Q$32>0,Eing.Allg..Daten!$D$9,0)","v":0},{"$f":"IF(R$32>0,Eing.Allg..Daten!$D$9,0)","v":0},{"$f":"IF(S$32>0,Eing.Allg..Daten!$D$9,0)","v":0},0,null,{"$f":"IF(V$32>0,Eing.Allg..Daten!$D$9,0)","v":0},{"$f":"IF(W$32>0,Eing.Allg..Daten!$D$9,0)","v":0},{"$f":"IF(X$32>0,Eing.Allg..Daten!$D$9,0)","v":0},{"$f":"IF(Y$32>0,Eing.Allg..Daten!$D$9,0)","v":0},0,null,{"$f":"IF(AB$32>0,Eing.Allg..Daten!$D$9,0)","v":0},{"$f":"IF(AC$32>0,Eing.Allg..Daten!$D$9,0)","v":0},{"$f":"IF(AD$32>0,Eing.Allg..Daten!$D$9,0)","v":0},{"$f":"IF(AE$32>0,Eing.Allg..Daten!$D$9,0)","v":0},0]
[11,{"$f":"IF(+Eing.Allg..Daten!$D$8<>\"\",+VLOOKUP(A42,Bahnen!$A$52:$B$144,2,0),\"\")","v":"Netz"},null,{"$f":"IF(D$32>0,Eing.Allg..Daten!$D$9,0)","v":0},{"$f":"IF(E$32>0,Eing.Allg..Daten!$D$9,0)","v":0},{"$f":"IF(F$32>0,Eing.Allg..Daten!$D$9,0)","v":0},{"$f":"IF(G$32>0,Eing.Allg..Daten!$D$9,0)","v":0},0,null,{"$f":"IF(J$32>0,Eing.Allg..Daten!$D$9,0)","v":0},{"$f":"IF(K$32>0,Eing.Allg..Daten!$D$9,0)","v":0},{"$f":"IF(L$32>0,Eing.Allg..Daten!$D$9,0)","v":0},{"$f":"IF(M$32>0,Eing.Allg..Daten!$D$9,0)","v":0},0,null,{"$f":"IF(P$32>0,Eing.Allg..Daten!$D$9,0)","v":0},{"$f":"IF(Q$32>0,Eing.Allg..Daten!$D$9,0)","v":0},{"$f":"IF(R$32>0,Eing.Allg..Daten!$D$9,0)","v":0},{"$f":"IF(S$32>0,Eing.Allg..Daten!$D$9,0)","v":0},0,null,{"$f":"IF(V$32>0,Eing.Allg..Daten!$D$9,0)","v":0},{"$f":"IF(W$32>0,Eing.Allg..Daten!$D$9,0)","v":0},{"$f":"IF(X$32>0,Eing.Allg..Daten!$D$9,0)","v":0},{"$f":"IF(Y$32>0,Eing.Allg..Daten!$D$9,0)","v":0},0,null,{"$f":"IF(AB$32>0,Eing.Allg..Daten!$D$9,0)","v":0},{"$f":"IF(AC$32>0,Eing.Allg..Daten!$D$9,0)","v":0},{"$f":"IF(AD$32>0,Eing.Allg..Daten!$D$9,0)","v":0},{"$f":"IF(AE$32>0,Eing.Allg..Daten!$D$9,0)","v":0},0]
[12,{"$f":"IF(+Eing.Allg..Daten!$D$8<>\"\",+VLOOKUP(A43,Bahnen!$A$52:$B$144,2,0),\"\")","v":"Doppelkeile"},null,{"$f":"IF(D$32>0,Eing.Allg..Daten!$D$9,0)","v":0},{"$f":"IF(E$32>0,Eing.Allg..Daten!$D$9,0)","v":0},{"$f":"IF(F$32>0,Eing.Allg..Daten!$D$9,0)","v":0},{"$f":"IF(G$32>0,Eing.Allg..Daten!$D$9,0)","v":0},0,null,{"$f":"IF(J$32>0,Eing.Allg..Daten!$D$9,0)","v":0},{"$f":"IF(K$32>0,Eing.Allg..Daten!$D$9,0)","v":0},{"$f":"IF(L$32>0,Eing.Allg..Daten!$D$9,0)","v":0},{"$f":"IF(M$32>0,Eing.Allg..Daten!$D$9,0)","v":0},0,null,{"$f":"IF(P$32>0,Eing.Allg..Daten!$D$9,0)","v":0},{"$f":"IF(Q$32>0,Eing.Allg..Daten!$D$9,0)","v":0},{"$f":"IF(R$32>0,Eing.Allg..Daten!$D$9,0)","v":0},{"$f":"IF(S$32>0,Eing.Allg..Daten!$D$9,0)","v":0},0,null,{"$f":"IF(V$32>0,Eing.Allg..Daten!$D$9,0)","v":0},{"$f":"IF(W$32>0,Eing.Allg..Daten!$D$9,0)","v":0},{"$f":"IF(X$32>0,Eing.Allg..Daten!$D$9,0)","v":0},{"$f":"IF(Y$32>0,Eing.Allg..Daten!$D$9,0)","v":0},0,null,{"$f":"IF(AB$32>0,Eing.Allg..Daten!$D$9,0)","v":0},{"$f":"IF(AC$32>0,Eing.Allg..Daten!$D$9,0)","v":0},{"$f":"IF(AD$32>0,Eing.Allg..Daten!$D$9,0)","v":0},{"$f":"IF(AE$32>0,Eing.Allg..Daten!$D$9,0)","v":0},0]
[13,{"$f":"IF(+Eing.Allg..Daten!$D$8<>\"\",+VLOOKUP(A44,Bahnen!$A$52:$B$144,2,0),\"\")","v":"Stumpfe Kegel"},null,{"$f":"IF(D$32>0,Eing.Allg..Daten!$D$9,0)","v":0},{"$f":"IF(E$32>0,Eing.Allg..Daten!$D$9,0)","v":0},{"$f":"IF(F$32>0,Eing.Allg..Daten!$D$9,0)","v":0},{"$f":"IF(G$32>0,Eing.Allg..Daten!$D$9,0)","v":0},0,null,{"$f":"IF(J$32>0,Eing.Allg..Daten!$D$9,0)","v":0},{"$f":"IF(K$32>0,Eing.Allg..Daten!$D$9,0)","v":0},{"$f":"IF(L$32>0,Eing.Allg..Daten!$D$9,0)","v":0},{"$f":"IF(M$32>0,Eing.Allg..Daten!$D$9,0)","v":0},0,null,{"$f":"IF(P$32>0,Eing.Allg..Daten!$D$9,0)","v":0},{"$f":"IF(Q$32>0,Eing.Allg..Daten!$D$9,0)","v":0},{"$f":"IF(R$32>0,Eing.Allg..Daten!$D$9,0)","v":0},{"$f":"IF(S$32>0,Eing.Allg..Daten!$D$9,0)","v":0},0,null,{"$f":"IF(V$32>0,Eing.Allg..Daten!$D$9,0)","v":0},{"$f":"IF(W$32>0,Eing.Allg..Daten!$D$9,0)","v":0},{"$f":"IF(X$32>0,Eing.Allg..Daten!$D$9,0)","v":0},{"$f":"IF(Y$32>0,Eing.Allg..Daten!$D$9,0)","v":0},0,null,{"$f":"IF(AB$32>0,Eing.Allg..Daten!$D$9,0)","v":0},{"$f":"IF(AC$32>0,Eing.Allg..Daten!$D$9,0)","v":0},{"$f":"IF(AD$32>0,Eing.Allg..Daten!$D$9,0)","v":0},{"$f":"IF(AE$32>0,Eing.Allg..Daten!$D$9,0)","v":0},0]
[14,{"$f":"IF(+Eing.Allg..Daten!$D$8<>\"\",+VLOOKUP(A45,Bahnen!$A$52:$B$144,2,0),\"\")","v":"Schrägerkreis mit Niere"},null,{"$f":"IF(D$32>0,Eing.Allg..Daten!$D$9,0)","v":0},{"$f":"IF(E$32>0,Eing.Allg..Daten!$D$9,0)","v":0},{"$f":"IF(F$32>0,Eing.Allg..Daten!$D$9,0)","v":0},{"$f":"IF(G$32>0,Eing.Allg..Daten!$D$9,0)","v":0},0,null,{"$f":"IF(J$32>0,Eing.Allg..Daten!$D$9,0)","v":0},{"$f":"IF(K$32>0,Eing.Allg..Daten!$D$9,0)","v":0},{"$f":"IF(L$32>0,Eing.Allg..Daten!$D$9,0)","v":0},{"$f":"IF(M$32>0,Eing.Allg..Daten!$D$9,0)","v":0},0,null,{"$f":"IF(P$32>0,Eing.Allg..Daten!$D$9,0)","v":0},{"$f":"IF(Q$32>0,Eing.Allg..Daten!$D$9,0)","v":0},{"$f":"IF(R$32>0,Eing.Allg..Daten!$D$9,0)","v":0},{"$f":"IF(S$32>0,Eing.Allg..Daten!$D$9,0)","v":0},0,null,{"$f":"IF(V$32>0,Eing.Allg..Daten!$D$9,0)","v":0},{"$f":"IF(W$32>0,Eing.Allg..Daten!$D$9,0)","v":0},{"$f":"IF(X$32>0,Eing.Allg..Daten!$D$9,0)","v":0},{"$f":"IF(Y$32>0,Eing.Allg..Daten!$D$9,0)","v":0},0,null,{"$f":"IF(AB$32>0,Eing.Allg..Daten!$D$9,0)","v":0},{"$f":"IF(AC$32>0,Eing.Allg..Daten!$D$9,0)","v":0},{"$f":"IF(AD$32>0,Eing.Allg..Daten!$D$9,0)","v":0},{"$f":"IF(AE$32>0,Eing.Allg..Daten!$D$9,0)","v":0},0]
[15,{"$f":"IF(+Eing.Allg..Daten!$D$8<>\"\",+VLOOKUP(A46,Bahnen!$A$52:$B$144,2,0),\"\")","v":"Brücke"},null,{"$f":"IF(D$32>0,Eing.Allg..Daten!$D$9,0)","v":0},{"$f":"IF(E$32>0,Eing.Allg..Daten!$D$9,0)","v":0},{"$f":"IF(F$32>0,Eing.Allg..Daten!$D$9,0)","v":0},{"$f":"IF(G$32>0,Eing.Allg..Daten!$D$9,0)","v":0},0,null,{"$f":"IF(J$32>0,Eing.Allg..Daten!$D$9,0)","v":0},{"$f":"IF(K$32>0,Eing.Allg..Daten!$D$9,0)","v":0},{"$f":"IF(L$32>0,Eing.Allg..Daten!$D$9,0)","v":0},{"$f":"IF(M$32>0,Eing.Allg..Daten!$D$9,0)","v":0},0,null,{"$f":"IF(P$32>0,Eing.Allg..Daten!$D$9,0)","v":0},{"$f":"IF(Q$32>0,Eing.Allg..Daten!$D$9,0)","v":0},{"$f":"IF(R$32>0,Eing.Allg..Daten!$D$9,0)","v":0},{"$f":"IF(S$32>0,Eing.Allg..Daten!$D$9,0)","v":0},0,null,{"$f":"IF(V$32>0,Eing.Allg..Daten!$D$9,0)","v":0},{"$f":"IF(W$32>0,Eing.Allg..Daten!$D$9,0)","v":0},{"$f":"IF(X$32>0,Eing.Allg..Daten!$D$9,0)","v":0},{"$f":"IF(Y$32>0,Eing.Allg..Daten!$D$9,0)","v":0},0,null,{"$f":"IF(AB$32>0,Eing.Allg..Daten!$D$9,0)","v":0},{"$f":"IF(AC$32>0,Eing.Allg..Daten!$D$9,0)","v":0},{"$f":"IF(AD$32>0,Eing.Allg..Daten!$D$9,0)","v":0},{"$f":"IF(AE$32>0,Eing.Allg..Daten!$D$9,0)","v":0},0]
[16,{"$f":"IF(+Eing.Allg..Daten!$D$8<>\"\",+VLOOKUP(A47,Bahnen!$A$52:$B$144,2,0),\"\")","v":"Vulkan"},null,{"$f":"IF(D$32>0,Eing.Allg..Daten!$D$9,0)","v":0},{"$f":"IF(E$32>0,Eing.Allg..Daten!$D$9,0)","v":0},{"$f":"IF(F$32>0,Eing.Allg..Daten!$D$9,0)","v":0},{"$f":"IF(G$32>0,Eing.Allg..Daten!$D$9,0)","v":0},0,null,{"$f":"IF(J$32>0,Eing.Allg..Daten!$D$9,0)","v":0},{"$f":"IF(K$32>0,Eing.Allg..Daten!$D$9,0)","v":0},{"$f":"IF(L$32>0,Eing.Allg..Daten!$D$9,0)","v":0},{"$f":"IF(M$32>0,Eing.Allg..Daten!$D$9,0)","v":0},0,null,{"$f":"IF(P$32>0,Eing.Allg..Daten!$D$9,0)","v":0},{"$f":"IF(Q$32>0,Eing.Allg..Daten!$D$9,0)","v":0},{"$f":"IF(R$32>0,Eing.Allg..Daten!$D$9,0)","v":0},{"$f":"IF(S$32>0,Eing.Allg..Daten!$D$9,0)","v":0},0,null,{"$f":"IF(V$32>0,Eing.Allg..Daten!$D$9,0)","v":0},{"$f":"IF(W$32>0,Eing.Allg..Daten!$D$9,0)","v":0},{"$f":"IF(X$32>0,Eing.Allg..Daten!$D$9,0)","v":0},{"$f":"IF(Y$32>0,Eing.Allg..Daten!$D$9,0)","v":0},0,null,{"$f":"IF(AB$32>0,Eing.Allg..Daten!$D$9,0)","v":0},{"$f":"IF(AC$32>0,Eing.Allg..Daten!$D$9,0)","v":0},{"$f":"IF(AD$32>0,Eing.Allg..Daten!$D$9,0)","v":0},{"$f":"IF(AE$32>0,Eing.Allg..Daten!$D$9,0)","v":0},0]
[17,{"$f":"IF(+Eing.Allg..Daten!$D$8<>\"\",+VLOOKUP(A48,Bahnen!$A$52:$B$144,2,0),\"\")","v":"Auflaufkeil mit Zielfenster"},null,{"$f":"IF(D$32>0,Eing.Allg..Daten!$D$9,0)","v":0},{"$f":"IF(E$32>0,Eing.Allg..Daten!$D$9,0)","v":0},{"$f":"IF(F$32>0,Eing.Allg..Daten!$D$9,0)","v":0},{"$f":"IF(G$32>0,Eing.Allg..Daten!$D$9,0)","v":0},0,null,{"$f":"IF(J$32>0,Eing.Allg..Daten!$D$9,0)","v":0},{"$f":"IF(K$32>0,Eing.Allg..Daten!$D$9,0)","v":0},{"$f":"IF(L$32>0,Eing.Allg..Daten!$D$9,0)","v":0},{"$f":"IF(M$32>0,Eing.Allg..Daten!$D$9,0)","v":0},0,null,{"$f":"IF(P$32>0,Eing.Allg..Daten!$D$9,0)","v":0},{"$f":"IF(Q$32>0,Eing.Allg..Daten!$D$9,0)","v":0},{"$f":"IF(R$32>0,Eing.Allg..Daten!$D$9,0)","v":0},{"$f":"IF(S$32>0,Eing.Allg..Daten!$D$9,0)","v":0},0,null,{"$f":"IF(V$32>0,Eing.Allg..Daten!$D$9,0)","v":0},{"$f":"IF(W$32>0,Eing.Allg..Daten!$D$9,0)","v":0},{"$f":"IF(X$32>0,Eing.Allg..Daten!$D$9,0)","v":0},{"$f":"IF(Y$32>0,Eing.Allg..Daten!$D$9,0)","v":0},0,null,{"$f":"IF(AB$32>0,Eing.Allg..Daten!$D$9,0)","v":0},{"$f":"IF(AC$32>0,Eing.Allg..Daten!$D$9,0)","v":0},{"$f":"IF(AD$32>0,Eing.Allg..Daten!$D$9,0)","v":0},{"$f":"IF(AE$32>0,Eing.Allg..Daten!$D$9,0)","v":0},0]
[18,{"$f":"IF(+Eing.Allg..Daten!$D$8<>\"\",+VLOOKUP(A49,Bahnen!$A$52:$B$144,2,0),\"\")","v":"Blitz"},null,{"$f":"IF(D$32>0,Eing.Allg..Daten!$D$9,0)","v":0},{"$f":"IF(E$32>0,Eing.Allg..Daten!$D$9,0)","v":0},{"$f":"IF(F$32>0,Eing.Allg..Daten!$D$9,0)","v":0},{"$f":"IF(G$32>0,Eing.Allg..Daten!$D$9,0)","v":0},0,null,{"$f":"IF(J$32>0,Eing.Allg..Daten!$D$9,0)","v":0},{"$f":"IF(K$32>0,Eing.Allg..Daten!$D$9,0)","v":0},{"$f":"IF(L$32>0,Eing.Allg..Daten!$D$9,0)","v":0},{"$f":"IF(M$32>0,Eing.Allg..Daten!$D$9,0)","v":0},0,null,{"$f":"IF(P$32>0,Eing.Allg..Daten!$D$9,0)","v":0},{"$f":"IF(Q$32>0,Eing.Allg..Daten!$D$9,0)","v":0},{"$f":"IF(R$32>0,Eing.Allg..Daten!$D$9,0)","v":0},{"$f":"IF(S$32>0,Eing.Allg..Daten!$D$9,0)","v":0},0,null,{"$f":"IF(V$32>0,Eing.Allg..Daten!$D$9,0)","v":0},{"$f":"IF(W$32>0,Eing.Allg..Daten!$D$9,0)","v":0},{"$f":"IF(X$32>0,Eing.Allg..Daten!$D$9,0)","v":0},{"$f":"IF(Y$32>0,Eing.Allg..Daten!$D$9,0)","v":0},0,null,{"$f":"IF(AB$32>0,Eing.Allg..Daten!$D$9,0)","v":0},{"$f":"IF(AC$32>0,Eing.Allg..Daten!$D$9,0)","v":0},{"$f":"IF(AD$32>0,Eing.Allg..Daten!$D$9,0)","v":0},{"$f":"IF(AE$32>0,Eing.Allg..Daten!$D$9,0)","v":0},0]
[null,"Strafpunkte",null,null,null,null,null,0,null,null,null,null,null,0,null,null,null,null,null,0,null,null,null,null,null,0,null,null,null,null,null,0]
[null,null,null,{"$f":"IF(D49<>0,SUM(D32:D50),999)","v":999},{"$f":"IF(E49<>0,SUM(E32:E50),999)","v":999},{"$f":"IF(F49<>0,SUM(F32:F50),999)","v":999},{"$f":"IF(G49<>0,SUM(G32:G50),999)","v":999},{"$f":"SUM(H32:H50)","v":0},null,{"$f":"IF(J49<>0,SUM(J32:J50),999)","v":999},{"$f":"IF(K49<>0,SUM(K32:K50),999)","v":999},{"$f":"IF(L49<>0,SUM(L32:L50),999)","v":999},{"$f":"IF(M49<>0,SUM(M32:M50),999)","v":999},{"$f":"SUM(N32:N50)","v":0},null,{"$f":"IF(P49<>0,SUM(P32:P50),999)","v":999},{"$f":"IF(Q49<>0,SUM(Q32:Q50),999)","v":999},{"$f":"IF(R49<>0,SUM(R32:R50),999)","v":999},{"$f":"IF(S49<>0,SUM(S32:S50),999)","v":999},{"$f":"SUM(T32:T50)","v":0},null,{"$f":"IF(V49<>0,SUM(V32:V50),999)","v":999},{"$f":"IF(W49<>0,SUM(W32:W50),999)","v":999},{"$f":"IF(X49<>0,SUM(X32:X50),999)","v":999},{"$f":"IF(Y49<>0,SUM(Y32:Y50),999)","v":999},{"$f":"SUM(Z32:Z50)","v":0},null,{"$f":"IF(AB49<>0,SUM(AB32:AB50),999)","v":999},{"$f":"IF(AC49<>0,SUM(AC32:AC50),999)","v":999},{"$f":"IF(AD49<>0,SUM(AD32:AD50),999)","v":999},{"$f":"IF(AE49<>0,SUM(AE32:AE50),999)","v":999},{"$f":"SUM(AF32:AF50)","v":0}]
[null,null,null,{"$f":"SUM(D51:G51)","v":3996},null,null,null,null,null,{"$f":"SUM(J51:M51)","v":3996},null,null,null,null,null,{"$f":"SUM(P51:S51)","v":3996},null,null,null,null,null,{"$f":"SUM(V51:Y51)","v":3996},null,null,null,null,null,{"$f":"SUM(AB51:AE51)","v":3996}]
[null,null,null,{"$f":"IF(D32=0,\"DNS\",IF(D49=0,\"DNF\",1))","v":"DNS"},{"$f":"IF(E32=0,\"DNS\",IF(E49=0,\"DNF\",1))","v":"DNS"},{"$f":"IF(F32=0,\"DNS\",IF(F49=0,\"DNF\",1))","v":"DNS"},{"$f":"IF(G32=0,\"DNS\",IF(G49=0,\"DNF\",1))","v":"DNS"},{"$f":"IF(SUM(D53:G53)=Tagestabelle!$N$3,\"FIN\",\"DNF\")","v":"FIN"},null,{"$f":"IF(J32=0,\"DNS\",IF(J49=0,\"DNF\",1))","v":"DNS"},{"$f":"IF(K32=0,\"DNS\",IF(K49=0,\"DNF\",1))","v":"DNS"},{"$f":"IF(L32=0,\"DNS\",IF(L49=0,\"DNF\",1))","v":"DNS"},{"$f":"IF(M32=0,\"DNS\",IF(M49=0,\"DNF\",1))","v":"DNS"},{"$f":"IF(SUM(J53:M53)=Tagestabelle!$N$3,\"FIN\",\"DNF\")","v":"FIN"},null,{"$f":"IF(P32=0,\"DNS\",IF(P49=0,\"DNF\",1))","v":"DNS"},{"$f":"IF(Q32=0,\"DNS\",IF(Q49=0,\"DNF\",1))","v":"DNS"},{"$f":"IF(R32=0,\"DNS\",IF(R49=0,\"DNF\",1))","v":"DNS"},{"$f":"IF(S32=0,\"DNS\",IF(S49=0,\"DNF\",1))","v":"DNS"},{"$f":"IF(SUM(P53:S53)=Tagestabelle!$N$3,\"FIN\",\"DNF\")","v":"FIN"},null,{"$f":"IF(V32=0,\"DNS\",IF(V49=0,\"DNF\",1))","v":"DNS"},{"$f":"IF(W32=0,\"DNS\",IF(W49=0,\"DNF\",1))","v":"DNS"},{"$f":"IF(X32=0,\"DNS\",IF(X49=0,\"DNF\",1))","v":"DNS"},{"$f":"IF(Y32=0,\"DNS\",IF(Y49=0,\"DNF\",1))","v":"DNS"},{"$f":"IF(SUM(V53:Y53)=Tagestabelle!$N$3,\"FIN\",\"DNF\")","v":"FIN"},null,{"$f":"IF(AB32=0,\"DNS\",IF(AB49=0,\"DNF\",1))","v":"DNS"},{"$f":"IF(AC32=0,\"DNS\",IF(AC49=0,\"DNF\",1))","v":"DNS"},{"$f":"IF(AD32=0,\"DNS\",IF(AD49=0,\"DNF\",1))","v":"DNS"},{"$f":"IF(AE32=0,\"DNS\",IF(AE49=0,\"DNF\",1))","v":"DNS"},{"$f":"IF(SUM(AB53:AE53)=Tagestabelle!$N$3,\"FIN\",\"DNF\")","v":"FIN"}]
[null,"M5",null,"R1","R2","R3","R4"]
[null,"KKLEINSTE8",null,{"$f":"SMALL(D60:D67,8)","v":999.00008000000003},{"$f":"SMALL(E60:E67,8)","v":999.00008000000003},{"$f":"SMALL(F60:F67,8)","v":999.00008000000003},{"$f":"SMALL(G60:G67,8)","v":999.00008000000003}]
[null,"KKLEINSTE7",null,{"$f":"SMALL(D60:D67,7)","v":999.00007000000005},{"$f":"SMALL(E60:E67,7)","v":999.00007000000005},{"$f":"SMALL(F60:F67,7)","v":999.00007000000005},{"$f":"SMALL(G60:G67,7)","v":999.00007000000005}]
[null,"KKLEINSTE6",null,{"$f":"SMALL(D60:D67,6)","v":999.00005999999996},{"$f":"SMALL(E60:E67,6)","v":999.00005999999996},{"$f":"SMALL(F60:F67,6)","v":999.00005999999996},{"$f":"SMALL(G60:G67,6)","v":999.00005999999996}]
[null,"KKLEINSTE5",null,{"$f":"SMALL(D60:D67,5)","v":999.00004999999999},{"$f":"SMALL(E60:E67,5)","v":999.00004999999999},{"$f":"SMALL(F60:F67,5)","v":999.00004999999999},{"$f":"SMALL(G60:G67,5)","v":999.00004999999999}]
[]
[8.0000000000000007E-5,"S1",null,{"$f":"D25+A60","v":999.00008000000003},{"$f":"E25+A60","v":999.00008000000003},{"$f":"F25+A60","v":999.00008000000003},{"$f":"G25+A60","v":999.00008000000003},"S1"]
[6.9999999999999994E-5,"S2",null,{"$f":"J25+A61","v":999.00007000000005},{"$f":"K25+A61","v":999.00007000000005},{"$f":"L25+A61","v":999.00007000000005},{"$f":"M25+A61","v":999.00007000000005},"S2"]
[6.0000000000000002E-5,"S3",null,{"$f":"P25+A62","v":999.00005999999996},{"$f":"Q25+A62","v":999.00005999999996},{"$f":"R25+A62","v":999.00005999999996},{"$f":"S25+A62","v":999.00005999999996},"S3"]
[5.0000000000000002E-5,"S4",null,{"$f":"V25+A63","v":999.00004999999999},{"$f":"W25+A63","v":999.00004999999999},{"$f":"X25+A63","v":999.00004999999999},{"$f":"Y25+A63","v":999.00004999999999},"S4"]
[4.0000000000000003E-5,"S5",null,{"$f":"D51+A64","v":999.00004000000001},{"$f":"E51+A64","v":999.00004000000001},{"$f":"F51+A64","v":999.00004000000001},{"$f":"G51+A64","v":999.00004000000001},"S5"]
[3.0000000000000001E-5,"S6",null,{"$f":"J51+A65","v":999.00003000000004},{"$f":"K51+A65","v":999.00003000000004},{"$f":"L51+A65","v":999.00003000000004},{"$f":"M51+A65","v":999.00003000000004},"S6"]
[2.0000000000000002E-5,"S7",null,{"$f":"P51+A66","v":999.00001999999995},{"$f":"Q51+A66","v":999.00001999999995},{"$f":"R51+A66","v":999.00001999999995},{"$f":"S51+A66","v":999.00001999999995},"S7"]
[1.0000000000000001E-5,"S8",null,{"$f":"V51+A67","v":999.00000999999997},{"$f":"W51+A67","v":999.00000999999997},{"$f":"X51+A67","v":999.00000999999997},{"$f":"Y51+A67","v":999.00000999999997},"S8"]

{"sheet":"Ma6","index":14,"n_rows":67,"n_cols":58,"rows_kept":67,"cut":false,"hidden":false,"merged":[[2,27,2,28],[3,27,3,28],[4,27,4,28],[5,27,5,28],[6,27,6,28],[4,9,4,10],[4,21,4,22],[4,15,4,16],[51,27,51,31],[30,15,30,16],[51,21,51,25],[51,15,51,19],[30,21,30,22],[30,27,30,28],[21,27,21,28],[22,27,22,28],[23,27,23,28],[24,27,25,28],[16,27,16,28],[17,27,17,28],[18,27,18,28],[7,27,7,28],[8,27,8,28],[9,27,9,28],[10,27,10,28],[11,27,11,28],[12,27,12,28],[13,27,13,28],[14,27,14,28],[15,27,15,28],[51,9,51,13],[25,9,25,13],[25,15,25,19],[25,21,25,25],[30,9,30,10],[19,27,19,28],[20,27,20,28],[51,3,51,7],[25,3,25,7],[2,0,2,1],[3,0,3,1],[29,0,29,1],[28,0,28,1],[24,0,24,1],[50,0,50,1],[30,3,30,4],[4,3,4,4],[0,42,0,44],[1,42,1,57],[2,42,2,45],[2,46,2,49],[2,50,2,53],[2,54,2,57]]}
["Mannschaft:",null,null,{"$f":"+Ma6_Eing","v":"SV Dreieichenhain"},null,null,null,null,null,null,null,{"$f":"+Seite1!B3","v":"Gruppenliga"},null,null,null,null,null,null,null,{"$f":"+Seite1!C5","v":3},null,{"$f":"+Seite1!D5","v":". Spieltag         "},null,null,null,null,null,null,null,null,null,null,null,null,null,null,null,null,null,null,null,null,"Spieler in der Wertung:",null,null,{"$f":"AnzSpieler","v":5},"+ 1 (+1)"]
[null,null,null,"M6S1R1","M6S1R2","M6S1R3","M6S1R4",null,null,"M6S2R1","M6S2R2","M6S2R3","M6S2R4",null,null,"M6S3R1","M6S3R2","M6S3R3","M6S3R4",null,null,"M6S4R1","M6S4R2","M6S4R3","M6S4R4",null,null,null,null,null,null,null,null,null,null,null,null,null,null,null,null,null,"Streichrunden"]
[null,null,null,"Spieler 1",null,null,null,"Kat.",null,"Spieler 2",null,null,null,"Kat.",null,"Spieler 3",null,null,null,"Kat.",null,"Spieler 4",null,null,null,"Kat.",null,"Mannsch. ",null,null,null,null,null,null,null,null,null,null,null,null,null,null,"R1",null,null,null,"R2",null,null,null,"R3",null,null,null,"R3"]
["Bahn  ",null,null,{"$f":"+M6S1","v":{"$error":"#N/A"}},null,null,null,{"$f":"+M6S1Kat","v":{"$error":"#N/A"}},null,{"$f":"+M6S2","v":{"$error":"#N/A"}},null,null,null,{"$f":"+M6S2Kat","v":{"$error":"#N/A"}},null,{"$f":"+M6S3","v":{"$error":"#N/A"}},null,null,null,{"$f":"+M6S3Kat","v":{"$error":"#N/A"}},null,{"$f":"+M6S4","v":{"$error":"#N/A"}},null,null,null,{"$f":"+M6S4Kat","v":{"$error":"#N/A"}},null,"gesamt",null,null,null,null,null,null,null,null,null,null,null,null,null,null,"Kl_8","Kl_7","Kl_6","Kl_5","Kl_8","Kl_7","Kl_6","Kl_5","Kl_8","Kl_7","Kl_6","Kl_5","Kl_8","Kl_7","Kl_6","Kl_5"]
["Nr.","Bez. ",null,{"$f":"+M6S1p","v":0},null,null,null,null,null,{"$f":"+M6S2p","v":0},null,null,null,null,null,{"$f":"+M6S3p","v":0},null,null,null,null,null,{"$f":"+M6S4p","v":0},null,null,null,null,null,null,null,null,null,null,null,null,null,null,null,null,null,null,null,null,{"$f":"CONCATENATE($B$54,VLOOKUP(D$55,$D$60:$H$67,5,FALSE),$D$54)","v":"M6S1R1"},{"$f":"CONCATENATE($B$54,VLOOKUP(D$56,$D$60:$H$67,5,FALSE),$D$54)","v":"M6S2R1"},{"$f":"CONCATENATE($B$54,VLOOKUP(D$57,$D$60:$H$67,5,FALSE),$D$54)","v":"M6S3R1"},{"$f":"CONCATENATE($B$54,VLOOKUP(D$58,$D$60:$H$67,5,FALSE),$D$54)","v":"M6S4R1"},{"$f":"CONCATENATE($B$54,VLOOKUP(E$55,$E$60:$H$67,4,FALSE),$E$54)","v":"M6S1R2"},{"$f":"CONCATENATE($B$54,VLOOKUP(E$56,$E$60:$H$67,4,FALSE),$E$54)","v":"M6S2R2"},{"$f":"CONCATENATE($B$54,VLOOKUP(E$57,$E$60:$H$67,4,FALSE),$E$54)","v":"M6S3R2"},{"$f":"CONCATENATE($B$54,VLOOKUP(E$58,$E$60:$H$67,4,FALSE),$E$54)","v":"M6S4R2"},{"$f":"CONCATENATE($B$54,VLOOKUP(F$55,$F$60:$H$67,3,FALSE),$F$54)","v":"M6S1R3"},{"$f":"CONCATENATE($B$54,VLOOKUP(F$56,$F$60:$H$67,3,FALSE),$F$54)","v":"M6S2R3"},{"$f":"CONCATENATE($B$54,VLOOKUP(F$57,$F$60:$H$67,3,FALSE),$F$54)","v":"M6S3R3"},{"$f":"CONCATENATE($B$54,VLOOKUP(F$58,$F$60:$H$67,3,FALSE),$F$54)","v":"M6S4R3"},{"$f":"CONCATENATE($B$54,VLOOKUP(G$55,$G$60:$H$67,2,FALSE),$G$54)","v":"M6S1R4"},{"$f":"CONCATENATE($B$54,VLOOKUP(G$56,$G$60:$H$67,2,FALSE),$G$54)","v":"M6S2R4"},{"$f":"CONCATENATE($B$54,VLOOKUP(G$57,$G$60:$H$67,2,FALSE),$G$54)","v":"M6S3R4"},{"$f":"CONCATENATE($B$54,VLOOKUP(G$58,$G$60:$H$67,2,FALSE),$G$54)","v":"M6S4R4"}]
[1,{"$f":"IF(+Eing.Allg..Daten!$D$8<>\"\",+VLOOKUP(A6,Bahnen!$A$52:$B$144,2,0),\"\")","v":"Gerade Bahn ohne Hindernis"},null,null,null,null,null,{"$f":"SUM(D6:G6)","v":0},null,null,null,null,null,{"$f":"SUM(J6:M6)","v":0},null,null,null,null,null,{"$f":"SUM(P6:S6)","v":0},null,null,null,null,null,{"$f":"SUM(V6:Y6)","v":0},null,{"$f":"+H6+N6+T6+Z6+H32+N32++T32+Z32-AP6","v":0},null,null,null,null,null,null,null,null,null,null,null,null,null,{"$f":"IF($AT$1=6,SUM(AQ6:AR6,AU6:AV6,AY6:AZ6,BC6:BD6),IF($AT$1=5,SUM(AQ6:AS6,AU6:AW6,AY6:BA6,BC6:BE6),IF($AT$1=4,SUM(AQ6:AT6,AU6:AX6,AY6:BB6,BC6:BF6))))","v":0},{"$f":"(IF(ISNA(HLOOKUP(AQ$5,$D$2:$Z$23,5,FALSE))=TRUE,0,HLOOKUP(AQ$5,$D$2:$Z$23,5,FALSE)))+(IF(ISNA(HLOOKUP(AQ$5,$D$28:$Z$49,5,FALSE))=TRUE,0,HLOOKUP(AQ$5,$D$28:$Z$49,5,FALSE)))","v":0},0,0,0,0,0,0,0,0,0,0,0,0,0,0,0]
[2,{"$f":"IF(+Eing.Allg..Daten!$D$8<>\"\",+VLOOKUP(A7,Bahnen!$A$52:$B$144,2,0),\"\")","v":"Salto"},null,{"$f":"IF(D$6>0,Eing.Allg..Daten!$D$9,0)","v":0},{"$f":"IF(E$6>0,Eing.Allg..Daten!$D$9,0)","v":0},{"$f":"IF(F$6>0,Eing.Allg..Daten!$D$9,0)","v":0},{"$f":"IF(G$6>0,Eing.Allg..Daten!$D$9,0)","v":0},0,null,{"$f":"IF(J$6>0,Eing.Allg..Daten!$D$9,0)","v":0},{"$f":"IF(K$6>0,Eing.Allg..Daten!$D$9,0)","v":0},{"$f":"IF(L$6>0,Eing.Allg..Daten!$D$9,0)","v":0},{"$f":"IF(M$6>0,Eing.Allg..Daten!$D$9,0)","v":0},0,null,{"$f":"IF(P$6>0,Eing.Allg..Daten!$D$9,0)","v":0},{"$f":"IF(Q$6>0,Eing.Allg..Daten!$D$9,0)","v":0},{"$f":"IF(R$6>0,Eing.Allg..Daten!$D$9,0)","v":0},{"$f":"IF(S$6>0,Eing.Allg..Daten!$D$9,0)","v":0},0,null,{"$f":"IF(V$6>0,Eing.Allg..Daten!$D$9,0)","v":0},{"$f":"IF(W$6>0,Eing.Allg..Daten!$D$9,0)","v":0},{"$f":"IF(X$6>0,Eing.Allg..Daten!$D$9,0)","v":0},{"$f":"IF(Y$6>0,Eing.Allg..Daten!$D$9,0)","v":0},0,null,0,null,null,null,null,null,null,null,null,null,null,null,null,null,{"$f":"IF($AT$1=6,SUM(AQ7:AR7,AU7:AV7,AY7:AZ7,BC7:BD7),IF($AT$1=5,SUM(AQ7:AS7,AU7:AW7,AY7:BA7,BC7:BE7),IF($AT$1=4,SUM(AQ7:AT7,AU7:AX7,AY7:BB7,BC7:BF7))))","v":0},{"$f":"(IF(ISNA(HLOOKUP(AQ$5,$D$2:$Z$23,6,FALSE))=TRUE,0,HLOOKUP(AQ$5,$D$2:$Z$23,6,FALSE)))+(IF(ISNA(HLOOKUP(AQ$5,$D$28:$Z$49,6,FALSE))=TRUE,0,HLOOKUP(AQ$5,$D$28:$Z$49,6,FALSE)))","v":0},0,0,0,0,0,0,0,0,0,0,0,0,0,0,0]
[3,{"$f":"IF(+Eing.Allg..Daten!$D$8<>\"\",+VLOOKUP(A8,Bahnen!$A$52:$B$144,2,0),\"\")","v":"Pyramiden"},null,{"$f":"IF(D$6>0,Eing.Allg..Daten!$D$9,0)","v":0},{"$f":"IF(E$6>0,Eing.Allg..Daten!$D$9,0)","v":0},{"$f":"IF(F$6>0,Eing.Allg..Daten!$D$9,0)","v":0},{"$f":"IF(G$6>0,Eing.Allg..Daten!$D$9,0)","v":0},0,null,{"$f":"IF(J$6>0,Eing.Allg..Daten!$D$9,0)","v":0},{"$f":"IF(K$6>0,Eing.Allg..Daten!$D$9,0)","v":0},{"$f":"IF(L$6>0,Eing.Allg..Daten!$D$9,0)","v":0},{"$f":"IF(M$6>0,Eing.Allg..Daten!$D$9,0)","v":0},0,null,{"$f":"IF(P$6>0,Eing.Allg..Daten!$D$9,0)","v":0},{"$f":"IF(Q$6>0,Eing.Allg..Daten!$D$9,0)","v":0},{"$f":"IF(R$6>0,Eing.Allg..Daten!$D$9,0)","v":0},{"$f":"IF(S$6>0,Eing.Allg..Daten!$D$9,0)","v":0},0,null,{"$f":"IF(V$6>0,Eing.Allg..Daten!$D$9,0)","v":0},{"$f":"IF(W$6>0,Eing.Allg..Daten!$D$9,0)","v":0},{"$f":"IF(X$6>0,Eing.Allg..Daten!$D$9,0)","v":0},{"$f":"IF(Y$6>0,Eing.Allg..Daten!$D$9,0)","v":0},0,null,0,null,null,null,null,null,null,null,null,null,null,null,null,null,0,{"$f":"(IF(ISNA(HLOOKUP(AQ$5,$D$2:$Z$23,7,FALSE))=TRUE,0,HLOOKUP(AQ$5,$D$2:$Z$23,7,FALSE)))+(IF(ISNA(HLOOKUP(AQ$5,$D$28:$Z$49,7,FALSE))=TRUE,0,HLOOKUP(AQ$5,$D$28:$Z$49,7,FALSE)))","v":0},0,0,0,0,0,0,0,0,0,0,0,0,0,0,0]
[4,{"$f":"IF(+Eing.Allg..Daten!$D$8<>\"\",+VLOOKUP(A9,Bahnen!$A$52:$B$144,2,0),\"\")","v":"Mittelhügel"},null,{"$f":"IF(D$6>0,Eing.Allg..Daten!$D$9,0)","v":0},{"$f":"IF(E$6>0,Eing.Allg..Daten!$D$9,0)","v":0},{"$f":"IF(F$6>0,Eing.Allg..Daten!$D$9,0)","v":0},{"$f":"IF(G$6>0,Eing.Allg..Daten!$D$9,0)","v":0},0,null,{"$f":"IF(J$6>0,Eing.Allg..Daten!$D$9,0)","v":0},{"$f":"IF(K$6>0,Eing.Allg..Daten!$D$9,0)","v":0},{"$f":"IF(L$6>0,Eing.Allg..Daten!$D$9,0)","v":0},{"$f":"IF(M$6>0,Eing.Allg..Daten!$D$9,0)","v":0},0,null,{"$f":"IF(P$6>0,Eing.Allg..Daten!$D$9,0)","v":0},{"$f":"IF(Q$6>0,Eing.Allg..Daten!$D$9,0)","v":0},{"$f":"IF(R$6>0,Eing.Allg..Daten!$D$9,0)","v":0},{"$f":"IF(S$6>0,Eing.Allg..Daten!$D$9,0)","v":0},0,null,{"$f":"IF(V$6>0,Eing.Allg..Daten!$D$9,0)","v":0},{"$f":"IF(W$6>0,Eing.Allg..Daten!$D$9,0)","v":0},{"$f":"IF(X$6>0,Eing.Allg..Daten!$D$9,0)","v":0},{"$f":"IF(Y$6>0,Eing.Allg..Daten!$D$9,0)","v":0},0,null,0,null,null,null,null,null,null,null,null,null,null,null,null,null,0,{"$f":"(IF(ISNA(HLOOKUP(AQ$5,$D$2:$Z$23,8,FALSE))=TRUE,0,HLOOKUP(AQ$5,$D$2:$Z$23,8,FALSE)))+(IF(ISNA(HLOOKUP(AQ$5,$D$28:$Z$49,8,FALSE))=TRUE,0,HLOOKUP(AQ$5,$D$28:$Z$49,8,FALSE)))","v":0},0,0,0,0,0,0,0,0,0,0,0,0,0,0,0]
[5,{"$f":"IF(+Eing.Allg..Daten!$D$8<>\"\",+VLOOKUP(A10,Bahnen!$A$52:$B$144,2,0),\"\")","v":"\"V\" - Hindernis"},null,{"$f":"IF(D$6>0,Eing.Allg..Daten!$D$9,0)","v":0},{"$f":"IF(E$6>0,Eing.Allg..Daten!$D$9,0)","v":0},{"$f":"IF(F$6>0,Eing.Allg..Daten!$D$9,0)","v":0},{"$f":"IF(G$6>0,Eing.Allg..Daten!$D$9,0)","v":0},0,null,{"$f":"IF(J$6>0,Eing.Allg..Daten!$D$9,0)","v":0},{"$f":"IF(K$6>0,Eing.Allg..Daten!$D$9,0)","v":0},{"$f":"IF(L$6>0,Eing.Allg..Daten!$D$9,0)","v":0},{"$f":"IF(M$6>0,Eing.Allg..Daten!$D$9,0)","v":0},0,null,{"$f":"IF(P$6>0,Eing.Allg..Daten!$D$9,0)","v":0},{"$f":"IF(Q$6>0,Eing.Allg..Daten!$D$9,0)","v":0},{"$f":"IF(R$6>0,Eing.Allg..Daten!$D$9,0)","v":0},{"$f":"IF(S$6>0,Eing.Allg..Daten!$D$9,0)","v":0},0,null,{"$f":"IF(V$6>0,Eing.Allg..Daten!$D$9,0)","v":0},{"$f":"IF(W$6>0,Eing.Allg..Daten!$D$9,0)","v":0},{"$f":"IF(X$6>0,Eing.Allg..Daten!$D$9,0)","v":0},{"$f":"IF(Y$6>0,Eing.Allg..Daten!$D$9,0)","v":0},0,null,0,null,null,null,null,null,null,null,null,null,null,null,null,null,0,{"$f":"(IF(ISNA(HLOOKUP(AQ$5,$D$2:$Z$23,9,FALSE))=TRUE,0,HLOOKUP(AQ$5,$D$2:$Z$23,9,FALSE)))+(IF(ISNA(HLOOKUP(AQ$5,$D$28:$Z$49,9,FALSE))=TRUE,0,HLOOKUP(AQ$5,$D$28:$Z$49,9,FALSE)))","v":0},0,0,0,0,0,0,0,0,0,0,0,0,0,0,0]
[6,{"$f":"IF(+Eing.Allg..Daten!$D$8<>\"\",+VLOOKUP(A11,Bahnen!$A$52:$B$144,2,0),\"\")","v":"Doppelwellen"},null,{"$f":"IF(D$6>0,Eing.Allg..Daten!$D$9,0)","v":0},{"$f":"IF(E$6>0,Eing.Allg..Daten!$D$9,0)","v":0},{"$f":"IF(F$6>0,Eing.Allg..Daten!$D$9,0)","v":0},{"$f":"IF(G$6>0,Eing.Allg..Daten!$D$9,0)","v":0},0,null,{"$f":"IF(J$6>0,Eing.Allg..Daten!$D$9,0)","v":0},{"$f":"IF(K$6>0,Eing.Allg..Daten!$D$9,0)","v":0},{"$f":"IF(L$6>0,Eing.Allg..Daten!$D$9,0)","v":0},{"$f":"IF(M$6>0,Eing.Allg..Daten!$D$9,0)","v":0},0,null,{"$f":"IF(P$6>0,Eing.Allg..Daten!$D$9,0)","v":0},{"$f":"IF(Q$6>0,Eing.Allg..Daten!$D$9,0)","v":0},{"$f":"IF(R$6>0,Eing.Allg..Daten!$D$9,0)","v":0},{"$f":"IF(S$6>0,Eing.Allg..Daten!$D$9,0)","v":0},0,null,{"$f":"IF(V$6>0,Eing.Allg..Daten!$D$9,0)","v":0},{"$f":"IF(W$6>0,Eing.Allg..Daten!$D$9,0)","v":0},{"$f":"IF(X$6>0,Eing.Allg..Daten!$D$9,0)","v":0},{"$f":"IF(Y$6>0,Eing.Allg..Daten!$D$9,0)","v":0},0,null,0,null,null,null,null,null,null,null,null,null,null,null,null,null,0,{"$f":"(IF(ISNA(HLOOKUP(AQ$5,$D$2:$Z$23,10,FALSE))=TRUE,0,HLOOKUP(AQ$5,$D$2:$Z$23,10,FALSE)))+(IF(ISNA(HLOOKUP(AQ$5,$D$28:$Z$49,10,FALSE))=TRUE,0,HLOOKUP(AQ$5,$D$28:$Z$49,10,FALSE)))","v":0},0,0,0,0,0,0,0,0,0,0,0,0,0,0,0]
[7,{"$f":"IF(+Eing.Allg..Daten!$D$8<>\"\",+VLOOKUP(A12,Bahnen!$A$52:$B$144,2,0),\"\")","v":"Rohr"},null,{"$f":"IF(D$6>0,Eing.Allg..Daten!$D$9,0)","v":0},{"$f":"IF(E$6>0,Eing.Allg..Daten!$D$9,0)","v":0},{"$f":"IF(F$6>0,Eing.Allg..Daten!$D$9,0)","v":0},{"$f":"IF(G$6>0,Eing.Allg..Daten!$D$9,0)","v":0},0,null,{"$f":"IF(J$6>0,Eing.Allg..Daten!$D$9,0)","v":0},{"$f":"IF(K$6>0,Eing.Allg..Daten!$D$9,0)","v":0},{"$f":"IF(L$6>0,Eing.Allg..Daten!$D$9,0)","v":0},{"$f":"IF(M$6>0,Eing.Allg..Daten!$D$9,0)","v":0},0,null,{"$f":"IF(P$6>0,Eing.Allg..Daten!$D$9,0)","v":0},{"$f":"IF(Q$6>0,Eing.Allg..Daten!$D$9,0)","v":0},{"$f":"IF(R$6>0,Eing.Allg..Daten!$D$9,0)","v":0},{"$f":"IF(S$6>0,Eing.Allg..Daten!$D$9,0)","v":0},0,null,{"$f":"IF(V$6>0,Eing.Allg..Daten!$D$9,0)","v":0},{"$f":"IF(W$6>0,Eing.Allg..Daten!$D$9,0)","v":0},{"$f":"IF(X$6>0,Eing.Allg..Daten!$D$9,0)","v":0},{"$f":"IF(Y$6>0,Eing.Allg..Daten!$D$9,0)","v":0},0,null,0,null,null,null,null,null,null,null,null,null,null,null,null,null,0,{"$f":"(IF(ISNA(HLOOKUP(AQ$5,$D$2:$Z$23,11,FALSE))=TRUE,0,HLOOKUP(AQ$5,$D$2:$Z$23,11,FALSE)))+(IF(ISNA(HLOOKUP(AQ$5,$D$28:$Z$49,11,FALSE))=TRUE,0,HLOOKUP(AQ$5,$D$28:$Z$49,11,FALSE)))","v":0},0,0,0,0,0,0,0,0,0,0,0,0,0,0,0]
[8,{"$f":"IF(+Eing.Allg..Daten!$D$8<>\"\",+VLOOKUP(A13,Bahnen!$A$52:$B$144,2,0),\"\")","v":"Passagen"},null,{"$f":"IF(D$6>0,Eing.Allg..Daten!$D$9,0)","v":0},{"$f":"IF(E$6>0,Eing.Allg..Daten!$D$9,0)","v":0},{"$f":"IF(F$6>0,Eing.Allg..Daten!$D$9,0)","v":0},{"$f":"IF(G$6>0,Eing.Allg..Daten!$D$9,0)","v":0},0,null,{"$f":"IF(J$6>0,Eing.Allg..Daten!$D$9,0)","v":0},{"$f":"IF(K$6>0,Eing.Allg..Daten!$D$9,0)","v":0},{"$f":"IF(L$6>0,Eing.Allg..Daten!$D$9,0)","v":0},{"$f":"IF(M$6>0,Eing.Allg..Daten!$D$9,0)","v":0},0,null,{"$f":"IF(P$6>0,Eing.Allg..Daten!$D$9,0)","v":0},{"$f":"IF(Q$6>0,Eing.Allg..Daten!$D$9,0)","v":0},{"$f":"IF(R$6>0,Eing.Allg..Daten!$D$9,0)","v":0},{"$f":"IF(S$6>0,Eing.Allg..Daten!$D$9,0)","v":0},0,null,{"$f":"IF(V$6>0,Eing.Allg..Daten!$D$9,0)","v":0},{"$f":"IF(W$6>0,Eing.Allg..Daten!$D$9,0)","v":0},{"$f":"IF(X$6>0,Eing.Allg..Daten!$D$9,0)","v":0},{"$f":"IF(Y$6>0,Eing.Allg..Daten!$D$9,0)","v":0},0,null,0,null,null,null,null,null,null,null,{"$f":"+'Ma1'!$D$1","v":"MGC Bad Homburg 1"},null,null,null,null,null,0,{"$f":"(IF(ISNA(HLOOKUP(AQ$5,$D$2:$Z$23,12,FALSE))=TRUE,0,HLOOKUP(AQ$5,$D$2:$Z$23,12,FALSE)))+(IF(ISNA(HLOOKUP(AQ$5,$D$28:$Z$49,12,FALSE))=TRUE,0,HLOOKUP(AQ$5,$D$28:$Z$49,12,FALSE)))","v":0},0,0,0,0,0,0,0,0,0,0,0,0,0,0,0]
[9,{"$f":"IF(+Eing.Allg..Daten!$D$8<>\"\",+VLOOKUP(A14,Bahnen!$A$52:$B$144,2,0),\"\")","v":"Liegende Schleife"},null,{"$f":"IF(D$6>0,Eing.Allg..Daten!$D$9,0)","v":0},{"$f":"IF(E$6>0,Eing.Allg..Daten!$D$9,0)","v":0},{"$f":"IF(F$6>0,Eing.Allg..Daten!$D$9,0)","v":0},{"$f":"IF(G$6>0,Eing.Allg..Daten!$D$9,0)","v":0},0,null,{"$f":"IF(J$6>0,Eing.Allg..Daten!$D$9,0)","v":0},{"$f":"IF(K$6>0,Eing.Allg..Daten!$D$9,0)","v":0},{"$f":"IF(L$6>0,Eing.Allg..Daten!$D$9,0)","v":0},{"$f":"IF(M$6>0,Eing.Allg..Daten!$D$9,0)","v":0},0,null,{"$f":"IF(P$6>0,Eing.Allg..Daten!$D$9,0)","v":0},{"$f":"IF(Q$6>0,Eing.Allg..Daten!$D$9,0)","v":0},{"$f":"IF(R$6>0,Eing.Allg..Daten!$D$9,0)","v":0},{"$f":"IF(S$6>0,Eing.Allg..Daten!$D$9,0)","v":0},0,null,{"$f":"IF(V$6>0,Eing.Allg..Daten!$D$9,0)","v":0},{"$f":"IF(W$6>0,Eing.Allg..Daten!$D$9,0)","v":0},{"$f":"IF(X$6>0,Eing.Allg..Daten!$D$9,0)","v":0},{"$f":"IF(Y$6>0,Eing.Allg..Daten!$D$9,0)","v":0},0,null,0,null,null,null,null,null,null,null,null,null,null,null,null,null,0,{"$f":"(IF(ISNA(HLOOKUP(AQ$5,$D$2:$Z$23,13,FALSE))=TRUE,0,HLOOKUP(AQ$5,$D$2:$Z$23,13,FALSE)))+(IF(ISNA(HLOOKUP(AQ$5,$D$28:$Z$49,13,FALSE))=TRUE,0,HLOOKUP(AQ$5,$D$28:$Z$49,13,FALSE)))","v":0},0,0,0,0,0,0,0,0,0,0,0,0,0,0,0]
[10,{"$f":"IF(+Eing.Allg..Daten!$D$8<>\"\",+VLOOKUP(A15,Bahnen!$A$52:$B$144,2,0),\"\")","v":"Winkel"},null,{"$f":"IF(D$6>0,Eing.Allg..Daten!$D$9,0)","v":0},{"$f":"IF(E$6>0,Eing.Allg..Daten!$D$9,0)","v":0},{"$f":"IF(F$6>0,Eing.Allg..Daten!$D$9,0)","v":0},{"$f":"IF(G$6>0,Eing.Allg..Daten!$D$9,0)","v":0},0,null,{"$f":"IF(J$6>0,Eing.Allg..Daten!$D$9,0)","v":0},{"$f":"IF(K$6>0,Eing.Allg..Daten!$D$9,0)","v":0},{"$f":"IF(L$6>0,Eing.Allg..Daten!$D$9,0)","v":0},{"$f":"IF(M$6>0,Eing.Allg..Daten!$D$9,0)","v":0},0,null,{"$f":"IF(P$6>0,Eing.Allg..Daten!$D$9,0)","v":0},{"$f":"IF(Q$6>0,Eing.Allg..Daten!$D$9,0)","v":0},{"$f":"IF(R$6>0,Eing.Allg..Daten!$D$9,0)","v":0},{"$f":"IF(S$6>0,Eing.Allg..Daten!$D$9,0)","v":0},0,null,{"$f":"IF(V$6>0,Eing.Allg..Daten!$D$9,0)","v":0},{"$f":"IF(W$6>0,Eing.Allg..Daten!$D$9,0)","v":0},{"$f":"IF(X$6>0,Eing.Allg..Daten!$D$9,0)","v":0},{"$f":"IF(Y$6>0,Eing.Allg..Daten!$D$9,0)","v":0},0,null,0,null,null,null,null,null,null,null,{"$f":"+'Ma2'!$D$1","v":"SG Arheilgen 3"},null,null,null,null,null,0,{"$f":"(IF(ISNA(HLOOKUP(AQ$5,$D$2:$Z$23,14,FALSE))=TRUE,0,HLOOKUP(AQ$5,$D$2:$Z$23,14,FALSE)))+(IF(ISNA(HLOOKUP(AQ$5,$D$28:$Z$49,14,FALSE))=TRUE,0,HLOOKUP(AQ$5,$D$28:$Z$49,14,FALSE)))","v":0},0,0,0,0,0,0,0,0,0,0,0,0,0,0,0]
[11,{"$f":"IF(+Eing.Allg..Daten!$D$8<>\"\",+VLOOKUP(A16,Bahnen!$A$52:$B$144,2,0),\"\")","v":"Netz"},null,{"$f":"IF(D$6>0,Eing.Allg..Daten!$D$9,0)","v":0},{"$f":"IF(E$6>0,Eing.Allg..Daten!$D$9,0)","v":0},{"$f":"IF(F$6>0,Eing.Allg..Daten!$D$9,0)","v":0},{"$f":"IF(G$6>0,Eing.Allg..Daten!$D$9,0)","v":0},0,null,{"$f":"IF(J$6>0,Eing.Allg..Daten!$D$9,0)","v":0},{"$f":"IF(K$6>0,Eing.Allg..Daten!$D$9,0)","v":0},{"$f":"IF(L$6>0,Eing.Allg..Daten!$D$9,0)","v":0},{"$f":"IF(M$6>0,Eing.Allg..Daten!$D$9,0)","v":0},0,null,{"$f":"IF(P$6>0,Eing.Allg..Daten!$D$9,0)","v":0},{"$f":"IF(Q$6>0,Eing.Allg..Daten!$D$9,0)","v":0},{"$f":"IF(R$6>0,Eing.Allg..Daten!$D$9,0)","v":0},{"$f":"IF(S$6>0,Eing.Allg..Daten!$D$9,0)","v":0},0,null,{"$f":"IF(V$6>0,Eing.Allg..Daten!$D$9,0)","v":0},{"$f":"IF(W$6>0,Eing.Allg..Daten!$D$9,0)","v":0},{"$f":"IF(X$6>0,Eing.Allg..Daten!$D$9,0)","v":0},{"$f":"IF(Y$6>0,Eing.Allg..Daten!$D$9,0)","v":0},0,null,0,null,null,null,null,null,null,null,null,null,null,null,null,null,0,{"$f":"(IF(ISNA(HLOOKUP(AQ$5,$D$2:$Z$23,15,FALSE))=TRUE,0,HLOOKUP(AQ$5,$D$2:$Z$23,15,FALSE)))+(IF(ISNA(HLOOKUP(AQ$5,$D$28:$Z$49,15,FALSE))=TRUE,0,HLOOKUP(AQ$5,$D$28:$Z$49,15,FALSE)))","v":0},0,0,0,0,0,0,0,0,0,0,0,0,0,0,0]
[12,{"$f":"IF(+Eing.Allg..Daten!$D$8<>\"\",+VLOOKUP(A17,Bahnen!$A$52:$B$144,2,0),\"\")","v":"Doppelkeile"},null,{"$f":"IF(D$6>0,Eing.Allg..Daten!$D$9,0)","v":0},{"$f":"IF(E$6>0,Eing.Allg..Daten!$D$9,0)","v":0},{"$f":"IF(F$6>0,Eing.Allg..Daten!$D$9,0)","v":0},{"$f":"IF(G$6>0,Eing.Allg..Daten!$D$9,0)","v":0},0,null,{"$f":"IF(J$6>0,Eing.Allg..Daten!$D$9,0)","v":0},{"$f":"IF(K$6>0,Eing.Allg..Daten!$D$9,0)","v":0},{"$f":"IF(L$6>0,Eing.Allg..Daten!$D$9,0)","v":0},{"$f":"IF(M$6>0,Eing.Allg..Daten!$D$9,0)","v":0},0,null,{"$f":"IF(P$6>0,Eing.Allg..Daten!$D$9,0)","v":0},{"$f":"IF(Q$6>0,Eing.Allg..Daten!$D$9,0)","v":0},{"$f":"IF(R$6>0,Eing.Allg..Daten!$D$9,0)","v":0},{"$f":"IF(S$6>0,Eing.Allg..Daten!$D$9,0)","v":0},0,null,{"$f":"IF(V$6>0,Eing.Allg..Daten!$D$9,0)","v":0},{"$f":"IF(W$6>0,Eing.Allg..Daten!$D$9,0)","v":0},{"$f":"IF(X$6>0,Eing.Allg..Daten!$D$9,0)","v":0},{"$f":"IF(Y$6>0,Eing.Allg..Daten!$D$9,0)","v":0},0,null,0,null,null,null,null,null,null,null,{"$f":"+'Ma3'!$D$1","v":"MGC Kahler Sandhasen"},null,null,null,null,null,0,{"$f":"(IF(ISNA(HLOOKUP(AQ$5,$D$2:$Z$23,16,FALSE))=TRUE,0,HLOOKUP(AQ$5,$D$2:$Z$23,16,FALSE)))+(IF(ISNA(HLOOKUP(AQ$5,$D$28:$Z$49,16,FALSE))=TRUE,0,HLOOKUP(AQ$5,$D$28:$Z$49,16,FALSE)))","v":0},0,0,0,0,0,0,0,0,0,0,0,0,0,0,0]
[13,{"$f":"IF(+Eing.Allg..Daten!$D$8<>\"\",+VLOOKUP(A18,Bahnen!$A$52:$B$144,2,0),\"\")","v":"Stumpfe Kegel"},null,{"$f":"IF(D$6>0,Eing.Allg..Daten!$D$9,0)","v":0},{"$f":"IF(E$6>0,Eing.Allg..Daten!$D$9,0)","v":0},{"$f":"IF(F$6>0,Eing.Allg..Daten!$D$9,0)","v":0},{"$f":"IF(G$6>0,Eing.Allg..Daten!$D$9,0)","v":0},0,null,{"$f":"IF(J$6>0,Eing.Allg..Daten!$D$9,0)","v":0},{"$f":"IF(K$6>0,Eing.Allg..Daten!$D$9,0)","v":0},{"$f":"IF(L$6>0,Eing.Allg..Daten!$D$9,0)","v":0},{"$f":"IF(M$6>0,Eing.Allg..Daten!$D$9,0)","v":0},0,null,{"$f":"IF(P$6>0,Eing.Allg..Daten!$D$9,0)","v":0},{"$f":"IF(Q$6>0,Eing.Allg..Daten!$D$9,0)","v":0},{"$f":"IF(R$6>0,Eing.Allg..Daten!$D$9,0)","v":0},{"$f":"IF(S$6>0,Eing.Allg..Daten!$D$9,0)","v":0},0,null,{"$f":"IF(V$6>0,Eing.Allg..Daten!$D$9,0)","v":0},{"$f":"IF(W$6>0,Eing.Allg..Daten!$D$9,0)","v":0},{"$f":"IF(X$6>0,Eing.Allg..Daten!$D$9,0)","v":0},{"$f":"IF(Y$6>0,Eing.Allg..Daten!$D$9,0)","v":0},0,null,0,null,null,null,null,null,null,null,null,null,null,null,null,null,0,{"$f":"(IF(ISNA(HLOOKUP(AQ$5,$D$2:$Z$23,17,FALSE))=TRUE,0,HLOOKUP(AQ$5,$D$2:$Z$23,17,FALSE)))+(IF(ISNA(HLOOKUP(AQ$5,$D$28:$Z$49,17,FALSE))=TRUE,0,HLOOKUP(AQ$5,$D$28:$Z$49,17,FALSE)))","v":0},0,0,0,0,0,0,0,0,0,0,0,0,0,0,0]
[14,{"$f":"IF(+Eing.Allg..Daten!$D$8<>\"\",+VLOOKUP(A19,Bahnen!$A$52:$B$144,2,0),\"\")","v":"Schrägerkreis mit Niere"},null,{"$f":"IF(D$6>0,Eing.Allg..Daten!$D$9,0)","v":0},{"$f":"IF(E$6>0,Eing.Allg..Daten!$D$9,0)","v":0},{"$f":"IF(F$6>0,Eing.Allg..Daten!$D$9,0)","v":0},{"$f":"IF(G$6>0,Eing.Allg..Daten!$D$9,0)","v":0},0,null,{"$f":"IF(J$6>0,Eing.Allg..Daten!$D$9,0)","v":0},{"$f":"IF(K$6>0,Eing.Allg..Daten!$D$9,0)","v":0},{"$f":"IF(L$6>0,Eing.Allg..Daten!$D$9,0)","v":0},{"$f":"IF(M$6>0,Eing.Allg..Daten!$D$9,0)","v":0},0,null,{"$f":"IF(P$6>0,Eing.Allg..Daten!$D$9,0)","v":0},{"$f":"IF(Q$6>0,Eing.Allg..Daten!$D$9,0)","v":0},{"$f":"IF(R$6>0,Eing.Allg..Daten!$D$9,0)","v":0},{"$f":"IF(S$6>0,Eing.Allg..Daten!$D$9,0)","v":0},0,null,{"$f":"IF(V$6>0,Eing.Allg..Daten!$D$9,0)","v":0},{"$f":"IF(W$6>0,Eing.Allg..Daten!$D$9,0)","v":0},{"$f":"IF(X$6>0,Eing.Allg..Daten!$D$9,0)","v":0},{"$f":"IF(Y$6>0,Eing.Allg..Daten!$D$9,0)","v":0},0,null,0,null,null,null,null,null,null,null,{"$f":"+'Ma4'!$D$1","v":"SG Weiterstadt"},null,null,null,null,null,0,{"$f":"(IF(ISNA(HLOOKUP(AQ$5,$D$2:$Z$23,18,FALSE))=TRUE,0,HLOOKUP(AQ$5,$D$2:$Z$23,18,FALSE)))+(IF(ISNA(HLOOKUP(AQ$5,$D$28:$Z$49,18,FALSE))=TRUE,0,HLOOKUP(AQ$5,$D$28:$Z$49,18,FALSE)))","v":0},0,0,0,0,0,0,0,0,0,0,0,0,0,0,0]
[15,{"$f":"IF(+Eing.Allg..Daten!$D$8<>\"\",+VLOOKUP(A20,Bahnen!$A$52:$B$144,2,0),\"\")","v":"Brücke"},null,{"$f":"IF(D$6>0,Eing.Allg..Daten!$D$9,0)","v":0},{"$f":"IF(E$6>0,Eing.Allg..Daten!$D$9,0)","v":0},{"$f":"IF(F$6>0,Eing.Allg..Daten!$D$9,0)","v":0},{"$f":"IF(G$6>0,Eing.Allg..Daten!$D$9,0)","v":0},0,null,{"$f":"IF(J$6>0,Eing.Allg..Daten!$D$9,0)","v":0},{"$f":"IF(K$6>0,Eing.Allg..Daten!$D$9,0)","v":0},{"$f":"IF(L$6>0,Eing.Allg..Daten!$D$9,0)","v":0},{"$f":"IF(M$6>0,Eing.Allg..Daten!$D$9,0)","v":0},0,null,{"$f":"IF(P$6>0,Eing.Allg..Daten!$D$9,0)","v":0},{"$f":"IF(Q$6>0,Eing.Allg..Daten!$D$9,0)","v":0},{"$f":"IF(R$6>0,Eing.Allg..Daten!$D$9,0)","v":0},{"$f":"IF(S$6>0,Eing.Allg..Daten!$D$9,0)","v":0},0,null,{"$f":"IF(V$6>0,Eing.Allg..Daten!$D$9,0)","v":0},{"$f":"IF(W$6>0,Eing.Allg..Daten!$D$9,0)","v":0},{"$f":"IF(X$6>0,Eing.Allg..Daten!$D$9,0)","v":0},{"$f":"IF(Y$6>0,Eing.Allg..Daten!$D$9,0)","v":0},0,null,0,null,null,null,null,null,null,null,null,null,null,null,null,null,0,{"$f":"(IF(ISNA(HLOOKUP(AQ$5,$D$2:$Z$23,19,FALSE))=TRUE,0,HLOOKUP(AQ$5,$D$2:$Z$23,19,FALSE)))+(IF(ISNA(HLOOKUP(AQ$5,$D$28:$Z$49,19,FALSE))=TRUE,0,HLOOKUP(AQ$5,$D$28:$Z$49,19,FALSE)))","v":0},0,0,0,0,0,0,0,0,0,0,0,0,0,0,0]
[16,{"$f":"IF(+Eing.Allg..Daten!$D$8<>\"\",+VLOOKUP(A21,Bahnen!$A$52:$B$144,2,0),\"\")","v":"Vulkan"},null,{"$f":"IF(D$6>0,Eing.Allg..Daten!$D$9,0)","v":0},{"$f":"IF(E$6>0,Eing.Allg..Daten!$D$9,0)","v":0},{"$f":"IF(F$6>0,Eing.Allg..Daten!$D$9,0)","v":0},{"$f":"IF(G$6>0,Eing.Allg..Daten!$D$9,0)","v":0},0,null,{"$f":"IF(J$6>0,Eing.Allg..Daten!$D$9,0)","v":0},{"$f":"IF(K$6>0,Eing.Allg..Daten!$D$9,0)","v":0},{"$f":"IF(L$6>0,Eing.Allg..Daten!$D$9,0)","v":0},{"$f":"IF(M$6>0,Eing.Allg..Daten!$D$9,0)","v":0},0,null,{"$f":"IF(P$6>0,Eing.Allg..Daten!$D$9,0)","v":0},{"$f":"IF(Q$6>0,Eing.Allg..Daten!$D$9,0)","v":0},{"$f":"IF(R$6>0,Eing.Allg..Daten!$D$9,0)","v":0},{"$f":"IF(S$6>0,Eing.Allg..Daten!$D$9,0)","v":0},0,null,{"$f":"IF(V$6>0,Eing.Allg..Daten!$D$9,0)","v":0},{"$f":"IF(W$6>0,Eing.Allg..Daten!$D$9,0)","v":0},{"$f":"IF(X$6>0,Eing.Allg..Daten!$D$9,0)","v":0},{"$f":"IF(Y$6>0,Eing.Allg..Daten!$D$9,0)","v":0},0,null,0,null,null,null,null,null,null,null,{"$f":"+'Ma5'!$D$1","v":"MGC Bad Homburg 2"},null,null,null,null,null,0,{"$f":"(IF(ISNA(HLOOKUP(AQ$5,$D$2:$Z$23,20,FALSE))=TRUE,0,HLOOKUP(AQ$5,$D$2:$Z$23,20,FALSE)))+(IF(ISNA(HLOOKUP(AQ$5,$D$28:$Z$49,20,FALSE))=TRUE,0,HLOOKUP(AQ$5,$D$28:$Z$49,20,FALSE)))","v":0},0,0,0,0,0,0,0,0,0,0,0,0,0,0,0]
[17,{"$f":"IF(+Eing.Allg..Daten!$D$8<>\"\",+VLOOKUP(A22,Bahnen!$A$52:$B$144,2,0),\"\")","v":"Auflaufkeil mit Zielfenster"},null,{"$f":"IF(D$6>0,Eing.Allg..Daten!$D$9,0)","v":0},{"$f":"IF(E$6>0,Eing.Allg..Daten!$D$9,0)","v":0},{"$f":"IF(F$6>0,Eing.Allg..Daten!$D$9,0)","v":0},{"$f":"IF(G$6>0,Eing.Allg..Daten!$D$9,0)","v":0},0,null,{"$f":"IF(J$6>0,Eing.Allg..Daten!$D$9,0)","v":0},{"$f":"IF(K$6>0,Eing.Allg..Daten!$D$9,0)","v":0},{"$f":"IF(L$6>0,Eing.Allg..Daten!$D$9,0)","v":0},{"$f":"IF(M$6>0,Eing.Allg..Daten!$D$9,0)","v":0},0,null,{"$f":"IF(P$6>0,Eing.Allg..Daten!$D$9,0)","v":0},{"$f":"IF(Q$6>0,Eing.Allg..Daten!$D$9,0)","v":0},{"$f":"IF(R$6>0,Eing.Allg..Daten!$D$9,0)","v":0},{"$f":"IF(S$6>0,Eing.Allg..Daten!$D$9,0)","v":0},0,null,{"$f":"IF(V$6>0,Eing.Allg..Daten!$D$9,0)","v":0},{"$f":"IF(W$6>0,Eing.Allg..Daten!$D$9,0)","v":0},{"$f":"IF(X$6>0,Eing.Allg..Daten!$D$9,0)","v":0},{"$f":"IF(Y$6>0,Eing.Allg..Daten!$D$9,0)","v":0},0,null,0,null,null,null,null,null,null,null,null,null,null,null,null,null,0,{"$f":"(IF(ISNA(HLOOKUP(AQ$5,$D$2:$Z$23,21,FALSE))=TRUE,0,HLOOKUP(AQ$5,$D$2:$Z$23,21,FALSE)))+(IF(ISNA(HLOOKUP(AQ$5,$D$28:$Z$49,21,FALSE))=TRUE,0,HLOOKUP(AQ$5,$D$28:$Z$49,21,FALSE)))","v":0},0,0,0,0,0,0,0,0,0,0,0,0,0,0,0]
[18,{"$f":"IF(+Eing.Allg..Daten!$D$8<>\"\",+VLOOKUP(A23,Bahnen!$A$52:$B$144,2,0),\"\")","v":"Blitz"},null,{"$f":"IF(D$6>0,Eing.Allg..Daten!$D$9,0)","v":0},{"$f":"IF(E$6>0,Eing.Allg..Daten!$D$9,0)","v":0},{"$f":"IF(F$6>0,Eing.Allg..Daten!$D$9,0)","v":0},{"$f":"IF(G$6>0,Eing.Allg..Daten!$D$9,0)","v":0},0,null,{"$f":"IF(J$6>0,Eing.Allg..Daten!$D$9,0)","v":0},{"$f":"IF(K$6>0,Eing.Allg..Daten!$D$9,0)","v":0},{"$f":"IF(L$6>0,Eing.Allg..Daten!$D$9,0)","v":0},{"$f":"IF(M$6>0,Eing.Allg..Daten!$D$9,0)","v":0},0,null,{"$f":"IF(P$6>0,Eing.Allg..Daten!$D$9,0)","v":0},{"$f":"IF(Q$6>0,Eing.Allg..Daten!$D$9,0)","v":0},{"$f":"IF(R$6>0,Eing.Allg..Daten!$D$9,0)","v":0},{"$f":"IF(S$6>0,Eing.Allg..Daten!$D$9,0)","v":0},0,null,{"$f":"IF(V$6>0,Eing.Allg..Daten!$D$9,0)","v":0},{"$f":"IF(W$6>0,Eing.Allg..Daten!$D$9,0)","v":0},{"$f":"IF(X$6>0,Eing.Allg..Daten!$D$9,0)","v":0},{"$f":"IF(Y$6>0,Eing.Allg..Daten!$D$9,0)","v":0},0,null,0,null,null,null,null,null,null,null,{"$f":"+'Ma6'!$D$1","v":"SV Dreieichenhain"},null,null,null,null,null,0,{"$f":"(IF(ISNA(HLOOKUP(AQ$5,$D$2:$Z$23,22,FALSE))=TRUE,0,HLOOKUP(AQ$5,$D$2:$Z$23,22,FALSE)))+(IF(ISNA(HLOOKUP(AQ$5,$D$28:$Z$49,22,FALSE))=TRUE,0,HLOOKUP(AQ$5,$D$28:$Z$49,22,FALSE)))","v":0},0,0,0,0,0,0,0,0,0,0,0,0,0,0,0]
[null,"Strafpunkte",null,null,null,null,null,0,null,null,null,null,null,0,null,null,null,null,null,0,null,null,null,null,null,0]
[null,null,null,{"$f":"IF(D23<>0,SUM(D6:D24),999)","v":999},{"$f":"IF(E23<>0,SUM(E6:E24),999)","v":999},{"$f":"IF(F23<>0,SUM(F6:F24),999)","v":999},{"$f":"IF(G23<>0,SUM(G6:G24),999)","v":999},{"$f":"SUM(H6:H24)","v":0},null,{"$f":"IF(J23<>0,SUM(J6:J24),999)","v":999},{"$f":"IF(K23<>0,SUM(K6:K24),999)","v":999},{"$f":"IF(L23<>0,SUM(L6:L24),999)","v":999},{"$f":"IF(M23<>0,SUM(M6:M24),999)","v":999},{"$f":"SUM(N6:N24)","v":0},null,{"$f":"IF(P23<>0,SUM(P6:P24),999)","v":999},{"$f":"IF(Q23<>0,SUM(Q6:Q24),999)","v":999},{"$f":"IF(R23<>0,SUM(R6:R24),999)","v":999},{"$f":"IF(S23<>0,SUM(S6:S24),999)","v":999},{"$f":"SUM(T6:T24)","v":0},null,{"$f":"IF(V23<>0,SUM(V6:V24),999)","v":999},{"$f":"IF(W23<>0,SUM(W6:W24),999)","v":999},{"$f":"IF(X23<>0,SUM(X6:X24),999)","v":999},{"$f":"IF(Y23<>0,SUM(Y6:Y24),999)","v":999},{"$f":"SUM(Z6:Z24)","v":0},null,{"$f":"SUM(AB6:AB23)","v":0},null,null,null,null,null,null,null,{"$f":"+'Ma7'!$D$1","v":"MGC Heringen"},null,null,null,null,null,null,{"$f":"SUM(AQ6:AQ24)","v":0},0,0,0,0,0,0,0,0,0,0,0,0,0,0,0]
[null,null,null,{"$f":"SUM(D25:G25)","v":3996},null,null,null,null,null,{"$f":"SUM(J25:M25)","v":3996},null,null,null,null,null,{"$f":"SUM(P25:S25)","v":3996},null,null,null,null,null,{"$f":"SUM(V25:Y25)","v":3996}]
[null,null,null,{"$f":"IF(D6=0,\"DNS\",IF(D23=0,\"DNF\",1))","v":"DNS"},{"$f":"IF(E6=0,\"DNS\",IF(E23=0,\"DNF\",1))","v":"DNS"},{"$f":"IF(F6=0,\"DNS\",IF(F23=0,\"DNF\",1))","v":"DNS"},{"$f":"IF(G6=0,\"DNS\",IF(G23=0,\"DNF\",1))","v":"DNS"},{"$f":"IF(SUM(D27:G27)=Tagestabelle!$N$3,\"FIN\",\"DNF\")","v":"FIN"},null,{"$f":"IF(J6=0,\"DNS\",IF(J23=0,\"DNF\",1))","v":"DNS"},{"$f":"IF(K6=0,\"DNS\",IF(K23=0,\"DNF\",1))","v":"DNS"},{"$f":"IF(L6=0,\"DNS\",IF(L23=0,\"DNF\",1))","v":"DNS"},{"$f":"IF(M6=0,\"DNS\",IF(M23=0,\"DNF\",1))","v":"DNS"},{"$f":"IF(SUM(J27:M27)=Tagestabelle!$N$3,\"FIN\",\"DNF\")","v":"FIN"},null,{"$f":"IF(P6=0,\"DNS\",IF(P23=0,\"DNF\",1))","v":"DNS"},{"$f":"IF(Q6=0,\"DNS\",IF(Q23=0,\"DNF\",1))","v":"DNS"},{"$f":"IF(R6=0,\"DNS\",IF(R23=0,\"DNF\",1))","v":"DNS"},{"$f":"IF(S6=0,\"DNS\",IF(S23=0,\"DNF\",1))","v":"DNS"},{"$f":"IF(SUM(P27:S27)=Tagestabelle!$N$3,\"FIN\",\"DNF\")","v":"FIN"},null,{"$f":"IF(V6=0,\"DNS\",IF(V23=0,\"DNF\",1))","v":"DNS"},{"$f":"IF(W6=0,\"DNS\",IF(W23=0,\"DNF\",1))","v":"DNS"},{"$f":"IF(X6=0,\"DNS\",IF(X23=0,\"DNF\",1))","v":"DNS"},{"$f":"IF(Y6=0,\"DNS\",IF(Y23=0,\"DNF\",1))","v":"DNS"},{"$f":"IF(SUM(V27:Y27)=Tagestabelle!$N$3,\"FIN\",\"DNF\")","v":"FIN"},6]
[null,null,null,"M6S5R1","M6S5R2","M6S5R3","M6S5R4",null,null,"M6S6R1","M6S6R2","M6S6R3","M6S6R4",null,null,"M6S7R1","M6S7R2","M6S7R3","M6S7R4",null,null,"M6S8R1","M6S8R2","M6S8R3","M6S8R4"]
[null,null,null,"Spieler 5",null,null,null,"Kat.",null,"Spieler 6",null,null,null,"Kat.",null,"Spieler 7",null,null,null,"Kat.",null,"Spieler 8",null,null,null,"Kat.",null,"Zus. Einzelsp.",null,null,null,"Kat."]
["Bahn  ",null,null,{"$f":"+M6S5","v":{"$error":"#N/A"}},null,null,null,{"$f":"+M6S5Kat","v":{"$error":"#N/A"}},null,{"$f":"+M6S6","v":{"$error":"#N/A"}},null,null,null,{"$f":"+M6S6Kat","v":{"$error":"#N/A"}},null,{"$f":"M6S7","v":{"$error":"#N/A"}},null,null,null,{"$f":"+M6S7Kat","v":{"$error":"#N/A"}},null,{"$f":"M6S8","v":{"$error":"#N/A"}},null,null,null,{"$f":"+M6S8Kat","v":{"$error":"#N/A"}},null,{"$f":"M6SAK","v":{"$error":"#N/A"}},null,null,null,{"$f":"+M6SAKKat","v":{"$error":"#N/A"}}]
["Nr.","Bez. ",null,{"$f":"+M6S5p","v":0},null,null,null,null,null,{"$f":"+M6S6p","v":0},null,null,null,null,null,{"$f":"+M6S7p","v":0},null,null,null,null,null,{"$f":"+M6S8p","v":0},null,null,null,null,null,{"$f":"+M6SAKp","v":0}]
[1,{"$f":"IF(+Eing.Allg..Daten!$D$8<>\"\",+VLOOKUP(A32,Bahnen!$A$52:$B$144,2,0),\"\")","v":"Gerade Bahn ohne Hindernis"},null,null,null,null,null,{"$f":"SUM(D32:G32)","v":0},null,null,null,null,null,{"$f":"SUM(J32:M32)","v":0},null,null,null,null,null,{"$f":"SUM(P32:S32)","v":0},null,null,null,null,null,{"$f":"SUM(V32:Y32)","v":0},null,null,null,null,null,{"$f":"SUM(AB32:AE32)","v":0}]
[2,{"$f":"IF(+Eing.Allg..Daten!$D$8<>\"\",+VLOOKUP(A33,Bahnen!$A$52:$B$144,2,0),\"\")","v":"Salto"},null,{"$f":"IF(D$32>0,Eing.Allg..Daten!$D$9,0)","v":0},{"$f":"IF(E$32>0,Eing.Allg..Daten!$D$9,0)","v":0},{"$f":"IF(F$32>0,Eing.Allg..Daten!$D$9,0)","v":0},{"$f":"IF(G$32>0,Eing.Allg..Daten!$D$9,0)","v":0},0,null,{"$f":"IF(J$32>0,Eing.Allg..Daten!$D$9,0)","v":0},{"$f":"IF(K$32>0,Eing.Allg..Daten!$D$9,0)","v":0},{"$f":"IF(L$32>0,Eing.Allg..Daten!$D$9,0)","v":0},{"$f":"IF(M$32>0,Eing.Allg..Daten!$D$9,0)","v":0},0,null,{"$f":"IF(P$32>0,Eing.Allg..Daten!$D$9,0)","v":0},{"$f":"IF(Q$32>0,Eing.Allg..Daten!$D$9,0)","v":0},{"$f":"IF(R$32>0,Eing.Allg..Daten!$D$9,0)","v":0},{"$f":"IF(S$32>0,Eing.Allg..Daten!$D$9,0)","v":0},0,null,{"$f":"IF(V$32>0,Eing.Allg..Daten!$D$9,0)","v":0},{"$f":"IF(W$32>0,Eing.Allg..Daten!$D$9,0)","v":0},{"$f":"IF(X$32>0,Eing.Allg..Daten!$D$9,0)","v":0},{"$f":"IF(Y$32>0,Eing.Allg..Daten!$D$9,0)","v":0},0,null,{"$f":"IF(AB$32>0,Eing.Allg..Daten!$D$9,0)","v":0},{"$f":"IF(AC$32>0,Eing.Allg..Daten!$D$9,0)","v":0},{"$f":"IF(AD$32>0,Eing.Allg..Daten!$D$9,0)","v":0},{"$f":"IF(AE$32>0,Eing.Allg..Daten!$D$9,0)","v":0},0]
[3,{"$f":"IF(+Eing.Allg..Daten!$D$8<>\"\",+VLOOKUP(A34,Bahnen!$A$52:$B$144,2,0),\"\")","v":"Pyramiden"},null,{"$f":"IF(D$32>0,Eing.Allg..Daten!$D$9,0)","v":0},{"$f":"IF(E$32>0,Eing.Allg..Daten!$D$9,0)","v":0},{"$f":"IF(F$32>0,Eing.Allg..Daten!$D$9,0)","v":0},{"$f":"IF(G$32>0,Eing.Allg..Daten!$D$9,0)","v":0},0,null,{"$f":"IF(J$32>0,Eing.Allg..Daten!$D$9,0)","v":0},{"$f":"IF(K$32>0,Eing.Allg..Daten!$D$9,0)","v":0},{"$f":"IF(L$32>0,Eing.Allg..Daten!$D$9,0)","v":0},{"$f":"IF(M$32>0,Eing.Allg..Daten!$D$9,0)","v":0},0,null,{"$f":"IF(P$32>0,Eing.Allg..Daten!$D$9,0)","v":0},{"$f":"IF(Q$32>0,Eing.Allg..Daten!$D$9,0)","v":0},{"$f":"IF(R$32>0,Eing.Allg..Daten!$D$9,0)","v":0},{"$f":"IF(S$32>0,Eing.Allg..Daten!$D$9,0)","v":0},0,null,{"$f":"IF(V$32>0,Eing.Allg..Daten!$D$9,0)","v":0},{"$f":"IF(W$32>0,Eing.Allg..Daten!$D$9,0)","v":0},{"$f":"IF(X$32>0,Eing.Allg..Daten!$D$9,0)","v":0},{"$f":"IF(Y$32>0,Eing.Allg..Daten!$D$9,0)","v":0},0,null,{"$f":"IF(AB$32>0,Eing.Allg..Daten!$D$9,0)","v":0},{"$f":"IF(AC$32>0,Eing.Allg..Daten!$D$9,0)","v":0},{"$f":"IF(AD$32>0,Eing.Allg..Daten!$D$9,0)","v":0},{"$f":"IF(AE$32>0,Eing.Allg..Daten!$D$9,0)","v":0},0]
[4,{"$f":"IF(+Eing.Allg..Daten!$D$8<>\"\",+VLOOKUP(A35,Bahnen!$A$52:$B$144,2,0),\"\")","v":"Mittelhügel"},null,{"$f":"IF(D$32>0,Eing.Allg..Daten!$D$9,0)","v":0},{"$f":"IF(E$32>0,Eing.Allg..Daten!$D$9,0)","v":0},{"$f":"IF(F$32>0,Eing.Allg..Daten!$D$9,0)","v":0},{"$f":"IF(G$32>0,Eing.Allg..Daten!$D$9,0)","v":0},0,null,{"$f":"IF(J$32>0,Eing.Allg..Daten!$D$9,0)","v":0},{"$f":"IF(K$32>0,Eing.Allg..Daten!$D$9,0)","v":0},{"$f":"IF(L$32>0,Eing.Allg..Daten!$D$9,0)","v":0},{"$f":"IF(M$32>0,Eing.Allg..Daten!$D$9,0)","v":0},0,null,{"$f":"IF(P$32>0,Eing.Allg..Daten!$D$9,0)","v":0},{"$f":"IF(Q$32>0,Eing.Allg..Daten!$D$9,0)","v":0},{"$f":"IF(R$32>0,Eing.Allg..Daten!$D$9,0)","v":0},{"$f":"IF(S$32>0,Eing.Allg..Daten!$D$9,0)","v":0},0,null,{"$f":"IF(V$32>0,Eing.Allg..Daten!$D$9,0)","v":0},{"$f":"IF(W$32>0,Eing.Allg..Daten!$D$9,0)","v":0},{"$f":"IF(X$32>0,Eing.Allg..Daten!$D$9,0)","v":0},{"$f":"IF(Y$32>0,Eing.Allg..Daten!$D$9,0)","v":0},0,null,{"$f":"IF(AB$32>0,Eing.Allg..Daten!$D$9,0)","v":0},{"$f":"IF(AC$32>0,Eing.Allg..Daten!$D$9,0)","v":0},{"$f":"IF(AD$32>0,Eing.Allg..Daten!$D$9,0)","v":0},{"$f":"IF(AE$32>0,Eing.Allg..Daten!$D$9,0)","v":0},0]
[5,{"$f":"IF(+Eing.Allg..Daten!$D$8<>\"\",+VLOOKUP(A36,Bahnen!$A$52:$B$144,2,0),\"\")","v":"\"V\" - Hindernis"},null,{"$f":"IF(D$32>0,Eing.Allg..Daten!$D$9,0)","v":0},{"$f":"IF(E$32>0,Eing.Allg..Daten!$D$9,0)","v":0},{"$f":"IF(F$32>0,Eing.Allg..Daten!$D$9,0)","v":0},{"$f":"IF(G$32>0,Eing.Allg..Daten!$D$9,0)","v":0},0,null,{"$f":"IF(J$32>0,Eing.Allg..Daten!$D$9,0)","v":0},{"$f":"IF(K$32>0,Eing.Allg..Daten!$D$9,0)","v":0},{"$f":"IF(L$32>0,Eing.Allg..Daten!$D$9,0)","v":0},{"$f":"IF(M$32>0,Eing.Allg..Daten!$D$9,0)","v":0},0,null,{"$f":"IF(P$32>0,Eing.Allg..Daten!$D$9,0)","v":0},{"$f":"IF(Q$32>0,Eing.Allg..Daten!$D$9,0)","v":0},{"$f":"IF(R$32>0,Eing.Allg..Daten!$D$9,0)","v":0},{"$f":"IF(S$32>0,Eing.Allg..Daten!$D$9,0)","v":0},0,null,{"$f":"IF(V$32>0,Eing.Allg..Daten!$D$9,0)","v":0},{"$f":"IF(W$32>0,Eing.Allg..Daten!$D$9,0)","v":0},{"$f":"IF(X$32>0,Eing.Allg..Daten!$D$9,0)","v":0},{"$f":"IF(Y$32>0,Eing.Allg..Daten!$D$9,0)","v":0},0,null,{"$f":"IF(AB$32>0,Eing.Allg..Daten!$D$9,0)","v":0},{"$f":"IF(AC$32>0,Eing.Allg..Daten!$D$9,0)","v":0},{"$f":"IF(AD$32>0,Eing.Allg..Daten!$D$9,0)","v":0},{"$f":"IF(AE$32>0,Eing.Allg..Daten!$D$9,0)","v":0},0]
[6,{"$f":"IF(+Eing.Allg..Daten!$D$8<>\"\",+VLOOKUP(A37,Bahnen!$A$52:$B$144,2,0),\"\")","v":"Doppelwellen"},null,{"$f":"IF(D$32>0,Eing.Allg..Daten!$D$9,0)","v":0},{"$f":"IF(E$32>0,Eing.Allg..Daten!$D$9,0)","v":0},{"$f":"IF(F$32>0,Eing.Allg..Daten!$D$9,0)","v":0},{"$f":"IF(G$32>0,Eing.Allg..Daten!$D$9,0)","v":0},0,null,{"$f":"IF(J$32>0,Eing.Allg..Daten!$D$9,0)","v":0},{"$f":"IF(K$32>0,Eing.Allg..Daten!$D$9,0)","v":0},{"$f":"IF(L$32>0,Eing.Allg..Daten!$D$9,0)","v":0},{"$f":"IF(M$32>0,Eing.Allg..Daten!$D$9,0)","v":0},0,null,{"$f":"IF(P$32>0,Eing.Allg..Daten!$D$9,0)","v":0},{"$f":"IF(Q$32>0,Eing.Allg..Daten!$D$9,0)","v":0},{"$f":"IF(R$32>0,Eing.Allg..Daten!$D$9,0)","v":0},{"$f":"IF(S$32>0,Eing.Allg..Daten!$D$9,0)","v":0},0,null,{"$f":"IF(V$32>0,Eing.Allg..Daten!$D$9,0)","v":0},{"$f":"IF(W$32>0,Eing.Allg..Daten!$D$9,0)","v":0},{"$f":"IF(X$32>0,Eing.Allg..Daten!$D$9,0)","v":0},{"$f":"IF(Y$32>0,Eing.Allg..Daten!$D$9,0)","v":0},0,null,{"$f":"IF(AB$32>0,Eing.Allg..Daten!$D$9,0)","v":0},{"$f":"IF(AC$32>0,Eing.Allg..Daten!$D$9,0)","v":0},{"$f":"IF(AD$32>0,Eing.Allg..Daten!$D$9,0)","v":0},{"$f":"IF(AE$32>0,Eing.Allg..Daten!$D$9,0)","v":0},0]
[7,{"$f":"IF(+Eing.Allg..Daten!$D$8<>\"\",+VLOOKUP(A38,Bahnen!$A$52:$B$144,2,0),\"\")","v":"Rohr"},null,{"$f":"IF(D$32>0,Eing.Allg..Daten!$D$9,0)","v":0},{"$f":"IF(E$32>0,Eing.Allg..Daten!$D$9,0)","v":0},{"$f":"IF(F$32>0,Eing.Allg..Daten!$D$9,0)","v":0},{"$f":"IF(G$32>0,Eing.Allg..Daten!$D$9,0)","v":0},0,null,{"$f":"IF(J$32>0,Eing.Allg..Daten!$D$9,0)","v":0},{"$f":"IF(K$32>0,Eing.Allg..Daten!$D$9,0)","v":0},{"$f":"IF(L$32>0,Eing.Allg..Daten!$D$9,0)","v":0},{"$f":"IF(M$32>0,Eing.Allg..Daten!$D$9,0)","v":0},0,null,{"$f":"IF(P$32>0,Eing.Allg..Daten!$D$9,0)","v":0},{"$f":"IF(Q$32>0,Eing.Allg..Daten!$D$9,0)","v":0},{"$f":"IF(R$32>0,Eing.Allg..Daten!$D$9,0)","v":0},{"$f":"IF(S$32>0,Eing.Allg..Daten!$D$9,0)","v":0},0,null,{"$f":"IF(V$32>0,Eing.Allg..Daten!$D$9,0)","v":0},{"$f":"IF(W$32>0,Eing.Allg..Daten!$D$9,0)","v":0},{"$f":"IF(X$32>0,Eing.Allg..Daten!$D$9,0)","v":0},{"$f":"IF(Y$32>0,Eing.Allg..Daten!$D$9,0)","v":0},0,null,{"$f":"IF(AB$32>0,Eing.Allg..Daten!$D$9,0)","v":0},{"$f":"IF(AC$32>0,Eing.Allg..Daten!$D$9,0)","v":0},{"$f":"IF(AD$32>0,Eing.Allg..Daten!$D$9,0)","v":0},{"$f":"IF(AE$32>0,Eing.Allg..Daten!$D$9,0)","v":0},0]
[8,{"$f":"IF(+Eing.Allg..Daten!$D$8<>\"\",+VLOOKUP(A39,Bahnen!$A$52:$B$144,2,0),\"\")","v":"Passagen"},null,{"$f":"IF(D$32>0,Eing.Allg..Daten!$D$9,0)","v":0},{"$f":"IF(E$32>0,Eing.Allg..Daten!$D$9,0)","v":0},{"$f":"IF(F$32>0,Eing.Allg..Daten!$D$9,0)","v":0},{"$f":"IF(G$32>0,Eing.Allg..Daten!$D$9,0)","v":0},0,null,{"$f":"IF(J$32>0,Eing.Allg..Daten!$D$9,0)","v":0},{"$f":"IF(K$32>0,Eing.Allg..Daten!$D$9,0)","v":0},{"$f":"IF(L$32>0,Eing.Allg..Daten!$D$9,0)","v":0},{"$f":"IF(M$32>0,Eing.Allg..Daten!$D$9,0)","v":0},0,null,{"$f":"IF(P$32>0,Eing.Allg..Daten!$D$9,0)","v":0},{"$f":"IF(Q$32>0,Eing.Allg..Daten!$D$9,0)","v":0},{"$f":"IF(R$32>0,Eing.Allg..Daten!$D$9,0)","v":0},{"$f":"IF(S$32>0,Eing.Allg..Daten!$D$9,0)","v":0},0,null,{"$f":"IF(V$32>0,Eing.Allg..Daten!$D$9,0)","v":0},{"$f":"IF(W$32>0,Eing.Allg..Daten!$D$9,0)","v":0},{"$f":"IF(X$32>0,Eing.Allg..Daten!$D$9,0)","v":0},{"$f":"IF(Y$32>0,Eing.Allg..Daten!$D$9,0)","v":0},0,null,{"$f":"IF(AB$32>0,Eing.Allg..Daten!$D$9,0)","v":0},{"$f":"IF(AC$32>0,Eing.Allg..Daten!$D$9,0)","v":0},{"$f":"IF(AD$32>0,Eing.Allg..Daten!$D$9,0)","v":0},{"$f":"IF(AE$32>0,Eing.Allg..Daten!$D$9,0)","v":0},0]
[9,{"$f":"IF(+Eing.Allg..Daten!$D$8<>\"\",+VLOOKUP(A40,Bahnen!$A$52:$B$144,2,0),\"\")","v":"Liegende Schleife"},null,{"$f":"IF(D$32>0,Eing.Allg..Daten!$D$9,0)","v":0},{"$f":"IF(E$32>0,Eing.Allg..Daten!$D$9,0)","v":0},{"$f":"IF(F$32>0,Eing.Allg..Daten!$D$9,0)","v":0},{"$f":"IF(G$32>0,Eing.Allg..Daten!$D$9,0)","v":0},0,null,{"$f":"IF(J$32>0,Eing.Allg..Daten!$D$9,0)","v":0},{"$f":"IF(K$32>0,Eing.Allg..Daten!$D$9,0)","v":0},{"$f":"IF(L$32>0,Eing.Allg..Daten!$D$9,0)","v":0},{"$f":"IF(M$32>0,Eing.Allg..Daten!$D$9,0)","v":0},0,null,{"$f":"IF(P$32>0,Eing.Allg..Daten!$D$9,0)","v":0},{"$f":"IF(Q$32>0,Eing.Allg..Daten!$D$9,0)","v":0},{"$f":"IF(R$32>0,Eing.Allg..Daten!$D$9,0)","v":0},{"$f":"IF(S$32>0,Eing.Allg..Daten!$D$9,0)","v":0},0,null,{"$f":"IF(V$32>0,Eing.Allg..Daten!$D$9,0)","v":0},{"$f":"IF(W$32>0,Eing.Allg..Daten!$D$9,0)","v":0},{"$f":"IF(X$32>0,Eing.Allg..Daten!$D$9,0)","v":0},{"$f":"IF(Y$32>0,Eing.Allg..Daten!$D$9,0)","v":0},0,null,{"$f":"IF(AB$32>0,Eing.Allg..Daten!$D$9,0)","v":0},{"$f":"IF(AC$32>0,Eing.Allg..Daten!$D$9,0)","v":0},{"$f":"IF(AD$32>0,Eing.Allg..Daten!$D$9,0)","v":0},{"$f":"IF(AE$32>0,Eing.Allg..Daten!$D$9,0)","v":0},0]
[10,{"$f":"IF(+Eing.Allg..Daten!$D$8<>\"\",+VLOOKUP(A41,Bahnen!$A$52:$B$144,2,0),\"\")","v":"Winkel"},null,{"$f":"IF(D$32>0,Eing.Allg..Daten!$D$9,0)","v":0},{"$f":"IF(E$32>0,Eing.Allg..Daten!$D$9,0)","v":0},{"$f":"IF(F$32>0,Eing.Allg..Daten!$D$9,0)","v":0},{"$f":"IF(G$32>0,Eing.Allg..Daten!$D$9,0)","v":0},0,null,{"$f":"IF(J$32>0,Eing.Allg..Daten!$D$9,0)","v":0},{"$f":"IF(K$32>0,Eing.Allg..Daten!$D$9,0)","v":0},{"$f":"IF(L$32>0,Eing.Allg..Daten!$D$9,0)","v":0},{"$f":"IF(M$32>0,Eing.Allg..Daten!$D$9,0)","v":0},0,null,{"$f":"IF(P$32>0,Eing.Allg..Daten!$D$9,0)","v":0},{"$f":"IF(Q$32>0,Eing.Allg..Daten!$D$9,0)","v":0},{"$f":"IF(R$32>0,Eing.Allg..Daten!$D$9,0)","v":0},{"$f":"IF(S$32>0,Eing.Allg..Daten!$D$9,0)","v":0},0,null,{"$f":"IF(V$32>0,Eing.Allg..Daten!$D$9,0)","v":0},{"$f":"IF(W$32>0,Eing.Allg..Daten!$D$9,0)","v":0},{"$f":"IF(X$32>0,Eing.Allg..Daten!$D$9,0)","v":0},{"$f":"IF(Y$32>0,Eing.Allg..Daten!$D$9,0)","v":0},0,null,{"$f":"IF(AB$32>0,Eing.Allg..Daten!$D$9,0)","v":0},{"$f":"IF(AC$32>0,Eing.Allg..Daten!$D$9,0)","v":0},{"$f":"IF(AD$32>0,Eing.Allg..Daten!$D$9,0)","v":0},{"$f":"IF(AE$32>0,Eing.Allg..Daten!$D$9,0)","v":0},0]
[11,{"$f":"IF(+Eing.Allg..Daten!$D$8<>\"\",+VLOOKUP(A42,Bahnen!$A$52:$B$144,2,0),\"\")","v":"Netz"},null,{"$f":"IF(D$32>0,Eing.Allg..Daten!$D$9,0)","v":0},{"$f":"IF(E$32>0,Eing.Allg..Daten!$D$9,0)","v":0},{"$f":"IF(F$32>0,Eing.Allg..Daten!$D$9,0)","v":0},{"$f":"IF(G$32>0,Eing.Allg..Daten!$D$9,0)","v":0},0,null,{"$f":"IF(J$32>0,Eing.Allg..Daten!$D$9,0)","v":0},{"$f":"IF(K$32>0,Eing.Allg..Daten!$D$9,0)","v":0},{"$f":"IF(L$32>0,Eing.Allg..Daten!$D$9,0)","v":0},{"$f":"IF(M$32>0,Eing.Allg..Daten!$D$9,0)","v":0},0,null,{"$f":"IF(P$32>0,Eing.Allg..Daten!$D$9,0)","v":0},{"$f":"IF(Q$32>0,Eing.Allg..Daten!$D$9,0)","v":0},{"$f":"IF(R$32>0,Eing.Allg..Daten!$D$9,0)","v":0},{"$f":"IF(S$32>0,Eing.Allg..Daten!$D$9,0)","v":0},0,null,{"$f":"IF(V$32>0,Eing.Allg..Daten!$D$9,0)","v":0},{"$f":"IF(W$32>0,Eing.Allg..Daten!$D$9,0)","v":0},{"$f":"IF(X$32>0,Eing.Allg..Daten!$D$9,0)","v":0},{"$f":"IF(Y$32>0,Eing.Allg..Daten!$D$9,0)","v":0},0,null,{"$f":"IF(AB$32>0,Eing.Allg..Daten!$D$9,0)","v":0},{"$f":"IF(AC$32>0,Eing.Allg..Daten!$D$9,0)","v":0},{"$f":"IF(AD$32>0,Eing.Allg..Daten!$D$9,0)","v":0},{"$f":"IF(AE$32>0,Eing.Allg..Daten!$D$9,0)","v":0},0]
[12,{"$f":"IF(+Eing.Allg..Daten!$D$8<>\"\",+VLOOKUP(A43,Bahnen!$A$52:$B$144,2,0),\"\")","v":"Doppelkeile"},null,{"$f":"IF(D$32>0,Eing.Allg..Daten!$D$9,0)","v":0},{"$f":"IF(E$32>0,Eing.Allg..Daten!$D$9,0)","v":0},{"$f":"IF(F$32>0,Eing.Allg..Daten!$D$9,0)","v":0},{"$f":"IF(G$32>0,Eing.Allg..Daten!$D$9,0)","v":0},0,null,{"$f":"IF(J$32>0,Eing.Allg..Daten!$D$9,0)","v":0},{"$f":"IF(K$32>0,Eing.Allg..Daten!$D$9,0)","v":0},{"$f":"IF(L$32>0,Eing.Allg..Daten!$D$9,0)","v":0},{"$f":"IF(M$32>0,Eing.Allg..Daten!$D$9,0)","v":0},0,null,{"$f":"IF(P$32>0,Eing.Allg..Daten!$D$9,0)","v":0},{"$f":"IF(Q$32>0,Eing.Allg..Daten!$D$9,0)","v":0},{"$f":"IF(R$32>0,Eing.Allg..Daten!$D$9,0)","v":0},{"$f":"IF(S$32>0,Eing.Allg..Daten!$D$9,0)","v":0},0,null,{"$f":"IF(V$32>0,Eing.Allg..Daten!$D$9,0)","v":0},{"$f":"IF(W$32>0,Eing.Allg..Daten!$D$9,0)","v":0},{"$f":"IF(X$32>0,Eing.Allg..Daten!$D$9,0)","v":0},{"$f":"IF(Y$32>0,Eing.Allg..Daten!$D$9,0)","v":0},0,null,{"$f":"IF(AB$32>0,Eing.Allg..Daten!$D$9,0)","v":0},{"$f":"IF(AC$32>0,Eing.Allg..Daten!$D$9,0)","v":0},{"$f":"IF(AD$32>0,Eing.Allg..Daten!$D$9,0)","v":0},{"$f":"IF(AE$32>0,Eing.Allg..Daten!$D$9,0)","v":0},0]
[13,{"$f":"IF(+Eing.Allg..Daten!$D$8<>\"\",+VLOOKUP(A44,Bahnen!$A$52:$B$144,2,0),\"\")","v":"Stumpfe Kegel"},null,{"$f":"IF(D$32>0,Eing.Allg..Daten!$D$9,0)","v":0},{"$f":"IF(E$32>0,Eing.Allg..Daten!$D$9,0)","v":0},{"$f":"IF(F$32>0,Eing.Allg..Daten!$D$9,0)","v":0},{"$f":"IF(G$32>0,Eing.Allg..Daten!$D$9,0)","v":0},0,null,{"$f":"IF(J$32>0,Eing.Allg..Daten!$D$9,0)","v":0},{"$f":"IF(K$32>0,Eing.Allg..Daten!$D$9,0)","v":0},{"$f":"IF(L$32>0,Eing.Allg..Daten!$D$9,0)","v":0},{"$f":"IF(M$32>0,Eing.Allg..Daten!$D$9,0)","v":0},0,null,{"$f":"IF(P$32>0,Eing.Allg..Daten!$D$9,0)","v":0},{"$f":"IF(Q$32>0,Eing.Allg..Daten!$D$9,0)","v":0},{"$f":"IF(R$32>0,Eing.Allg..Daten!$D$9,0)","v":0},{"$f":"IF(S$32>0,Eing.Allg..Daten!$D$9,0)","v":0},0,null,{"$f":"IF(V$32>0,Eing.Allg..Daten!$D$9,0)","v":0},{"$f":"IF(W$32>0,Eing.Allg..Daten!$D$9,0)","v":0},{"$f":"IF(X$32>0,Eing.Allg..Daten!$D$9,0)","v":0},{"$f":"IF(Y$32>0,Eing.Allg..Daten!$D$9,0)","v":0},0,null,{"$f":"IF(AB$32>0,Eing.Allg..Daten!$D$9,0)","v":0},{"$f":"IF(AC$32>0,Eing.Allg..Daten!$D$9,0)","v":0},{"$f":"IF(AD$32>0,Eing.Allg..Daten!$D$9,0)","v":0},{"$f":"IF(AE$32>0,Eing.Allg..Daten!$D$9,0)","v":0},0]
[14,{"$f":"IF(+Eing.Allg..Daten!$D$8<>\"\",+VLOOKUP(A45,Bahnen!$A$52:$B$144,2,0),\"\")","v":"Schrägerkreis mit Niere"},null,{"$f":"IF(D$32>0,Eing.Allg..Daten!$D$9,0)","v":0},{"$f":"IF(E$32>0,Eing.Allg..Daten!$D$9,0)","v":0},{"$f":"IF(F$32>0,Eing.Allg..Daten!$D$9,0)","v":0},{"$f":"IF(G$32>0,Eing.Allg..Daten!$D$9,0)","v":0},0,null,{"$f":"IF(J$32>0,Eing.Allg..Daten!$D$9,0)","v":0},{"$f":"IF(K$32>0,Eing.Allg..Daten!$D$9,0)","v":0},{"$f":"IF(L$32>0,Eing.Allg..Daten!$D$9,0)","v":0},{"$f":"IF(M$32>0,Eing.Allg..Daten!$D$9,0)","v":0},0,null,{"$f":"IF(P$32>0,Eing.Allg..Daten!$D$9,0)","v":0},{"$f":"IF(Q$32>0,Eing.Allg..Daten!$D$9,0)","v":0},{"$f":"IF(R$32>0,Eing.Allg..Daten!$D$9,0)","v":0},{"$f":"IF(S$32>0,Eing.Allg..Daten!$D$9,0)","v":0},0,null,{"$f":"IF(V$32>0,Eing.Allg..Daten!$D$9,0)","v":0},{"$f":"IF(W$32>0,Eing.Allg..Daten!$D$9,0)","v":0},{"$f":"IF(X$32>0,Eing.Allg..Daten!$D$9,0)","v":0},{"$f":"IF(Y$32>0,Eing.Allg..Daten!$D$9,0)","v":0},0,null,{"$f":"IF(AB$32>0,Eing.Allg..Daten!$D$9,0)","v":0},{"$f":"IF(AC$32>0,Eing.Allg..Daten!$D$9,0)","v":0},{"$f":"IF(AD$32>0,Eing.Allg..Daten!$D$9,0)","v":0},{"$f":"IF(AE$32>0,Eing.Allg..Daten!$D$9,0)","v":0},0]
[15,{"$f":"IF(+Eing.Allg..Daten!$D$8<>\"\",+VLOOKUP(A46,Bahnen!$A$52:$B$144,2,0),\"\")","v":"Brücke"},null,{"$f":"IF(D$32>0,Eing.Allg..Daten!$D$9,0)","v":0},{"$f":"IF(E$32>0,Eing.Allg..Daten!$D$9,0)","v":0},{"$f":"IF(F$32>0,Eing.Allg..Daten!$D$9,0)","v":0},{"$f":"IF(G$32>0,Eing.Allg..Daten!$D$9,0)","v":0},0,null,{"$f":"IF(J$32>0,Eing.Allg..Daten!$D$9,0)","v":0},{"$f":"IF(K$32>0,Eing.Allg..Daten!$D$9,0)","v":0},{"$f":"IF(L$32>0,Eing.Allg..Daten!$D$9,0)","v":0},{"$f":"IF(M$32>0,Eing.Allg..Daten!$D$9,0)","v":0},0,null,{"$f":"IF(P$32>0,Eing.Allg..Daten!$D$9,0)","v":0},{"$f":"IF(Q$32>0,Eing.Allg..Daten!$D$9,0)","v":0},{"$f":"IF(R$32>0,Eing.Allg..Daten!$D$9,0)","v":0},{"$f":"IF(S$32>0,Eing.Allg..Daten!$D$9,0)","v":0},0,null,{"$f":"IF(V$32>0,Eing.Allg..Daten!$D$9,0)","v":0},{"$f":"IF(W$32>0,Eing.Allg..Daten!$D$9,0)","v":0},{"$f":"IF(X$32>0,Eing.Allg..Daten!$D$9,0)","v":0},{"$f":"IF(Y$32>0,Eing.Allg..Daten!$D$9,0)","v":0},0,null,{"$f":"IF(AB$32>0,Eing.Allg..Daten!$D$9,0)","v":0},{"$f":"IF(AC$32>0,Eing.Allg..Daten!$D$9,0)","v":0},{"$f":"IF(AD$32>0,Eing.Allg..Daten!$D$9,0)","v":0},{"$f":"IF(AE$32>0,Eing.Allg..Daten!$D$9,0)","v":0},0]
[16,{"$f":"IF(+Eing.Allg..Daten!$D$8<>\"\",+VLOOKUP(A47,Bahnen!$A$52:$B$144,2,0),\"\")","v":"Vulkan"},null,{"$f":"IF(D$32>0,Eing.Allg..Daten!$D$9,0)","v":0},{"$f":"IF(E$32>0,Eing.Allg..Daten!$D$9,0)","v":0},{"$f":"IF(F$32>0,Eing.Allg..Daten!$D$9,0)","v":0},{"$f":"IF(G$32>0,Eing.Allg..Daten!$D$9,0)","v":0},0,null,{"$f":"IF(J$32>0,Eing.Allg..Daten!$D$9,0)","v":0},{"$f":"IF(K$32>0,Eing.Allg..Daten!$D$9,0)","v":0},{"$f":"IF(L$32>0,Eing.Allg..Daten!$D$9,0)","v":0},{"$f":"IF(M$32>0,Eing.Allg..Daten!$D$9,0)","v":0},0,null,{"$f":"IF(P$32>0,Eing.Allg..Daten!$D$9,0)","v":0},{"$f":"IF(Q$32>0,Eing.Allg..Daten!$D$9,0)","v":0},{"$f":"IF(R$32>0,Eing.Allg..Daten!$D$9,0)","v":0},{"$f":"IF(S$32>0,Eing.Allg..Daten!$D$9,0)","v":0},0,null,{"$f":"IF(V$32>0,Eing.Allg..Daten!$D$9,0)","v":0},{"$f":"IF(W$32>0,Eing.Allg..Daten!$D$9,0)","v":0},{"$f":"IF(X$32>0,Eing.Allg..Daten!$D$9,0)","v":0},{"$f":"IF(Y$32>0,Eing.Allg..Daten!$D$9,0)","v":0},0,null,{"$f":"IF(AB$32>0,Eing.Allg..Daten!$D$9,0)","v":0},{"$f":"IF(AC$32>0,Eing.Allg..Daten!$D$9,0)","v":0},{"$f":"IF(AD$32>0,Eing.Allg..Daten!$D$9,0)","v":0},{"$f":"IF(AE$32>0,Eing.Allg..Daten!$D$9,0)","v":0},0]
[17,{"$f":"IF(+Eing.Allg..Daten!$D$8<>\"\",+VLOOKUP(A48,Bahnen!$A$52:$B$144,2,0),\"\")","v":"Auflaufkeil mit Zielfenster"},null,{"$f":"IF(D$32>0,Eing.Allg..Daten!$D$9,0)","v":0},{"$f":"IF(E$32>0,Eing.Allg..Daten!$D$9,0)","v":0},{"$f":"IF(F$32>0,Eing.Allg..Daten!$D$9,0)","v":0},{"$f":"IF(G$32>0,Eing.Allg..Daten!$D$9,0)","v":0},0,null,{"$f":"IF(J$32>0,Eing.Allg..Daten!$D$9,0)","v":0},{"$f":"IF(K$32>0,Eing.Allg..Daten!$D$9,0)","v":0},{"$f":"IF(L$32>0,Eing.Allg..Daten!$D$9,0)","v":0},{"$f":"IF(M$32>0,Eing.Allg..Daten!$D$9,0)","v":0},0,null,{"$f":"IF(P$32>0,Eing.Allg..Daten!$D$9,0)","v":0},{"$f":"IF(Q$32>0,Eing.Allg..Daten!$D$9,0)","v":0},{"$f":"IF(R$32>0,Eing.Allg..Daten!$D$9,0)","v":0},{"$f":"IF(S$32>0,Eing.Allg..Daten!$D$9,0)","v":0},0,null,{"$f":"IF(V$32>0,Eing.Allg..Daten!$D$9,0)","v":0},{"$f":"IF(W$32>0,Eing.Allg..Daten!$D$9,0)","v":0},{"$f":"IF(X$32>0,Eing.Allg..Daten!$D$9,0)","v":0},{"$f":"IF(Y$32>0,Eing.Allg..Daten!$D$9,0)","v":0},0,null,{"$f":"IF(AB$32>0,Eing.Allg..Daten!$D$9,0)","v":0},{"$f":"IF(AC$32>0,Eing.Allg..Daten!$D$9,0)","v":0},{"$f":"IF(AD$32>0,Eing.Allg..Daten!$D$9,0)","v":0},{"$f":"IF(AE$32>0,Eing.Allg..Daten!$D$9,0)","v":0},0]
[18,{"$f":"IF(+Eing.Allg..Daten!$D$8<>\"\",+VLOOKUP(A49,Bahnen!$A$52:$B$144,2,0),\"\")","v":"Blitz"},null,{"$f":"IF(D$32>0,Eing.Allg..Daten!$D$9,0)","v":0},{"$f":"IF(E$32>0,Eing.Allg..Daten!$D$9,0)","v":0},{"$f":"IF(F$32>0,Eing.Allg..Daten!$D$9,0)","v":0},{"$f":"IF(G$32>0,Eing.Allg..Daten!$D$9,0)","v":0},0,null,{"$f":"IF(J$32>0,Eing.Allg..Daten!$D$9,0)","v":0},{"$f":"IF(K$32>0,Eing.Allg..Daten!$D$9,0)","v":0},{"$f":"IF(L$32>0,Eing.Allg..Daten!$D$9,0)","v":0},{"$f":"IF(M$32>0,Eing.Allg..Daten!$D$9,0)","v":0},0,null,{"$f":"IF(P$32>0,Eing.Allg..Daten!$D$9,0)","v":0},{"$f":"IF(Q$32>0,Eing.Allg..Daten!$D$9,0)","v":0},{"$f":"IF(R$32>0,Eing.Allg..Daten!$D$9,0)","v":0},{"$f":"IF(S$32>0,Eing.Allg..Daten!$D$9,0)","v":0},0,null,{"$f":"IF(V$32>0,Eing.Allg..Daten!$D$9,0)","v":0},{"$f":"IF(W$32>0,Eing.Allg..Daten!$D$9,0)","v":0},{"$f":"IF(X$32>0,Eing.Allg..Daten!$D$9,0)","v":0},{"$f":"IF(Y$32>0,Eing.Allg..Daten!$D$9,0)","v":0},0,null,{"$f":"IF(AB$32>0,Eing.Allg..Daten!$D$9,0)","v":0},{"$f":"IF(AC$32>0,Eing.Allg..Daten!$D$9,0)","v":0},{"$f":"IF(AD$32>0,Eing.Allg..Daten!$D$9,0)","v":0},{"$f":"IF(AE$32>0,Eing.Allg..Daten!$D$9,0)","v":0},0]
[null,"Strafpunkte",null,null,null,null,null,0,null,null,null,null,null,0,null,null,null,null,null,0,null,null,null,null,null,0,null,null,null,null,null,0]
[null,null,null,{"$f":"IF(D49<>0,SUM(D32:D50),999)","v":999},{"$f":"IF(E49<>0,SUM(E32:E50),999)","v":999},{"$f":"IF(F49<>0,SUM(F32:F50),999)","v":999},{"$f":"IF(G49<>0,SUM(G32:G50),999)","v":999},{"$f":"SUM(H32:H50)","v":0},null,{"$f":"IF(J49<>0,SUM(J32:J50),999)","v":999},{"$f":"IF(K49<>0,SUM(K32:K50),999)","v":999},{"$f":"IF(L49<>0,SUM(L32:L50),999)","v":999},{"$f":"IF(M49<>0,SUM(M32:M50),999)","v":999},{"$f":"SUM(N32:N50)","v":0},null,{"$f":"IF(P49<>0,SUM(P32:P50),999)","v":999},{"$f":"IF(Q49<>0,SUM(Q32:Q50),999)","v":999},{"$f":"IF(R49<>0,SUM(R32:R50),999)","v":999},{"$f":"IF(S49<>0,SUM(S32:S50),999)","v":999},{"$f":"SUM(T32:T50)","v":0},null,{"$f":"IF(V49<>0,SUM(V32:V50),999)","v":999},{"$f":"IF(W49<>0,SUM(W32:W50),999)","v":999},{"$f":"IF(X49<>0,SUM(X32:X50),999)","v":999},{"$f":"IF(Y49<>0,SUM(Y32:Y50),999)","v":999},{"$f":"SUM(Z32:Z50)","v":0},null,{"$f":"IF(AB49<>0,SUM(AB32:AB50),999)","v":999},{"$f":"IF(AC49<>0,SUM(AC32:AC50),999)","v":999},{"$f":"IF(AD49<>0,SUM(AD32:AD50),999)","v":999},{"$f":"IF(AE49<>0,SUM(AE32:AE50),999)","v":999},{"$f":"SUM(AF32:AF50)","v":0}]
[null,null,null,{"$f":"SUM(D51:G51)","v":3996},null,null,null,null,null,{"$f":"SUM(J51:M51)","v":3996},null,null,null,null,null,{"$f":"SUM(P51:S51)","v":3996},null,null,null,null,null,{"$f":"SUM(V51:Y51)","v":3996},null,null,null,null,null,{"$f":"SUM(AB51:AE51)","v":3996}]
[null,null,null,{"$f":"IF(D32=0,\"DNS\",IF(D49=0,\"DNF\",1))","v":"DNS"},{"$f":"IF(E32=0,\"DNS\",IF(E49=0,\"DNF\",1))","v":"DNS"},{"$f":"IF(F32=0,\"DNS\",IF(F49=0,\"DNF\",1))","v":"DNS"},{"$f":"IF(G32=0,\"DNS\",IF(G49=0,\"DNF\",1))","v":"DNS"},{"$f":"IF(SUM(D53:G53)=Tagestabelle!$N$3,\"FIN\",\"DNF\")","v":"FIN"},null,{"$f":"IF(J32=0,\"DNS\",IF(J49=0,\"DNF\",1))","v":"DNS"},{"$f":"IF(K32=0,\"DNS\",IF(K49=0,\"DNF\",1))","v":"DNS"},{"$f":"IF(L32=0,\"DNS\",IF(L49=0,\"DNF\",1))","v":"DNS"},{"$f":"IF(M32=0,\"DNS\",IF(M49=0,\"DNF\",1))","v":"DNS"},{"$f":"IF(SUM(J53:M53)=Tagestabelle!$N$3,\"FIN\",\"DNF\")","v":"FIN"},null,{"$f":"IF(P32=0,\"DNS\",IF(P49=0,\"DNF\",1))","v":"DNS"},{"$f":"IF(Q32=0,\"DNS\",IF(Q49=0,\"DNF\",1))","v":"DNS"},{"$f":"IF(R32=0,\"DNS\",IF(R49=0,\"DNF\",1))","v":"DNS"},{"$f":"IF(S32=0,\"DNS\",IF(S49=0,\"DNF\",1))","v":"DNS"},{"$f":"IF(SUM(P53:S53)=Tagestabelle!$N$3,\"FIN\",\"DNF\")","v":"FIN"},null,{"$f":"IF(V32=0,\"DNS\",IF(V49=0,\"DNF\",1))","v":"DNS"},{"$f":"IF(W32=0,\"DNS\",IF(W49=0,\"DNF\",1))","v":"DNS"},{"$f":"IF(X32=0,\"DNS\",IF(X49=0,\"DNF\",1))","v":"DNS"},{"$f":"IF(Y32=0,\"DNS\",IF(Y49=0,\"DNF\",1))","v":"DNS"},{"$f":"IF(SUM(V53:Y53)=Tagestabelle!$N$3,\"FIN\",\"DNF\")","v":"FIN"},null,{"$f":"IF(AB32=0,\"DNS\",IF(AB49=0,\"DNF\",1))","v":"DNS"},{"$f":"IF(AC32=0,\"DNS\",IF(AC49=0,\"DNF\",1))","v":"DNS"},{"$f":"IF(AD32=0,\"DNS\",IF(AD49=0,\"DNF\",1))","v":"DNS"},{"$f":"IF(AE32=0,\"DNS\",IF(AE49=0,\"DNF\",1))","v":"DNS"},{"$f":"IF(SUM(AB53:AE53)=Tagestabelle!$N$3,\"FIN\",\"DNF\")","v":"FIN"}]
[null,"M6",null,"R1","R2","R3","R4"]
[null,"KKLEINSTE8",null,{"$f":"SMALL(D60:D67,8)","v":999.00008000000003},{"$f":"SMALL(E60:E67,8)","v":999.00008000000003},{"$f":"SMALL(F60:F67,8)","v":999.00008000000003},{"$f":"SMALL(G60:G67,8)","v":999.00008000000003}]
[null,"KKLEINSTE7",null,{"$f":"SMALL(D60:D67,7)","v":999.00007000000005},{"$f":"SMALL(E60:E67,7)","v":999.00007000000005},{"$f":"SMALL(F60:F67,7)","v":999.00007000000005},{"$f":"SMALL(G60:G67,7)","v":999.00007000000005}]
[null,"KKLEINSTE6",null,{"$f":"SMALL(D60:D67,6)","v":999.00005999999996},{"$f":"SMALL(E60:E67,6)","v":999.00005999999996},{"$f":"SMALL(F60:F67,6)","v":999.00005999999996},{"$f":"SMALL(G60:G67,6)","v":999.00005999999996}]
[null,"KKLEINSTE5",null,{"$f":"SMALL(D60:D67,5)","v":999.00004999999999},{"$f":"SMALL(E60:E67,5)","v":999.00004999999999},{"$f":"SMALL(F60:F67,5)","v":999.00004999999999},{"$f":"SMALL(G60:G67,5)","v":999.00004999999999}]
[]
[8.0000000000000007E-5,"S1",null,{"$f":"D25+A60","v":999.00008000000003},{"$f":"E25+A60","v":999.00008000000003},{"$f":"F25+A60","v":999.00008000000003},{"$f":"G25+A60","v":999.00008000000003},"S1"]
[6.9999999999999994E-5,"S2",null,{"$f":"J25+A61","v":999.00007000000005},{"$f":"K25+A61","v":999.00007000000005},{"$f":"L25+A61","v":999.00007000000005},{"$f":"M25+A61","v":999.00007000000005},"S2"]
[6.0000000000000002E-5,"S3",null,{"$f":"P25+A62","v":999.00005999999996},{"$f":"Q25+A62","v":999.00005999999996},{"$f":"R25+A62","v":999.00005999999996},{"$f":"S25+A62","v":999.00005999999996},"S3"]
[5.0000000000000002E-5,"S4",null,{"$f":"V25+A63","v":999.00004999999999},{"$f":"W25+A63","v":999.00004999999999},{"$f":"X25+A63","v":999.00004999999999},{"$f":"Y25+A63","v":999.00004999999999},"S4"]
[4.0000000000000003E-5,"S5",null,{"$f":"D51+A64","v":999.00004000000001},{"$f":"E51+A64","v":999.00004000000001},{"$f":"F51+A64","v":999.00004000000001},{"$f":"G51+A64","v":999.00004000000001},"S5"]
[3.0000000000000001E-5,"S6",null,{"$f":"J51+A65","v":999.00003000000004},{"$f":"K51+A65","v":999.00003000000004},{"$f":"L51+A65","v":999.00003000000004},{"$f":"M51+A65","v":999.00003000000004},"S6"]
[2.0000000000000002E-5,"S7",null,{"$f":"P51+A66","v":999.00001999999995},{"$f":"Q51+A66","v":999.00001999999995},{"$f":"R51+A66","v":999.00001999999995},{"$f":"S51+A66","v":999.00001999999995},"S7"]
[1.0000000000000001E-5,"S8",null,{"$f":"V51+A67","v":999.00000999999997},{"$f":"W51+A67","v":999.00000999999997},{"$f":"X51+A67","v":999.00000999999997},{"$f":"Y51+A67","v":999.00000999999997},"S8"]

{"sheet":"Ma7","index":15,"n_rows":67,"n_cols":58,"rows_kept":67,"cut":false,"hidden":true,"merged":[[50,0,50,1],[51,15,51,19],[51,21,51,25],[24,0,24,1],[51,27,51,31],[28,0,28,1],[29,0,29,1],[30,15,30,16],[51,3,51,7],[51,9,51,13],[30,21,30,22],[30,3,30,4],[30,9,30,10],[30,27,30,28],[24,27,25,28],[25,3,25,7],[25,21,25,25],[4,21,4,22],[23,27,23,28],[18,27,18,28],[19,27,19,28],[20,27,20,28],[21,27,21,28],[22,27,22,28],[17,27,17,28],[12,27,12,28],[13,27,13,28],[14,27,14,28],[15,27,15,28],[4,27,4,28],[5,27,5,28],[6,27,6,28],[25,9,25,13],[25,15,25,19],[2,0,2,1],[3,0,3,1],[4,3,4,4],[4,9,4,10],[4,15,4,16],[16,27,16,28],[7,27,7,28],[8,27,8,28],[0,42,0,44],[1,42,1,57],[2,42,2,45],[2,46,2,49],[2,50,2,53],[2,54,2,57],[9,27,9,28],[10,27,10,28],[11,27,11,28],[2,27,2,28],[3,27,3,28]]}
["Mannschaft:",null,null,{"$f":"+Ma7_Eing","v":"MGC Heringen"},null,null,null,null,null,null,null,{"$f":"+Seite1!B3","v":"Gruppenliga"},null,null,null,null,null,null,null,{"$f":"+Seite1!C5","v":3},null,{"$f":"+Seite1!D5","v":". Spieltag         "},null,null,null,null,null,null,null,null,null,null,null,null,null,null,null,null,null,null,null,null,"Spieler in der Wertung:",null,null,{"$f":"AnzSpieler","v":5},"+ 1 (+1)"]
[null,null,null,"M7S1R1","M7S1R2","M7S1R3","M7S1R4",null,null,"M7S2R1","M7S2R2","M7S2R3","M7S2R4",null,null,"M7S3R1","M7S3R2","M7S3R3","M7S3R4",null,null,"M7S4R1","M7S4R2","M7S4R3","M7S4R4",null,null,null,null,null,null,null,null,null,null,null,null,null,null,null,null,null,"Streichrunden"]
[null,null,null,"Spieler 1",null,null,null,"Kat.",null,"Spieler 2",null,null,null,"Kat.",null,"Spieler 3",null,null,null,"Kat.",null,"Spieler 4",null,null,null,"Kat.",null,"Mannsch. ",null,null,null,null,null,null,null,null,null,null,null,null,null,null,"R1",null,null,null,"R2",null,null,null,"R3",null,null,null,"R4"]
["Bahn  ",null,null,{"$f":"+M7S1","v":{"$error":"#N/A"}},null,null,null,{"$f":"+M7S1Kat","v":{"$error":"#N/A"}},null,{"$f":"+M7S2","v":{"$error":"#N/A"}},null,null,null,{"$f":"+M7S2Kat","v":{"$error":"#N/A"}},null,{"$f":"+M7S3","v":{"$error":"#N/A"}},null,null,null,{"$f":"+M7S3Kat","v":{"$error":"#N/A"}},null,{"$f":"+M7S4","v":{"$error":"#N/A"}},null,null,null,{"$f":"+M7S4Kat","v":{"$error":"#N/A"}},null,"gesamt",null,null,null,null,null,null,null,null,null,null,null,null,null,null,"Kl_8","Kl_7","Kl_6","Kl_5","Kl_8","Kl_7","Kl_6","Kl_5","Kl_8","Kl_7","Kl_6","Kl_5","Kl_8","Kl_7","Kl_6","Kl_5"]
["Nr.","Bez. ",null,{"$f":"+M7S1p","v":0},null,null,null,null,null,{"$f":"+M7S2p","v":0},null,null,null,null,null,{"$f":"+M7S3p","v":0},null,null,null,null,null,{"$f":"+M7S4p","v":0},null,null,null,null,null,null,null,null,null,null,null,null,null,null,null,null,null,null,null,null,{"$f":"CONCATENATE($B$54,VLOOKUP(D$55,$D$60:$H$67,5,FALSE),$D$54)","v":"M7S1R1"},{"$f":"CONCATENATE($B$54,VLOOKUP(D$56,$D$60:$H$67,5,FALSE),$D$54)","v":"M7S2R1"},{"$f":"CONCATENATE($B$54,VLOOKUP(D$57,$D$60:$H$67,5,FALSE),$D$54)","v":"M7S3R1"},{"$f":"CONCATENATE($B$54,VLOOKUP(D$58,$D$60:$H$67,5,FALSE),$D$54)","v":"M7S4R1"},{"$f":"CONCATENATE($B$54,VLOOKUP(E$55,$E$60:$H$67,4,FALSE),$E$54)","v":"M7S1R2"},{"$f":"CONCATENATE($B$54,VLOOKUP(E$56,$E$60:$H$67,4,FALSE),$E$54)","v":"M7S2R2"},{"$f":"CONCATENATE($B$54,VLOOKUP(E$57,$E$60:$H$67,4,FALSE),$E$54)","v":"M7S3R2"},{"$f":"CONCATENATE($B$54,VLOOKUP(E$58,$E$60:$H$67,4,FALSE),$E$54)","v":"M7S4R2"},{"$f":"CONCATENATE($B$54,VLOOKUP(F$55,$F$60:$H$67,3,FALSE),$F$54)","v":"M7S1R3"},{"$f":"CONCATENATE($B$54,VLOOKUP(F$56,$F$60:$H$67,3,FALSE),$F$54)","v":"M7S2R3"},{"$f":"CONCATENATE($B$54,VLOOKUP(F$57,$F$60:$H$67,3,FALSE),$F$54)","v":"M7S3R3"},{"$f":"CONCATENATE($B$54,VLOOKUP(F$58,$F$60:$H$67,3,FALSE),$F$54)","v":"M7S4R3"},{"$f":"CONCATENATE($B$54,VLOOKUP(G$55,$G$60:$H$67,2,FALSE),$G$54)","v":"M7S1R4"},{"$f":"CONCATENATE($B$54,VLOOKUP(G$56,$G$60:$H$67,2,FALSE),$G$54)","v":"M7S2R4"},{"$f":"CONCATENATE($B$54,VLOOKUP(G$57,$G$60:$H$67,2,FALSE),$G$54)","v":"M7S3R4"},{"$f":"CONCATENATE($B$54,VLOOKUP(G$58,$G$60:$H$67,2,FALSE),$G$54)","v":"M7S4R4"}]
[1,{"$f":"IF(+Eing.Allg..Daten!$D$8<>\"\",+VLOOKUP(A6,Bahnen!$A$52:$B$144,2,0),\"\")","v":"Gerade Bahn ohne Hindernis"},null,null,null,null,null,{"$f":"SUM(D6:G6)","v":0},null,null,null,null,null,{"$f":"SUM(J6:M6)","v":0},null,null,null,null,null,{"$f":"SUM(P6:S6)","v":0},null,null,null,null,null,{"$f":"SUM(V6:Y6)","v":0},null,{"$f":"+H6+N6+T6+Z6+H32+N32++T32+Z32-AP6","v":0},null,null,null,null,null,null,null,null,null,null,null,null,null,{"$f":"IF($AT$1=6,SUM(AQ6:AR6,AU6:AV6,AY6:AZ6,BC6:BD6),IF($AT$1=5,SUM(AQ6:AS6,AU6:AW6,AY6:BA6,BC6:BE6),IF($AT$1=4,SUM(AQ6:AT6,AU6:AX6,AY6:BB6,BC6:BF6))))","v":0},{"$f":"(IF(ISNA(HLOOKUP(AQ$5,$D$2:$Z$23,5,FALSE))=TRUE,0,HLOOKUP(AQ$5,$D$2:$Z$23,5,FALSE)))+(IF(ISNA(HLOOKUP(AQ$5,$D$28:$Z$49,5,FALSE))=TRUE,0,HLOOKUP(AQ$5,$D$28:$Z$49,5,FALSE)))","v":0},0,0,0,0,0,0,0,0,0,0,0,0,0,0,0]
[2,{"$f":"IF(+Eing.Allg..Daten!$D$8<>\"\",+VLOOKUP(A7,Bahnen!$A$52:$B$144,2,0),\"\")","v":"Salto"},null,{"$f":"IF(D$6>0,Eing.Allg..Daten!$D$9,0)","v":0},{"$f":"IF(E$6>0,Eing.Allg..Daten!$D$9,0)","v":0},{"$f":"IF(F$6>0,Eing.Allg..Daten!$D$9,0)","v":0},{"$f":"IF(G$6>0,Eing.Allg..Daten!$D$9,0)","v":0},0,null,{"$f":"IF(J$6>0,Eing.Allg..Daten!$D$9,0)","v":0},{"$f":"IF(K$6>0,Eing.Allg..Daten!$D$9,0)","v":0},{"$f":"IF(L$6>0,Eing.Allg..Daten!$D$9,0)","v":0},{"$f":"IF(M$6>0,Eing.Allg..Daten!$D$9,0)","v":0},0,null,{"$f":"IF(P$6>0,Eing.Allg..Daten!$D$9,0)","v":0},{"$f":"IF(Q$6>0,Eing.Allg..Daten!$D$9,0)","v":0},{"$f":"IF(R$6>0,Eing.Allg..Daten!$D$9,0)","v":0},{"$f":"IF(S$6>0,Eing.Allg..Daten!$D$9,0)","v":0},0,null,{"$f":"IF(V$6>0,Eing.Allg..Daten!$D$9,0)","v":0},{"$f":"IF(W$6>0,Eing.Allg..Daten!$D$9,0)","v":0},{"$f":"IF(X$6>0,Eing.Allg..Daten!$D$9,0)","v":0},{"$f":"IF(Y$6>0,Eing.Allg..Daten!$D$9,0)","v":0},0,null,0,null,null,null,null,null,null,null,null,null,null,null,null,null,{"$f":"IF($AT$1=6,SUM(AQ7:AR7,AU7:AV7,AY7:AZ7,BC7:BD7),IF($AT$1=5,SUM(AQ7:AS7,AU7:AW7,AY7:BA7,BC7:BE7),IF($AT$1=4,SUM(AQ7:AT7,AU7:AX7,AY7:BB7,BC7:BF7))))","v":0},{"$f":"(IF(ISNA(HLOOKUP(AQ$5,$D$2:$Z$23,6,FALSE))=TRUE,0,HLOOKUP(AQ$5,$D$2:$Z$23,6,FALSE)))+(IF(ISNA(HLOOKUP(AQ$5,$D$28:$Z$49,6,FALSE))=TRUE,0,HLOOKUP(AQ$5,$D$28:$Z$49,6,FALSE)))","v":0},0,0,0,0,0,0,0,0,0,0,0,0,0,0,0]
[3,{"$f":"IF(+Eing.Allg..Daten!$D$8<>\"\",+VLOOKUP(A8,Bahnen!$A$52:$B$144,2,0),\"\")","v":"Pyramiden"},null,{"$f":"IF(D$6>0,Eing.Allg..Daten!$D$9,0)","v":0},{"$f":"IF(E$6>0,Eing.Allg..Daten!$D$9,0)","v":0},{"$f":"IF(F$6>0,Eing.Allg..Daten!$D$9,0)","v":0},{"$f":"IF(G$6>0,Eing.Allg..Daten!$D$9,0)","v":0},0,null,{"$f":"IF(J$6>0,Eing.Allg..Daten!$D$9,0)","v":0},{"$f":"IF(K$6>0,Eing.Allg..Daten!$D$9,0)","v":0},{"$f":"IF(L$6>0,Eing.Allg..Daten!$D$9,0)","v":0},{"$f":"IF(M$6>0,Eing.Allg..Daten!$D$9,0)","v":0},0,null,{"$f":"IF(P$6>0,Eing.Allg..Daten!$D$9,0)","v":0},{"$f":"IF(Q$6>0,Eing.Allg..Daten!$D$9,0)","v":0},{"$f":"IF(R$6>0,Eing.Allg..Daten!$D$9,0)","v":0},{"$f":"IF(S$6>0,Eing.Allg..Daten!$D$9,0)","v":0},0,null,{"$f":"IF(V$6>0,Eing.Allg..Daten!$D$9,0)","v":0},{"$f":"IF(W$6>0,Eing.Allg..Daten!$D$9,0)","v":0},{"$f":"IF(X$6>0,Eing.Allg..Daten!$D$9,0)","v":0},{"$f":"IF(Y$6>0,Eing.Allg..Daten!$D$9,0)","v":0},0,null,0,null,null,null,null,null,null,null,null,null,null,null,null,null,0,{"$f":"(IF(ISNA(HLOOKUP(AQ$5,$D$2:$Z$23,7,FALSE))=TRUE,0,HLOOKUP(AQ$5,$D$2:$Z$23,7,FALSE)))+(IF(ISNA(HLOOKUP(AQ$5,$D$28:$Z$49,7,FALSE))=TRUE,0,HLOOKUP(AQ$5,$D$28:$Z$49,7,FALSE)))","v":0},0,0,0,0,0,0,0,0,0,0,0,0,0,0,0]
[4,{"$f":"IF(+Eing.Allg..Daten!$D$8<>\"\",+VLOOKUP(A9,Bahnen!$A$52:$B$144,2,0),\"\")","v":"Mittelhügel"},null,{"$f":"IF(D$6>0,Eing.Allg..Daten!$D$9,0)","v":0},{"$f":"IF(E$6>0,Eing.Allg..Daten!$D$9,0)","v":0},{"$f":"IF(F$6>0,Eing.Allg..Daten!$D$9,0)","v":0},{"$f":"IF(G$6>0,Eing.Allg..Daten!$D$9,0)","v":0},0,null,{"$f":"IF(J$6>0,Eing.Allg..Daten!$D$9,0)","v":0},{"$f":"IF(K$6>0,Eing.Allg..Daten!$D$9,0)","v":0},{"$f":"IF(L$6>0,Eing.Allg..Daten!$D$9,0)","v":0},{"$f":"IF(M$6>0,Eing.Allg..Daten!$D$9,0)","v":0},0,null,{"$f":"IF(P$6>0,Eing.Allg..Daten!$D$9,0)","v":0},{"$f":"IF(Q$6>0,Eing.Allg..Daten!$D$9,0)","v":0},{"$f":"IF(R$6>0,Eing.Allg..Daten!$D$9,0)","v":0},{"$f":"IF(S$6>0,Eing.Allg..Daten!$D$9,0)","v":0},0,null,{"$f":"IF(V$6>0,Eing.Allg..Daten!$D$9,0)","v":0},{"$f":"IF(W$6>0,Eing.Allg..Daten!$D$9,0)","v":0},{"$f":"IF(X$6>0,Eing.Allg..Daten!$D$9,0)","v":0},{"$f":"IF(Y$6>0,Eing.Allg..Daten!$D$9,0)","v":0},0,null,0,null,null,null,null,null,null,null,null,null,null,null,null,null,0,{"$f":"(IF(ISNA(HLOOKUP(AQ$5,$D$2:$Z$23,8,FALSE))=TRUE,0,HLOOKUP(AQ$5,$D$2:$Z$23,8,FALSE)))+(IF(ISNA(HLOOKUP(AQ$5,$D$28:$Z$49,8,FALSE))=TRUE,0,HLOOKUP(AQ$5,$D$28:$Z$49,8,FALSE)))","v":0},0,0,0,0,0,0,0,0,0,0,0,0,0,0,0]
[5,{"$f":"IF(+Eing.Allg..Daten!$D$8<>\"\",+VLOOKUP(A10,Bahnen!$A$52:$B$144,2,0),\"\")","v":"\"V\" - Hindernis"},null,{"$f":"IF(D$6>0,Eing.Allg..Daten!$D$9,0)","v":0},{"$f":"IF(E$6>0,Eing.Allg..Daten!$D$9,0)","v":0},{"$f":"IF(F$6>0,Eing.Allg..Daten!$D$9,0)","v":0},{"$f":"IF(G$6>0,Eing.Allg..Daten!$D$9,0)","v":0},0,null,{"$f":"IF(J$6>0,Eing.Allg..Daten!$D$9,0)","v":0},{"$f":"IF(K$6>0,Eing.Allg..Daten!$D$9,0)","v":0},{"$f":"IF(L$6>0,Eing.Allg..Daten!$D$9,0)","v":0},{"$f":"IF(M$6>0,Eing.Allg..Daten!$D$9,0)","v":0},0,null,{"$f":"IF(P$6>0,Eing.Allg..Daten!$D$9,0)","v":0},{"$f":"IF(Q$6>0,Eing.Allg..Daten!$D$9,0)","v":0},{"$f":"IF(R$6>0,Eing.Allg..Daten!$D$9,0)","v":0},{"$f":"IF(S$6>0,Eing.Allg..Daten!$D$9,0)","v":0},0,null,{"$f":"IF(V$6>0,Eing.Allg..Daten!$D$9,0)","v":0},{"$f":"IF(W$6>0,Eing.Allg..Daten!$D$9,0)","v":0},{"$f":"IF(X$6>0,Eing.Allg..Daten!$D$9,0)","v":0},{"$f":"IF(Y$6>0,Eing.Allg..Daten!$D$9,0)","v":0},0,null,0,null,null,null,null,null,null,null,null,null,null,null,null,null,0,{"$f":"(IF(ISNA(HLOOKUP(AQ$5,$D$2:$Z$23,9,FALSE))=TRUE,0,HLOOKUP(AQ$5,$D$2:$Z$23,9,FALSE)))+(IF(ISNA(HLOOKUP(AQ$5,$D$28:$Z$49,9,FALSE))=TRUE,0,HLOOKUP(AQ$5,$D$28:$Z$49,9,FALSE)))","v":0},0,0,0,0,0,0,0,0,0,0,0,0,0,0,0]
[6,{"$f":"IF(+Eing.Allg..Daten!$D$8<>\"\",+VLOOKUP(A11,Bahnen!$A$52:$B$144,2,0),\"\")","v":"Doppelwellen"},null,{"$f":"IF(D$6>0,Eing.Allg..Daten!$D$9,0)","v":0},{"$f":"IF(E$6>0,Eing.Allg..Daten!$D$9,0)","v":0},{"$f":"IF(F$6>0,Eing.Allg..Daten!$D$9,0)","v":0},{"$f":"IF(G$6>0,Eing.Allg..Daten!$D$9,0)","v":0},0,null,{"$f":"IF(J$6>0,Eing.Allg..Daten!$D$9,0)","v":0},{"$f":"IF(K$6>0,Eing.Allg..Daten!$D$9,0)","v":0},{"$f":"IF(L$6>0,Eing.Allg..Daten!$D$9,0)","v":0},{"$f":"IF(M$6>0,Eing.Allg..Daten!$D$9,0)","v":0},0,null,{"$f":"IF(P$6>0,Eing.Allg..Daten!$D$9,0)","v":0},{"$f":"IF(Q$6>0,Eing.Allg..Daten!$D$9,0)","v":0},{"$f":"IF(R$6>0,Eing.Allg..Daten!$D$9,0)","v":0},{"$f":"IF(S$6>0,Eing.Allg..Daten!$D$9,0)","v":0},0,null,{"$f":"IF(V$6>0,Eing.Allg..Daten!$D$9,0)","v":0},{"$f":"IF(W$6>0,Eing.Allg..Daten!$D$9,0)","v":0},{"$f":"IF(X$6>0,Eing.Allg..Daten!$D$9,0)","v":0},{"$f":"IF(Y$6>0,Eing.Allg..Daten!$D$9,0)","v":0},0,null,0,null,null,null,null,null,null,null,null,null,null,null,null,null,0,{"$f":"(IF(ISNA(HLOOKUP(AQ$5,$D$2:$Z$23,10,FALSE))=TRUE,0,HLOOKUP(AQ$5,$D$2:$Z$23,10,FALSE)))+(IF(ISNA(HLOOKUP(AQ$5,$D$28:$Z$49,10,FALSE))=TRUE,0,HLOOKUP(AQ$5,$D$28:$Z$49,10,FALSE)))","v":0},0,0,0,0,0,0,0,0,0,0,0,0,0,0,0]
[7,{"$f":"IF(+Eing.Allg..Daten!$D$8<>\"\",+VLOOKUP(A12,Bahnen!$A$52:$B$144,2,0),\"\")","v":"Rohr"},null,{"$f":"IF(D$6>0,Eing.Allg..Daten!$D$9,0)","v":0},{"$f":"IF(E$6>0,Eing.Allg..Daten!$D$9,0)","v":0},{"$f":"IF(F$6>0,Eing.Allg..Daten!$D$9,0)","v":0},{"$f":"IF(G$6>0,Eing.Allg..Daten!$D$9,0)","v":0},0,null,{"$f":"IF(J$6>0,Eing.Allg..Daten!$D$9,0)","v":0},{"$f":"IF(K$6>0,Eing.Allg..Daten!$D$9,0)","v":0},{"$f":"IF(L$6>0,Eing.Allg..Daten!$D$9,0)","v":0},{"$f":"IF(M$6>0,Eing.Allg..Daten!$D$9,0)","v":0},0,null,{"$f":"IF(P$6>0,Eing.Allg..Daten!$D$9,0)","v":0},{"$f":"IF(Q$6>0,Eing.Allg..Daten!$D$9,0)","v":0},{"$f":"IF(R$6>0,Eing.Allg..Daten!$D$9,0)","v":0},{"$f":"IF(S$6>0,Eing.Allg..Daten!$D$9,0)","v":0},0,null,{"$f":"IF(V$6>0,Eing.Allg..Daten!$D$9,0)","v":0},{"$f":"IF(W$6>0,Eing.Allg..Daten!$D$9,0)","v":0},{"$f":"IF(X$6>0,Eing.Allg..Daten!$D$9,0)","v":0},{"$f":"IF(Y$6>0,Eing.Allg..Daten!$D$9,0)","v":0},0,null,0,null,null,null,null,null,null,null,null,null,null,null,null,null,0,{"$f":"(IF(ISNA(HLOOKUP(AQ$5,$D$2:$Z$23,11,FALSE))=TRUE,0,HLOOKUP(AQ$5,$D$2:$Z$23,11,FALSE)))+(IF(ISNA(HLOOKUP(AQ$5,$D$28:$Z$49,11,FALSE))=TRUE,0,HLOOKUP(AQ$5,$D$28:$Z$49,11,FALSE)))","v":0},0,0,0,0,0,0,0,0,0,0,0,0,0,0,0]
[8,{"$f":"IF(+Eing.Allg..Daten!$D$8<>\"\",+VLOOKUP(A13,Bahnen!$A$52:$B$144,2,0),\"\")","v":"Passagen"},null,{"$f":"IF(D$6>0,Eing.Allg..Daten!$D$9,0)","v":0},{"$f":"IF(E$6>0,Eing.Allg..Daten!$D$9,0)","v":0},{"$f":"IF(F$6>0,Eing.Allg..Daten!$D$9,0)","v":0},{"$f":"IF(G$6>0,Eing.Allg..Daten!$D$9,0)","v":0},0,null,{"$f":"IF(J$6>0,Eing.Allg..Daten!$D$9,0)","v":0},{"$f":"IF(K$6>0,Eing.Allg..Daten!$D$9,0)","v":0},{"$f":"IF(L$6>0,Eing.Allg..Daten!$D$9,0)","v":0},{"$f":"IF(M$6>0,Eing.Allg..Daten!$D$9,0)","v":0},0,null,{"$f":"IF(P$6>0,Eing.Allg..Daten!$D$9,0)","v":0},{"$f":"IF(Q$6>0,Eing.Allg..Daten!$D$9,0)","v":0},{"$f":"IF(R$6>0,Eing.Allg..Daten!$D$9,0)","v":0},{"$f":"IF(S$6>0,Eing.Allg..Daten!$D$9,0)","v":0},0,null,{"$f":"IF(V$6>0,Eing.Allg..Daten!$D$9,0)","v":0},{"$f":"IF(W$6>0,Eing.Allg..Daten!$D$9,0)","v":0},{"$f":"IF(X$6>0,Eing.Allg..Daten!$D$9,0)","v":0},{"$f":"IF(Y$6>0,Eing.Allg..Daten!$D$9,0)","v":0},0,null,0,null,null,null,null,null,null,null,{"$f":"+'Ma1'!$D$1","v":"MGC Bad Homburg 1"},null,null,null,null,null,0,{"$f":"(IF(ISNA(HLOOKUP(AQ$5,$D$2:$Z$23,12,FALSE))=TRUE,0,HLOOKUP(AQ$5,$D$2:$Z$23,12,FALSE)))+(IF(ISNA(HLOOKUP(AQ$5,$D$28:$Z$49,12,FALSE))=TRUE,0,HLOOKUP(AQ$5,$D$28:$Z$49,12,FALSE)))","v":0},0,0,0,0,0,0,0,0,0,0,0,0,0,0,0]
[9,{"$f":"IF(+Eing.Allg..Daten!$D$8<>\"\",+VLOOKUP(A14,Bahnen!$A$52:$B$144,2,0),\"\")","v":"Liegende Schleife"},null,{"$f":"IF(D$6>0,Eing.Allg..Daten!$D$9,0)","v":0},{"$f":"IF(E$6>0,Eing.Allg..Daten!$D$9,0)","v":0},{"$f":"IF(F$6>0,Eing.Allg..Daten!$D$9,0)","v":0},{"$f":"IF(G$6>0,Eing.Allg..Daten!$D$9,0)","v":0},0,null,{"$f":"IF(J$6>0,Eing.Allg..Daten!$D$9,0)","v":0},{"$f":"IF(K$6>0,Eing.Allg..Daten!$D$9,0)","v":0},{"$f":"IF(L$6>0,Eing.Allg..Daten!$D$9,0)","v":0},{"$f":"IF(M$6>0,Eing.Allg..Daten!$D$9,0)","v":0},0,null,{"$f":"IF(P$6>0,Eing.Allg..Daten!$D$9,0)","v":0},{"$f":"IF(Q$6>0,Eing.Allg..Daten!$D$9,0)","v":0},{"$f":"IF(R$6>0,Eing.Allg..Daten!$D$9,0)","v":0},{"$f":"IF(S$6>0,Eing.Allg..Daten!$D$9,0)","v":0},0,null,{"$f":"IF(V$6>0,Eing.Allg..Daten!$D$9,0)","v":0},{"$f":"IF(W$6>0,Eing.Allg..Daten!$D$9,0)","v":0},{"$f":"IF(X$6>0,Eing.Allg..Daten!$D$9,0)","v":0},{"$f":"IF(Y$6>0,Eing.Allg..Daten!$D$9,0)","v":0},0,null,0,null,null,null,null,null,null,null,null,null,null,null,null,null,0,{"$f":"(IF(ISNA(HLOOKUP(AQ$5,$D$2:$Z$23,13,FALSE))=TRUE,0,HLOOKUP(AQ$5,$D$2:$Z$23,13,FALSE)))+(IF(ISNA(HLOOKUP(AQ$5,$D$28:$Z$49,13,FALSE))=TRUE,0,HLOOKUP(AQ$5,$D$28:$Z$49,13,FALSE)))","v":0},0,0,0,0,0,0,0,0,0,0,0,0,0,0,0]
[10,{"$f":"IF(+Eing.Allg..Daten!$D$8<>\"\",+VLOOKUP(A15,Bahnen!$A$52:$B$144,2,0),\"\")","v":"Winkel"},null,{"$f":"IF(D$6>0,Eing.Allg..Daten!$D$9,0)","v":0},{"$f":"IF(E$6>0,Eing.Allg..Daten!$D$9,0)","v":0},{"$f":"IF(F$6>0,Eing.Allg..Daten!$D$9,0)","v":0},{"$f":"IF(G$6>0,Eing.Allg..Daten!$D$9,0)","v":0},0,null,{"$f":"IF(J$6>0,Eing.Allg..Daten!$D$9,0)","v":0},{"$f":"IF(K$6>0,Eing.Allg..Daten!$D$9,0)","v":0},{"$f":"IF(L$6>0,Eing.Allg..Daten!$D$9,0)","v":0},{"$f":"IF(M$6>0,Eing.Allg..Daten!$D$9,0)","v":0},0,null,{"$f":"IF(P$6>0,Eing.Allg..Daten!$D$9,0)","v":0},{"$f":"IF(Q$6>0,Eing.Allg..Daten!$D$9,0)","v":0},{"$f":"IF(R$6>0,Eing.Allg..Daten!$D$9,0)","v":0},{"$f":"IF(S$6>0,Eing.Allg..Daten!$D$9,0)","v":0},0,null,{"$f":"IF(V$6>0,Eing.Allg..Daten!$D$9,0)","v":0},{"$f":"IF(W$6>0,Eing.Allg..Daten!$D$9,0)","v":0},{"$f":"IF(X$6>0,Eing.Allg..Daten!$D$9,0)","v":0},{"$f":"IF(Y$6>0,Eing.Allg..Daten!$D$9,0)","v":0},0,null,0,null,null,null,null,null,null,null,{"$f":"+'Ma2'!$D$1","v":"SG Arheilgen 3"},null,null,null,null,null,0,{"$f":"(IF(ISNA(HLOOKUP(AQ$5,$D$2:$Z$23,14,FALSE))=TRUE,0,HLOOKUP(AQ$5,$D$2:$Z$23,14,FALSE)))+(IF(ISNA(HLOOKUP(AQ$5,$D$28:$Z$49,14,FALSE))=TRUE,0,HLOOKUP(AQ$5,$D$28:$Z$49,14,FALSE)))","v":0},0,0,0,0,0,0,0,0,0,0,0,0,0,0,0]
[11,{"$f":"IF(+Eing.Allg..Daten!$D$8<>\"\",+VLOOKUP(A16,Bahnen!$A$52:$B$144,2,0),\"\")","v":"Netz"},null,{"$f":"IF(D$6>0,Eing.Allg..Daten!$D$9,0)","v":0},{"$f":"IF(E$6>0,Eing.Allg..Daten!$D$9,0)","v":0},{"$f":"IF(F$6>0,Eing.Allg..Daten!$D$9,0)","v":0},{"$f":"IF(G$6>0,Eing.Allg..Daten!$D$9,0)","v":0},0,null,{"$f":"IF(J$6>0,Eing.Allg..Daten!$D$9,0)","v":0},{"$f":"IF(K$6>0,Eing.Allg..Daten!$D$9,0)","v":0},{"$f":"IF(L$6>0,Eing.Allg..Daten!$D$9,0)","v":0},{"$f":"IF(M$6>0,Eing.Allg..Daten!$D$9,0)","v":0},0,null,{"$f":"IF(P$6>0,Eing.Allg..Daten!$D$9,0)","v":0},{"$f":"IF(Q$6>0,Eing.Allg..Daten!$D$9,0)","v":0},{"$f":"IF(R$6>0,Eing.Allg..Daten!$D$9,0)","v":0},{"$f":"IF(S$6>0,Eing.Allg..Daten!$D$9,0)","v":0},0,null,{"$f":"IF(V$6>0,Eing.Allg..Daten!$D$9,0)","v":0},{"$f":"IF(W$6>0,Eing.Allg..Daten!$D$9,0)","v":0},{"$f":"IF(X$6>0,Eing.Allg..Daten!$D$9,0)","v":0},{"$f":"IF(Y$6>0,Eing.Allg..Daten!$D$9,0)","v":0},0,null,0,null,null,null,null,null,null,null,null,null,null,null,null,null,0,{"$f":"(IF(ISNA(HLOOKUP(AQ$5,$D$2:$Z$23,15,FALSE))=TRUE,0,HLOOKUP(AQ$5,$D$2:$Z$23,15,FALSE)))+(IF(ISNA(HLOOKUP(AQ$5,$D$28:$Z$49,15,FALSE))=TRUE,0,HLOOKUP(AQ$5,$D$28:$Z$49,15,FALSE)))","v":0},0,0,0,0,0,0,0,0,0,0,0,0,0,0,0]
[12,{"$f":"IF(+Eing.Allg..Daten!$D$8<>\"\",+VLOOKUP(A17,Bahnen!$A$52:$B$144,2,0),\"\")","v":"Doppelkeile"},null,{"$f":"IF(D$6>0,Eing.Allg..Daten!$D$9,0)","v":0},{"$f":"IF(E$6>0,Eing.Allg..Daten!$D$9,0)","v":0},{"$f":"IF(F$6>0,Eing.Allg..Daten!$D$9,0)","v":0},{"$f":"IF(G$6>0,Eing.Allg..Daten!$D$9,0)","v":0},0,null,{"$f":"IF(J$6>0,Eing.Allg..Daten!$D$9,0)","v":0},{"$f":"IF(K$6>0,Eing.Allg..Daten!$D$9,0)","v":0},{"$f":"IF(L$6>0,Eing.Allg..Daten!$D$9,0)","v":0},{"$f":"IF(M$6>0,Eing.Allg..Daten!$D$9,0)","v":0},0,null,{"$f":"IF(P$6>0,Eing.Allg..Daten!$D$9,0)","v":0},{"$f":"IF(Q$6>0,Eing.Allg..Daten!$D$9,0)","v":0},{"$f":"IF(R$6>0,Eing.Allg..Daten!$D$9,0)","v":0},{"$f":"IF(S$6>0,Eing.Allg..Daten!$D$9,0)","v":0},0,null,{"$f":"IF(V$6>0,Eing.Allg..Daten!$D$9,0)","v":0},{"$f":"IF(W$6>0,Eing.Allg..Daten!$D$9,0)","v":0},{"$f":"IF(X$6>0,Eing.Allg..Daten!$D$9,0)","v":0},{"$f":"IF(Y$6>0,Eing.Allg..Daten!$D$9,0)","v":0},0,null,0,null,null,null,null,null,null,null,{"$f":"+'Ma3'!$D$1","v":"MGC Kahler Sandhasen"},null,null,null,null,null,0,{"$f":"(IF(ISNA(HLOOKUP(AQ$5,$D$2:$Z$23,16,FALSE))=TRUE,0,HLOOKUP(AQ$5,$D$2:$Z$23,16,FALSE)))+(IF(ISNA(HLOOKUP(AQ$5,$D$28:$Z$49,16,FALSE))=TRUE,0,HLOOKUP(AQ$5,$D$28:$Z$49,16,FALSE)))","v":0},0,0,0,0,0,0,0,0,0,0,0,0,0,0,0]
[13,{"$f":"IF(+Eing.Allg..Daten!$D$8<>\"\",+VLOOKUP(A18,Bahnen!$A$52:$B$144,2,0),\"\")","v":"Stumpfe Kegel"},null,{"$f":"IF(D$6>0,Eing.Allg..Daten!$D$9,0)","v":0},{"$f":"IF(E$6>0,Eing.Allg..Daten!$D$9,0)","v":0},{"$f":"IF(F$6>0,Eing.Allg..Daten!$D$9,0)","v":0},{"$f":"IF(G$6>0,Eing.Allg..Daten!$D$9,0)","v":0},0,null,{"$f":"IF(J$6>0,Eing.Allg..Daten!$D$9,0)","v":0},{"$f":"IF(K$6>0,Eing.Allg..Daten!$D$9,0)","v":0},{"$f":"IF(L$6>0,Eing.Allg..Daten!$D$9,0)","v":0},{"$f":"IF(M$6>0,Eing.Allg..Daten!$D$9,0)","v":0},0,null,{"$f":"IF(P$6>0,Eing.Allg..Daten!$D$9,0)","v":0},{"$f":"IF(Q$6>0,Eing.Allg..Daten!$D$9,0)","v":0},{"$f":"IF(R$6>0,Eing.Allg..Daten!$D$9,0)","v":0},{"$f":"IF(S$6>0,Eing.Allg..Daten!$D$9,0)","v":0},0,null,{"$f":"IF(V$6>0,Eing.Allg..Daten!$D$9,0)","v":0},{"$f":"IF(W$6>0,Eing.Allg..Daten!$D$9,0)","v":0},{"$f":"IF(X$6>0,Eing.Allg..Daten!$D$9,0)","v":0},{"$f":"IF(Y$6>0,Eing.Allg..Daten!$D$9,0)","v":0},0,null,0,null,null,null,null,null,null,null,null,null,null,null,null,null,0,{"$f":"(IF(ISNA(HLOOKUP(AQ$5,$D$2:$Z$23,17,FALSE))=TRUE,0,HLOOKUP(AQ$5,$D$2:$Z$23,17,FALSE)))+(IF(ISNA(HLOOKUP(AQ$5,$D$28:$Z$49,17,FALSE))=TRUE,0,HLOOKUP(AQ$5,$D$28:$Z$49,17,FALSE)))","v":0},0,0,0,0,0,0,0,0,0,0,0,0,0,0,0]
[14,{"$f":"IF(+Eing.Allg..Daten!$D$8<>\"\",+VLOOKUP(A19,Bahnen!$A$52:$B$144,2,0),\"\")","v":"Schrägerkreis mit Niere"},null,{"$f":"IF(D$6>0,Eing.Allg..Daten!$D$9,0)","v":0},{"$f":"IF(E$6>0,Eing.Allg..Daten!$D$9,0)","v":0},{"$f":"IF(F$6>0,Eing.Allg..Daten!$D$9,0)","v":0},{"$f":"IF(G$6>0,Eing.Allg..Daten!$D$9,0)","v":0},0,null,{"$f":"IF(J$6>0,Eing.Allg..Daten!$D$9,0)","v":0},{"$f":"IF(K$6>0,Eing.Allg..Daten!$D$9,0)","v":0},{"$f":"IF(L$6>0,Eing.Allg..Daten!$D$9,0)","v":0},{"$f":"IF(M$6>0,Eing.Allg..Daten!$D$9,0)","v":0},0,null,{"$f":"IF(P$6>0,Eing.Allg..Daten!$D$9,0)","v":0},{"$f":"IF(Q$6>0,Eing.Allg..Daten!$D$9,0)","v":0},{"$f":"IF(R$6>0,Eing.Allg..Daten!$D$9,0)","v":0},{"$f":"IF(S$6>0,Eing.Allg..Daten!$D$9,0)","v":0},0,null,{"$f":"IF(V$6>0,Eing.Allg..Daten!$D$9,0)","v":0},{"$f":"IF(W$6>0,Eing.Allg..Daten!$D$9,0)","v":0},{"$f":"IF(X$6>0,Eing.Allg..Daten!$D$9,0)","v":0},{"$f":"IF(Y$6>0,Eing.Allg..Daten!$D$9,0)","v":0},0,null,0,null,null,null,null,null,null,null,{"$f":"+'Ma4'!$D$1","v":"SG Weiterstadt"},null,null,null,null,null,0,{"$f":"(IF(ISNA(HLOOKUP(AQ$5,$D$2:$Z$23,18,FALSE))=TRUE,0,HLOOKUP(AQ$5,$D$2:$Z$23,18,FALSE)))+(IF(ISNA(HLOOKUP(AQ$5,$D$28:$Z$49,18,FALSE))=TRUE,0,HLOOKUP(AQ$5,$D$28:$Z$49,18,FALSE)))","v":0},0,0,0,0,0,0,0,0,0,0,0,0,0,0,0]
[15,{"$f":"IF(+Eing.Allg..Daten!$D$8<>\"\",+VLOOKUP(A20,Bahnen!$A$52:$B$144,2,0),\"\")","v":"Brücke"},null,{"$f":"IF(D$6>0,Eing.Allg..Daten!$D$9,0)","v":0},{"$f":"IF(E$6>0,Eing.Allg..Daten!$D$9,0)","v":0},{"$f":"IF(F$6>0,Eing.Allg..Daten!$D$9,0)","v":0},{"$f":"IF(G$6>0,Eing.Allg..Daten!$D$9,0)","v":0},0,null,{"$f":"IF(J$6>0,Eing.Allg..Daten!$D$9,0)","v":0},{"$f":"IF(K$6>0,Eing.Allg..Daten!$D$9,0)","v":0},{"$f":"IF(L$6>0,Eing.Allg..Daten!$D$9,0)","v":0},{"$f":"IF(M$6>0,Eing.Allg..Daten!$D$9,0)","v":0},0,null,{"$f":"IF(P$6>0,Eing.Allg..Daten!$D$9,0)","v":0},{"$f":"IF(Q$6>0,Eing.Allg..Daten!$D$9,0)","v":0},{"$f":"IF(R$6>0,Eing.Allg..Daten!$D$9,0)","v":0},{"$f":"IF(S$6>0,Eing.Allg..Daten!$D$9,0)","v":0},0,null,{"$f":"IF(V$6>0,Eing.Allg..Daten!$D$9,0)","v":0},{"$f":"IF(W$6>0,Eing.Allg..Daten!$D$9,0)","v":0},{"$f":"IF(X$6>0,Eing.Allg..Daten!$D$9,0)","v":0},{"$f":"IF(Y$6>0,Eing.Allg..Daten!$D$9,0)","v":0},0,null,0,null,null,null,null,null,null,null,null,null,null,null,null,null,0,{"$f":"(IF(ISNA(HLOOKUP(AQ$5,$D$2:$Z$23,19,FALSE))=TRUE,0,HLOOKUP(AQ$5,$D$2:$Z$23,19,FALSE)))+(IF(ISNA(HLOOKUP(AQ$5,$D$28:$Z$49,19,FALSE))=TRUE,0,HLOOKUP(AQ$5,$D$28:$Z$49,19,FALSE)))","v":0},0,0,0,0,0,0,0,0,0,0,0,0,0,0,0]
[16,{"$f":"IF(+Eing.Allg..Daten!$D$8<>\"\",+VLOOKUP(A21,Bahnen!$A$52:$B$144,2,0),\"\")","v":"Vulkan"},null,{"$f":"IF(D$6>0,Eing.Allg..Daten!$D$9,0)","v":0},{"$f":"IF(E$6>0,Eing.Allg..Daten!$D$9,0)","v":0},{"$f":"IF(F$6>0,Eing.Allg..Daten!$D$9,0)","v":0},{"$f":"IF(G$6>0,Eing.Allg..Daten!$D$9,0)","v":0},0,null,{"$f":"IF(J$6>0,Eing.Allg..Daten!$D$9,0)","v":0},{"$f":"IF(K$6>0,Eing.Allg..Daten!$D$9,0)","v":0},{"$f":"IF(L$6>0,Eing.Allg..Daten!$D$9,0)","v":0},{"$f":"IF(M$6>0,Eing.Allg..Daten!$D$9,0)","v":0},0,null,{"$f":"IF(P$6>0,Eing.Allg..Daten!$D$9,0)","v":0},{"$f":"IF(Q$6>0,Eing.Allg..Daten!$D$9,0)","v":0},{"$f":"IF(R$6>0,Eing.Allg..Daten!$D$9,0)","v":0},{"$f":"IF(S$6>0,Eing.Allg..Daten!$D$9,0)","v":0},0,null,{"$f":"IF(V$6>0,Eing.Allg..Daten!$D$9,0)","v":0},{"$f":"IF(W$6>0,Eing.Allg..Daten!$D$9,0)","v":0},{"$f":"IF(X$6>0,Eing.Allg..Daten!$D$9,0)","v":0},{"$f":"IF(Y$6>0,Eing.Allg..Daten!$D$9,0)","v":0},0,null,0,null,null,null,null,null,null,null,{"$f":"+'Ma5'!$D$1","v":"MGC Bad Homburg 2"},null,null,null,null,null,0,{"$f":"(IF(ISNA(HLOOKUP(AQ$5,$D$2:$Z$23,20,FALSE))=TRUE,0,HLOOKUP(AQ$5,$D$2:$Z$23,20,FALSE)))+(IF(ISNA(HLOOKUP(AQ$5,$D$28:$Z$49,20,FALSE))=TRUE,0,HLOOKUP(AQ$5,$D$28:$Z$49,20,FALSE)))","v":0},0,0,0,0,0,0,0,0,0,0,0,0,0,0,0]
[17,{"$f":"IF(+Eing.Allg..Daten!$D$8<>\"\",+VLOOKUP(A22,Bahnen!$A$52:$B$144,2,0),\"\")","v":"Auflaufkeil mit Zielfenster"},null,{"$f":"IF(D$6>0,Eing.Allg..Daten!$D$9,0)","v":0},{"$f":"IF(E$6>0,Eing.Allg..Daten!$D$9,0)","v":0},{"$f":"IF(F$6>0,Eing.Allg..Daten!$D$9,0)","v":0},{"$f":"IF(G$6>0,Eing.Allg..Daten!$D$9,0)","v":0},0,null,{"$f":"IF(J$6>0,Eing.Allg..Daten!$D$9,0)","v":0},{"$f":"IF(K$6>0,Eing.Allg..Daten!$D$9,0)","v":0},{"$f":"IF(L$6>0,Eing.Allg..Daten!$D$9,0)","v":0},{"$f":"IF(M$6>0,Eing.Allg..Daten!$D$9,0)","v":0},0,null,{"$f":"IF(P$6>0,Eing.Allg..Daten!$D$9,0)","v":0},{"$f":"IF(Q$6>0,Eing.Allg..Daten!$D$9,0)","v":0},{"$f":"IF(R$6>0,Eing.Allg..Daten!$D$9,0)","v":0},{"$f":"IF(S$6>0,Eing.Allg..Daten!$D$9,0)","v":0},0,null,{"$f":"IF(V$6>0,Eing.Allg..Daten!$D$9,0)","v":0},{"$f":"IF(W$6>0,Eing.Allg..Daten!$D$9,0)","v":0},{"$f":"IF(X$6>0,Eing.Allg..Daten!$D$9,0)","v":0},{"$f":"IF(Y$6>0,Eing.Allg..Daten!$D$9,0)","v":0},0,null,0,null,null,null,null,null,null,null,null,null,null,null,null,null,0,{"$f":"(IF(ISNA(HLOOKUP(AQ$5,$D$2:$Z$23,21,FALSE))=TRUE,0,HLOOKUP(AQ$5,$D$2:$Z$23,21,FALSE)))+(IF(ISNA(HLOOKUP(AQ$5,$D$28:$Z$49,21,FALSE))=TRUE,0,HLOOKUP(AQ$5,$D$28:$Z$49,21,FALSE)))","v":0},0,0,0,0,0,0,0,0,0,0,0,0,0,0,0]
[18,{"$f":"IF(+Eing.Allg..Daten!$D$8<>\"\",+VLOOKUP(A23,Bahnen!$A$52:$B$144,2,0),\"\")","v":"Blitz"},null,{"$f":"IF(D$6>0,Eing.Allg..Daten!$D$9,0)","v":0},{"$f":"IF(E$6>0,Eing.Allg..Daten!$D$9,0)","v":0},{"$f":"IF(F$6>0,Eing.Allg..Daten!$D$9,0)","v":0},{"$f":"IF(G$6>0,Eing.Allg..Daten!$D$9,0)","v":0},0,null,{"$f":"IF(J$6>0,Eing.Allg..Daten!$D$9,0)","v":0},{"$f":"IF(K$6>0,Eing.Allg..Daten!$D$9,0)","v":0},{"$f":"IF(L$6>0,Eing.Allg..Daten!$D$9,0)","v":0},{"$f":"IF(M$6>0,Eing.Allg..Daten!$D$9,0)","v":0},0,null,{"$f":"IF(P$6>0,Eing.Allg..Daten!$D$9,0)","v":0},{"$f":"IF(Q$6>0,Eing.Allg..Daten!$D$9,0)","v":0},{"$f":"IF(R$6>0,Eing.Allg..Daten!$D$9,0)","v":0},{"$f":"IF(S$6>0,Eing.Allg..Daten!$D$9,0)","v":0},0,null,{"$f":"IF(V$6>0,Eing.Allg..Daten!$D$9,0)","v":0},{"$f":"IF(W$6>0,Eing.Allg..Daten!$D$9,0)","v":0},{"$f":"IF(X$6>0,Eing.Allg..Daten!$D$9,0)","v":0},{"$f":"IF(Y$6>0,Eing.Allg..Daten!$D$9,0)","v":0},0,null,0,null,null,null,null,null,null,null,{"$f":"+'Ma6'!$D$1","v":"SV Dreieichenhain"},null,null,null,null,null,0,{"$f":"(IF(ISNA(HLOOKUP(AQ$5,$D$2:$Z$23,22,FALSE))=TRUE,0,HLOOKUP(AQ$5,$D$2:$Z$23,22,FALSE)))+(IF(ISNA(HLOOKUP(AQ$5,$D$28:$Z$49,22,FALSE))=TRUE,0,HLOOKUP(AQ$5,$D$28:$Z$49,22,FALSE)))","v":0},0,0,0,0,0,0,0,0,0,0,0,0,0,0,0]
[null,"Strafpunkte",null,null,null,null,null,0,null,null,null,null,null,0,null,null,null,null,null,0,null,null,null,null,null,0]
[null,null,null,{"$f":"IF(D23<>0,SUM(D6:D24),999)","v":999},{"$f":"IF(E23<>0,SUM(E6:E24),999)","v":999},{"$f":"IF(F23<>0,SUM(F6:F24),999)","v":999},{"$f":"IF(G23<>0,SUM(G6:G24),999)","v":999},{"$f":"SUM(H6:H24)","v":0},null,{"$f":"IF(J23<>0,SUM(J6:J24),999)","v":999},{"$f":"IF(K23<>0,SUM(K6:K24),999)","v":999},{"$f":"IF(L23<>0,SUM(L6:L24),999)","v":999},{"$f":"IF(M23<>0,SUM(M6:M24),999)","v":999},{"$f":"SUM(N6:N24)","v":0},null,{"$f":"IF(P23<>0,SUM(P6:P24),999)","v":999},{"$f":"IF(Q23<>0,SUM(Q6:Q24),999)","v":999},{"$f":"IF(R23<>0,SUM(R6:R24),999)","v":999},{"$f":"IF(S23<>0,SUM(S6:S24),999)","v":999},{"$f":"SUM(T6:T24)","v":0},null,{"$f":"IF(V23<>0,SUM(V6:V24),999)","v":999},{"$f":"IF(W23<>0,SUM(W6:W24),999)","v":999},{"$f":"IF(X23<>0,SUM(X6:X24),999)","v":999},{"$f":"IF(Y23<>0,SUM(Y6:Y24),999)","v":999},{"$f":"SUM(Z6:Z24)","v":0},null,{"$f":"SUM(AB6:AB23)","v":0},null,null,null,null,null,null,null,{"$f":"+'Ma7'!$D$1","v":"MGC Heringen"},null,null,null,null,null,null,{"$f":"SUM(AQ6:AQ24)","v":0},0,0,0,0,0,0,0,0,0,0,0,0,0,0,0]
[null,null,null,{"$f":"SUM(D25:G25)","v":3996},null,null,null,null,null,{"$f":"SUM(J25:M25)","v":3996},null,null,null,null,null,{"$f":"SUM(P25:S25)","v":3996},null,null,null,null,null,{"$f":"SUM(V25:Y25)","v":3996}]
[null,null,null,{"$f":"IF(D6=0,\"DNS\",IF(D23=0,\"DNF\",1))","v":"DNS"},{"$f":"IF(E6=0,\"DNS\",IF(E23=0,\"DNF\",1))","v":"DNS"},{"$f":"IF(F6=0,\"DNS\",IF(F23=0,\"DNF\",1))","v":"DNS"},{"$f":"IF(G6=0,\"DNS\",IF(G23=0,\"DNF\",1))","v":"DNS"},{"$f":"IF(SUM(D27:G27)=Tagestabelle!$N$3,\"FIN\",\"DNF\")","v":"FIN"},null,{"$f":"IF(J6=0,\"DNS\",IF(J23=0,\"DNF\",1))","v":"DNS"},{"$f":"IF(K6=0,\"DNS\",IF(K23=0,\"DNF\",1))","v":"DNS"},{"$f":"IF(L6=0,\"DNS\",IF(L23=0,\"DNF\",1))","v":"DNS"},{"$f":"IF(M6=0,\"DNS\",IF(M23=0,\"DNF\",1))","v":"DNS"},{"$f":"IF(SUM(J27:M27)=Tagestabelle!$N$3,\"FIN\",\"DNF\")","v":"FIN"},null,{"$f":"IF(P6=0,\"DNS\",IF(P23=0,\"DNF\",1))","v":"DNS"},{"$f":"IF(Q6=0,\"DNS\",IF(Q23=0,\"DNF\",1))","v":"DNS"},{"$f":"IF(R6=0,\"DNS\",IF(R23=0,\"DNF\",1))","v":"DNS"},{"$f":"IF(S6=0,\"DNS\",IF(S23=0,\"DNF\",1))","v":"DNS"},{"$f":"IF(SUM(P27:S27)=Tagestabelle!$N$3,\"FIN\",\"DNF\")","v":"FIN"},null,{"$f":"IF(V6=0,\"DNS\",IF(V23=0,\"DNF\",1))","v":"DNS"},{"$f":"IF(W6=0,\"DNS\",IF(W23=0,\"DNF\",1))","v":"DNS"},{"$f":"IF(X6=0,\"DNS\",IF(X23=0,\"DNF\",1))","v":"DNS"},{"$f":"IF(Y6=0,\"DNS\",IF(Y23=0,\"DNF\",1))","v":"DNS"},{"$f":"IF(SUM(V27:Y27)=Tagestabelle!$N$3,\"FIN\",\"DNF\")","v":"FIN"},6]
[null,null,null,"M7S5R1","M7S5R2","M7S5R3","M7S5R4",null,null,"M7S6R1","M7S6R2","M7S6R3","M7S6R4",null,null,"M7S7R1","M7S7R2","M7S7R3","M7S7R4",null,null,"M7S8R1","M7S8R2","M7S8R3","M7S8R4"]
[null,null,null,"Spieler 5",null,null,null,"Kat.",null,"Spieler 6",null,null,null,"Kat.",null,"Spieler 7",null,null,null,"Kat.",null,"Spieler 8",null,null,null,"Kat.",null,"Zus. Einzelsp.",null,null,null,"Kat."]
["Bahn  ",null,null,{"$f":"+M7S5","v":{"$error":"#N/A"}},null,null,null,{"$f":"+M7S5Kat","v":{"$error":"#N/A"}},null,{"$f":"+M7S6","v":{"$error":"#N/A"}},null,null,null,{"$f":"+M7S6Kat","v":{"$error":"#N/A"}},null,{"$f":"+M7S7","v":{"$error":"#N/A"}},null,null,null,{"$f":"+M7S7Kat","v":{"$error":"#N/A"}},null,{"$f":"+M7S8","v":{"$error":"#N/A"}},null,null,null,{"$f":"+M7S8Kat","v":{"$error":"#N/A"}},null,{"$f":"+M7SAK","v":{"$error":"#N/A"}},null,null,null,{"$f":"+M7SAKKat","v":{"$error":"#N/A"}}]
["Nr.","Bez. ",null,{"$f":"+M7S5p","v":0},null,null,null,null,null,{"$f":"+M7S6p","v":0},null,null,null,null,null,{"$f":"+M7S7p","v":0},null,null,null,null,null,{"$f":"+M7S8p","v":0},null,null,null,null,null,{"$f":"+M7SAKp","v":0}]
[1,{"$f":"IF(+Eing.Allg..Daten!$D$8<>\"\",+VLOOKUP(A32,Bahnen!$A$52:$B$144,2,0),\"\")","v":"Gerade Bahn ohne Hindernis"},null,null,null,null,null,{"$f":"SUM(D32:G32)","v":0},null,null,null,null,null,{"$f":"SUM(J32:M32)","v":0},null,null,null,null,null,{"$f":"SUM(P32:S32)","v":0},null,null,null,null,null,{"$f":"SUM(V32:Y32)","v":0},null,null,null,null,null,{"$f":"SUM(AB32:AE32)","v":0}]
[2,{"$f":"IF(+Eing.Allg..Daten!$D$8<>\"\",+VLOOKUP(A33,Bahnen!$A$52:$B$144,2,0),\"\")","v":"Salto"},null,{"$f":"IF(D$32>0,Eing.Allg..Daten!$D$9,0)","v":0},{"$f":"IF(E$32>0,Eing.Allg..Daten!$D$9,0)","v":0},{"$f":"IF(F$32>0,Eing.Allg..Daten!$D$9,0)","v":0},{"$f":"IF(G$32>0,Eing.Allg..Daten!$D$9,0)","v":0},0,null,{"$f":"IF(J$32>0,Eing.Allg..Daten!$D$9,0)","v":0},{"$f":"IF(K$32>0,Eing.Allg..Daten!$D$9,0)","v":0},{"$f":"IF(L$32>0,Eing.Allg..Daten!$D$9,0)","v":0},{"$f":"IF(M$32>0,Eing.Allg..Daten!$D$9,0)","v":0},0,null,{"$f":"IF(P$32>0,Eing.Allg..Daten!$D$9,0)","v":0},{"$f":"IF(Q$32>0,Eing.Allg..Daten!$D$9,0)","v":0},{"$f":"IF(R$32>0,Eing.Allg..Daten!$D$9,0)","v":0},{"$f":"IF(S$32>0,Eing.Allg..Daten!$D$9,0)","v":0},0,null,{"$f":"IF(V$32>0,Eing.Allg..Daten!$D$9,0)","v":0},{"$f":"IF(W$32>0,Eing.Allg..Daten!$D$9,0)","v":0},{"$f":"IF(X$32>0,Eing.Allg..Daten!$D$9,0)","v":0},{"$f":"IF(Y$32>0,Eing.Allg..Daten!$D$9,0)","v":0},0,null,{"$f":"IF(AB$32>0,Eing.Allg..Daten!$D$9,0)","v":0},{"$f":"IF(AC$32>0,Eing.Allg..Daten!$D$9,0)","v":0},{"$f":"IF(AD$32>0,Eing.Allg..Daten!$D$9,0)","v":0},{"$f":"IF(AE$32>0,Eing.Allg..Daten!$D$9,0)","v":0},0]
[3,{"$f":"IF(+Eing.Allg..Daten!$D$8<>\"\",+VLOOKUP(A34,Bahnen!$A$52:$B$144,2,0),\"\")","v":"Pyramiden"},null,{"$f":"IF(D$32>0,Eing.Allg..Daten!$D$9,0)","v":0},{"$f":"IF(E$32>0,Eing.Allg..Daten!$D$9,0)","v":0},{"$f":"IF(F$32>0,Eing.Allg..Daten!$D$9,0)","v":0},{"$f":"IF(G$32>0,Eing.Allg..Daten!$D$9,0)","v":0},0,null,{"$f":"IF(J$32>0,Eing.Allg..Daten!$D$9,0)","v":0},{"$f":"IF(K$32>0,Eing.Allg..Daten!$D$9,0)","v":0},{"$f":"IF(L$32>0,Eing.Allg..Daten!$D$9,0)","v":0},{"$f":"IF(M$32>0,Eing.Allg..Daten!$D$9,0)","v":0},0,null,{"$f":"IF(P$32>0,Eing.Allg..Daten!$D$9,0)","v":0},{"$f":"IF(Q$32>0,Eing.Allg..Daten!$D$9,0)","v":0},{"$f":"IF(R$32>0,Eing.Allg..Daten!$D$9,0)","v":0},{"$f":"IF(S$32>0,Eing.Allg..Daten!$D$9,0)","v":0},0,null,{"$f":"IF(V$32>0,Eing.Allg..Daten!$D$9,0)","v":0},{"$f":"IF(W$32>0,Eing.Allg..Daten!$D$9,0)","v":0},{"$f":"IF(X$32>0,Eing.Allg..Daten!$D$9,0)","v":0},{"$f":"IF(Y$32>0,Eing.Allg..Daten!$D$9,0)","v":0},0,null,{"$f":"IF(AB$32>0,Eing.Allg..Daten!$D$9,0)","v":0},{"$f":"IF(AC$32>0,Eing.Allg..Daten!$D$9,0)","v":0},{"$f":"IF(AD$32>0,Eing.Allg..Daten!$D$9,0)","v":0},{"$f":"IF(AE$32>0,Eing.Allg..Daten!$D$9,0)","v":0},0]
[4,{"$f":"IF(+Eing.Allg..Daten!$D$8<>\"\",+VLOOKUP(A35,Bahnen!$A$52:$B$144,2,0),\"\")","v":"Mittelhügel"},null,{"$f":"IF(D$32>0,Eing.Allg..Daten!$D$9,0)","v":0},{"$f":"IF(E$32>0,Eing.Allg..Daten!$D$9,0)","v":0},{"$f":"IF(F$32>0,Eing.Allg..Daten!$D$9,0)","v":0},{"$f":"IF(G$32>0,Eing.Allg..Daten!$D$9,0)","v":0},0,null,{"$f":"IF(J$32>0,Eing.Allg..Daten!$D$9,0)","v":0},{"$f":"IF(K$32>0,Eing.Allg..Daten!$D$9,0)","v":0},{"$f":"IF(L$32>0,Eing.Allg..Daten!$D$9,0)","v":0},{"$f":"IF(M$32>0,Eing.Allg..Daten!$D$9,0)","v":0},0,null,{"$f":"IF(P$32>0,Eing.Allg..Daten!$D$9,0)","v":0},{"$f":"IF(Q$32>0,Eing.Allg..Daten!$D$9,0)","v":0},{"$f":"IF(R$32>0,Eing.Allg..Daten!$D$9,0)","v":0},{"$f":"IF(S$32>0,Eing.Allg..Daten!$D$9,0)","v":0},0,null,{"$f":"IF(V$32>0,Eing.Allg..Daten!$D$9,0)","v":0},{"$f":"IF(W$32>0,Eing.Allg..Daten!$D$9,0)","v":0},{"$f":"IF(X$32>0,Eing.Allg..Daten!$D$9,0)","v":0},{"$f":"IF(Y$32>0,Eing.Allg..Daten!$D$9,0)","v":0},0,null,{"$f":"IF(AB$32>0,Eing.Allg..Daten!$D$9,0)","v":0},{"$f":"IF(AC$32>0,Eing.Allg..Daten!$D$9,0)","v":0},{"$f":"IF(AD$32>0,Eing.Allg..Daten!$D$9,0)","v":0},{"$f":"IF(AE$32>0,Eing.Allg..Daten!$D$9,0)","v":0},0]
[5,{"$f":"IF(+Eing.Allg..Daten!$D$8<>\"\",+VLOOKUP(A36,Bahnen!$A$52:$B$144,2,0),\"\")","v":"\"V\" - Hindernis"},null,{"$f":"IF(D$32>0,Eing.Allg..Daten!$D$9,0)","v":0},{"$f":"IF(E$32>0,Eing.Allg..Daten!$D$9,0)","v":0},{"$f":"IF(F$32>0,Eing.Allg..Daten!$D$9,0)","v":0},{"$f":"IF(G$32>0,Eing.Allg..Daten!$D$9,0)","v":0},0,null,{"$f":"IF(J$32>0,Eing.Allg..Daten!$D$9,0)","v":0},{"$f":"IF(K$32>0,Eing.Allg..Daten!$D$9,0)","v":0},{"$f":"IF(L$32>0,Eing.Allg..Daten!$D$9,0)","v":0},{"$f":"IF(M$32>0,Eing.Allg..Daten!$D$9,0)","v":0},0,null,{"$f":"IF(P$32>0,Eing.Allg..Daten!$D$9,0)","v":0},{"$f":"IF(Q$32>0,Eing.Allg..Daten!$D$9,0)","v":0},{"$f":"IF(R$32>0,Eing.Allg..Daten!$D$9,0)","v":0},{"$f":"IF(S$32>0,Eing.Allg..Daten!$D$9,0)","v":0},0,null,{"$f":"IF(V$32>0,Eing.Allg..Daten!$D$9,0)","v":0},{"$f":"IF(W$32>0,Eing.Allg..Daten!$D$9,0)","v":0},{"$f":"IF(X$32>0,Eing.Allg..Daten!$D$9,0)","v":0},{"$f":"IF(Y$32>0,Eing.Allg..Daten!$D$9,0)","v":0},0,null,{"$f":"IF(AB$32>0,Eing.Allg..Daten!$D$9,0)","v":0},{"$f":"IF(AC$32>0,Eing.Allg..Daten!$D$9,0)","v":0},{"$f":"IF(AD$32>0,Eing.Allg..Daten!$D$9,0)","v":0},{"$f":"IF(AE$32>0,Eing.Allg..Daten!$D$9,0)","v":0},0]
[6,{"$f":"IF(+Eing.Allg..Daten!$D$8<>\"\",+VLOOKUP(A37,Bahnen!$A$52:$B$144,2,0),\"\")","v":"Doppelwellen"},null,{"$f":"IF(D$32>0,Eing.Allg..Daten!$D$9,0)","v":0},{"$f":"IF(E$32>0,Eing.Allg..Daten!$D$9,0)","v":0},{"$f":"IF(F$32>0,Eing.Allg..Daten!$D$9,0)","v":0},{"$f":"IF(G$32>0,Eing.Allg..Daten!$D$9,0)","v":0},0,null,{"$f":"IF(J$32>0,Eing.Allg..Daten!$D$9,0)","v":0},{"$f":"IF(K$32>0,Eing.Allg..Daten!$D$9,0)","v":0},{"$f":"IF(L$32>0,Eing.Allg..Daten!$D$9,0)","v":0},{"$f":"IF(M$32>0,Eing.Allg..Daten!$D$9,0)","v":0},0,null,{"$f":"IF(P$32>0,Eing.Allg..Daten!$D$9,0)","v":0},{"$f":"IF(Q$32>0,Eing.Allg..Daten!$D$9,0)","v":0},{"$f":"IF(R$32>0,Eing.Allg..Daten!$D$9,0)","v":0},{"$f":"IF(S$32>0,Eing.Allg..Daten!$D$9,0)","v":0},0,null,{"$f":"IF(V$32>0,Eing.Allg..Daten!$D$9,0)","v":0},{"$f":"IF(W$32>0,Eing.Allg..Daten!$D$9,0)","v":0},{"$f":"IF(X$32>0,Eing.Allg..Daten!$D$9,0)","v":0},{"$f":"IF(Y$32>0,Eing.Allg..Daten!$D$9,0)","v":0},0,null,{"$f":"IF(AB$32>0,Eing.Allg..Daten!$D$9,0)","v":0},{"$f":"IF(AC$32>0,Eing.Allg..Daten!$D$9,0)","v":0},{"$f":"IF(AD$32>0,Eing.Allg..Daten!$D$9,0)","v":0},{"$f":"IF(AE$32>0,Eing.Allg..Daten!$D$9,0)","v":0},0]
[7,{"$f":"IF(+Eing.Allg..Daten!$D$8<>\"\",+VLOOKUP(A38,Bahnen!$A$52:$B$144,2,0),\"\")","v":"Rohr"},null,{"$f":"IF(D$32>0,Eing.Allg..Daten!$D$9,0)","v":0},{"$f":"IF(E$32>0,Eing.Allg..Daten!$D$9,0)","v":0},{"$f":"IF(F$32>0,Eing.Allg..Daten!$D$9,0)","v":0},{"$f":"IF(G$32>0,Eing.Allg..Daten!$D$9,0)","v":0},0,null,{"$f":"IF(J$32>0,Eing.Allg..Daten!$D$9,0)","v":0},{"$f":"IF(K$32>0,Eing.Allg..Daten!$D$9,0)","v":0},{"$f":"IF(L$32>0,Eing.Allg..Daten!$D$9,0)","v":0},{"$f":"IF(M$32>0,Eing.Allg..Daten!$D$9,0)","v":0},0,null,{"$f":"IF(P$32>0,Eing.Allg..Daten!$D$9,0)","v":0},{"$f":"IF(Q$32>0,Eing.Allg..Daten!$D$9,0)","v":0},{"$f":"IF(R$32>0,Eing.Allg..Daten!$D$9,0)","v":0},{"$f":"IF(S$32>0,Eing.Allg..Daten!$D$9,0)","v":0},0,null,{"$f":"IF(V$32>0,Eing.Allg..Daten!$D$9,0)","v":0},{"$f":"IF(W$32>0,Eing.Allg..Daten!$D$9,0)","v":0},{"$f":"IF(X$32>0,Eing.Allg..Daten!$D$9,0)","v":0},{"$f":"IF(Y$32>0,Eing.Allg..Daten!$D$9,0)","v":0},0,null,{"$f":"IF(AB$32>0,Eing.Allg..Daten!$D$9,0)","v":0},{"$f":"IF(AC$32>0,Eing.Allg..Daten!$D$9,0)","v":0},{"$f":"IF(AD$32>0,Eing.Allg..Daten!$D$9,0)","v":0},{"$f":"IF(AE$32>0,Eing.Allg..Daten!$D$9,0)","v":0},0]
[8,{"$f":"IF(+Eing.Allg..Daten!$D$8<>\"\",+VLOOKUP(A39,Bahnen!$A$52:$B$144,2,0),\"\")","v":"Passagen"},null,{"$f":"IF(D$32>0,Eing.Allg..Daten!$D$9,0)","v":0},{"$f":"IF(E$32>0,Eing.Allg..Daten!$D$9,0)","v":0},{"$f":"IF(F$32>0,Eing.Allg..Daten!$D$9,0)","v":0},{"$f":"IF(G$32>0,Eing.Allg..Daten!$D$9,0)","v":0},0,null,{"$f":"IF(J$32>0,Eing.Allg..Daten!$D$9,0)","v":0},{"$f":"IF(K$32>0,Eing.Allg..Daten!$D$9,0)","v":0},{"$f":"IF(L$32>0,Eing.Allg..Daten!$D$9,0)","v":0},{"$f":"IF(M$32>0,Eing.Allg..Daten!$D$9,0)","v":0},0,null,{"$f":"IF(P$32>0,Eing.Allg..Daten!$D$9,0)","v":0},{"$f":"IF(Q$32>0,Eing.Allg..Daten!$D$9,0)","v":0},{"$f":"IF(R$32>0,Eing.Allg..Daten!$D$9,0)","v":0},{"$f":"IF(S$32>0,Eing.Allg..Daten!$D$9,0)","v":0},0,null,{"$f":"IF(V$32>0,Eing.Allg..Daten!$D$9,0)","v":0},{"$f":"IF(W$32>0,Eing.Allg..Daten!$D$9,0)","v":0},{"$f":"IF(X$32>0,Eing.Allg..Daten!$D$9,0)","v":0},{"$f":"IF(Y$32>0,Eing.Allg..Daten!$D$9,0)","v":0},0,null,{"$f":"IF(AB$32>0,Eing.Allg..Daten!$D$9,0)","v":0},{"$f":"IF(AC$32>0,Eing.Allg..Daten!$D$9,0)","v":0},{"$f":"IF(AD$32>0,Eing.Allg..Daten!$D$9,0)","v":0},{"$f":"IF(AE$32>0,Eing.Allg..Daten!$D$9,0)","v":0},0]
[9,{"$f":"IF(+Eing.Allg..Daten!$D$8<>\"\",+VLOOKUP(A40,Bahnen!$A$52:$B$144,2,0),\"\")","v":"Liegende Schleife"},null,{"$f":"IF(D$32>0,Eing.Allg..Daten!$D$9,0)","v":0},{"$f":"IF(E$32>0,Eing.Allg..Daten!$D$9,0)","v":0},{"$f":"IF(F$32>0,Eing.Allg..Daten!$D$9,0)","v":0},{"$f":"IF(G$32>0,Eing.Allg..Daten!$D$9,0)","v":0},0,null,{"$f":"IF(J$32>0,Eing.Allg..Daten!$D$9,0)","v":0},{"$f":"IF(K$32>0,Eing.Allg..Daten!$D$9,0)","v":0},{"$f":"IF(L$32>0,Eing.Allg..Daten!$D$9,0)","v":0},{"$f":"IF(M$32>0,Eing.Allg..Daten!$D$9,0)","v":0},0,null,{"$f":"IF(P$32>0,Eing.Allg..Daten!$D$9,0)","v":0},{"$f":"IF(Q$32>0,Eing.Allg..Daten!$D$9,0)","v":0},{"$f":"IF(R$32>0,Eing.Allg..Daten!$D$9,0)","v":0},{"$f":"IF(S$32>0,Eing.Allg..Daten!$D$9,0)","v":0},0,null,{"$f":"IF(V$32>0,Eing.Allg..Daten!$D$9,0)","v":0},{"$f":"IF(W$32>0,Eing.Allg..Daten!$D$9,0)","v":0},{"$f":"IF(X$32>0,Eing.Allg..Daten!$D$9,0)","v":0},{"$f":"IF(Y$32>0,Eing.Allg..Daten!$D$9,0)","v":0},0,null,{"$f":"IF(AB$32>0,Eing.Allg..Daten!$D$9,0)","v":0},{"$f":"IF(AC$32>0,Eing.Allg..Daten!$D$9,0)","v":0},{"$f":"IF(AD$32>0,Eing.Allg..Daten!$D$9,0)","v":0},{"$f":"IF(AE$32>0,Eing.Allg..Daten!$D$9,0)","v":0},0]
[10,{"$f":"IF(+Eing.Allg..Daten!$D$8<>\"\",+VLOOKUP(A41,Bahnen!$A$52:$B$144,2,0),\"\")","v":"Winkel"},null,{"$f":"IF(D$32>0,Eing.Allg..Daten!$D$9,0)","v":0},{"$f":"IF(E$32>0,Eing.Allg..Daten!$D$9,0)","v":0},{"$f":"IF(F$32>0,Eing.Allg..Daten!$D$9,0)","v":0},{"$f":"IF(G$32>0,Eing.Allg..Daten!$D$9,0)","v":0},0,null,{"$f":"IF(J$32>0,Eing.Allg..Daten!$D$9,0)","v":0},{"$f":"IF(K$32>0,Eing.Allg..Daten!$D$9,0)","v":0},{"$f":"IF(L$32>0,Eing.Allg..Daten!$D$9,0)","v":0},{"$f":"IF(M$32>0,Eing.Allg..Daten!$D$9,0)","v":0},0,null,{"$f":"IF(P$32>0,Eing.Allg..Daten!$D$9,0)","v":0},{"$f":"IF(Q$32>0,Eing.Allg..Daten!$D$9,0)","v":0},{"$f":"IF(R$32>0,Eing.Allg..Daten!$D$9,0)","v":0},{"$f":"IF(S$32>0,Eing.Allg..Daten!$D$9,0)","v":0},0,null,{"$f":"IF(V$32>0,Eing.Allg..Daten!$D$9,0)","v":0},{"$f":"IF(W$32>0,Eing.Allg..Daten!$D$9,0)","v":0},{"$f":"IF(X$32>0,Eing.Allg..Daten!$D$9,0)","v":0},{"$f":"IF(Y$32>0,Eing.Allg..Daten!$D$9,0)","v":0},0,null,{"$f":"IF(AB$32>0,Eing.Allg..Daten!$D$9,0)","v":0},{"$f":"IF(AC$32>0,Eing.Allg..Daten!$D$9,0)","v":0},{"$f":"IF(AD$32>0,Eing.Allg..Daten!$D$9,0)","v":0},{"$f":"IF(AE$32>0,Eing.Allg..Daten!$D$9,0)","v":0},0]
[11,{"$f":"IF(+Eing.Allg..Daten!$D$8<>\"\",+VLOOKUP(A42,Bahnen!$A$52:$B$144,2,0),\"\")","v":"Netz"},null,{"$f":"IF(D$32>0,Eing.Allg..Daten!$D$9,0)","v":0},{"$f":"IF(E$32>0,Eing.Allg..Daten!$D$9,0)","v":0},{"$f":"IF(F$32>0,Eing.Allg..Daten!$D$9,0)","v":0},{"$f":"IF(G$32>0,Eing.Allg..Daten!$D$9,0)","v":0},0,null,{"$f":"IF(J$32>0,Eing.Allg..Daten!$D$9,0)","v":0},{"$f":"IF(K$32>0,Eing.Allg..Daten!$D$9,0)","v":0},{"$f":"IF(L$32>0,Eing.Allg..Daten!$D$9,0)","v":0},{"$f":"IF(M$32>0,Eing.Allg..Daten!$D$9,0)","v":0},0,null,{"$f":"IF(P$32>0,Eing.Allg..Daten!$D$9,0)","v":0},{"$f":"IF(Q$32>0,Eing.Allg..Daten!$D$9,0)","v":0},{"$f":"IF(R$32>0,Eing.Allg..Daten!$D$9,0)","v":0},{"$f":"IF(S$32>0,Eing.Allg..Daten!$D$9,0)","v":0},0,null,{"$f":"IF(V$32>0,Eing.Allg..Daten!$D$9,0)","v":0},{"$f":"IF(W$32>0,Eing.Allg..Daten!$D$9,0)","v":0},{"$f":"IF(X$32>0,Eing.Allg..Daten!$D$9,0)","v":0},{"$f":"IF(Y$32>0,Eing.Allg..Daten!$D$9,0)","v":0},0,null,{"$f":"IF(AB$32>0,Eing.Allg..Daten!$D$9,0)","v":0},{"$f":"IF(AC$32>0,Eing.Allg..Daten!$D$9,0)","v":0},{"$f":"IF(AD$32>0,Eing.Allg..Daten!$D$9,0)","v":0},{"$f":"IF(AE$32>0,Eing.Allg..Daten!$D$9,0)","v":0},0]
[12,{"$f":"IF(+Eing.Allg..Daten!$D$8<>\"\",+VLOOKUP(A43,Bahnen!$A$52:$B$144,2,0),\"\")","v":"Doppelkeile"},null,{"$f":"IF(D$32>0,Eing.Allg..Daten!$D$9,0)","v":0},{"$f":"IF(E$32>0,Eing.Allg..Daten!$D$9,0)","v":0},{"$f":"IF(F$32>0,Eing.Allg..Daten!$D$9,0)","v":0},{"$f":"IF(G$32>0,Eing.Allg..Daten!$D$9,0)","v":0},0,null,{"$f":"IF(J$32>0,Eing.Allg..Daten!$D$9,0)","v":0},{"$f":"IF(K$32>0,Eing.Allg..Daten!$D$9,0)","v":0},{"$f":"IF(L$32>0,Eing.Allg..Daten!$D$9,0)","v":0},{"$f":"IF(M$32>0,Eing.Allg..Daten!$D$9,0)","v":0},0,null,{"$f":"IF(P$32>0,Eing.Allg..Daten!$D$9,0)","v":0},{"$f":"IF(Q$32>0,Eing.Allg..Daten!$D$9,0)","v":0},{"$f":"IF(R$32>0,Eing.Allg..Daten!$D$9,0)","v":0},{"$f":"IF(S$32>0,Eing.Allg..Daten!$D$9,0)","v":0},0,null,{"$f":"IF(V$32>0,Eing.Allg..Daten!$D$9,0)","v":0},{"$f":"IF(W$32>0,Eing.Allg..Daten!$D$9,0)","v":0},{"$f":"IF(X$32>0,Eing.Allg..Daten!$D$9,0)","v":0},{"$f":"IF(Y$32>0,Eing.Allg..Daten!$D$9,0)","v":0},0,null,{"$f":"IF(AB$32>0,Eing.Allg..Daten!$D$9,0)","v":0},{"$f":"IF(AC$32>0,Eing.Allg..Daten!$D$9,0)","v":0},{"$f":"IF(AD$32>0,Eing.Allg..Daten!$D$9,0)","v":0},{"$f":"IF(AE$32>0,Eing.Allg..Daten!$D$9,0)","v":0},0]
[13,{"$f":"IF(+Eing.Allg..Daten!$D$8<>\"\",+VLOOKUP(A44,Bahnen!$A$52:$B$144,2,0),\"\")","v":"Stumpfe Kegel"},null,{"$f":"IF(D$32>0,Eing.Allg..Daten!$D$9,0)","v":0},{"$f":"IF(E$32>0,Eing.Allg..Daten!$D$9,0)","v":0},{"$f":"IF(F$32>0,Eing.Allg..Daten!$D$9,0)","v":0},{"$f":"IF(G$32>0,Eing.Allg..Daten!$D$9,0)","v":0},0,null,{"$f":"IF(J$32>0,Eing.Allg..Daten!$D$9,0)","v":0},{"$f":"IF(K$32>0,Eing.Allg..Daten!$D$9,0)","v":0},{"$f":"IF(L$32>0,Eing.Allg..Daten!$D$9,0)","v":0},{"$f":"IF(M$32>0,Eing.Allg..Daten!$D$9,0)","v":0},0,null,{"$f":"IF(P$32>0,Eing.Allg..Daten!$D$9,0)","v":0},{"$f":"IF(Q$32>0,Eing.Allg..Daten!$D$9,0)","v":0},{"$f":"IF(R$32>0,Eing.Allg..Daten!$D$9,0)","v":0},{"$f":"IF(S$32>0,Eing.Allg..Daten!$D$9,0)","v":0},0,null,{"$f":"IF(V$32>0,Eing.Allg..Daten!$D$9,0)","v":0},{"$f":"IF(W$32>0,Eing.Allg..Daten!$D$9,0)","v":0},{"$f":"IF(X$32>0,Eing.Allg..Daten!$D$9,0)","v":0},{"$f":"IF(Y$32>0,Eing.Allg..Daten!$D$9,0)","v":0},0,null,{"$f":"IF(AB$32>0,Eing.Allg..Daten!$D$9,0)","v":0},{"$f":"IF(AC$32>0,Eing.Allg..Daten!$D$9,0)","v":0},{"$f":"IF(AD$32>0,Eing.Allg..Daten!$D$9,0)","v":0},{"$f":"IF(AE$32>0,Eing.Allg..Daten!$D$9,0)","v":0},0]
[14,{"$f":"IF(+Eing.Allg..Daten!$D$8<>\"\",+VLOOKUP(A45,Bahnen!$A$52:$B$144,2,0),\"\")","v":"Schrägerkreis mit Niere"},null,{"$f":"IF(D$32>0,Eing.Allg..Daten!$D$9,0)","v":0},{"$f":"IF(E$32>0,Eing.Allg..Daten!$D$9,0)","v":0},{"$f":"IF(F$32>0,Eing.Allg..Daten!$D$9,0)","v":0},{"$f":"IF(G$32>0,Eing.Allg..Daten!$D$9,0)","v":0},0,null,{"$f":"IF(J$32>0,Eing.Allg..Daten!$D$9,0)","v":0},{"$f":"IF(K$32>0,Eing.Allg..Daten!$D$9,0)","v":0},{"$f":"IF(L$32>0,Eing.Allg..Daten!$D$9,0)","v":0},{"$f":"IF(M$32>0,Eing.Allg..Daten!$D$9,0)","v":0},0,null,{"$f":"IF(P$32>0,Eing.Allg..Daten!$D$9,0)","v":0},{"$f":"IF(Q$32>0,Eing.Allg..Daten!$D$9,0)","v":0},{"$f":"IF(R$32>0,Eing.Allg..Daten!$D$9,0)","v":0},{"$f":"IF(S$32>0,Eing.Allg..Daten!$D$9,0)","v":0},0,null,{"$f":"IF(V$32>0,Eing.Allg..Daten!$D$9,0)","v":0},{"$f":"IF(W$32>0,Eing.Allg..Daten!$D$9,0)","v":0},{"$f":"IF(X$32>0,Eing.Allg..Daten!$D$9,0)","v":0},{"$f":"IF(Y$32>0,Eing.Allg..Daten!$D$9,0)","v":0},0,null,{"$f":"IF(AB$32>0,Eing.Allg..Daten!$D$9,0)","v":0},{"$f":"IF(AC$32>0,Eing.Allg..Daten!$D$9,0)","v":0},{"$f":"IF(AD$32>0,Eing.Allg..Daten!$D$9,0)","v":0},{"$f":"IF(AE$32>0,Eing.Allg..Daten!$D$9,0)","v":0},0]
[15,{"$f":"IF(+Eing.Allg..Daten!$D$8<>\"\",+VLOOKUP(A46,Bahnen!$A$52:$B$144,2,0),\"\")","v":"Brücke"},null,{"$f":"IF(D$32>0,Eing.Allg..Daten!$D$9,0)","v":0},{"$f":"IF(E$32>0,Eing.Allg..Daten!$D$9,0)","v":0},{"$f":"IF(F$32>0,Eing.Allg..Daten!$D$9,0)","v":0},{"$f":"IF(G$32>0,Eing.Allg..Daten!$D$9,0)","v":0},0,null,{"$f":"IF(J$32>0,Eing.Allg..Daten!$D$9,0)","v":0},{"$f":"IF(K$32>0,Eing.Allg..Daten!$D$9,0)","v":0},{"$f":"IF(L$32>0,Eing.Allg..Daten!$D$9,0)","v":0},{"$f":"IF(M$32>0,Eing.Allg..Daten!$D$9,0)","v":0},0,null,{"$f":"IF(P$32>0,Eing.Allg..Daten!$D$9,0)","v":0},{"$f":"IF(Q$32>0,Eing.Allg..Daten!$D$9,0)","v":0},{"$f":"IF(R$32>0,Eing.Allg..Daten!$D$9,0)","v":0},{"$f":"IF(S$32>0,Eing.Allg..Daten!$D$9,0)","v":0},0,null,{"$f":"IF(V$32>0,Eing.Allg..Daten!$D$9,0)","v":0},{"$f":"IF(W$32>0,Eing.Allg..Daten!$D$9,0)","v":0},{"$f":"IF(X$32>0,Eing.Allg..Daten!$D$9,0)","v":0},{"$f":"IF(Y$32>0,Eing.Allg..Daten!$D$9,0)","v":0},0,null,{"$f":"IF(AB$32>0,Eing.Allg..Daten!$D$9,0)","v":0},{"$f":"IF(AC$32>0,Eing.Allg..Daten!$D$9,0)","v":0},{"$f":"IF(AD$32>0,Eing.Allg..Daten!$D$9,0)","v":0},{"$f":"IF(AE$32>0,Eing.Allg..Daten!$D$9,0)","v":0},0]
[16,{"$f":"IF(+Eing.Allg..Daten!$D$8<>\"\",+VLOOKUP(A47,Bahnen!$A$52:$B$144,2,0),\"\")","v":"Vulkan"},null,{"$f":"IF(D$32>0,Eing.Allg..Daten!$D$9,0)","v":0},{"$f":"IF(E$32>0,Eing.Allg..Daten!$D$9,0)","v":0},{"$f":"IF(F$32>0,Eing.Allg..Daten!$D$9,0)","v":0},{"$f":"IF(G$32>0,Eing.Allg..Daten!$D$9,0)","v":0},0,null,{"$f":"IF(J$32>0,Eing.Allg..Daten!$D$9,0)","v":0},{"$f":"IF(K$32>0,Eing.Allg..Daten!$D$9,0)","v":0},{"$f":"IF(L$32>0,Eing.Allg..Daten!$D$9,0)","v":0},{"$f":"IF(M$32>0,Eing.Allg..Daten!$D$9,0)","v":0},0,null,{"$f":"IF(P$32>0,Eing.Allg..Daten!$D$9,0)","v":0},{"$f":"IF(Q$32>0,Eing.Allg..Daten!$D$9,0)","v":0},{"$f":"IF(R$32>0,Eing.Allg..Daten!$D$9,0)","v":0},{"$f":"IF(S$32>0,Eing.Allg..Daten!$D$9,0)","v":0},0,null,{"$f":"IF(V$32>0,Eing.Allg..Daten!$D$9,0)","v":0},{"$f":"IF(W$32>0,Eing.Allg..Daten!$D$9,0)","v":0},{"$f":"IF(X$32>0,Eing.Allg..Daten!$D$9,0)","v":0},{"$f":"IF(Y$32>0,Eing.Allg..Daten!$D$9,0)","v":0},0,null,{"$f":"IF(AB$32>0,Eing.Allg..Daten!$D$9,0)","v":0},{"$f":"IF(AC$32>0,Eing.Allg..Daten!$D$9,0)","v":0},{"$f":"IF(AD$32>0,Eing.Allg..Daten!$D$9,0)","v":0},{"$f":"IF(AE$32>0,Eing.Allg..Daten!$D$9,0)","v":0},0]
[17,{"$f":"IF(+Eing.Allg..Daten!$D$8<>\"\",+VLOOKUP(A48,Bahnen!$A$52:$B$144,2,0),\"\")","v":"Auflaufkeil mit Zielfenster"},null,{"$f":"IF(D$32>0,Eing.Allg..Daten!$D$9,0)","v":0},{"$f":"IF(E$32>0,Eing.Allg..Daten!$D$9,0)","v":0},{"$f":"IF(F$32>0,Eing.Allg..Daten!$D$9,0)","v":0},{"$f":"IF(G$32>0,Eing.Allg..Daten!$D$9,0)","v":0},0,null,{"$f":"IF(J$32>0,Eing.Allg..Daten!$D$9,0)","v":0},{"$f":"IF(K$32>0,Eing.Allg..Daten!$D$9,0)","v":0},{"$f":"IF(L$32>0,Eing.Allg..Daten!$D$9,0)","v":0},{"$f":"IF(M$32>0,Eing.Allg..Daten!$D$9,0)","v":0},0,null,{"$f":"IF(P$32>0,Eing.Allg..Daten!$D$9,0)","v":0},{"$f":"IF(Q$32>0,Eing.Allg..Daten!$D$9,0)","v":0},{"$f":"IF(R$32>0,Eing.Allg..Daten!$D$9,0)","v":0},{"$f":"IF(S$32>0,Eing.Allg..Daten!$D$9,0)","v":0},0,null,{"$f":"IF(V$32>0,Eing.Allg..Daten!$D$9,0)","v":0},{"$f":"IF(W$32>0,Eing.Allg..Daten!$D$9,0)","v":0},{"$f":"IF(X$32>0,Eing.Allg..Daten!$D$9,0)","v":0},{"$f":"IF(Y$32>0,Eing.Allg..Daten!$D$9,0)","v":0},0,null,{"$f":"IF(AB$32>0,Eing.Allg..Daten!$D$9,0)","v":0},{"$f":"IF(AC$32>0,Eing.Allg..Daten!$D$9,0)","v":0},{"$f":"IF(AD$32>0,Eing.Allg..Daten!$D$9,0)","v":0},{"$f":"IF(AE$32>0,Eing.Allg..Daten!$D$9,0)","v":0},0]
[18,{"$f":"IF(+Eing.Allg..Daten!$D$8<>\"\",+VLOOKUP(A49,Bahnen!$A$52:$B$144,2,0),\"\")","v":"Blitz"},null,{"$f":"IF(D$32>0,Eing.Allg..Daten!$D$9,0)","v":0},{"$f":"IF(E$32>0,Eing.Allg..Daten!$D$9,0)","v":0},{"$f":"IF(F$32>0,Eing.Allg..Daten!$D$9,0)","v":0},{"$f":"IF(G$32>0,Eing.Allg..Daten!$D$9,0)","v":0},0,null,{"$f":"IF(J$32>0,Eing.Allg..Daten!$D$9,0)","v":0},{"$f":"IF(K$32>0,Eing.Allg..Daten!$D$9,0)","v":0},{"$f":"IF(L$32>0,Eing.Allg..Daten!$D$9,0)","v":0},{"$f":"IF(M$32>0,Eing.Allg..Daten!$D$9,0)","v":0},0,null,{"$f":"IF(P$32>0,Eing.Allg..Daten!$D$9,0)","v":0},{"$f":"IF(Q$32>0,Eing.Allg..Daten!$D$9,0)","v":0},{"$f":"IF(R$32>0,Eing.Allg..Daten!$D$9,0)","v":0},{"$f":"IF(S$32>0,Eing.Allg..Daten!$D$9,0)","v":0},0,null,{"$f":"IF(V$32>0,Eing.Allg..Daten!$D$9,0)","v":0},{"$f":"IF(W$32>0,Eing.Allg..Daten!$D$9,0)","v":0},{"$f":"IF(X$32>0,Eing.Allg..Daten!$D$9,0)","v":0},{"$f":"IF(Y$32>0,Eing.Allg..Daten!$D$9,0)","v":0},0,null,{"$f":"IF(AB$32>0,Eing.Allg..Daten!$D$9,0)","v":0},{"$f":"IF(AC$32>0,Eing.Allg..Daten!$D$9,0)","v":0},{"$f":"IF(AD$32>0,Eing.Allg..Daten!$D$9,0)","v":0},{"$f":"IF(AE$32>0,Eing.Allg..Daten!$D$9,0)","v":0},0]
[null,"Strafpunkte",null,null,null,null,null,0,null,null,null,null,null,0,null,null,null,null,null,0,null,null,null,null,null,0,null,null,null,null,null,0]
[null,null,null,{"$f":"IF(D49<>0,SUM(D32:D50),999)","v":999},{"$f":"IF(E49<>0,SUM(E32:E50),999)","v":999},{"$f":"IF(F49<>0,SUM(F32:F50),999)","v":999},{"$f":"IF(G49<>0,SUM(G32:G50),999)","v":999},{"$f":"SUM(H32:H50)","v":0},null,{"$f":"IF(J49<>0,SUM(J32:J50),999)","v":999},{"$f":"IF(K49<>0,SUM(K32:K50),999)","v":999},{"$f":"IF(L49<>0,SUM(L32:L50),999)","v":999},{"$f":"IF(M49<>0,SUM(M32:M50),999)","v":999},{"$f":"SUM(N32:N50)","v":0},null,{"$f":"IF(P49<>0,SUM(P32:P50),999)","v":999},{"$f":"IF(Q49<>0,SUM(Q32:Q50),999)","v":999},{"$f":"IF(R49<>0,SUM(R32:R50),999)","v":999},{"$f":"IF(S49<>0,SUM(S32:S50),999)","v":999},{"$f":"SUM(T32:T50)","v":0},null,{"$f":"IF(V49<>0,SUM(V32:V50),999)","v":999},{"$f":"IF(W49<>0,SUM(W32:W50),999)","v":999},{"$f":"IF(X49<>0,SUM(X32:X50),999)","v":999},{"$f":"IF(Y49<>0,SUM(Y32:Y50),999)","v":999},{"$f":"SUM(Z32:Z50)","v":0},null,{"$f":"IF(AB49<>0,SUM(AB32:AB50),999)","v":999},{"$f":"IF(AC49<>0,SUM(AC32:AC50),999)","v":999},{"$f":"IF(AD49<>0,SUM(AD32:AD50),999)","v":999},{"$f":"IF(AE49<>0,SUM(AE32:AE50),999)","v":999},{"$f":"SUM(AF32:AF50)","v":0}]
[null,null,null,{"$f":"SUM(D51:G51)","v":3996},null,null,null,null,null,{"$f":"SUM(J51:M51)","v":3996},null,null,null,null,null,{"$f":"SUM(P51:S51)","v":3996},null,null,null,null,null,{"$f":"SUM(V51:Y51)","v":3996},null,null,null,null,null,{"$f":"SUM(AB51:AE51)","v":3996}]
[null,null,null,{"$f":"IF(D32=0,\"DNS\",IF(D49=0,\"DNF\",1))","v":"DNS"},{"$f":"IF(E32=0,\"DNS\",IF(E49=0,\"DNF\",1))","v":"DNS"},{"$f":"IF(F32=0,\"DNS\",IF(F49=0,\"DNF\",1))","v":"DNS"},{"$f":"IF(G32=0,\"DNS\",IF(G49=0,\"DNF\",1))","v":"DNS"},{"$f":"IF(SUM(D53:G53)=Tagestabelle!$N$3,\"FIN\",\"DNF\")","v":"FIN"},null,{"$f":"IF(J32=0,\"DNS\",IF(J49=0,\"DNF\",1))","v":"DNS"},{"$f":"IF(K32=0,\"DNS\",IF(K49=0,\"DNF\",1))","v":"DNS"},{"$f":"IF(L32=0,\"DNS\",IF(L49=0,\"DNF\",1))","v":"DNS"},{"$f":"IF(M32=0,\"DNS\",IF(M49=0,\"DNF\",1))","v":"DNS"},{"$f":"IF(SUM(J53:M53)=Tagestabelle!$N$3,\"FIN\",\"DNF\")","v":"FIN"},null,{"$f":"IF(P32=0,\"DNS\",IF(P49=0,\"DNF\",1))","v":"DNS"},{"$f":"IF(Q32=0,\"DNS\",IF(Q49=0,\"DNF\",1))","v":"DNS"},{"$f":"IF(R32=0,\"DNS\",IF(R49=0,\"DNF\",1))","v":"DNS"},{"$f":"IF(S32=0,\"DNS\",IF(S49=0,\"DNF\",1))","v":"DNS"},{"$f":"IF(SUM(P53:S53)=Tagestabelle!$N$3,\"FIN\",\"DNF\")","v":"FIN"},null,{"$f":"IF(V32=0,\"DNS\",IF(V49=0,\"DNF\",1))","v":"DNS"},{"$f":"IF(W32=0,\"DNS\",IF(W49=0,\"DNF\",1))","v":"DNS"},{"$f":"IF(X32=0,\"DNS\",IF(X49=0,\"DNF\",1))","v":"DNS"},{"$f":"IF(Y32=0,\"DNS\",IF(Y49=0,\"DNF\",1))","v":"DNS"},{"$f":"IF(SUM(V53:Y53)=Tagestabelle!$N$3,\"FIN\",\"DNF\")","v":"FIN"},null,{"$f":"IF(AB32=0,\"DNS\",IF(AB49=0,\"DNF\",1))","v":"DNS"},{"$f":"IF(AC32=0,\"DNS\",IF(AC49=0,\"DNF\",1))","v":"DNS"},{"$f":"IF(AD32=0,\"DNS\",IF(AD49=0,\"DNF\",1))","v":"DNS"},{"$f":"IF(AE32=0,\"DNS\",IF(AE49=0,\"DNF\",1))","v":"DNS"},{"$f":"IF(SUM(AB53:AE53)=Tagestabelle!$N$3,\"FIN\",\"DNF\")","v":"FIN"}]
[null,"M7",null,"R1","R2","R3","R4"]
[null,"KKLEINSTE8",null,{"$f":"SMALL(D60:D67,8)","v":999.00008000000003},{"$f":"SMALL(E60:E67,8)","v":999.00008000000003},{"$f":"SMALL(F60:F67,8)","v":999.00008000000003},{"$f":"SMALL(G60:G67,8)","v":999.00008000000003}]
[null,"KKLEINSTE7",null,{"$f":"SMALL(D60:D67,7)","v":999.00007000000005},{"$f":"SMALL(E60:E67,7)","v":999.00007000000005},{"$f":"SMALL(F60:F67,7)","v":999.00007000000005},{"$f":"SMALL(G60:G67,7)","v":999.00007000000005}]
[null,"KKLEINSTE6",null,{"$f":"SMALL(D60:D67,6)","v":999.00005999999996},{"$f":"SMALL(E60:E67,6)","v":999.00005999999996},{"$f":"SMALL(F60:F67,6)","v":999.00005999999996},{"$f":"SMALL(G60:G67,6)","v":999.00005999999996}]
[null,"KKLEINSTE5",null,{"$f":"SMALL(D60:D67,5)","v":999.00004999999999},{"$f":"SMALL(E60:E67,5)","v":999.00004999999999},{"$f":"SMALL(F60:F67,5)","v":999.00004999999999},{"$f":"SMALL(G60:G67,5)","v":999.00004999999999}]
[]
[8.0000000000000007E-5,"S1",null,{"$f":"D25+A60","v":999.00008000000003},{"$f":"E25+A60","v":999.00008000000003},{"$f":"F25+A60","v":999.00008000000003},{"$f":"G25+A60","v":999.00008000000003},"S1"]
[6.9999999999999994E-5,"S2",null,{"$f":"J25+A61","v":999.00007000000005},{"$f":"K25+A61","v":999.00007000000005},{"$f":"L25+A61","v":999.00007000000005},{"$f":"M25+A61","v":999.00007000000005},"S2"]
[6.0000000000000002E-5,"S3",null,{"$f":"P25+A62","v":999.00005999999996},{"$f":"Q25+A62","v":999.00005999999996},{"$f":"R25+A62","v":999.00005999999996},{"$f":"S25+A62","v":999.00005999999996},"S3"]
[5.0000000000000002E-5,"S4",null,{"$f":"V25+A63","v":999.00004999999999},{"$f":"W25+A63","v":999.00004999999999},{"$f":"X25+A63","v":999.00004999999999},{"$f":"Y25+A63","v":999.00004999999999},"S4"]
[4.0000000000000003E-5,"S5",null,{"$f":"D51+A64","v":999.00004000000001},{"$f":"E51+A64","v":999.00004000000001},{"$f":"F51+A64","v":999.00004000000001},{"$f":"G51+A64","v":999.00004000000001},"S5"]
[3.0000000000000001E-5,"S6",null,{"$f":"J51+A65","v":999.00003000000004},{"$f":"K51+A65","v":999.00003000000004},{"$f":"L51+A65","v":999.00003000000004},{"$f":"M51+A65","v":999.00003000000004},"S6"]
[2.0000000000000002E-5,"S7",null,{"$f":"P51+A66","v":999.00001999999995},{"$f":"Q51+A66","v":999.00001999999995},{"$f":"R51+A66","v":999.00001999999995},{"$f":"S51+A66","v":999.00001999999995},"S7"]
[1.0000000000000001E-5,"S8",null,{"$f":"V51+A67","v":999.00000999999997},{"$f":"W51+A67","v":999.00000999999997},{"$f":"X51+A67","v":999.00000999999997},{"$f":"Y51+A67","v":999.00000999999997},"S8"]

{"sheet":"Turnierprotokoll","index":16,"n_rows":54,"n_cols":12,"rows_kept":54,"cut":false,"hidden":false,"merged":[[13,1,13,3],[13,5,13,7],[15,1,15,3],[17,1,17,3],[15,5,15,7],[17,5,17,7],[44,7,44,8],[46,0,49,9],[48,11,49,11],[52,0,52,9],[53,1,53,2],[51,1,51,3],[4,11,12,15],[30,7,30,8],[32,0,36,5],[32,7,36,9],[37,7,37,8],[12,1,12,3],[12,5,12,7],[14,1,14,3],[14,5,14,7],[16,1,16,3],[16,5,16,7],[12,0,13,0],[14,0,15,0],[16,0,17,0],[18,0,19,0],[20,0,21,0],[39,0,43,5],[39,7,43,9],[18,1,18,3],[18,5,18,7],[20,1,20,3],[20,5,20,7],[23,7,23,8],[25,0,29,5],[25,7,29,9],[19,1,19,3],[21,1,21,3],[19,5,19,7],[21,5,21,7],[3,2,3,9],[5,2,5,9],[7,4,7,9],[9,2,9,6],[11,1,11,3],[11,5,11,7]]}
[]
[null,null,null,"Turnierprotokoll"]
[]
["Turnier:",null,{"$f":"IF(Eing.Allg..Daten!D2=\"\",\"\",CONCATENATE(Eing.Allg..Daten!D2,\" \",Eing.Allg..Daten!D3,\", Spieltag \",Eing.Allg..Daten!D4))","v":"Gruppenliga 2024, Spieltag 3"}]
[null,null,null,null,null,null,null,null,null,null,null,"Seit der Saison 2015 muß wieder ein Turnierprotokoll geführt werden.\nDazu das vorausgefüllte Protokoll links drucken, ggf. ergänzen und vom Oberschiedsrichter unterschreiben lassen.\nDas unterschriebene Protokoll verbleibt zusammen mit den Spielprotokollen beim Ligenleiter.\nBei eventuellen späteren Protesten wird das Turnierprotokoll zur Beweisführung herangezogen."]
["Veranstalter:",null,{"$f":"IF(Eing.Allg..Daten!D5=\"\",\"\",Eing.Allg..Daten!D5)","v":"SV Dreieichenhain"}]
[]
["Datum:",null,{"$f":"IF(Eing.Allg..Daten!D7=\"\",\"\",Eing.Allg..Daten!D7)","v":"2024-06-09"},"Ort:",{"$f":"IF(Eing.Allg..Daten!D6=\"\",\"\",Eing.Allg..Daten!D6)","v":"Dreieichenhain"}]
[null,null,null,null,null,null,null,null," "]
["Systeme(e):",null,{"$f":"IF(Eing.Allg..Daten!D8=\"\",\"\",Eing.Allg..Daten!D8)","v":"Miniaturgolf"},null,null,null,null,"Turnierleiter:",null,{"$f":"IF(Eing.Allg..Daten!D17=\"\",\"\",Eing.Allg..Daten!D17)","v":""}]
[]
[null,"Gruppe 1",null,null,null,"Gruppe 2",null,null,null,"Gruppe 3"]
["Oberschiedsrichter:",{"$f":"IF(Eing.Allg..Daten!D20=\"\",\"\",Eing.Allg..Daten!D20)","v":""}]
[null,{"$f":"IF(Eing.Allg..Daten!D21=\"\",\"\",Eing.Allg..Daten!D21)","v":"MGC Kahler Sandhasen"}]
["Schiedsrichter:",{"$f":"IF(Eing.Allg..Daten!D22=\"\",\"\",Eing.Allg..Daten!D22)","v":""}]
[null,{"$f":"IF(Eing.Allg..Daten!D23=\"\",\"\",Eing.Allg..Daten!D23)","v":"SG Weiterstadt"}]
["Schiedsrichter:",{"$f":"IF(Eing.Allg..Daten!D24=\"\",\"\",Eing.Allg..Daten!D24)","v":""}]
[null,{"$f":"IF(Eing.Allg..Daten!D25=\"\",\"\",Eing.Allg..Daten!D25)","v":"MGC Bad Homburg"}]
["Schiedsrichter:"]
[]
["Schiedsrichter:"]
[]
[]
[]
["Auswechslungen:",null,null,null,null,null,null,"Strafen:"]
[]
[]
[]
[]
[]
[]
["Besondere Vorkommnisse",null,null,null,null,null,null,"Besonderheiten, Beschädigungen oder Fehler an den Bahnen"]
["     "]
[]
[]
[]
[]
[]
["Ausnahmen für Spieler/Innen",null,null,null,null,null,null,"Ausnahmen DMV Sportordnung / int. Spielregeln"]
[]
[]
[]
[]
[]
[]
["Proteste / Entscheidung Jury (bei Bedarf ist ein Zusatzblatt zu fertigen)"]
["\n"]
[]
[]
[]
[null,null,null,"Bestätigung aller Oberschiedsrichter"]
["Oberschiedsrichter:",{"$f":"CONCATENATE(\"gez. \",B13)","v":"gez. "}]
[]
["Datum:",{"$f":"C8","v":"2024-06-09"},null,null,null,null,null,"Turnierleiter:",null,{"$f":"CONCATENATE(\"gez. \",J10)","v":"gez. "}]

{"sheet":"Ergebn-EINGABE Einzel","index":17,"n_rows":48,"n_cols":20,"rows_kept":48,"cut":false,"hidden":false,"merged":[]}
[null,null,null,null,null,null,null,null,null,null,null,null,null,null,null,null,null,null,null,"Runden-anzahl"]
[null,null,null,null,{"$f":"IF(+Eing.Allg..Daten!D2>0,+Eing.Allg..Daten!D2,\"\")","v":"Gruppenliga"},null,null,null,{"$f":"+Seite1!C5","v":3},{"$f":"+Seite1!D5","v":". Spieltag         "},null,null,null,{"$f":"+Seite1!E5","v":"Saison"},{"$f":"+Seite1!F5","v":2024}]
[null,null,null,null,"Einzelspieler"]
[null,null,null,null,"Paßnr.",null,"Name / Vorname","Verein","Kat","1. Rd.","2. Rd.","3. Rd.","4. Rd.","Gesamt","Ø"]
[null,null,null,null,{"$f":"IF(Eing.Mannsch.aufstellung!E213=\"\",\"\",Eing.Mannsch.aufstellung!D213)","v":""},null,{"$f":"IF(Eing.Mannsch.aufstellung!E213>0,Eing.Mannsch.aufstellung!E213,\"\")","v":""},{"$f":"IF(Eing.Mannsch.aufstellung!E213>0,Eing.Mannsch.aufstellung!H213,\"\")","v":""},{"$f":"IF(Eing.Mannsch.aufstellung!E213>0,Eing.Mannsch.aufstellung!G213,\"\")","v":""},null,null,null,null,{"$f":"SUM(J5:M5)","v":0},{"$f":"IF(N5>0,N5/T5,\"\")","v":""},null,null,null,null,{"$f":"COUNTIF(J5:M5,\">0\")","v":0}]
[null,null,null,null,{"$f":"IF(Eing.Mannsch.aufstellung!E214=\"\",\"\",Eing.Mannsch.aufstellung!D214)","v":""},null,{"$f":"IF(Eing.Mannsch.aufstellung!E214>0,Eing.Mannsch.aufstellung!E214,\"\")","v":""},{"$f":"IF(Eing.Mannsch.aufstellung!E214>0,Eing.Mannsch.aufstellung!H214,\"\")","v":""},{"$f":"IF(Eing.Mannsch.aufstellung!E214>0,Eing.Mannsch.aufstellung!G214,\"\")","v":""},null,null,null,null,{"$f":"SUM(J6:M6)","v":0},{"$f":"IF(N6>0,N6/T6,\"\")","v":""},null,null,null,null,{"$f":"COUNTIF(J6:M6,\">0\")","v":0}]
[null,null,null,null,{"$f":"IF(Eing.Mannsch.aufstellung!E215=\"\",\"\",Eing.Mannsch.aufstellung!D215)","v":""},null,{"$f":"IF(Eing.Mannsch.aufstellung!E215>0,Eing.Mannsch.aufstellung!E215,\"\")","v":""},{"$f":"IF(Eing.Mannsch.aufstellung!E215>0,Eing.Mannsch.aufstellung!H215,\"\")","v":""},{"$f":"IF(Eing.Mannsch.aufstellung!E215>0,Eing.Mannsch.aufstellung!G215,\"\")","v":""},null,null,null,null,{"$f":"SUM(J7:M7)","v":0},{"$f":"IF(N7>0,N7/T7,\"\")","v":""},null,null,null,null,{"$f":"COUNTIF(J7:M7,\">0\")","v":0}]
[null,null,null,null,{"$f":"IF(Eing.Mannsch.aufstellung!E216=\"\",\"\",Eing.Mannsch.aufstellung!D216)","v":""},null,{"$f":"IF(Eing.Mannsch.aufstellung!E216>0,Eing.Mannsch.aufstellung!E216,\"\")","v":""},{"$f":"IF(Eing.Mannsch.aufstellung!E216>0,Eing.Mannsch.aufstellung!H216,\"\")","v":""},{"$f":"IF(Eing.Mannsch.aufstellung!E216>0,Eing.Mannsch.aufstellung!G216,\"\")","v":""},null,null,null,null,{"$f":"SUM(J8:M8)","v":0},null,null,null,null,null,{"$f":"COUNTIF(J8:M8,\">0\")","v":0}]
[null,null,null,null,{"$f":"IF(Eing.Mannsch.aufstellung!E217=\"\",\"\",Eing.Mannsch.aufstellung!D217)","v":""},null,{"$f":"IF(Eing.Mannsch.aufstellung!E217>0,Eing.Mannsch.aufstellung!E217,\"\")","v":""},{"$f":"IF(Eing.Mannsch.aufstellung!E217>0,Eing.Mannsch.aufstellung!H217,\"\")","v":""},{"$f":"IF(Eing.Mannsch.aufstellung!E217>0,Eing.Mannsch.aufstellung!G217,\"\")","v":""},null,null,null,null,{"$f":"SUM(J9:M9)","v":0},null,null,null,null,null,{"$f":"COUNTIF(J9:M9,\">0\")","v":0}]
[null,null,null,null,{"$f":"IF(Eing.Mannsch.aufstellung!E218=\"\",\"\",Eing.Mannsch.aufstellung!D218)","v":""},null,{"$f":"IF(Eing.Mannsch.aufstellung!E218>0,Eing.Mannsch.aufstellung!E218,\"\")","v":""},{"$f":"IF(Eing.Mannsch.aufstellung!E218>0,Eing.Mannsch.aufstellung!H218,\"\")","v":""},{"$f":"IF(Eing.Mannsch.aufstellung!E218>0,Eing.Mannsch.aufstellung!G218,\"\")","v":""},null,null,null,null,{"$f":"SUM(J10:M10)","v":0},{"$f":"IF(N10>0,N10/T10,\"\")","v":""},null,null,null,null,0]
[null,null,null,null,{"$f":"IF(Eing.Mannsch.aufstellung!E219=\"\",\"\",Eing.Mannsch.aufstellung!D219)","v":""},null,{"$f":"IF(Eing.Mannsch.aufstellung!E219>0,Eing.Mannsch.aufstellung!E219,\"\")","v":""},{"$f":"IF(Eing.Mannsch.aufstellung!E219>0,Eing.Mannsch.aufstellung!H219,\"\")","v":""},{"$f":"IF(Eing.Mannsch.aufstellung!E219>0,Eing.Mannsch.aufstellung!G219,\"\")","v":""},null,null,null,null,0,"",null,null,null,null,0]
[null,null,null,null,{"$f":"IF(Eing.Mannsch.aufstellung!E220=\"\",\"\",Eing.Mannsch.aufstellung!D220)","v":""},null,{"$f":"IF(Eing.Mannsch.aufstellung!E220>0,Eing.Mannsch.aufstellung!E220,\"\")","v":""},{"$f":"IF(Eing.Mannsch.aufstellung!E220>0,Eing.Mannsch.aufstellung!H220,\"\")","v":""},{"$f":"IF(Eing.Mannsch.aufstellung!E220>0,Eing.Mannsch.aufstellung!G220,\"\")","v":""},null,null,null,null,0,"",null,null,null,null,0]
[null,null,null,null,{"$f":"IF(Eing.Mannsch.aufstellung!E221=\"\",\"\",Eing.Mannsch.aufstellung!D221)","v":""},null,{"$f":"IF(Eing.Mannsch.aufstellung!E221>0,Eing.Mannsch.aufstellung!E221,\"\")","v":""},{"$f":"IF(Eing.Mannsch.aufstellung!E221>0,Eing.Mannsch.aufstellung!H221,\"\")","v":""},{"$f":"IF(Eing.Mannsch.aufstellung!E221>0,Eing.Mannsch.aufstellung!G221,\"\")","v":""},null,null,null,null,0,"",null,null,null,null,0]
[null,null,null,null,{"$f":"IF(Eing.Mannsch.aufstellung!E222=\"\",\"\",Eing.Mannsch.aufstellung!D222)","v":""},null,{"$f":"IF(Eing.Mannsch.aufstellung!E222>0,Eing.Mannsch.aufstellung!E222,\"\")","v":""},{"$f":"IF(Eing.Mannsch.aufstellung!E222>0,Eing.Mannsch.aufstellung!H222,\"\")","v":""},{"$f":"IF(Eing.Mannsch.aufstellung!E222>0,Eing.Mannsch.aufstellung!G222,\"\")","v":""},null,null,null,null,0,"",null,null,null,null,0]
[null,null,null,null,{"$f":"IF(Eing.Mannsch.aufstellung!E223=\"\",\"\",Eing.Mannsch.aufstellung!D223)","v":""},null,{"$f":"IF(Eing.Mannsch.aufstellung!E223>0,Eing.Mannsch.aufstellung!E223,\"\")","v":""},{"$f":"IF(Eing.Mannsch.aufstellung!E223>0,Eing.Mannsch.aufstellung!H223,\"\")","v":""},{"$f":"IF(Eing.Mannsch.aufstellung!E223>0,Eing.Mannsch.aufstellung!G223,\"\")","v":""},null,null,null,null,0,"",null,null,null,null,0]
[null,null,null,null,{"$f":"IF(Eing.Mannsch.aufstellung!E224=\"\",\"\",Eing.Mannsch.aufstellung!D224)","v":""},null,{"$f":"IF(Eing.Mannsch.aufstellung!E224>0,Eing.Mannsch.aufstellung!E224,\"\")","v":""},{"$f":"IF(Eing.Mannsch.aufstellung!E224>0,Eing.Mannsch.aufstellung!H224,\"\")","v":""},{"$f":"IF(Eing.Mannsch.aufstellung!E224>0,Eing.Mannsch.aufstellung!G224,\"\")","v":""},null,null,null,null,0,"",null,null,null,null,0]
[null,null,null,null,{"$f":"IF(Eing.Mannsch.aufstellung!E225=\"\",\"\",Eing.Mannsch.aufstellung!D225)","v":""},null,{"$f":"IF(Eing.Mannsch.aufstellung!E225>0,Eing.Mannsch.aufstellung!E225,\"\")","v":""},{"$f":"IF(Eing.Mannsch.aufstellung!E225>0,Eing.Mannsch.aufstellung!H225,\"\")","v":""},{"$f":"IF(Eing.Mannsch.aufstellung!E225>0,Eing.Mannsch.aufstellung!G225,\"\")","v":""},null,null,null,null,0,"",null,null,null,null,0]
[null,null,null,null,{"$f":"IF(Eing.Mannsch.aufstellung!E226=\"\",\"\",Eing.Mannsch.aufstellung!D226)","v":""},null,{"$f":"IF(Eing.Mannsch.aufstellung!E226>0,Eing.Mannsch.aufstellung!E226,\"\")","v":""},{"$f":"IF(Eing.Mannsch.aufstellung!E226>0,Eing.Mannsch.aufstellung!H226,\"\")","v":""},{"$f":"IF(Eing.Mannsch.aufstellung!E226>0,Eing.Mannsch.aufstellung!G226,\"\")","v":""},null,null,null,null,0,"",null,null,null,null,0]
[null,null,null,null,{"$f":"IF(Eing.Mannsch.aufstellung!E227=\"\",\"\",Eing.Mannsch.aufstellung!D227)","v":""},null,{"$f":"IF(Eing.Mannsch.aufstellung!E227>0,Eing.Mannsch.aufstellung!E227,\"\")","v":""},{"$f":"IF(Eing.Mannsch.aufstellung!E227>0,Eing.Mannsch.aufstellung!H227,\"\")","v":""},{"$f":"IF(Eing.Mannsch.aufstellung!E227>0,Eing.Mannsch.aufstellung!G227,\"\")","v":""},null,null,null,null,0,"",null,null,null,null,0]
[null,null,null,null,{"$f":"IF(Eing.Mannsch.aufstellung!E228=\"\",\"\",Eing.Mannsch.aufstellung!D228)","v":""},null,{"$f":"IF(Eing.Mannsch.aufstellung!E228>0,Eing.Mannsch.aufstellung!E228,\"\")","v":""},{"$f":"IF(Eing.Mannsch.aufstellung!E228>0,Eing.Mannsch.aufstellung!H228,\"\")","v":""},{"$f":"IF(Eing.Mannsch.aufstellung!E228>0,Eing.Mannsch.aufstellung!G228,\"\")","v":""},null,null,null,null,0,"",null,null,null,null,0]
[null,null,null,null,{"$f":"IF(Eing.Mannsch.aufstellung!E229=\"\",\"\",Eing.Mannsch.aufstellung!D229)","v":""},null,{"$f":"IF(Eing.Mannsch.aufstellung!E229>0,Eing.Mannsch.aufstellung!E229,\"\")","v":""},{"$f":"IF(Eing.Mannsch.aufstellung!E229>0,Eing.Mannsch.aufstellung!H229,\"\")","v":""},{"$f":"IF(Eing.Mannsch.aufstellung!E229>0,Eing.Mannsch.aufstellung!G229,\"\")","v":""},null,null,null,null,0,"",null,null,null,null,0]
[null,null,null,null,{"$f":"IF(Eing.Mannsch.aufstellung!E230=\"\",\"\",Eing.Mannsch.aufstellung!D230)","v":""},null,{"$f":"IF(Eing.Mannsch.aufstellung!E230>0,Eing.Mannsch.aufstellung!E230,\"\")","v":""},{"$f":"IF(Eing.Mannsch.aufstellung!E230>0,Eing.Mannsch.aufstellung!H230,\"\")","v":""},{"$f":"IF(Eing.Mannsch.aufstellung!E230>0,Eing.Mannsch.aufstellung!G230,\"\")","v":""},null,null,null,null,0,"",null,null,null,null,0]
[null,null,null,null,{"$f":"IF(Eing.Mannsch.aufstellung!E231=\"\",\"\",Eing.Mannsch.aufstellung!D231)","v":""},null,{"$f":"IF(Eing.Mannsch.aufstellung!E231>0,Eing.Mannsch.aufstellung!E231,\"\")","v":""},{"$f":"IF(Eing.Mannsch.aufstellung!E231>0,Eing.Mannsch.aufstellung!H231,\"\")","v":""},{"$f":"IF(Eing.Mannsch.aufstellung!E231>0,Eing.Mannsch.aufstellung!G231,\"\")","v":""},null,null,null,null,0,"",null,null,null,null,0]
[null,null,null,null,{"$f":"IF(Eing.Mannsch.aufstellung!E232=\"\",\"\",Eing.Mannsch.aufstellung!D232)","v":""},null,{"$f":"IF(Eing.Mannsch.aufstellung!E232>0,Eing.Mannsch.aufstellung!E232,\"\")","v":""},{"$f":"IF(Eing.Mannsch.aufstellung!E232>0,Eing.Mannsch.aufstellung!H232,\"\")","v":""},{"$f":"IF(Eing.Mannsch.aufstellung!E232>0,Eing.Mannsch.aufstellung!G232,\"\")","v":""},null,null,null,null,0,"",null,null,null,null,0]
[null,null,null,null,{"$f":"IF(Eing.Mannsch.aufstellung!E233=\"\",\"\",Eing.Mannsch.aufstellung!D233)","v":""},null,{"$f":"IF(Eing.Mannsch.aufstellung!E233>0,Eing.Mannsch.aufstellung!E233,\"\")","v":""},{"$f":"IF(Eing.Mannsch.aufstellung!E233>0,Eing.Mannsch.aufstellung!H233,\"\")","v":""},{"$f":"IF(Eing.Mannsch.aufstellung!E233>0,Eing.Mannsch.aufstellung!G233,\"\")","v":""},null,null,null,null,0,"",null,null,null,null,0]
[null,null,null,null,{"$f":"IF(Eing.Mannsch.aufstellung!E234=\"\",\"\",Eing.Mannsch.aufstellung!D234)","v":""},null,{"$f":"IF(Eing.Mannsch.aufstellung!E234>0,Eing.Mannsch.aufstellung!E234,\"\")","v":""},{"$f":"IF(Eing.Mannsch.aufstellung!E234>0,Eing.Mannsch.aufstellung!H234,\"\")","v":""},{"$f":"IF(Eing.Mannsch.aufstellung!E234>0,Eing.Mannsch.aufstellung!G234,\"\")","v":""},null,null,null,null,0,"",null,null,null,null,0]
[null,null,null,null,{"$f":"IF(Eing.Mannsch.aufstellung!E235=\"\",\"\",Eing.Mannsch.aufstellung!D235)","v":""},null,{"$f":"IF(Eing.Mannsch.aufstellung!E235>0,Eing.Mannsch.aufstellung!E235,\"\")","v":""},{"$f":"IF(Eing.Mannsch.aufstellung!E235>0,Eing.Mannsch.aufstellung!H235,\"\")","v":""},{"$f":"IF(Eing.Mannsch.aufstellung!E235>0,Eing.Mannsch.aufstellung!G235,\"\")","v":""},null,null,null,null,0,"",null,null,null,null,0]
[null,null,null,null,{"$f":"IF(Eing.Mannsch.aufstellung!E236=\"\",\"\",Eing.Mannsch.aufstellung!D236)","v":""},null,{"$f":"IF(Eing.Mannsch.aufstellung!E236>0,Eing.Mannsch.aufstellung!E236,\"\")","v":""},{"$f":"IF(Eing.Mannsch.aufstellung!E236>0,Eing.Mannsch.aufstellung!H236,\"\")","v":""},{"$f":"IF(Eing.Mannsch.aufstellung!E236>0,Eing.Mannsch.aufstellung!G236,\"\")","v":""},null,null,null,null,0,"",null,null,null,null,0]
[null,null,null,null,{"$f":"IF(Eing.Mannsch.aufstellung!E237=\"\",\"\",Eing.Mannsch.aufstellung!D237)","v":""},null,{"$f":"IF(Eing.Mannsch.aufstellung!E237>0,Eing.Mannsch.aufstellung!E237,\"\")","v":""},{"$f":"IF(Eing.Mannsch.aufstellung!E237>0,Eing.Mannsch.aufstellung!H237,\"\")","v":""},{"$f":"IF(Eing.Mannsch.aufstellung!E237>0,Eing.Mannsch.aufstellung!G237,\"\")","v":""},null,null,null,null,0,"",null,null,null,null,0]
[null,null,null,null,{"$f":"IF(Eing.Mannsch.aufstellung!E238=\"\",\"\",Eing.Mannsch.aufstellung!D238)","v":""},null,{"$f":"IF(Eing.Mannsch.aufstellung!E238>0,Eing.Mannsch.aufstellung!E238,\"\")","v":""},{"$f":"IF(Eing.Mannsch.aufstellung!E238>0,Eing.Mannsch.aufstellung!H238,\"\")","v":""},{"$f":"IF(Eing.Mannsch.aufstellung!E238>0,Eing.Mannsch.aufstellung!G238,\"\")","v":""},null,null,null,null,0,"",null,null,null,null,0]
[null,null,null,null,{"$f":"IF(Eing.Mannsch.aufstellung!E239=\"\",\"\",Eing.Mannsch.aufstellung!D239)","v":""},null,{"$f":"IF(Eing.Mannsch.aufstellung!E239>0,Eing.Mannsch.aufstellung!E239,\"\")","v":""},{"$f":"IF(Eing.Mannsch.aufstellung!E239>0,Eing.Mannsch.aufstellung!H239,\"\")","v":""},{"$f":"IF(Eing.Mannsch.aufstellung!E239>0,Eing.Mannsch.aufstellung!G239,\"\")","v":""},null,null,null,null,0,"",null,null,null,null,0]
[null,null,null,null,{"$f":"IF(Eing.Mannsch.aufstellung!E240=\"\",\"\",Eing.Mannsch.aufstellung!D240)","v":""},null,{"$f":"IF(Eing.Mannsch.aufstellung!E240>0,Eing.Mannsch.aufstellung!E240,\"\")","v":""},{"$f":"IF(Eing.Mannsch.aufstellung!E240>0,Eing.Mannsch.aufstellung!H240,\"\")","v":""},{"$f":"IF(Eing.Mannsch.aufstellung!E240>0,Eing.Mannsch.aufstellung!G240,\"\")","v":""},null,null,null,null,0,"",null,null,null,null,0]
[null,null,null,null,{"$f":"IF(Eing.Mannsch.aufstellung!E241=\"\",\"\",Eing.Mannsch.aufstellung!D241)","v":""},null,{"$f":"IF(Eing.Mannsch.aufstellung!E241>0,Eing.Mannsch.aufstellung!E241,\"\")","v":""},{"$f":"IF(Eing.Mannsch.aufstellung!E241>0,Eing.Mannsch.aufstellung!H241,\"\")","v":""},{"$f":"IF(Eing.Mannsch.aufstellung!E241>0,Eing.Mannsch.aufstellung!G241,\"\")","v":""},null,null,null,null,0,"",null,null,null,null,0]
[null,null,null,null,{"$f":"IF(Eing.Mannsch.aufstellung!E242=\"\",\"\",Eing.Mannsch.aufstellung!D242)","v":""},null,{"$f":"IF(Eing.Mannsch.aufstellung!E242>0,Eing.Mannsch.aufstellung!E242,\"\")","v":""},{"$f":"IF(Eing.Mannsch.aufstellung!E242>0,Eing.Mannsch.aufstellung!H242,\"\")","v":""},{"$f":"IF(Eing.Mannsch.aufstellung!E242>0,Eing.Mannsch.aufstellung!G242,\"\")","v":""},null,null,null,null,0,"",null,null,null,null,0]
[null,null,null,null,{"$f":"IF(Eing.Mannsch.aufstellung!E243=\"\",\"\",Eing.Mannsch.aufstellung!D243)","v":""},null,{"$f":"IF(Eing.Mannsch.aufstellung!E243>0,Eing.Mannsch.aufstellung!E243,\"\")","v":""},{"$f":"IF(Eing.Mannsch.aufstellung!E243>0,Eing.Mannsch.aufstellung!H243,\"\")","v":""},{"$f":"IF(Eing.Mannsch.aufstellung!E243>0,Eing.Mannsch.aufstellung!G243,\"\")","v":""},null,null,null,null,0,"",null,null,null,null,0]
[null,null,null,null,{"$f":"IF(Eing.Mannsch.aufstellung!E244=\"\",\"\",Eing.Mannsch.aufstellung!D244)","v":""},null,{"$f":"IF(Eing.Mannsch.aufstellung!E244>0,Eing.Mannsch.aufstellung!E244,\"\")","v":""},{"$f":"IF(Eing.Mannsch.aufstellung!E244>0,Eing.Mannsch.aufstellung!H244,\"\")","v":""},{"$f":"IF(Eing.Mannsch.aufstellung!E244>0,Eing.Mannsch.aufstellung!G244,\"\")","v":""},null,null,null,null,0,"",null,null,null,null,0]
[null,null,null,null,{"$f":"IF(Eing.Mannsch.aufstellung!E245=\"\",\"\",Eing.Mannsch.aufstellung!D245)","v":""},null,{"$f":"IF(Eing.Mannsch.aufstellung!E245>0,Eing.Mannsch.aufstellung!E245,\"\")","v":""},{"$f":"IF(Eing.Mannsch.aufstellung!E245>0,Eing.Mannsch.aufstellung!H245,\"\")","v":""},{"$f":"IF(Eing.Mannsch.aufstellung!E245>0,Eing.Mannsch.aufstellung!G245,\"\")","v":""},null,null,null,null,0,"",null,null,null,null,0]
[null,null,null,null,{"$f":"IF(Eing.Mannsch.aufstellung!E246=\"\",\"\",Eing.Mannsch.aufstellung!D246)","v":""},null,{"$f":"IF(Eing.Mannsch.aufstellung!E246>0,Eing.Mannsch.aufstellung!E246,\"\")","v":""},{"$f":"IF(Eing.Mannsch.aufstellung!E246>0,Eing.Mannsch.aufstellung!H246,\"\")","v":""},{"$f":"IF(Eing.Mannsch.aufstellung!E246>0,Eing.Mannsch.aufstellung!G246,\"\")","v":""},null,null,null,null,0,"",null,null,null,null,0]
[null,null,null,null,{"$f":"IF(Eing.Mannsch.aufstellung!E247=\"\",\"\",Eing.Mannsch.aufstellung!D247)","v":""},null,{"$f":"IF(Eing.Mannsch.aufstellung!E247>0,Eing.Mannsch.aufstellung!E247,\"\")","v":""},{"$f":"IF(Eing.Mannsch.aufstellung!E247>0,Eing.Mannsch.aufstellung!H247,\"\")","v":""},{"$f":"IF(Eing.Mannsch.aufstellung!E247>0,Eing.Mannsch.aufstellung!G247,\"\")","v":""},null,null,null,null,0,"",null,null,null,null,0]
[null,null,null,null,{"$f":"IF(Eing.Mannsch.aufstellung!E248=\"\",\"\",Eing.Mannsch.aufstellung!D248)","v":""},null,{"$f":"IF(Eing.Mannsch.aufstellung!E248>0,Eing.Mannsch.aufstellung!E248,\"\")","v":""},{"$f":"IF(Eing.Mannsch.aufstellung!E248>0,Eing.Mannsch.aufstellung!H248,\"\")","v":""},{"$f":"IF(Eing.Mannsch.aufstellung!E248>0,Eing.Mannsch.aufstellung!G248,\"\")","v":""},null,null,null,null,0,"",null,null,null,null,0]
[null,null,null,null,{"$f":"IF(Eing.Mannsch.aufstellung!E249=\"\",\"\",Eing.Mannsch.aufstellung!D249)","v":""},null,{"$f":"IF(Eing.Mannsch.aufstellung!E249>0,Eing.Mannsch.aufstellung!E249,\"\")","v":""},{"$f":"IF(Eing.Mannsch.aufstellung!E249>0,Eing.Mannsch.aufstellung!H249,\"\")","v":""},{"$f":"IF(Eing.Mannsch.aufstellung!E249>0,Eing.Mannsch.aufstellung!G249,\"\")","v":""},null,null,null,null,0,"",null,null,null,null,0]
[null,null,null,null,{"$f":"IF(Eing.Mannsch.aufstellung!E250=\"\",\"\",Eing.Mannsch.aufstellung!D250)","v":""},null,{"$f":"IF(Eing.Mannsch.aufstellung!E250>0,Eing.Mannsch.aufstellung!E250,\"\")","v":""},{"$f":"IF(Eing.Mannsch.aufstellung!E250>0,Eing.Mannsch.aufstellung!H250,\"\")","v":""},{"$f":"IF(Eing.Mannsch.aufstellung!E250>0,Eing.Mannsch.aufstellung!G250,\"\")","v":""},null,null,null,null,0,"",null,null,null,null,0]
[null,null,null,null,{"$f":"IF(Eing.Mannsch.aufstellung!E251=\"\",\"\",Eing.Mannsch.aufstellung!D251)","v":""},null,{"$f":"IF(Eing.Mannsch.aufstellung!E251>0,Eing.Mannsch.aufstellung!E251,\"\")","v":""},{"$f":"IF(Eing.Mannsch.aufstellung!E251>0,Eing.Mannsch.aufstellung!H251,\"\")","v":""},{"$f":"IF(Eing.Mannsch.aufstellung!E251>0,Eing.Mannsch.aufstellung!G251,\"\")","v":""},null,null,null,null,0,"",null,null,null,null,0]
[null,null,null,null,{"$f":"IF(Eing.Mannsch.aufstellung!E252=\"\",\"\",Eing.Mannsch.aufstellung!D252)","v":""},null,{"$f":"IF(Eing.Mannsch.aufstellung!E252>0,Eing.Mannsch.aufstellung!E252,\"\")","v":""},{"$f":"IF(Eing.Mannsch.aufstellung!E252>0,Eing.Mannsch.aufstellung!H252,\"\")","v":""},{"$f":"IF(Eing.Mannsch.aufstellung!E252>0,Eing.Mannsch.aufstellung!G252,\"\")","v":""},null,null,null,null,0,"",null,null,null,null,0]
[null,null,null,null,{"$f":"IF(Eing.Mannsch.aufstellung!E253=\"\",\"\",Eing.Mannsch.aufstellung!D253)","v":""},null,{"$f":"IF(Eing.Mannsch.aufstellung!E253>0,Eing.Mannsch.aufstellung!E253,\"\")","v":""},{"$f":"IF(Eing.Mannsch.aufstellung!E253>0,Eing.Mannsch.aufstellung!H253,\"\")","v":""},{"$f":"IF(Eing.Mannsch.aufstellung!E253>0,Eing.Mannsch.aufstellung!G253,\"\")","v":""},null,null,null,null,0,"",null,null,null,null,0]
[null,null,null,null,{"$f":"IF(Eing.Mannsch.aufstellung!E254=\"\",\"\",Eing.Mannsch.aufstellung!D254)","v":""},null,{"$f":"IF(Eing.Mannsch.aufstellung!E254>0,Eing.Mannsch.aufstellung!E254,\"\")","v":""},{"$f":"IF(Eing.Mannsch.aufstellung!E254>0,Eing.Mannsch.aufstellung!H254,\"\")","v":""},{"$f":"IF(Eing.Mannsch.aufstellung!E254>0,Eing.Mannsch.aufstellung!G254,\"\")","v":""},null,null,null,null,0,"",null,null,null,null,0]
[null,null,null,null,{"$f":"IF(Eing.Mannsch.aufstellung!E255=\"\",\"\",Eing.Mannsch.aufstellung!D255)","v":""},null,{"$f":"IF(Eing.Mannsch.aufstellung!E255>0,Eing.Mannsch.aufstellung!E255,\"\")","v":""},{"$f":"IF(Eing.Mannsch.aufstellung!E255>0,Eing.Mannsch.aufstellung!H255,\"\")","v":""},{"$f":"IF(Eing.Mannsch.aufstellung!E255>0,Eing.Mannsch.aufstellung!G255,\"\")","v":""},null,null,null,null,0,"",null,null,null,null,0]
[null,null,null,null,{"$f":"IF(Eing.Mannsch.aufstellung!E256=\"\",\"\",Eing.Mannsch.aufstellung!D256)","v":""},null,{"$f":"IF(Eing.Mannsch.aufstellung!E256>0,Eing.Mannsch.aufstellung!E256,\"\")","v":""},{"$f":"IF(Eing.Mannsch.aufstellung!E256>0,Eing.Mannsch.aufstellung!H256,\"\")","v":""},{"$f":"IF(Eing.Mannsch.aufstellung!E256>0,Eing.Mannsch.aufstellung!G256,\"\")","v":""},null,null,null,null,0,"",null,null,null,null,0]

{"sheet":"Eing.Mannsch.aufstellung","index":18,"n_rows":262,"n_cols":64,"rows_kept":262,"cut":false,"hidden":false,"merged":[[10,63,16,63],[211,1,211,2],[129,1,129,2],[1,61,1,62],[29,1,29,2],[53,1,53,2],[78,1,78,2],[210,1,210,2],[154,1,154,2],[103,1,103,2],[179,1,179,2]]}
[]
[null,null,null,null,null,null,null,null,null,null,null,null,null,null,null,null,null,null,null,null,null,null,null,null,null,null,null,null,null,null,null,null,null,null,null,null,null,null,null,null,null,null,null,null,null,null,null,null,null,null,null,null,{"$f":"(Eing.Allg..Daten!D4)","v":3},".  Spieltag",null,null,null,null,null,null,null,"Runden-anzahl"]
[null,null,null,null,null,null,null,null,null,null,null,null,null,null,null,null,null,null,null,null,null,null,null,null,null,null,null,null,null,null,null,null,null,null,null,null,null,null,null,null,null,null,null,null,null,null,null,null,null,null,null,null,"Platz",null,"Vereinsname","Schlagzahl",null,"Schnitt","+ Punkte",":","- Punkte"]
[null,null,null,null,null,null,null,null,null,null,null,null,null,null,null,null,null,null,null,null,null,null,null,null,null,null,null,null,null,null,null,null,null,null,null,null,null,null,null,null,null,null,null,null,null,null,null,null,null,null,null,null,1,null,"MGC Bad Homburg 1",964,null,{"$f":"IF(BD4>0,BD4/$BJ$4,0)","v":24.1},22,":",{"$f":"IF(BC4=\"\",\"\",$BJ$12-BG4)","v":2},{"$f":"+Rundenanzahl_ALT","v":40},null,"◄◄◄◄"]
[null,null,null,null,null,null,null,null,null,null,null,null,null,null,null,null,null,null,null,null,null,null,null,null,null,null,null,null,null,null,null,null,null,null,null,null,null,null,null,null,null,null,null,null,null,null,null,null,null,null,null,null,2,null,"SG Arheilgen 3",967,null,24.175000000000001,22,":",2,null,null,"Die Ermittlung der bisher gespielten"]
[null,null,null,null,null,null,null,null,null,null,null,null,null,null,null,null,null,null,null,null,null,null,null,null,null,null,null,null,null,null,null,null,null,null,null,null,null,null,null,null,null,null,null,null,null,null,null,null,null,null,null,null,3,null,"MGC Kahler Sandhasen",1085,null,27.125,10,":",14,null,null,"Rundenanzahl erfolgt automatisch aus"]
[null,null,null,null,null,null,null,null,null,null,null,null,null,null,null,null,null,null,null,null,null,null,null,null,null,null,null,null,null,null,null,null,null,null,null,null,null,null,null,null,null,null,null,null,null,null,null,null,null,null,null,null,4,null,"SG Weiterstadt",1086,null,27.15,10,":",14,null,null,"den Eingaben im Blatt:"]
[null,null,null,null,null,null,null,null,null,null,null,null,null,null,null,null,null,null,null,null,null,null,null,null,null,null,null,null,null,null,null,null,null,null,null,null,null,null,null,null,null,null,null,null,null,null,null,null,null,null,null,null,5,null,"MGC Bad Homburg 2",1094,null,27.35,10,":",14,null,null,"\"STARTSEITE-EINGABE Allg. Daten\""]
[null,null,null,null,null,null,null,null,null,null,null,null,null,null,null,null,null,null,null,null,null,null,null,null,null,null,null,null,null,null,null,null,null,null,null,null,null,null,null,null,null,null,null,null,null,null,null,null,null,null,null,null,6,null,"SV Dreieichenhain",1100,null,27.5,10,":",14]
[null,null,null,null,null,null,null,null,null,null,null,null,null,null,null,null,null,null,null,null,null,null,null,null,null,null,null,null,null,null,null,null,null,null,null,null,null,null,null,null,null,null,null,null,null,null,null,null,null,null,null,null,7,null,"MGC Heringen",1211,null,30.274999999999999,0,":",24]
[null,null,null,null,null,null,null,null,null,null,null,null,null,null,null,null,null,null,null,null,null,null,null,null,null,null,null,null,null,null,null,null,null,null,null,null,null,null,null,null,null,null,null,null,null,null,null,null,null,null,null,null,null,null,null,null,null,null,null,null,null,"Punkte",null,"Für den ersten Spieltag einer Saison muß die Tabelle ausgelost werden.  Reihenfolge hier links eintragen. (Achtung, falls die Startreihenfolge ausgelost wird, muß der zuerst gezogene Verein auf den letzten Platz gesetzt werden. Dann errechnet sich die Startliste richtig.)"]
[null,null,null,null,null,null,null,null,null,null,null,null,null,null,null,null,null,null,null,null,null,null,null,null,null,null,null,null,null,null,null,null,null,null,null,null,null,null,null,null,null,null,null,null,null,null,null,null,null,null,null,null,null,null,null,null,null,null,null,null,null,{"$f":"(AnzMa-1)*2*SUM(Eing.Allg..Daten!D13:D15)","v":24}]
[]
[]
[]
[]
[]
[]
[]
[]
[]
[]
[]
[]
[]
[]
[]
[null,"EINGABE Vereinsname , Name Spieler/innen, Kategorie"]
[null,"Mannschaft Nr .",1,"Spieler / in",null,null,null,null,null,"Kategorien-Abkürzungen"]
[null,{"$f":"+BC4","v":"MGC Bad Homburg 1"},null,"Spielerpaßnr.","Name/Vorname",null,"Kat.",null,null,"SCHW","=","Schüler weiblich"]
[null,"Spieler / in:",1,null,{"$f":"VLOOKUP(D31,Spielerdaten!$A$3:$E$4639,2,FALSE)","v":{"$error":"#N/A"}},null,{"$f":"VLOOKUP(D31,Spielerdaten!$A$3:$E$4639,3,FALSE)","v":{"$error":"#N/A"}},{"$f":"VLOOKUP(D31,Spielerdaten!$A$3:$E$4639,4,FALSE)","v":{"$error":"#N/A"}},null,"SCHM","=","Schüler männlich"]
[null,"Spieler / in:",2,null,{"$f":"VLOOKUP(D32,Spielerdaten!$A$3:$E$4639,2,FALSE)","v":{"$error":"#N/A"}},null,{"$f":"VLOOKUP(D32,Spielerdaten!$A$3:$E$4639,3,FALSE)","v":{"$error":"#N/A"}},{"$f":"VLOOKUP(D32,Spielerdaten!$A$3:$E$4639,4,FALSE)","v":{"$error":"#N/A"}},null,"JW","=","Jugend weiblich"]
[null,"Spieler / in:",3,null,{"$f":"VLOOKUP(D33,Spielerdaten!$A$3:$E$4639,2,FALSE)","v":{"$error":"#N/A"}},null,{"$f":"VLOOKUP(D33,Spielerdaten!$A$3:$E$4639,3,FALSE)","v":{"$error":"#N/A"}},{"$f":"VLOOKUP(D33,Spielerdaten!$A$3:$E$4639,4,FALSE)","v":{"$error":"#N/A"}},null,"JM","=","Jugend männlich"]
[null,"Spieler / in:",4,null,{"$f":"VLOOKUP(D34,Spielerdaten!$A$3:$E$4639,2,FALSE)","v":{"$error":"#N/A"}},null,{"$f":"VLOOKUP(D34,Spielerdaten!$A$3:$E$4639,3,FALSE)","v":{"$error":"#N/A"}},{"$f":"VLOOKUP(D34,Spielerdaten!$A$3:$E$4639,4,FALSE)","v":{"$error":"#N/A"}},null,"D","=","Damen"]
[null,"Spieler / in:",5,null,{"$f":"VLOOKUP(D35,Spielerdaten!$A$3:$E$4639,2,FALSE)","v":{"$error":"#N/A"}},null,{"$f":"VLOOKUP(D35,Spielerdaten!$A$3:$E$4639,3,FALSE)","v":{"$error":"#N/A"}},{"$f":"VLOOKUP(D35,Spielerdaten!$A$3:$E$4639,4,FALSE)","v":{"$error":"#N/A"}},null,"H","=","Herren"]
[null,"Spieler / in:",6,null,{"$f":"VLOOKUP(D36,Spielerdaten!$A$3:$E$4639,2,FALSE)","v":{"$error":"#N/A"}},null,{"$f":"VLOOKUP(D36,Spielerdaten!$A$3:$E$4639,3,FALSE)","v":{"$error":"#N/A"}},{"$f":"VLOOKUP(D36,Spielerdaten!$A$3:$E$4639,4,FALSE)","v":{"$error":"#N/A"}},null,"SW I","=","Seniorinnen AK 1"]
[null,"Spieler / in:",{"$f":"IF(AnzSpieler>4,7,\"\")","v":7},null,{"$f":"VLOOKUP(D37,Spielerdaten!$A$3:$E$4639,2,FALSE)","v":{"$error":"#N/A"}},null,{"$f":"VLOOKUP(D37,Spielerdaten!$A$3:$E$4639,3,FALSE)","v":{"$error":"#N/A"}},{"$f":"VLOOKUP(D37,Spielerdaten!$A$3:$E$4639,4,FALSE)","v":{"$error":"#N/A"}},null,"SW II","=","Seniorinnen AK 2"]
[null,"Spieler / in:",{"$f":"IF(AnzSpieler>5,8,\"\")","v":""},null,{"$f":"VLOOKUP(D38,Spielerdaten!$A$3:$E$4639,2,FALSE)","v":{"$error":"#N/A"}},null,{"$f":"VLOOKUP(D38,Spielerdaten!$A$3:$E$4639,3,FALSE)","v":{"$error":"#N/A"}},{"$f":"VLOOKUP(D38,Spielerdaten!$A$3:$E$4639,4,FALSE)","v":{"$error":"#N/A"}},null,"SM I","=","Senioren AK 1"]
[null,"Zus.Einzelspieler / in:","AK",null,{"$f":"VLOOKUP(D39,Spielerdaten!$A$3:$E$4639,2,FALSE)","v":{"$error":"#N/A"}},null,{"$f":"VLOOKUP(D39,Spielerdaten!$A$3:$E$4639,3,FALSE)","v":{"$error":"#N/A"}},{"$f":"VLOOKUP(D39,Spielerdaten!$A$3:$E$4639,4,FALSE)","v":{"$error":"#N/A"}},null,"SM II","=","Senioren AK 2"]
[null,null,"Mannschaftsführer:",null,{"$f":"VLOOKUP(D40,Spielerdaten!$A$3:$E$4639,2,FALSE)","v":{"$error":"#N/A"}}]
[]
[]
[]
[]
[]
[]
[]
[]
[]
[]
[]
[null,"EINGABE Vereinsname , Name Spieler/innen, Kategorie"]
[null,"Mannschaft Nr .",2,"Spieler / in",null,null,null,null,null,"Kategorien-Abkürzungen"]
[null,{"$f":"+BC5","v":"SG Arheilgen 3"},null,"Spielerpaßnr.","Name/Vorname",null,"Kat.",null,null,"Schm","=","Schüler weiblich"]
[null,"Spieler / in:",1,null,{"$f":"VLOOKUP(D55,Spielerdaten!$A$3:$E$4639,2,FALSE)","v":{"$error":"#N/A"}},null,{"$f":"VLOOKUP(D55,Spielerdaten!$A$3:$E$4639,3,FALSE)","v":{"$error":"#N/A"}},{"$f":"VLOOKUP(D55,Spielerdaten!$A$3:$E$4639,4,FALSE)","v":{"$error":"#N/A"}},null,"Schw","=","Schüler männlich"]
[null,"Spieler / in:",2,null,{"$f":"VLOOKUP(D56,Spielerdaten!$A$3:$E$4639,2,FALSE)","v":{"$error":"#N/A"}},null,{"$f":"VLOOKUP(D56,Spielerdaten!$A$3:$E$4639,3,FALSE)","v":{"$error":"#N/A"}},{"$f":"VLOOKUP(D56,Spielerdaten!$A$3:$E$4639,4,FALSE)","v":{"$error":"#N/A"}},null,"Jm","=","Jugend weiblich"]
[null,"Spieler / in:",3,null,{"$f":"VLOOKUP(D57,Spielerdaten!$A$3:$E$4639,2,FALSE)","v":{"$error":"#N/A"}},null,{"$f":"VLOOKUP(D57,Spielerdaten!$A$3:$E$4639,3,FALSE)","v":{"$error":"#N/A"}},{"$f":"VLOOKUP(D57,Spielerdaten!$A$3:$E$4639,4,FALSE)","v":{"$error":"#N/A"}},null,"Jw","=","Jugend männlich"]
[null,"Spieler / in:",{"$f":"C34","v":4},null,{"$f":"VLOOKUP(D58,Spielerdaten!$A$3:$E$4639,2,FALSE)","v":{"$error":"#N/A"}},null,{"$f":"VLOOKUP(D58,Spielerdaten!$A$3:$E$4639,3,FALSE)","v":{"$error":"#N/A"}},{"$f":"VLOOKUP(D58,Spielerdaten!$A$3:$E$4639,4,FALSE)","v":{"$error":"#N/A"}},null,"D","=","Damen"]
[null,"Spieler / in:",{"$f":"C35","v":5},null,{"$f":"VLOOKUP(D59,Spielerdaten!$A$3:$E$4639,2,FALSE)","v":{"$error":"#N/A"}},null,{"$f":"VLOOKUP(D59,Spielerdaten!$A$3:$E$4639,3,FALSE)","v":{"$error":"#N/A"}},{"$f":"VLOOKUP(D59,Spielerdaten!$A$3:$E$4639,4,FALSE)","v":{"$error":"#N/A"}},null,"H","=","Herren"]
[null,"Spieler / in:",{"$f":"C36","v":6},null,{"$f":"VLOOKUP(D60,Spielerdaten!$A$3:$E$4639,2,FALSE)","v":{"$error":"#N/A"}},null,{"$f":"VLOOKUP(D60,Spielerdaten!$A$3:$E$4639,3,FALSE)","v":{"$error":"#N/A"}},{"$f":"VLOOKUP(D60,Spielerdaten!$A$3:$E$4639,4,FALSE)","v":{"$error":"#N/A"}},null,"Sw I","=","Seniorinnen AK 1"]
[null,"Spieler / in:",{"$f":"C37","v":7},null,{"$f":"VLOOKUP(D61,Spielerdaten!$A$3:$E$4639,2,FALSE)","v":{"$error":"#N/A"}},null,{"$f":"VLOOKUP(D61,Spielerdaten!$A$3:$E$4639,3,FALSE)","v":{"$error":"#N/A"}},{"$f":"VLOOKUP(D61,Spielerdaten!$A$3:$E$4639,4,FALSE)","v":{"$error":"#N/A"}},null,"Sw II","=","Senioren AK 2"]
[null,"Spieler / in:",{"$f":"C38","v":""},null,{"$f":"VLOOKUP(D62,Spielerdaten!$A$3:$E$4639,2,FALSE)","v":{"$error":"#N/A"}},null,{"$f":"VLOOKUP(D62,Spielerdaten!$A$3:$E$4639,3,FALSE)","v":{"$error":"#N/A"}},{"$f":"VLOOKUP(D62,Spielerdaten!$A$3:$E$4639,4,FALSE)","v":{"$error":"#N/A"}},null,"Sm I","=","Senioren AK 1"]
[null,"Zus.Einzelspieler / in:","AK",null,{"$f":"VLOOKUP(D63,Spielerdaten!$A$3:$E$4639,2,FALSE)","v":{"$error":"#N/A"}},null,{"$f":"VLOOKUP(D63,Spielerdaten!$A$3:$E$4639,3,FALSE)","v":{"$error":"#N/A"}},{"$f":"VLOOKUP(D63,Spielerdaten!$A$3:$E$4639,4,FALSE)","v":{"$error":"#N/A"}},null,"Sm II","=","Seniorinnen AK 2"]
[null,null,"Mannschaftsführer:",null,{"$f":"VLOOKUP(D64,Spielerdaten!$A$3:$E$4639,2,FALSE)","v":{"$error":"#N/A"}}]
[]
[]
[]
[]
[]
[]
[]
[]
[]
[]
[]
[]
[null,"EINGABE Vereinsname , Name Spieler/innen, Kategorie"]
[null,"Mannschaft Nr .",3,"Spieler / in",null,null,null,null,null,"Kategorien-Abkürzungen"]
[null,{"$f":"+BC6","v":"MGC Kahler Sandhasen"},null,"Spielerpaßnr.","Name/Vorname",null,"Kat.",null,null,"Schm","=","Schüler weiblich"]
[null,"Spieler / in:",1,null,{"$f":"VLOOKUP(D80,Spielerdaten!$A$3:$E$4639,2,FALSE)","v":{"$error":"#N/A"}},null,{"$f":"VLOOKUP(D80,Spielerdaten!$A$3:$E$4639,3,FALSE)","v":{"$error":"#N/A"}},{"$f":"VLOOKUP(D80,Spielerdaten!$A$3:$E$4639,4,FALSE)","v":{"$error":"#N/A"}},null,"Schw","=","Schüler männlich"]
[null,"Spieler / in:",2,null,{"$f":"VLOOKUP(D81,Spielerdaten!$A$3:$E$4639,2,FALSE)","v":{"$error":"#N/A"}},null,{"$f":"VLOOKUP(D81,Spielerdaten!$A$3:$E$4639,3,FALSE)","v":{"$error":"#N/A"}},{"$f":"VLOOKUP(D81,Spielerdaten!$A$3:$E$4639,4,FALSE)","v":{"$error":"#N/A"}},null,"Jm","=","Jugend weiblich"]
[null,"Spieler / in:",3,null,{"$f":"VLOOKUP(D82,Spielerdaten!$A$3:$E$4639,2,FALSE)","v":{"$error":"#N/A"}},null,{"$f":"VLOOKUP(D82,Spielerdaten!$A$3:$E$4639,3,FALSE)","v":{"$error":"#N/A"}},{"$f":"VLOOKUP(D82,Spielerdaten!$A$3:$E$4639,4,FALSE)","v":{"$error":"#N/A"}},null,"Jw","=","Jugend männlich"]
[null,"Spieler / in:",{"$f":"C34","v":4},null,{"$f":"VLOOKUP(D83,Spielerdaten!$A$3:$E$4639,2,FALSE)","v":{"$error":"#N/A"}},null,{"$f":"VLOOKUP(D83,Spielerdaten!$A$3:$E$4639,3,FALSE)","v":{"$error":"#N/A"}},{"$f":"VLOOKUP(D83,Spielerdaten!$A$3:$E$4639,4,FALSE)","v":{"$error":"#N/A"}},null,"D","=","Damen"]
[null,"Spieler / in:",{"$f":"C35","v":5},null,{"$f":"VLOOKUP(D84,Spielerdaten!$A$3:$E$4639,2,FALSE)","v":{"$error":"#N/A"}},null,{"$f":"VLOOKUP(D84,Spielerdaten!$A$3:$E$4639,3,FALSE)","v":{"$error":"#N/A"}},{"$f":"VLOOKUP(D84,Spielerdaten!$A$3:$E$4639,4,FALSE)","v":{"$error":"#N/A"}},null,"H","=","Herren"]
[null,"Spieler / in:",{"$f":"C36","v":6},null,{"$f":"VLOOKUP(D85,Spielerdaten!$A$3:$E$4639,2,FALSE)","v":{"$error":"#N/A"}},null,{"$f":"VLOOKUP(D85,Spielerdaten!$A$3:$E$4639,3,FALSE)","v":{"$error":"#N/A"}},{"$f":"VLOOKUP(D85,Spielerdaten!$A$3:$E$4639,4,FALSE)","v":{"$error":"#N/A"}},null,"Sw I","=","Seniorinnen AK 1"]
[null,"Spieler / in:",{"$f":"C37","v":7},null,{"$f":"VLOOKUP(D86,Spielerdaten!$A$3:$E$4639,2,FALSE)","v":{"$error":"#N/A"}},null,{"$f":"VLOOKUP(D86,Spielerdaten!$A$3:$E$4639,3,FALSE)","v":{"$error":"#N/A"}},{"$f":"VLOOKUP(D86,Spielerdaten!$A$3:$E$4639,4,FALSE)","v":{"$error":"#N/A"}},null,"Sw II","=","Senioren AK 2"]
[null,"Spieler / in:",{"$f":"C38","v":""},null,{"$f":"VLOOKUP(D87,Spielerdaten!$A$3:$E$4639,2,FALSE)","v":{"$error":"#N/A"}},null,{"$f":"VLOOKUP(D87,Spielerdaten!$A$3:$E$4639,3,FALSE)","v":{"$error":"#N/A"}},{"$f":"VLOOKUP(D87,Spielerdaten!$A$3:$E$4639,4,FALSE)","v":{"$error":"#N/A"}},null,"Sm I","=","Senioren AK 1"]
[null,"Zus.Einzelspieler / in:","AK",null,{"$f":"VLOOKUP(D88,Spielerdaten!$A$3:$E$4639,2,FALSE)","v":{"$error":"#N/A"}},null,{"$f":"VLOOKUP(D88,Spielerdaten!$A$3:$E$4639,3,FALSE)","v":{"$error":"#N/A"}},{"$f":"VLOOKUP(D88,Spielerdaten!$A$3:$E$4639,4,FALSE)","v":{"$error":"#N/A"}},null,"Sm II","=","Seniorinnen AK 2"]
[null,null,"Mannschaftsführer:",null,{"$f":"VLOOKUP(D89,Spielerdaten!$A$3:$E$4639,2,FALSE)","v":{"$error":"#N/A"}}]
[]
[]
[]
[]
[]
[]
[]
[]
[]
[]
[]
[]
[null,"EINGABE Vereinsname , Name Spieler/innen, Kategorie"]
[null,"Mannschaft Nr .",4,"Spieler / in",null,null,null,null,null,"Kategorien-Abkürzungen"]
[null,{"$f":"+BC7","v":"SG Weiterstadt"},null,"Spielerpaßnr.","Name/Vorname",null,"Kat.",null,null,"Schm","=","Schüler weiblich"]
[null,"Spieler / in:",1,null,{"$f":"VLOOKUP(D105,Spielerdaten!$A$3:$E$4639,2,FALSE)","v":{"$error":"#N/A"}},null,{"$f":"VLOOKUP(D105,Spielerdaten!$A$3:$E$4639,3,FALSE)","v":{"$error":"#N/A"}},{"$f":"VLOOKUP(D105,Spielerdaten!$A$3:$E$4639,4,FALSE)","v":{"$error":"#N/A"}},null,"Schw","=","Schüler männlich"]
[null,"Spieler / in:",2,null,{"$f":"VLOOKUP(D106,Spielerdaten!$A$3:$E$4639,2,FALSE)","v":{"$error":"#N/A"}},null,{"$f":"VLOOKUP(D106,Spielerdaten!$A$3:$E$4639,3,FALSE)","v":{"$error":"#N/A"}},{"$f":"VLOOKUP(D106,Spielerdaten!$A$3:$E$4639,4,FALSE)","v":{"$error":"#N/A"}},null,"Jm","=","Jugend weiblich"]
[null,"Spieler / in:",3,null,{"$f":"VLOOKUP(D107,Spielerdaten!$A$3:$E$4639,2,FALSE)","v":{"$error":"#N/A"}},null,{"$f":"VLOOKUP(D107,Spielerdaten!$A$3:$E$4639,3,FALSE)","v":{"$error":"#N/A"}},{"$f":"VLOOKUP(D107,Spielerdaten!$A$3:$E$4639,4,FALSE)","v":{"$error":"#N/A"}},null,"Jw","=","Jugend männlich"]
[null,"Spieler / in:",{"$f":"C34","v":4},null,{"$f":"VLOOKUP(D108,Spielerdaten!$A$3:$E$4639,2,FALSE)","v":{"$error":"#N/A"}},null,{"$f":"VLOOKUP(D108,Spielerdaten!$A$3:$E$4639,3,FALSE)","v":{"$error":"#N/A"}},{"$f":"VLOOKUP(D108,Spielerdaten!$A$3:$E$4639,4,FALSE)","v":{"$error":"#N/A"}},null,"D","=","Damen"]
[null,"Spieler / in:",5,null,{"$f":"VLOOKUP(D109,Spielerdaten!$A$3:$E$4639,2,FALSE)","v":{"$error":"#N/A"}},null,{"$f":"VLOOKUP(D109,Spielerdaten!$A$3:$E$4639,3,FALSE)","v":{"$error":"#N/A"}},{"$f":"VLOOKUP(D109,Spielerdaten!$A$3:$E$4639,4,FALSE)","v":{"$error":"#N/A"}},null,"H","=","Herren"]
[null,"Spieler / in:",6,null,{"$f":"VLOOKUP(D110,Spielerdaten!$A$3:$E$4639,2,FALSE)","v":{"$error":"#N/A"}},null,{"$f":"VLOOKUP(D110,Spielerdaten!$A$3:$E$4639,3,FALSE)","v":{"$error":"#N/A"}},{"$f":"VLOOKUP(D110,Spielerdaten!$A$3:$E$4639,4,FALSE)","v":{"$error":"#N/A"}},null,"Sw I","=","Seniorinnen AK 1"]
[null,"Spieler / in:",7,null,{"$f":"VLOOKUP(D111,Spielerdaten!$A$3:$E$4639,2,FALSE)","v":{"$error":"#N/A"}},null,{"$f":"VLOOKUP(D111,Spielerdaten!$A$3:$E$4639,3,FALSE)","v":{"$error":"#N/A"}},{"$f":"VLOOKUP(D111,Spielerdaten!$A$3:$E$4639,4,FALSE)","v":{"$error":"#N/A"}},null,"Sw II","=","Senioren AK 2"]
[null,"Spieler / in:","",null,{"$f":"VLOOKUP(D112,Spielerdaten!$A$3:$E$4639,2,FALSE)","v":{"$error":"#N/A"}},null,{"$f":"VLOOKUP(D112,Spielerdaten!$A$3:$E$4639,3,FALSE)","v":{"$error":"#N/A"}},{"$f":"VLOOKUP(D112,Spielerdaten!$A$3:$E$4639,4,FALSE)","v":{"$error":"#N/A"}},null,"Sm I","=","Senioren AK 1"]
[null,"Zus.Einzelspieler / in:","AK",null,{"$f":"VLOOKUP(D113,Spielerdaten!$A$3:$E$4639,2,FALSE)","v":{"$error":"#N/A"}},null,{"$f":"VLOOKUP(D113,Spielerdaten!$A$3:$E$4639,3,FALSE)","v":{"$error":"#N/A"}},{"$f":"VLOOKUP(D113,Spielerdaten!$A$3:$E$4639,4,FALSE)","v":{"$error":"#N/A"}},null,"Sm II","=","Seniorinnen AK 2"]
[null,null,"Mannschaftsführer:",null,{"$f":"VLOOKUP(D114,Spielerdaten!$A$3:$E$4639,2,FALSE)","v":{"$error":"#N/A"}}]
[]
[]
[]
[]
[]
[]
[]
[]
[]
[]
[]
[]
[]
[null,"EINGABE Vereinsname , Name Spieler/innen, Kategorie"]
[null,"Mannschaft Nr .",5,"Spieler / in",null,null,null,null,null,"Kategorien-Abkürzungen"]
[null,{"$f":"+BC8","v":"MGC Bad Homburg 2"},null,"Spielerpaßnr.","Name/Vorname",null,"Kat.",null,null,"Schm","=","Schüler weiblich"]
[null,"Spieler / in:",1,null,{"$f":"VLOOKUP(D131,Spielerdaten!$A$3:$E$4639,2,FALSE)","v":{"$error":"#N/A"}},null,{"$f":"VLOOKUP(D131,Spielerdaten!$A$3:$E$4639,3,FALSE)","v":{"$error":"#N/A"}},{"$f":"VLOOKUP(D131,Spielerdaten!$A$3:$E$4639,4,FALSE)","v":{"$error":"#N/A"}},null,"Schw","=","Schüler männlich"]
[null,"Spieler / in:",2,null,{"$f":"VLOOKUP(D132,Spielerdaten!$A$3:$E$4639,2,FALSE)","v":{"$error":"#N/A"}},null,{"$f":"VLOOKUP(D132,Spielerdaten!$A$3:$E$4639,3,FALSE)","v":{"$error":"#N/A"}},{"$f":"VLOOKUP(D132,Spielerdaten!$A$3:$E$4639,4,FALSE)","v":{"$error":"#N/A"}},null,"Jm","=","Jugend weiblich"]
[null,"Spieler / in:",3,null,{"$f":"VLOOKUP(D133,Spielerdaten!$A$3:$E$4639,2,FALSE)","v":{"$error":"#N/A"}},null,{"$f":"VLOOKUP(D133,Spielerdaten!$A$3:$E$4639,3,FALSE)","v":{"$error":"#N/A"}},{"$f":"VLOOKUP(D133,Spielerdaten!$A$3:$E$4639,4,FALSE)","v":{"$error":"#N/A"}},null,"Jw","=","Jugend männlich"]
[null,"Spieler / in:",{"$f":"C34","v":4},null,{"$f":"VLOOKUP(D134,Spielerdaten!$A$3:$E$4639,2,FALSE)","v":{"$error":"#N/A"}},null,{"$f":"VLOOKUP(D134,Spielerdaten!$A$3:$E$4639,3,FALSE)","v":{"$error":"#N/A"}},{"$f":"VLOOKUP(D134,Spielerdaten!$A$3:$E$4639,4,FALSE)","v":{"$error":"#N/A"}},null,"D","=","Damen"]
[null,"Spieler / in:",5,null,{"$f":"VLOOKUP(D135,Spielerdaten!$A$3:$E$4639,2,FALSE)","v":{"$error":"#N/A"}},null,{"$f":"VLOOKUP(D135,Spielerdaten!$A$3:$E$4639,3,FALSE)","v":{"$error":"#N/A"}},{"$f":"VLOOKUP(D135,Spielerdaten!$A$3:$E$4639,4,FALSE)","v":{"$error":"#N/A"}},null,"H","=","Herren"]
[null,"Spieler / in:",6,null,{"$f":"VLOOKUP(D136,Spielerdaten!$A$3:$E$4639,2,FALSE)","v":{"$error":"#N/A"}},null,{"$f":"VLOOKUP(D136,Spielerdaten!$A$3:$E$4639,3,FALSE)","v":{"$error":"#N/A"}},{"$f":"VLOOKUP(D136,Spielerdaten!$A$3:$E$4639,4,FALSE)","v":{"$error":"#N/A"}},null,"Sw I","=","Seniorinnen AK 1"]
[null,"Spieler / in:",7,null,{"$f":"VLOOKUP(D137,Spielerdaten!$A$3:$E$4639,2,FALSE)","v":{"$error":"#N/A"}},null,{"$f":"VLOOKUP(D137,Spielerdaten!$A$3:$E$4639,3,FALSE)","v":{"$error":"#N/A"}},{"$f":"VLOOKUP(D137,Spielerdaten!$A$3:$E$4639,4,FALSE)","v":{"$error":"#N/A"}},null,"Sw II","=","Senioren AK 2"]
[null,"Spieler / in:","",null,{"$f":"VLOOKUP(D138,Spielerdaten!$A$3:$E$4639,2,FALSE)","v":{"$error":"#N/A"}},null,{"$f":"VLOOKUP(D138,Spielerdaten!$A$3:$E$4639,3,FALSE)","v":{"$error":"#N/A"}},{"$f":"VLOOKUP(D138,Spielerdaten!$A$3:$E$4639,4,FALSE)","v":{"$error":"#N/A"}},null,"Sm I","=","Senioren AK 1"]
[null,"Zus.Einzelspieler / in:","AK",null,{"$f":"VLOOKUP(D139,Spielerdaten!$A$3:$E$4639,2,FALSE)","v":{"$error":"#N/A"}},null,{"$f":"VLOOKUP(D139,Spielerdaten!$A$3:$E$4639,3,FALSE)","v":{"$error":"#N/A"}},{"$f":"VLOOKUP(D139,Spielerdaten!$A$3:$E$4639,4,FALSE)","v":{"$error":"#N/A"}},null,"Sm II","=","Seniorinnen AK 2"]
[null,null,"Mannschaftsführer:",null,{"$f":"VLOOKUP(D140,Spielerdaten!$A$3:$E$4639,2,FALSE)","v":{"$error":"#N/A"}}]
[]
[]
[]
[]
[]
[]
[]
[]
[]
[]
[]
[]
[null,"EINGABE Vereinsname , Name Spieler/innen, Kategorie"]
[null,"Mannschaft Nr .",6,"Spieler / in",null,null,null,null,null,"Kategorien-Abkürzungen"]
[null,{"$f":"+BC9","v":"SV Dreieichenhain"},null,"Spielerpaßnr.","Name/Vorname",null,"Kat.",null,null,"Schm","=","Schüler weiblich"]
[null,"Spieler / in:",1,null,{"$f":"VLOOKUP(D156,Spielerdaten!$A$3:$E$4639,2,FALSE)","v":{"$error":"#N/A"}},null,{"$f":"VLOOKUP(D156,Spielerdaten!$A$3:$E$4639,3,FALSE)","v":{"$error":"#N/A"}},{"$f":"VLOOKUP(D156,Spielerdaten!$A$3:$E$4639,4,FALSE)","v":{"$error":"#N/A"}},null,"Schw","=","Schüler männlich"]
[null,"Spieler / in:",2,null,{"$f":"VLOOKUP(D157,Spielerdaten!$A$3:$E$4639,2,FALSE)","v":{"$error":"#N/A"}},null,{"$f":"VLOOKUP(D157,Spielerdaten!$A$3:$E$4639,3,FALSE)","v":{"$error":"#N/A"}},{"$f":"VLOOKUP(D157,Spielerdaten!$A$3:$E$4639,4,FALSE)","v":{"$error":"#N/A"}},null,"Jm","=","Jugend weiblich"]
[null,"Spieler / in:",3,null,{"$f":"VLOOKUP(D158,Spielerdaten!$A$3:$E$4639,2,FALSE)","v":{"$error":"#N/A"}},null,{"$f":"VLOOKUP(D158,Spielerdaten!$A$3:$E$4639,3,FALSE)","v":{"$error":"#N/A"}},{"$f":"VLOOKUP(D158,Spielerdaten!$A$3:$E$4639,4,FALSE)","v":{"$error":"#N/A"}},null,"Jw","=","Jugend männlich"]
[null,"Spieler / in:",{"$f":"C34","v":4},null,{"$f":"VLOOKUP(D159,Spielerdaten!$A$3:$E$4639,2,FALSE)","v":{"$error":"#N/A"}},null,{"$f":"VLOOKUP(D159,Spielerdaten!$A$3:$E$4639,3,FALSE)","v":{"$error":"#N/A"}},{"$f":"VLOOKUP(D159,Spielerdaten!$A$3:$E$4639,4,FALSE)","v":{"$error":"#N/A"}},null,"D","=","Damen"]
[null,"Spieler / in:",5,null,{"$f":"VLOOKUP(D160,Spielerdaten!$A$3:$E$4639,2,FALSE)","v":{"$error":"#N/A"}},null,{"$f":"VLOOKUP(D160,Spielerdaten!$A$3:$E$4639,3,FALSE)","v":{"$error":"#N/A"}},{"$f":"VLOOKUP(D160,Spielerdaten!$A$3:$E$4639,4,FALSE)","v":{"$error":"#N/A"}},null,"H","=","Herren"]
[null,"Spieler / in:",6,null,{"$f":"VLOOKUP(D161,Spielerdaten!$A$3:$E$4639,2,FALSE)","v":{"$error":"#N/A"}},null,{"$f":"VLOOKUP(D161,Spielerdaten!$A$3:$E$4639,3,FALSE)","v":{"$error":"#N/A"}},{"$f":"VLOOKUP(D161,Spielerdaten!$A$3:$E$4639,4,FALSE)","v":{"$error":"#N/A"}},null,"Sw I","=","Seniorinnen AK 1"]
[null,"Spieler / in:",7,null,{"$f":"VLOOKUP(D162,Spielerdaten!$A$3:$E$4639,2,FALSE)","v":{"$error":"#N/A"}},null,{"$f":"VLOOKUP(D162,Spielerdaten!$A$3:$E$4639,3,FALSE)","v":{"$error":"#N/A"}},{"$f":"VLOOKUP(D162,Spielerdaten!$A$3:$E$4639,4,FALSE)","v":{"$error":"#N/A"}},null,"Sw II","=","Senioren AK 2"]
[null,"Spieler / in:","",null,{"$f":"VLOOKUP(D163,Spielerdaten!$A$3:$E$4639,2,FALSE)","v":{"$error":"#N/A"}},null,{"$f":"VLOOKUP(D163,Spielerdaten!$A$3:$E$4639,3,FALSE)","v":{"$error":"#N/A"}},{"$f":"VLOOKUP(D163,Spielerdaten!$A$3:$E$4639,4,FALSE)","v":{"$error":"#N/A"}},null,"Sm I","=","Senioren AK 1"]
[null,"Zus.Einzelspieler / in:","AK",null,{"$f":"VLOOKUP(D164,Spielerdaten!$A$3:$E$4639,2,FALSE)","v":{"$error":"#N/A"}},null,{"$f":"VLOOKUP(D164,Spielerdaten!$A$3:$E$4639,3,FALSE)","v":{"$error":"#N/A"}},{"$f":"VLOOKUP(D164,Spielerdaten!$A$3:$E$4639,4,FALSE)","v":{"$error":"#N/A"}},null,"Sm II","=","Seniorinnen AK 2"]
[null,null,"Mannschaftsführer:",null,{"$f":"VLOOKUP(D165,Spielerdaten!$A$3:$E$4639,2,FALSE)","v":{"$error":"#N/A"}}]
[]
[]
[]
[]
[]
[]
[]
[]
[]
[]
[]
[]
[null,"EINGABE Vereinsname , Name Spieler/innen, Kategorie"]
[null,"Mannschaft Nr .",7,"Spieler / in",null,null,null,null,null,"Kategorien-Abkürzungen"]
[null,{"$f":"+BC10","v":"MGC Heringen"},null,"Spielerpaßnr.","Name/Vorname",null,"Kat.",null,null,"Schm","=","Schüler weiblich"]
[null,"Spieler / in:",1,null,{"$f":"VLOOKUP(D181,Spielerdaten!$A$3:$E$4639,2,FALSE)","v":{"$error":"#N/A"}},null,{"$f":"VLOOKUP(D181,Spielerdaten!$A$3:$E$4639,3,FALSE)","v":{"$error":"#N/A"}},{"$f":"VLOOKUP(D181,Spielerdaten!$A$3:$E$4639,4,FALSE)","v":{"$error":"#N/A"}},null,"Schw","=","Schüler männlich"]
[null,"Spieler / in:",2,null,{"$f":"VLOOKUP(D182,Spielerdaten!$A$3:$E$4639,2,FALSE)","v":{"$error":"#N/A"}},null,{"$f":"VLOOKUP(D182,Spielerdaten!$A$3:$E$4639,3,FALSE)","v":{"$error":"#N/A"}},{"$f":"VLOOKUP(D182,Spielerdaten!$A$3:$E$4639,4,FALSE)","v":{"$error":"#N/A"}},null,"Jm","=","Jugend weiblich"]
[null,"Spieler / in:",3,null,{"$f":"VLOOKUP(D183,Spielerdaten!$A$3:$E$4639,2,FALSE)","v":{"$error":"#N/A"}},null,{"$f":"VLOOKUP(D183,Spielerdaten!$A$3:$E$4639,3,FALSE)","v":{"$error":"#N/A"}},{"$f":"VLOOKUP(D183,Spielerdaten!$A$3:$E$4639,4,FALSE)","v":{"$error":"#N/A"}},null,"Jw","=","Jugend männlich"]
[null,"Spieler / in:",{"$f":"C58","v":4},null,{"$f":"VLOOKUP(D184,Spielerdaten!$A$3:$E$4639,2,FALSE)","v":{"$error":"#N/A"}},null,{"$f":"VLOOKUP(D184,Spielerdaten!$A$3:$E$4639,3,FALSE)","v":{"$error":"#N/A"}},{"$f":"VLOOKUP(D184,Spielerdaten!$A$3:$E$4639,4,FALSE)","v":{"$error":"#N/A"}},null,"D","=","Damen"]
[null,"Spieler / in:",5,null,{"$f":"VLOOKUP(D185,Spielerdaten!$A$3:$E$4639,2,FALSE)","v":{"$error":"#N/A"}},null,{"$f":"VLOOKUP(D185,Spielerdaten!$A$3:$E$4639,3,FALSE)","v":{"$error":"#N/A"}},{"$f":"VLOOKUP(D185,Spielerdaten!$A$3:$E$4639,4,FALSE)","v":{"$error":"#N/A"}},null,"H","=","Herren"]
[null,"Spieler / in:",6,null,{"$f":"VLOOKUP(D186,Spielerdaten!$A$3:$E$4639,2,FALSE)","v":{"$error":"#N/A"}},null,{"$f":"VLOOKUP(D186,Spielerdaten!$A$3:$E$4639,3,FALSE)","v":{"$error":"#N/A"}},{"$f":"VLOOKUP(D186,Spielerdaten!$A$3:$E$4639,4,FALSE)","v":{"$error":"#N/A"}},null,"Sw I","=","Seniorinnen AK 1"]
[null,"Spieler / in:",7,null,{"$f":"VLOOKUP(D187,Spielerdaten!$A$3:$E$4639,2,FALSE)","v":{"$error":"#N/A"}},null,{"$f":"VLOOKUP(D187,Spielerdaten!$A$3:$E$4639,3,FALSE)","v":{"$error":"#N/A"}},{"$f":"VLOOKUP(D187,Spielerdaten!$A$3:$E$4639,4,FALSE)","v":{"$error":"#N/A"}},null,"Sw II","=","Senioren AK 2"]
[null,"Spieler / in:","",null,{"$f":"VLOOKUP(D188,Spielerdaten!$A$3:$E$4639,2,FALSE)","v":{"$error":"#N/A"}},null,{"$f":"VLOOKUP(D188,Spielerdaten!$A$3:$E$4639,3,FALSE)","v":{"$error":"#N/A"}},{"$f":"VLOOKUP(D188,Spielerdaten!$A$3:$E$4639,4,FALSE)","v":{"$error":"#N/A"}},null,"Sm I","=","Senioren AK 1"]
[null,"Zus.Einzelspieler / in:","AK",null,{"$f":"VLOOKUP(D189,Spielerdaten!$A$3:$E$4639,2,FALSE)","v":{"$error":"#N/A"}},null,{"$f":"VLOOKUP(D189,Spielerdaten!$A$3:$E$4639,3,FALSE)","v":{"$error":"#N/A"}},{"$f":"VLOOKUP(D189,Spielerdaten!$A$3:$E$4639,4,FALSE)","v":{"$error":"#N/A"}},null,"Sm II","=","Seniorinnen AK 2"]
[null,null,"Mannschaftsführer:",null,{"$f":"VLOOKUP(D190,Spielerdaten!$A$3:$E$4639,2,FALSE)","v":{"$error":"#N/A"}}]
[]
[]
[]
[]
[]
[]
[]
[]
[]
[]
[]
[]
[]
[]
[]
[]
[]
[]
[]
[null,"EINGABE Vereinsname , Name Spieler/innen, Kategorie"]
[null,"Einzelspieler/ innen",null,"Spieler / in",null,null,null,null,null,"Kategorien-Abkürzungen"]
[null,"Ersatzsp. bei Mannsch eingeben",null,"Spielerpaßnr.","Name/Vorname",null,"Kat.",null,null,"Schm","=","Schüler weiblich"]
[null,"Spieler / in:","ES 1",null,{"$f":"IF($D213=\"\",\"\",VLOOKUP($D213,Spielerdaten!A$3:$E$4639,2,FALSE))","v":""},null,{"$f":"IF(D213=\"\",\"\",VLOOKUP($D213,Spielerdaten!$A$3:$E$4639,3,0))","v":""},{"$f":"IF(D213=\"\",\"\",CONCATENATE(VLOOKUP(D213,Spielerdaten!$A$3:$E$4639,4,0),\" \"))","v":""},null,"Schw","=","Schüler männlich"]
[null,"Spieler / in:","ES 2",null,{"$f":"IF($D214=\"\",\"\",VLOOKUP($D214,Spielerdaten!A$3:$E$4639,2,FALSE))","v":""},null,{"$f":"IF(D214=\"\",\"\",VLOOKUP($D214,Spielerdaten!$A$3:$E$4639,3,0))","v":""},{"$f":"IF(D214=\"\",\"\",CONCATENATE(VLOOKUP(D214,Spielerdaten!$A$3:$E$4639,4,0),\" \"))","v":""},null,"Jm","=","Jugend weiblich"]
[null,"Spieler / in:","ES 3",null,{"$f":"IF($D215=\"\",\"\",VLOOKUP($D215,Spielerdaten!A$3:$E$4639,2,FALSE))","v":""},null,{"$f":"IF(D215=\"\",\"\",VLOOKUP($D215,Spielerdaten!$A$3:$E$4639,3,0))","v":""},{"$f":"IF(D215=\"\",\"\",CONCATENATE(VLOOKUP(D215,Spielerdaten!$A$3:$E$4639,4,0),\" \"))","v":""},null,"Jw","=","Jugend männlich"]
[null,"Spieler / in:","ES 4",null,{"$f":"IF($D216=\"\",\"\",VLOOKUP($D216,Spielerdaten!A$3:$E$4639,2,FALSE))","v":""},null,{"$f":"IF(D216=\"\",\"\",VLOOKUP($D216,Spielerdaten!$A$3:$E$4639,3,0))","v":""},{"$f":"IF(D216=\"\",\"\",CONCATENATE(VLOOKUP(D216,Spielerdaten!$A$3:$E$4639,4,0),\" \"))","v":""},null,"D","=","Damen"]
[null,"Spieler / in:","ES 5",null,{"$f":"IF($D217=\"\",\"\",VLOOKUP($D217,Spielerdaten!A$3:$E$4639,2,FALSE))","v":""},null,{"$f":"IF(D217=\"\",\"\",VLOOKUP($D217,Spielerdaten!$A$3:$E$4639,3,0))","v":""},{"$f":"IF(D217=\"\",\"\",CONCATENATE(VLOOKUP(D217,Spielerdaten!$A$3:$E$4639,4,0),\" \"))","v":""},null,"H","=","Herren"]
[null,"Spieler / in:","ES 6",null,{"$f":"IF($D218=\"\",\"\",VLOOKUP($D218,Spielerdaten!A$3:$E$4639,2,FALSE))","v":""},null,{"$f":"IF(D218=\"\",\"\",VLOOKUP($D218,Spielerdaten!$A$3:$E$4639,3,0))","v":""},{"$f":"IF(D218=\"\",\"\",CONCATENATE(VLOOKUP(D218,Spielerdaten!$A$3:$E$4639,4,0),\" \"))","v":""},null,"Sw1","=","Seniorinnen AK 1"]
[null,"Spieler / in:","ES 7",null,{"$f":"IF($D219=\"\",\"\",VLOOKUP($D219,Spielerdaten!A$3:$E$4639,2,FALSE))","v":""},null,{"$f":"IF(D219=\"\",\"\",VLOOKUP($D219,Spielerdaten!$A$3:$E$4639,3,0))","v":""},{"$f":"IF(D219=\"\",\"\",CONCATENATE(VLOOKUP(D219,Spielerdaten!$A$3:$E$4639,4,0),\" \"))","v":""},null,"Sw2","=","Senioren AK 2"]
[null,"Spieler / in:","ES 8",null,{"$f":"IF($D220=\"\",\"\",VLOOKUP($D220,Spielerdaten!A$3:$E$4639,2,FALSE))","v":""},null,{"$f":"IF(D220=\"\",\"\",VLOOKUP($D220,Spielerdaten!$A$3:$E$4639,3,0))","v":""},{"$f":"IF(D220=\"\",\"\",CONCATENATE(VLOOKUP(D220,Spielerdaten!$A$3:$E$4639,4,0),\" \"))","v":""},null,"Sm1","=","Senioren AK 1"]
[null,"Spieler / in:","ES 9",null,{"$f":"IF($D221=\"\",\"\",VLOOKUP($D221,Spielerdaten!A$3:$E$4639,2,FALSE))","v":""},null,{"$f":"IF(D221=\"\",\"\",VLOOKUP($D221,Spielerdaten!$A$3:$E$4639,3,0))","v":""},{"$f":"IF(D221=\"\",\"\",CONCATENATE(VLOOKUP(D221,Spielerdaten!$A$3:$E$4639,4,0),\" \"))","v":""},null,"Sm2","=","Seniorinnen AK 2"]
[null,"Spieler / in:","ES 10",null,{"$f":"IF($D222=\"\",\"\",VLOOKUP($D222,Spielerdaten!A$3:$E$4639,2,FALSE))","v":""},null,{"$f":"IF(D222=\"\",\"\",VLOOKUP($D222,Spielerdaten!$A$3:$E$4639,3,0))","v":""},{"$f":"IF(D222=\"\",\"\",CONCATENATE(VLOOKUP(D222,Spielerdaten!$A$3:$E$4639,4,0),\" \"))","v":""}]
[null,"Spieler / in:","ES 11",null,{"$f":"IF($D223=\"\",\"\",VLOOKUP($D223,Spielerdaten!A$3:$E$4639,2,FALSE))","v":""},null,{"$f":"IF(D223=\"\",\"\",VLOOKUP($D223,Spielerdaten!$A$3:$E$4639,3,0))","v":""},{"$f":"IF(D223=\"\",\"\",CONCATENATE(VLOOKUP(D223,Spielerdaten!$A$3:$E$4639,4,0),\" \"))","v":""}]
[null,"Spieler / in:","ES 12",null,{"$f":"IF($D224=\"\",\"\",VLOOKUP($D224,Spielerdaten!A$3:$E$4639,2,FALSE))","v":""},null,{"$f":"IF(D224=\"\",\"\",VLOOKUP($D224,Spielerdaten!$A$3:$E$4639,3,0))","v":""},{"$f":"IF(D224=\"\",\"\",CONCATENATE(VLOOKUP(D224,Spielerdaten!$A$3:$E$4639,4,0),\" \"))","v":""}]
[null,"Spieler / in:","ES 13",null,{"$f":"IF($D225=\"\",\"\",VLOOKUP($D225,Spielerdaten!A$3:$E$4639,2,FALSE))","v":""},null,{"$f":"IF(D225=\"\",\"\",VLOOKUP($D225,Spielerdaten!$A$3:$E$4639,3,0))","v":""},{"$f":"IF(D225=\"\",\"\",CONCATENATE(VLOOKUP(D225,Spielerdaten!$A$3:$E$4639,4,0),\" \"))","v":""}]
[null,"Spieler / in:","ES 14",null,{"$f":"IF($D226=\"\",\"\",VLOOKUP($D226,Spielerdaten!A$3:$E$4639,2,FALSE))","v":""},null,{"$f":"IF(D226=\"\",\"\",VLOOKUP($D226,Spielerdaten!$A$3:$E$4639,3,0))","v":""},{"$f":"IF(D226=\"\",\"\",CONCATENATE(VLOOKUP(D226,Spielerdaten!$A$3:$E$4639,4,0),\" \"))","v":""}]
[null,"Spieler / in:","ES 15",null,{"$f":"IF($D227=\"\",\"\",VLOOKUP($D227,Spielerdaten!A$3:$E$4639,2,FALSE))","v":""},null,{"$f":"IF(D227=\"\",\"\",VLOOKUP($D227,Spielerdaten!$A$3:$E$4639,3,0))","v":""},{"$f":"IF(D227=\"\",\"\",CONCATENATE(VLOOKUP(D227,Spielerdaten!$A$3:$E$4639,4,0),\" \"))","v":""}]
[null,"Spieler / in:","ES 16",null,{"$f":"IF($D228=\"\",\"\",VLOOKUP($D228,Spielerdaten!A$3:$E$4639,2,FALSE))","v":""},null,{"$f":"IF(D228=\"\",\"\",VLOOKUP($D228,Spielerdaten!$A$3:$E$4639,3,0))","v":""},{"$f":"IF(D228=\"\",\"\",CONCATENATE(VLOOKUP(D228,Spielerdaten!$A$3:$E$4639,4,0),\" \"))","v":""}]
[null,"Spieler / in:","ES 17",null,{"$f":"IF($D229=\"\",\"\",VLOOKUP($D229,Spielerdaten!A$3:$E$4639,2,FALSE))","v":""},null,{"$f":"IF(D229=\"\",\"\",VLOOKUP($D229,Spielerdaten!$A$3:$E$4639,3,0))","v":""},{"$f":"IF(D229=\"\",\"\",CONCATENATE(VLOOKUP(D229,Spielerdaten!$A$3:$E$4639,4,0),\" \"))","v":""}]
[null,"Spieler / in:","ES 18",null,{"$f":"IF($D230=\"\",\"\",VLOOKUP($D230,Spielerdaten!A$3:$E$4639,2,FALSE))","v":""},null,{"$f":"IF(D230=\"\",\"\",VLOOKUP($D230,Spielerdaten!$A$3:$E$4639,3,0))","v":""},{"$f":"IF(D230=\"\",\"\",CONCATENATE(VLOOKUP(D230,Spielerdaten!$A$3:$E$4639,4,0),\" \"))","v":""}]
[null,"Spieler / in:","ES 19",null,{"$f":"IF($D231=\"\",\"\",VLOOKUP($D231,Spielerdaten!A$3:$E$4639,2,FALSE))","v":""},null,{"$f":"IF(D231=\"\",\"\",VLOOKUP($D231,Spielerdaten!$A$3:$E$4639,3,0))","v":""},{"$f":"IF(D231=\"\",\"\",CONCATENATE(VLOOKUP(D231,Spielerdaten!$A$3:$E$4639,4,0),\" \"))","v":""}]
[null,"Spieler / in:","ES 20",null,{"$f":"IF($D232=\"\",\"\",VLOOKUP($D232,Spielerdaten!A$3:$E$4639,2,FALSE))","v":""},null,{"$f":"IF(D232=\"\",\"\",VLOOKUP($D232,Spielerdaten!$A$3:$E$4639,3,0))","v":""},{"$f":"IF(D232=\"\",\"\",CONCATENATE(VLOOKUP(D232,Spielerdaten!$A$3:$E$4639,4,0),\" \"))","v":""}]
[null,"Spieler / in:","ES 21",null,{"$f":"IF($D233=\"\",\"\",VLOOKUP($D233,Spielerdaten!A$3:$E$4639,2,FALSE))","v":""},null,{"$f":"IF(D233=\"\",\"\",VLOOKUP($D233,Spielerdaten!$A$3:$E$4639,3,0))","v":""},{"$f":"IF(D233=\"\",\"\",CONCATENATE(VLOOKUP(D233,Spielerdaten!$A$3:$E$4639,4,0),\" \"))","v":""}]
[null,"Spieler / in:","ES 22",null,{"$f":"IF($D234=\"\",\"\",VLOOKUP($D234,Spielerdaten!A$3:$E$4639,2,FALSE))","v":""},null,{"$f":"IF(D234=\"\",\"\",VLOOKUP($D234,Spielerdaten!$A$3:$E$4639,3,0))","v":""},{"$f":"IF(D234=\"\",\"\",CONCATENATE(VLOOKUP(D234,Spielerdaten!$A$3:$E$4639,4,0),\" \"))","v":""}]
[null,"Spieler / in:","ES 23",null,{"$f":"IF($D235=\"\",\"\",VLOOKUP($D235,Spielerdaten!A$3:$E$4639,2,FALSE))","v":""},null,{"$f":"IF(D235=\"\",\"\",VLOOKUP($D235,Spielerdaten!$A$3:$E$4639,3,0))","v":""},{"$f":"IF(D235=\"\",\"\",CONCATENATE(VLOOKUP(D235,Spielerdaten!$A$3:$E$4639,4,0),\" \"))","v":""}]
[null,"Spieler / in:","ES 24",null,{"$f":"IF($D236=\"\",\"\",VLOOKUP($D236,Spielerdaten!A$3:$E$4639,2,FALSE))","v":""},null,{"$f":"IF(D236=\"\",\"\",VLOOKUP($D236,Spielerdaten!$A$3:$E$4639,3,0))","v":""},{"$f":"IF(D236=\"\",\"\",CONCATENATE(VLOOKUP(D236,Spielerdaten!$A$3:$E$4639,4,0),\" \"))","v":""}]
[null,"Spieler / in:","ES 25",null,{"$f":"IF($D237=\"\",\"\",VLOOKUP($D237,Spielerdaten!A$3:$E$4639,2,FALSE))","v":""},null,{"$f":"IF(D237=\"\",\"\",VLOOKUP($D237,Spielerdaten!$A$3:$E$4639,3,0))","v":""},{"$f":"IF(D237=\"\",\"\",CONCATENATE(VLOOKUP(D237,Spielerdaten!$A$3:$E$4639,4,0),\" \"))","v":""}]
[null,"Spieler / in:","ES 26",null,{"$f":"IF($D238=\"\",\"\",VLOOKUP($D238,Spielerdaten!A$3:$E$4639,2,FALSE))","v":""},null,{"$f":"IF(D238=\"\",\"\",VLOOKUP($D238,Spielerdaten!$A$3:$E$4639,3,0))","v":""},{"$f":"IF(D238=\"\",\"\",CONCATENATE(VLOOKUP(D238,Spielerdaten!$A$3:$E$4639,4,0),\" \"))","v":""}]
[null,"Spieler / in:","ES 27",null,{"$f":"IF($D239=\"\",\"\",VLOOKUP($D239,Spielerdaten!A$3:$E$4639,2,FALSE))","v":""},null,{"$f":"IF(D239=\"\",\"\",VLOOKUP($D239,Spielerdaten!$A$3:$E$4639,3,0))","v":""},{"$f":"IF(D239=\"\",\"\",CONCATENATE(VLOOKUP(D239,Spielerdaten!$A$3:$E$4639,4,0),\" \"))","v":""}]
[null,"Spieler / in:","ES 28",null,{"$f":"IF($D240=\"\",\"\",VLOOKUP($D240,Spielerdaten!A$3:$E$4639,2,FALSE))","v":""},null,{"$f":"IF(D240=\"\",\"\",VLOOKUP($D240,Spielerdaten!$A$3:$E$4639,3,0))","v":""},{"$f":"IF(D240=\"\",\"\",CONCATENATE(VLOOKUP(D240,Spielerdaten!$A$3:$E$4639,4,0),\" \"))","v":""}]
[null,"Spieler / in:","ES 29",null,{"$f":"IF($D241=\"\",\"\",VLOOKUP($D241,Spielerdaten!A$3:$E$4639,2,FALSE))","v":""},null,{"$f":"IF(D241=\"\",\"\",VLOOKUP($D241,Spielerdaten!$A$3:$E$4639,3,0))","v":""},{"$f":"IF(D241=\"\",\"\",CONCATENATE(VLOOKUP(D241,Spielerdaten!$A$3:$E$4639,4,0),\" \"))","v":""}]
[null,"Spieler / in:","ES 30",null,{"$f":"IF($D242=\"\",\"\",VLOOKUP($D242,Spielerdaten!A$3:$E$4639,2,FALSE))","v":""},null,{"$f":"IF(D242=\"\",\"\",VLOOKUP($D242,Spielerdaten!$A$3:$E$4639,3,0))","v":""},{"$f":"IF(D242=\"\",\"\",CONCATENATE(VLOOKUP(D242,Spielerdaten!$A$3:$E$4639,4,0),\" \"))","v":""}]
[null,"Spieler / in:","ES 31",null,{"$f":"IF($D243=\"\",\"\",VLOOKUP($D243,Spielerdaten!A$3:$E$4639,2,FALSE))","v":""},null,{"$f":"IF(D243=\"\",\"\",VLOOKUP($D243,Spielerdaten!$A$3:$E$4639,3,0))","v":""},{"$f":"IF(D243=\"\",\"\",CONCATENATE(VLOOKUP(D243,Spielerdaten!$A$3:$E$4639,4,0),\" \"))","v":""}]
[null,"Spieler / in:","ES 32",null,{"$f":"IF($D244=\"\",\"\",VLOOKUP($D244,Spielerdaten!A$3:$E$4639,2,FALSE))","v":""},null,{"$f":"IF(D244=\"\",\"\",VLOOKUP($D244,Spielerdaten!$A$3:$E$4639,3,0))","v":""},{"$f":"IF(D244=\"\",\"\",CONCATENATE(VLOOKUP(D244,Spielerdaten!$A$3:$E$4639,4,0),\" \"))","v":""}]
[null,"Spieler / in:","ES 33",null,{"$f":"IF($D245=\"\",\"\",VLOOKUP($D245,Spielerdaten!A$3:$E$4639,2,FALSE))","v":""},null,{"$f":"IF(D245=\"\",\"\",VLOOKUP($D245,Spielerdaten!$A$3:$E$4639,3,0))","v":""},{"$f":"IF(D245=\"\",\"\",CONCATENATE(VLOOKUP(D245,Spielerdaten!$A$3:$E$4639,4,0),\" \"))","v":""}]
[null,"Spieler / in:","ES 34",null,{"$f":"IF($D246=\"\",\"\",VLOOKUP($D246,Spielerdaten!A$3:$E$4639,2,FALSE))","v":""},null,{"$f":"IF(D246=\"\",\"\",VLOOKUP($D246,Spielerdaten!$A$3:$E$4639,3,0))","v":""},{"$f":"IF(D246=\"\",\"\",CONCATENATE(VLOOKUP(D246,Spielerdaten!$A$3:$E$4639,4,0),\" \"))","v":""}]
[null,"Spieler / in:","ES 35",null,{"$f":"IF($D247=\"\",\"\",VLOOKUP($D247,Spielerdaten!A$3:$E$4639,2,FALSE))","v":""},null,{"$f":"IF(D247=\"\",\"\",VLOOKUP($D247,Spielerdaten!$A$3:$E$4639,3,0))","v":""},{"$f":"IF(D247=\"\",\"\",CONCATENATE(VLOOKUP(D247,Spielerdaten!$A$3:$E$4639,4,0),\" \"))","v":""}]
[null,"Spieler / in:","ES 36",null,{"$f":"IF($D248=\"\",\"\",VLOOKUP($D248,Spielerdaten!A$3:$E$4639,2,FALSE))","v":""},null,{"$f":"IF(D248=\"\",\"\",VLOOKUP($D248,Spielerdaten!$A$3:$E$4639,3,0))","v":""},{"$f":"IF(D248=\"\",\"\",CONCATENATE(VLOOKUP(D248,Spielerdaten!$A$3:$E$4639,4,0),\" \"))","v":""}]
[null,"Spieler / in:","ES 37",null,{"$f":"IF($D249=\"\",\"\",VLOOKUP($D249,Spielerdaten!A$3:$E$4639,2,FALSE))","v":""},null,{"$f":"IF(D249=\"\",\"\",VLOOKUP($D249,Spielerdaten!$A$3:$E$4639,3,0))","v":""},{"$f":"IF(D249=\"\",\"\",CONCATENATE(VLOOKUP(D249,Spielerdaten!$A$3:$E$4639,4,0),\" \"))","v":""}]
[null,"Spieler / in:","ES 38",null,{"$f":"IF($D250=\"\",\"\",VLOOKUP($D250,Spielerdaten!A$3:$E$4639,2,FALSE))","v":""},null,{"$f":"IF(D250=\"\",\"\",VLOOKUP($D250,Spielerdaten!$A$3:$E$4639,3,0))","v":""},{"$f":"IF(D250=\"\",\"\",CONCATENATE(VLOOKUP(D250,Spielerdaten!$A$3:$E$4639,4,0),\" \"))","v":""}]
[null,"Spieler / in:","ES 39",null,{"$f":"IF($D251=\"\",\"\",VLOOKUP($D251,Spielerdaten!A$3:$E$4639,2,FALSE))","v":""},null,{"$f":"IF(D251=\"\",\"\",VLOOKUP($D251,Spielerdaten!$A$3:$E$4639,3,0))","v":""},{"$f":"IF(D251=\"\",\"\",CONCATENATE(VLOOKUP(D251,Spielerdaten!$A$3:$E$4639,4,0),\" \"))","v":""}]
[null,"Spieler / in:","ES 40",null,{"$f":"IF($D252=\"\",\"\",VLOOKUP($D252,Spielerdaten!A$3:$E$4639,2,FALSE))","v":""},null,{"$f":"IF(D252=\"\",\"\",VLOOKUP($D252,Spielerdaten!$A$3:$E$4639,3,0))","v":""},{"$f":"IF(D252=\"\",\"\",CONCATENATE(VLOOKUP(D252,Spielerdaten!$A$3:$E$4639,4,0),\" \"))","v":""}]
[null,"Spieler / in:","ES 41",null,{"$f":"IF($D253=\"\",\"\",VLOOKUP($D253,Spielerdaten!A$3:$E$4639,2,FALSE))","v":""},null,{"$f":"IF(D253=\"\",\"\",VLOOKUP($D253,Spielerdaten!$A$3:$E$4639,3,0))","v":""},{"$f":"IF(D253=\"\",\"\",CONCATENATE(VLOOKUP(D253,Spielerdaten!$A$3:$E$4639,4,0),\" \"))","v":""}]
[null,"Spieler / in:","ES 42",null,{"$f":"IF($D254=\"\",\"\",VLOOKUP($D254,Spielerdaten!A$3:$E$4639,2,FALSE))","v":""},null,{"$f":"IF(D254=\"\",\"\",VLOOKUP($D254,Spielerdaten!$A$3:$E$4639,3,0))","v":""},{"$f":"IF(D254=\"\",\"\",CONCATENATE(VLOOKUP(D254,Spielerdaten!$A$3:$E$4639,4,0),\" \"))","v":""}]
[null,"Spieler / in:","ES 43",null,{"$f":"IF($D255=\"\",\"\",VLOOKUP($D255,Spielerdaten!A$3:$E$4639,2,FALSE))","v":""},null,{"$f":"IF(D255=\"\",\"\",VLOOKUP($D255,Spielerdaten!$A$3:$E$4639,3,0))","v":""},{"$f":"IF(D255=\"\",\"\",CONCATENATE(VLOOKUP(D255,Spielerdaten!$A$3:$E$4639,4,0),\" \"))","v":""}]
[null,"Spieler / in:","ES 44",null,{"$f":"IF($D256=\"\",\"\",VLOOKUP($D256,Spielerdaten!A$3:$E$4639,2,FALSE))","v":""},null,{"$f":"IF(D256=\"\",\"\",VLOOKUP($D256,Spielerdaten!$A$3:$E$4639,3,0))","v":""},{"$f":"IF(D256=\"\",\"\",CONCATENATE(VLOOKUP(D256,Spielerdaten!$A$3:$E$4639,4,0),\" \"))","v":""}]
[null,"Spieler / in:","ES 45",null,{"$f":"IF($D257=\"\",\"\",VLOOKUP($D257,Spielerdaten!A$3:$E$4639,2,FALSE))","v":""},null,{"$f":"IF(D257=\"\",\"\",VLOOKUP($D257,Spielerdaten!$A$3:$E$4639,3,0))","v":""},{"$f":"IF(D257=\"\",\"\",CONCATENATE(VLOOKUP(D257,Spielerdaten!$A$3:$E$4639,4,0),\" \"))","v":""}]
[null,"Spieler / in:","ES 46",null,{"$f":"IF($D258=\"\",\"\",VLOOKUP($D258,Spielerdaten!A$3:$E$4639,2,FALSE))","v":""},null,{"$f":"IF(D258=\"\",\"\",VLOOKUP($D258,Spielerdaten!$A$3:$E$4639,3,0))","v":""},{"$f":"IF(D258=\"\",\"\",CONCATENATE(VLOOKUP(D258,Spielerdaten!$A$3:$E$4639,4,0),\" \"))","v":""}]
[null,"Spieler / in:","ES 47",null,{"$f":"IF($D259=\"\",\"\",VLOOKUP($D259,Spielerdaten!A$3:$E$4639,2,FALSE))","v":""},null,{"$f":"IF(D259=\"\",\"\",VLOOKUP($D259,Spielerdaten!$A$3:$E$4639,3,0))","v":""},{"$f":"IF(D259=\"\",\"\",CONCATENATE(VLOOKUP(D259,Spielerdaten!$A$3:$E$4639,4,0),\" \"))","v":""}]
[null,"Spieler / in:","ES 48",null,{"$f":"IF($D260=\"\",\"\",VLOOKUP($D260,Spielerdaten!A$3:$E$4639,2,FALSE))","v":""},null,{"$f":"IF(D260=\"\",\"\",VLOOKUP($D260,Spielerdaten!$A$3:$E$4639,3,0))","v":""},{"$f":"IF(D260=\"\",\"\",CONCATENATE(VLOOKUP(D260,Spielerdaten!$A$3:$E$4639,4,0),\" \"))","v":""}]
[null,"Spieler / in:",49,null,{"$f":"IF($D261=\"\",\"\",VLOOKUP($D261,Spielerdaten!A$3:$E$2919,2,FALSE))","v":""},null,{"$f":"IF(D261=\"\",\"\",VLOOKUP($D261,Spielerdaten!$A$3:$E$2919,3,0))","v":""},{"$f":"IF(D261=\"\",\"\",CONCATENATE(VLOOKUP(D261,Spielerdaten!$A$3:$E$2919,4,0),\" \"))","v":""}]
[null,"Spieler / in:",50,null,{"$f":"IF($D262=\"\",\"\",VLOOKUP($D262,Spielerdaten!A$3:$E$2919,2,FALSE))","v":""},null,{"$f":"IF(D262=\"\",\"\",VLOOKUP($D262,Spielerdaten!$A$3:$E$2919,3,0))","v":""},{"$f":"IF(D262=\"\",\"\",CONCATENATE(VLOOKUP(D262,Spielerdaten!$A$3:$E$2919,4,0),\" \"))","v":""}]

{"sheet":"DMV-Ergebnisschnellmeldung","index":19,"n_rows":39,"n_cols":10,"rows_kept":39,"cut":false,"hidden":true,"merged":[[38,0,39,2],[38,3,38,5],[38,6,38,10],[39,6,39,10],[39,3,39,5],[0,0,0,10],[2,0,2,10],[11,0,11,10],[19,8,19,10],[29,8,29,10]]}
[]
[]
["Ergebnisdienst DMV – Homepage"]
[" "]
["Formular bitte noch am Spieltag durchgeben an:"]
[]
["DMV-Geschäftsstelle"]
["Achim Braungart Zink"]
["Mendener Str. 23",null,"Tel.:","02241 9710527"]
["53840 Troisdorf",null,"E-Mail:","geschaeftsstelle@minigolfsport.de"]
[]
["Schnellübersicht Ligenspieltag"]
[]
["Liga:",null,{"$f":"+Eing.Allg..Daten!D2","v":"Gruppenliga"}]
["Spieltag:",null,{"$f":"+Eing.Allg..Daten!D4","v":3},"von ",5]
["Ort des Spieltags:",null,{"$f":"IF(Eing.Allg..Daten!D6=\"\",\"\",+Eing.Allg..Daten!D6)","v":"Dreieichenhain"}]
["System:",null,{"$f":"Eing.Allg..Daten!D8","v":"Miniaturgolf"}]
[]
["Ergebnisse des Spieltags:"]
["Platz:","Team / Verein","Rd1","Rd2","Rd3","Rd4","Gesamt","Schnitt","Punkte"]
[1,{"$f":"+Tagestabelle!E5","v":"MGC Bad Homburg 1"},{"$f":"+Tagestabelle!I14","v":4995.0001499999998},{"$f":"+Tagestabelle!J14","v":4995.0001499999998},{"$f":"+Tagestabelle!K14","v":4995.0001499999998},{"$f":"+Tagestabelle!L14","v":4995.0001499999998},{"$f":"+Tagestabelle!M14","v":2001},{"$f":"+Tagestabelle!N14","v":""},null,{"$f":"+Tagestabelle!B5","v":12}]
[2,{"$f":"+Tagestabelle!E21","v":"SG Arheilgen 3"},{"$f":"+Tagestabelle!I30","v":4995.0001499999998},{"$f":"+Tagestabelle!J30","v":4995.0001499999998},{"$f":"+Tagestabelle!K30","v":4995.0001499999998},{"$f":"+Tagestabelle!L30","v":4995.0001499999998},{"$f":"+Tagestabelle!M30","v":2002},{"$f":"+Tagestabelle!N30","v":""},null,{"$f":"+Tagestabelle!B21","v":10}]
[3,{"$f":"+Tagestabelle!E37","v":"MGC Kahler Sandhasen"},{"$f":"+Tagestabelle!I46","v":4995.0001499999998},{"$f":"+Tagestabelle!J46","v":4995.0001499999998},{"$f":"+Tagestabelle!K46","v":4995.0001499999998},{"$f":"+Tagestabelle!L46","v":4995.0001499999998},{"$f":"+Tagestabelle!M46","v":2003},{"$f":"+Tagestabelle!N46","v":""},null,{"$f":"+Tagestabelle!B37","v":8}]
[4,{"$f":"+Tagestabelle!E53","v":"SG Weiterstadt"},{"$f":"+Tagestabelle!I62","v":4995.0001499999998},{"$f":"+Tagestabelle!J62","v":4995.0001499999998},{"$f":"+Tagestabelle!K62","v":4995.0001499999998},{"$f":"+Tagestabelle!L62","v":4995.0001499999998},{"$f":"+Tagestabelle!M62","v":2004},{"$f":"+Tagestabelle!N62","v":""},null,{"$f":"+Tagestabelle!B53","v":6}]
[5,{"$f":"+Tagestabelle!E69","v":"MGC Bad Homburg 2"},{"$f":"+Tagestabelle!I78","v":4995.0001499999998},{"$f":"+Tagestabelle!J78","v":4995.0001499999998},{"$f":"+Tagestabelle!K78","v":4995.0001499999998},{"$f":"+Tagestabelle!L78","v":4995.0001499999998},{"$f":"+Tagestabelle!M78","v":2005},{"$f":"+Tagestabelle!N78","v":""},null,{"$f":"+Tagestabelle!B69","v":4}]
[6,{"$f":"+Tagestabelle!E85","v":"SV Dreieichenhain"},{"$f":"+Tagestabelle!I94","v":4995.0001499999998},{"$f":"+Tagestabelle!J94","v":4995.0001499999998},{"$f":"+Tagestabelle!K94","v":4995.0001499999998},{"$f":"+Tagestabelle!L94","v":4995.0001499999998},{"$f":"+Tagestabelle!M94","v":2006},{"$f":"+Tagestabelle!N94","v":""},null,{"$f":"+Tagestabelle!B85","v":2}]
[7,{"$f":"+Tagestabelle!E101","v":"MGC Heringen"},{"$f":"+Tagestabelle!I110","v":4995.0001499999998},{"$f":"+Tagestabelle!J110","v":4995.0001499999998},{"$f":"+Tagestabelle!K110","v":4995.0001499999998},{"$f":"+Tagestabelle!L110","v":4995.0001499999998},{"$f":"+Tagestabelle!M110","v":2007},{"$f":"+Tagestabelle!N110","v":""},null,{"$f":"+Tagestabelle!B101","v":0}]
[]
["Tabelle nach dem Spieltag:"]
["Platz:","Team / Verein",null,null,null,null,"Schläge","Schnitt","Punkte"]
[{"$f":"A21","v":1},{"$f":"+Seite1!D41","v":0},null,null,null,null,{"$f":"+Seite1!F41","v":0},{"$f":"Seite1!G41","v":0},null,{"$f":"+Seite1!H41","v":0}]
[2,{"$f":"+Seite1!D42","v":0},null,null,null,null,{"$f":"+Seite1!F42","v":0},{"$f":"Seite1!G42","v":0},null,{"$f":"+Seite1!H42","v":0}]
[3,{"$f":"+Seite1!D43","v":0},null,null,null,null,{"$f":"+Seite1!F43","v":0},{"$f":"Seite1!G43","v":0},null,{"$f":"+Seite1!H43","v":0}]
[4,{"$f":"+Seite1!D44","v":0},null,null,null,null,{"$f":"+Seite1!F44","v":0},{"$f":"Seite1!G44","v":0},null,{"$f":"+Seite1!H44","v":0}]
[5,{"$f":"+Seite1!D45","v":0},null,null,null,null,{"$f":"+Seite1!F45","v":0},{"$f":"Seite1!G45","v":0},null,{"$f":"+Seite1!H45","v":0}]
[6,{"$f":"+Seite1!D46","v":0},null,null,null,null,{"$f":"+Seite1!F46","v":0},{"$f":"Seite1!G46","v":0},null,{"$f":"+Seite1!H46","v":0}]
[7,{"$f":"+Seite1!D47","v":0},null,null,null,null,{"$f":"+Seite1!F47","v":0},{"$f":"Seite1!G47","v":0},null,{"$f":"+Seite1!H47","v":0}]
[]
["Nächster Spieltag ",null,null,"Datum:",null,null,"Ort:"]

{"sheet":"Spielerdaten","index":20,"n_rows":3496,"n_cols":27,"rows_kept":3496,"cut":false,"hidden":false,"merged":[]}
[null,null,null,null," ",null,null,null,null,null,null,"DRL Version vom:","2024-05-01"]
["Pass","Name","Kat.","Vereinsname","LV","DRL Rangliste 01.05.24","DRL-WERT","Name DRL","Kat","Vereinsname","LV",null,null,null,null,null,null,null,null,null,null,null,null,null,null,null,"Kategorien"]
[66254,"Lindemann, Oliver","SM I","MGC Bad Homburg","HBSV",100.523,null,null,null,null,null,null,null,null,null,null,null,null,null,null,null,null,null,null,null,null,"Spalte1"]
[31333,"Blendermann, Stefanie","D","1. Mainzer MGC","MRP",94.552000000000007,null,null,null,null,null,null,null,null,null,null,null,null,null,null,null,null,null,null,null,null,"SM II"]
[38330,"Müller, Yannick","H","BGS Hardenberg-Pötter","NBV",94.587999999999994,null,null,null,null,null,null,null,null,null,null,null,null,null,null,null,null,null,null,null,null,"SM I"]
[38170,"Hisserich, Peter","SM II","MGC Bad Homburg","HBSV",104.309,null,null,null,null,null,null,null,null,null,null,null,null,null,null,null,null,null,null,null,null,"SW II"]
[30714,"Mießner, Frederick","H","MGC Murnau am Staffelsee","BMV",95.233999999999995,null,null,null,null,null,null,null,null,null,null,null,null,null,null,null,null,null,null,null,null,"SW I"]
[37859,"Piekorz, Sebastian","H","BGS Hardenberg-Pötter","NBV",95.486000000000004,null,null,null,null,null,null,null,null,null,null,null,null,null,null,null,null,null,null,null,null,"H"]
[37955,"Neumann, Lukas","H","1. Mainzer MGC","MRP",95.683999999999997,null,null,null,null,null,null,null,null,null,null,null,null,null,null,null,null,null,null,null,null,"D"]
[66470,"Schwarz, Tobias","H","Olchinger MSK","BMV",95.697999999999993,null,null,null,null,null,null,null,null,null,null,null,null,null,null,null,null,null,null,null,null,"JM"]
[42994,"Erlbruch, Walter","SM I","BGS Hardenberg-Pötter","NBV",95.712000000000003,null,null,null,null,null,null,null,null,null,null,null,null,null,null,null,null,null,null,null,null,"JW"]
[41145,"Bartmann, Volker","SM I","MGC Bad Homburg","HBSV",105.626,null,null,null,null,null,null,null,null,null,null,null,null,null,null,null,null,null,null,null,null,"SCHM"]
[36423,"Spreier, Melanie","D","1. KC Homburg-Saar 1967","SaarMV",95.721000000000004,null,null,null,null,null,null,null,null,null,null,null,null,null,null,null,null,null,null,null,null,"SCHW"]
[35127,"Wachtl, Sven","SM I","MGC Bad Homburg","HBSV",106.348]
[67166,"Smejkal, Marek","H","BGS Hardenberg-Pötter","NBV",95.814999999999998]
[66742,"Schmeckenbecher, Kenny Marc","H","1. Mainzer MGC","MRP",95.942999999999998]
[31269,"Noack, Marcel","H","1. Mainzer MGC","MRP",96.066999999999993]
[40930,"Heine, Sebastian","H","MGC Dormagen-Brechten","NBV",96.162999999999997]
[43605,"Geist, Alexander","SM I","BGS Hardenberg-Pötter","NBV",96.21]
[37430,"Molnár, Karel jr.","H","BGS Hardenberg-Pötter","NBV",96.459000000000003]
[67769,"Klukas, Yvonne","D","1. Mainzer MGC","MRP",96.488]
[66973,"Sommer, Reto","H","1. Mainzer MGC","MRP",96.492999999999995]
[35737,"Bothmann, Jasmin","D","1. MGC 1970 Göttingen","MVBN",96.548000000000002]
[38505,"van Diejen, Tom","H","1. MGC Ludwigshafen 1964","MRP",96.558000000000007]
[31769,"Koziol, Michael","SM I","BGS Hardenberg-Pötter","NBV",96.57]
[65873,"Lieber, Johannes","H","1. KC Homburg-Saar 1967","SaarMV",96.590999999999994]
[35774,"Kapke, Dennis","H","MGC Dormagen-Brechten","NBV",96.608999999999995]
[36636,"Höfler, Thomas","H","1. KC Homburg-Saar 1967","SaarMV",96.691000000000003]
[36205,"Spreier, Sascha","H","1. KC Homburg-Saar 1967","SaarMV",96.741]
[38462,"Kleiner, Tristan","H","1. M.S.C. Wesel 6.6.66","NBV",96.774000000000001]
[36151,"Aho, Pasi","SM I","BGC Neutraubling","BMV",96.814999999999998]
[31872,"Grübl, Christoph","H","1. NMC Kelheim","BMV",96.89]
[37242,"Peuker, Vanessa","D","MGC Dormagen-Brechten","NBV",96.897999999999996]
[38393,"Krane, Michaela","D","MSK Neheim-Hüsten","NBV",96.932000000000002]
[36560,"Waleska, Marcel","H","1. MGC 1970 Göttingen","MVBN",96.978999999999999]
[37433,"Jasper, Alexander","SM I","MGC Dormagen-Brechten","NBV",96.997]
[66990,"Hagemeyer, David","H","BGSV Bad Homburg v. d.H.","HBSV",97.093000000000004]
[44416,"Hahn, Robert","SM I","1. MGC Ludwigshafen 1964","MRP",97.146000000000001]
[31091,"Schubert, Christian","SM I","1. NMC Kelheim","BMV",97.183999999999997]
[35237,"Geraedts, Robin","H","MGC Dormagen-Brechten","NBV",97.218999999999994]
[45560,"Bothmann, Patrick","SM I","MGC Dormagen-Brechten","NBV",97.248999999999995]
[27551,"Kobisch, Roman","SM I","1. Mainzer MGC","MRP",97.256]
[67630,"Galbicska, Karl","SM II","MGC Bad Homburg","HBSV",106.55]
[34757,"Peffer, Sebastian","H","Niendorfer MC v. 1963","HBV",97.328000000000003]
[27565,"Kobisch, Alice","SW II","1. Mainzer MGC","MRP",97.350999999999999]
[66946,"Börger, Pascal","H","MSK Neheim-Hüsten","NBV",97.409000000000006]
[37047,"Neufeld, Marvin","H","MSK Neheim-Hüsten","NBV",97.421000000000006]
[38141,"Dickes, Robin","H","1. Mainzer MGC","MRP",97.444000000000003]
[34891,"Gerhardt, Felix","H","MGC Murnau am Staffelsee","BMV",97.457999999999998]
[66910,"Kandert, Hannes","H","TG Höchberg von 1862 Bahnengolf","BMV",97.465000000000003]
[49802,"Reinisch, Corina","D","BGC Neutraubling","BMV",97.492000000000004]
[22127,"Sic, Zoltan","SM II","MGC Bad Homburg","HBSV",108.172]
[38052,"Frech, Maximilian","H","1. KC Homburg-Saar 1967","SaarMV",97.504999999999995]
[66161,"Krauss, Silvio","H","1. KC Homburg-Saar 1967","SaarMV",97.581999999999994]
[25206,"Giebenhain, Thomas","SM I","MSC Bensheim-Auerbach","HBSV",97.600999999999999]
[37856,"Deeg, Martin","H","SSV Ulm 1846 Abt. Bahnengolf","WBV",97.608000000000004]
[38557,"Mrohs, Alexander","H","Niendorfer MC v. 1963","HBV",97.662000000000006]
[35329,"Gesell, Kevin","H","MGC Murnau am Staffelsee","BMV",97.683000000000007]
[31842,"Friesacher, Gerald","SM II","1. NMC Kelheim","BMV",97.692999999999998]
[33608,"Biermann, Christoph","H","1. MGC 1970 Göttingen","MVBN",97.713999999999999]
[33416,"Wittwer, Daniel","H","1. Mainzer MGC","MRP",97.718999999999994]
[31015,"Janßen, Markus","SM II","1. Mainzer MGC","MRP",97.731999999999999]
[29327,"Büdenbender, Markus","SM I","1. M.S.C. Wesel 6.6.66","NBV",97.75]
[67229,"Buchwieser, Luis","JM","Olchinger MSK","BMV",97.76]
[33530,"Hey, Marcus","H","OMGC Ingolstadt","BMV",97.763000000000005]
[46031,"Wietz, Florian","SM I","Niendorfer MC v. 1963","HBV",97.763999999999996]
[29299,"Löbel, Heinz","SM II","MGF Hammer","BMV",97.781999999999996]
[29677,"Lagerquist, René","H","MGC Olympia Kiel","SHMV",97.837000000000003]
[36994,"Ziegler, Frank","H","TG Höchberg von 1862 Bahnengolf","BMV",97.843000000000004]
[33604,"Weißmann, Henning","H","1. MGC 1970 Göttingen","MVBN",97.850999999999999]
[66863,"Jaiser, Andre","H","SSV Ulm 1846 Abt. Bahnengolf","WBV",97.873000000000005]
[50153,"Zodrow-Wenke, Bianca","D","1. MGC 1970 Göttingen","MVBN",97.884]
[40034,"Fritzenkötter, Thies","H","MSK Neheim-Hüsten","NBV",97.896000000000001]
[66804,"Schreiber, Clemens","H","Bochumer MC 1960","NBV",97.903000000000006]
[45574,"Reiter, Josef","SM II","MGF Hammer","BMV",97.917000000000002]
[37633,"Lichtenberg, Jan Peter","H","1. KC Homburg-Saar 1967","SaarMV",97.92]
[33730,"Lischke, Martin","SM I","1. Mainzer MGC","MRP",97.948999999999998]
[49073,"Junkermann, Alexander","SM I","MGC Dormagen-Brechten","NBV",97.953999999999994]
[40407,"Clasen, Tim","SM I","1. M.S.C. Wesel 6.6.66","NBV",97.956999999999994]
[64551,"Ertl, Daniel","H","MGC Murnau am Staffelsee","BMV",97.962999999999994]
[9959,"Lindner, Fritz","SM II","ASV Pegnitz Abt. Minigolf","BMV",97.977000000000004]
[66979,"Hoock, Luca","H","1. KC Homburg-Saar 1967","SaarMV",97.98]
[66085,"Dettmer-Melendez, Erik","H","MGC Dormagen-Brechten","NBV",98.016000000000005]
[63701,"Schlauch, Dominik","H","BGC Bad Berneck","BMV",98.043999999999997]
[30639,"Nowsky, Peter","SM II","1. MGC 1970 Göttingen","MVBN",98.066000000000003]
[50172,"Hilß, Reinhold","SM II","MSC Bensheim-Auerbach","HBSV",98.114999999999995]
[67378,"Bottenberg, Youri","H","Niendorfer MC v. 1963","HBV",98.129000000000005]
[34695,"Wisnewski, Marc","H","1. M.S.C. Wesel 6.6.66","NBV",98.138999999999996]
[38205,"Zielaff, Christian","H","1. MGC 1970 Göttingen","MVBN",98.144999999999996]
[49350,"Paulsen, Achim","SM I","MGC Olympia Kiel","SHMV",98.153000000000006]
[30051,"Hartmann, Jörg","H","Tempelhofer MV 65","BVBB",98.16]
[26534,"Ebi, Robert","SM II","MGF Hilzingen 80","BBS",98.16]
[26955,"Weinberger, Reiner","SM I","BGC Neutraubling","BMV",98.162999999999997]
[25512,"Fischer, Gerd","SM II","TG Höchberg von 1862 Bahnengolf","BMV",98.174999999999997]
[43576,"Waldmann, Udo","SM I","1. BGC Landshut","BMV",98.197000000000003]
[32976,"Pester, Magnus","H","MGC putter Künzell 1970","HBSV",98.198999999999998]
[37780,"Suchomel, Brian","H","MC Tigers Künsebeck","NBV",98.213999999999999]
[49900,"Helldörfer, Sven","SM I","1. NMC Kelheim","BMV",98.218999999999994]
[36564,"Lepa, Björn-Fabian","H","TSV Salzgitter Abt. Bahnengolf","MVBN",98.221999999999994]
[44409,"Christ, Daniel","SM I","MGC Olympia Kiel","SHMV",98.238]
[33843,"Hess, Danny","H","1. Mainzer MGC","MRP",98.259]
[66309,"Klöckener, Lauro","H","MGC Dormagen-Brechten","NBV",98.260999999999996]
[30013,"Huhn, Michael","H","1. MGC Ludwigshafen 1964","MRP",98.275999999999996]
[67565,"Theilig, Andreas","SM I","MGC Bad Homburg","HBSV",109.072]
[31752,"Rahman, Timur","H","MGC putter Künzell 1970","HBSV",98.302999999999997]
[25784,"Neuland, Michael","SM II","MGC Dormagen-Brechten","NBV",98.304000000000002]
[37559,"Becker, Florian","H","MSK Neheim-Hüsten","NBV",98.305000000000007]
[29114,"Otten, Dirk","SM I","TSV Salzgitter Abt. Bahnengolf","MVBN",98.311000000000007]
[37956,"Ullrich, Dominik","H","1. Mainzer MGC","MRP",98.319000000000003]
[67832,"Häffner, Rudolf","SM II","MGC Bad Homburg","HBSV",109.193]
[31952,"Herzberger, Sven","SM I","TG Höchberg von 1862 Bahnengolf","BMV",98.347999999999999]
[66089,"Saft, Chiana","D","Olchinger MSK","BMV",98.364999999999995]
[36920,"Kempf, Markus","H","BGSV Kerpen","NBV",98.388000000000005]
[50596,"Theden, Jan-Christoph","SM I","MGC Olympia Kiel","SHMV",98.406999999999996]
[10662,"Plötz, Günther","SM II","Tempelhofer MV 65","BVBB",98.41]
[36872,"Glaser, Timo","H","MC Schriesheim","BBS",98.414000000000001]
[31757,"Schück, Torsten","SM I","1. Mainzer MGC","MRP",98.430999999999997]
[24925,"Jahr, Konrad","SM II","1. MGC 1970 Göttingen","MVBN",98.462000000000003]
[67481,"Schirmer, Dominik","H","MGC Ingolstadt","BMV",98.5]
[40381,"Grabrucker, Stefan","H","OMGC Ingolstadt","BMV",98.524000000000001]
[38477,"Springob, René","H","MSK Neheim-Hüsten","NBV",98.524000000000001]
[36460,"Höhnke, Hans-Joachim","H","MV Lankwitzer Dragons","BVBB",98.537000000000006]
[35659,"Laux, Marcel","H","MGC Traben-Trarbach","MRP",98.54]
[30319,"Stille, Kris","H","Niendorfer MC v. 1963","HBV",98.545000000000002]
[41300,"Splettstößer, Sepp","SM II","BSV 82 Ohlsbach","BBS",98.552000000000007]
[29586,"Müller, Stefan","SM I","BGSV Kerpen","NBV",98.564999999999998]
[46384,"Berger, Martin","SM I","VfM Berlin Spandau","BVBB",98.572999999999993]
[21644,"Merl, Karl-Heinz","SM II","1. BGC Landshut","BMV",98.578000000000003]
[38602,"Heublein, Bernd","H","1. FMGC Lichtenfels 1961","BMV",98.581000000000003]
[38461,"Großmann, Lennart","H","1. M.S.C. Wesel 6.6.66","NBV",98.584999999999994]
[34494,"vom Bruch, Felix","H","MSK Neheim-Hüsten","NBV",98.611000000000004]
[25562,"von dem Knesebeck, Andreas","SM II","1. MGC 1970 Göttingen","MVBN",98.622]
[35571,"Pekrul, Igor","H","MGC putter Künzell 1970","HBSV",98.622]
[36571,"Harmening, Mark","H","1. Mainzer MGC","MRP",98.622]
[29692,"Ehrlich, Steffen","H","BGC Neutraubling","BMV",98.635999999999996]
[36691,"von dem Knesebeck, Alexandra","SW I","1. MGC 1970 Göttingen","MVBN",98.641999999999996]
[30925,"Kreuzer, Andreas","SM I","ASV Pegnitz Abt. Minigolf","BMV",98.668999999999997]
[66001,"Hofmann, Fabian","H","ASV Pegnitz Abt. Minigolf","BMV",98.686000000000007]
[43936,"Schnittker, Martin","SM I","BGV Backumer Tal Herten","NBV",98.688000000000002]
[42332,"Spandau, Christian","SM I","1. MGC Peine von 1965","MVBN",98.698999999999998]
[38226,"Bäurle, Wolfgang","SM I","BGC Illertissen","BMV",98.73]
[36173,"Tusch, Uwe","SM II","Tempelhofer MV 65","BVBB",98.731999999999999]
[45426,"Grunt, Christoph","H","1. MGC Ludwigshafen 1964","MRP",98.736000000000004]
[50388,"Wess, Christoph","H","MGC putter Künzell 1970","HBSV",98.74]
[65431,"Kehr, Marcel","H","BGC Northeim","MVBN",98.768000000000001]
[27994,"Höferlin, Heinz","SM II","BSV Inzlingen 1979","BBS",98.771000000000001]
[37494,"Honerkamp, Frank","SM I","Bochumer MC 1960","NBV",98.774000000000001]
[43272,"Ackermann, Hendrik","SM I","1. MGC Ludwigshafen 1964","MRP",98.787000000000006]
[33631,"Lojewski, Thomas","H","MGC Murnau am Staffelsee","BMV",98.804000000000002]
[24092,"Klee, Hannes","SM II","MSC Bensheim-Auerbach","HBSV",98.826999999999998]
[44172,"Limpius, Matthias","SM I","TG Höchberg von 1862 Bahnengolf","BMV",98.849000000000004]
[463,"Grimme, Uwe","SM I","1. NMC Kelheim","BMV",98.864999999999995]
[20595,"Kullick, Robert","SM II","Tempelhofer MV 65","BVBB",98.881]
[41137,"Weirich, Jörg","SM I","MSC Bensheim-Auerbach","HBSV",98.897000000000006]
[35538,"Weinhold, Stefan","H","ASV Pegnitz Abt. Minigolf","BMV",98.903000000000006]
[25352,"Knippschild, Ralf","SM II","BGSV Kerpen","NBV",98.903999999999996]
[46690,"Bittner, Christian","SM I","MGC Murnau am Staffelsee","BMV",98.908000000000001]
[25675,"Grabrucker, Markus","H","OMGC Ingolstadt","BMV",98.908000000000001]
[50093,"Grunert, Frank","SM I","1. MGC Peine von 1965","MVBN",98.91]
[37475,"Schumacher, Sarah","D","MGC Dormagen-Brechten","NBV",98.912000000000006]
[46911,"Warnecke, Nicole","SW I","1. BGC Wolfsburg","MVBN",98.918000000000006]
[46406,"Egger, Hans Jürgen","SM I","BGC Neutraubling","BMV",98.923000000000002]
[48508,"Kiefer, Andreas","SM II","Tempelhofer MV 65","BVBB",98.945999999999998]
[40350,"Schröder, Matthias","SM I","MGC Bad Salzuflen","NBV",98.950999999999993]
[42662,"Geissler, Ralf","SM I","1. MGC Metzingen","WBV",98.953999999999994]
[37449,"Reul, Brigitte","SW II","MGC Bad Homburg","HBSV",109.931]
[44691,"Quandt, Frank","SM I","1. MGC Peine von 1965","MVBN",98.991]
[49424,"Schrettl, Thomas","SM I","BGC Neutraubling","BMV",98.995000000000005]
[32382,"Hecken, Stefan","H","MC Tigers Künsebeck","NBV",99]
[46026,"Busch, Michael","SM I","BGC Goslar","MVBN",99.001000000000005]
[35655,"Kube, Sebastian","H","MGC Dormagen-Brechten","NBV",99.004000000000005]
[40366,"Perlich, Klaus","SM I","OMGC Ingolstadt","BMV",99.010999999999996]
[30650,"Heller, Oswald","SM II","BGC Bad Berneck","BMV",99.016000000000005]
[34780,"Lang, Jürgen","SM II","1. MGC Süßen","WBV",99.018000000000001]
[40475,"Lindner, Bernhard","SM I","1. NMC Kelheim","BMV",99.022000000000006]
[42783,"Neumann, Josef","SM I","1. BGC Landshut","BMV",99.025999999999996]
[30460,"Gillen, Pascal","H","1. KC Homburg-Saar 1967","SaarMV",99.037999999999997]
[33975,"Ritschel, Michael","H","MC Schriesheim","BBS",99.045000000000002]
[66884,"Grundmüller, Benedikt","H","MGC Ingolstadt","BMV",99.049000000000007]
[68140,"Stucki, Markus","SM I","Olchinger MSK","BMV",99.069000000000003]
[36175,"Dippel, Anne","D","VfM Berlin Spandau","BVBB",99.070999999999998]
[6524,"Otto, Kuno","SM II","MGC Olympia Kiel","SHMV",99.072000000000003]
[33916,"Fricke, René","H","BGC Heilbronn","WBV",99.073999999999998]
[36574,"Eid, Oliver","H","MSV Bad Kreuznach","MRP",99.078999999999994]
[45006,"Niemann, Thorsten","SM II","MGC Bad Oldesloe von 1964","SHMV",99.081999999999994]
[42335,"Horbas, Alexander","SM II","MGC Ingolstadt","BMV",99.084000000000003]
[38478,"Deutschmann, Philip","H","1. MGC 1970 Göttingen","MVBN",99.093999999999994]
[66472,"Seifert, Stefan","SM I","BGV Backumer Tal Herten","NBV",99.096000000000004]
[33787,"Möckel, Jürgen","SM II","MGC Bad Soden-Salmünster","HBSV",99.102000000000004]
[46532,"Bauer, Siegfried","SM I","ASV Pegnitz Abt. Minigolf","BMV",99.11]
[67492,"Zirkenbach, Marlin","SCHM","MGC Bad Homburg","HBSV",110.381]
[40589,"Hentschel, Steffen","SM I","VfM Berlin Spandau","BVBB",99.122]
[66203,"Köhler, Philipp","H","1. MGC Ludwigshafen 1964","MRP",99.126000000000005]
[30576,"Kaspar, Stefan","SM I","BSV 82 Ohlsbach","BBS",99.132000000000005]
[50149,"Meffert, Marco","SM I","MGC Dormagen-Brechten","NBV",99.141000000000005]
[29671,"Lemke, André","H","MGC Olympia Kiel","SHMV",99.149000000000001]
[29631,"Bettger, Marco","SM I","VfM Bottrop","NBV",99.153999999999996]
[50138,"Seidler, Frank","SM I","BGSV Kerpen","NBV",99.161000000000001]
[23605,"Bort, Marcel","H","BGC Heilbronn","WBV",99.173000000000002]
[43779,"Hasse, Lars","SM I","1. MGC 1970 Göttingen","MVBN",99.176000000000002]
[10586,"Busche, Philip","SM II","1. MGC 1970 Göttingen","MVBN",99.179000000000002]
[35849,"Roselieb, Christian","H","Bochumer MC 1960","NBV",99.186000000000007]
[50029,"Gundert, Nicole","D","1. Mainzer MGC","MRP",99.192999999999998]
[42510,"Oberhofer, Frank","SM I","MGF Hammer","BMV",99.203000000000003]
[32089,"Wenz, Tobias","H","BGSV Kerpen","NBV",99.206999999999994]
[67860,"Rabe, Jonas","JM","1. M.S.C. Wesel 6.6.66","NBV",99.245000000000005]
[45001,"Müller, Michael","SM II","MC 62 Lüdenscheid","NBV",99.262]
[26398,"Baumer, Daniel","H","1. MGC München-Feldmoching","BMV",99.286000000000001]
[29362,"Beringhausen, Patrick","SM I","1. Mainzer MGC","MRP",99.295000000000002]
[67213,"Paul, Gerd","SM I","MGC Bad Homburg","HBSV",110.536]
[34878,"Jung, Horst","SM II","MSC Bensheim-Auerbach","HBSV",99.305999999999997]
[45029,"Manz, Wolfgang","SM II","BGC Illertissen","BMV",99.308999999999997]
[68142,"Skaloud, Ondrej","H","BGS Hardenberg-Pötter","NBV",99.317999999999998]
[23436,"Hein, Dirk","H","Tempelhofer MV 65","BVBB",99.32]
[40384,"Bollrich, Anne","D","MGC Dormagen-Brechten","NBV",99.322999999999993]
[49742,"Lagerquist, Britta","SW I","MGC Olympia Kiel","SHMV",99.346000000000004]
[36967,"Barke, Thomas","SM I","1. M.S.C. Wesel 6.6.66","NBV",99.35]
[30988,"Kempa, Norbert","SM I","BGC Northeim","MVBN",99.356999999999999]
[38457,"Walther, Denis","H","Tempelhofer MV 65","BVBB",99.366]
[21411,"Kunert, Wolfgang","SM II","1. MGC Bamberg","BMV",99.367999999999995]
[66787,"Schäning, Sven","SM I","TSV Salzgitter Abt. Bahnengolf","MVBN",99.369]
[33349,"Santen, Ralph","SM I","MGC Olympia Kiel","SHMV",99.375]
[42648,"Kalka, Roland","SM I","Olchinger MSK","BMV",99.376999999999995]
[33712,"Spandau, Britta","D","1. MGC Peine von 1965","MVBN",99.393000000000001]
[43980,"Pieper, Oliver","SM I","MGC Traben-Trarbach","MRP",99.400999999999996]
[21702,"Bonenberger, Frank","SM II","BGC Bildstock","SaarMV",99.405000000000001]
[41492,"Meyer, Klaus","SM I","BGV Bergisch Land 1962 / 63","NBV",99.408000000000001]
[40622,"Müller, Peter","SM II","MC Schriesheim","BBS",99.436000000000007]
[66765,"Weber, Elena","JW","MGC Murnau am Staffelsee","BMV",99.453000000000003]
[5966,"Limpius, Werner","SM II","TG Höchberg von 1862 Bahnengolf","BMV",99.460999999999999]
[46401,"Biller, Manfred","SM II","BGC Neutraubling","BMV",99.507000000000005]
[41009,"Sielaff, Thorben","SM I","Tempelhofer MV 65","BVBB",99.52]
[37760,"Baumgart, Thorben","H","MSK Neheim-Hüsten","NBV",99.534999999999997]
[38389,"Huber, Eric","H","BGSV Bad Homburg v. d.H.","HBSV",99.564999999999998]
[40858,"Hohenadler, Markus","SM I","MGC Bad Feilnbach","BMV",99.567999999999998]
[31639,"Grzeski, Andreas","SM I","BGSV Kerpen","NBV",99.569000000000003]
[40541,"Isenbiel, Oliver","SM I","MSC Bensheim-Auerbach","HBSV",99.581000000000003]
[67248,"Hudert, Luca","H","BGSV Bad Homburg v. d.H.","HBSV",99.603999999999999]
[51902,"Rathjens, Oliver","SM I","Bochumer MC 1960","NBV",99.605000000000004]
[38155,"Knoblauch, Jan","SM I","BGSC \"Gut Schlag\" Gladbeck","NBV",99.61]
[67901,"Büttrich, Ralf","SM I","1. MGC Bamberg","BMV",99.617999999999995]
[25894,"Schmid, Roland","SM II","MGF Hilzingen 80","BBS",99.623999999999995]
[29771,"Jarosch, Klaus","SM I","VfM Bottrop","NBV",99.626999999999995]
[35799,"Roselieb, Karsten","H","Bochumer MC 1960","NBV",99.632000000000005]
[38113,"Weiß, Michael","SM II","MC Schriesheim","BBS",99.635999999999996]
[66222,"Krane, Melissa","D","MSK Neheim-Hüsten","NBV",99.637]
[66478,"Fallenbüchel, Martin","H","MC Schriesheim","BBS",99.644999999999996]
[36180,"Oehl, Felix","H","MV Lankwitzer Dragons","BVBB",99.656999999999996]
[29277,"Haberl, Volker","SM I","MGC Ingolstadt","BMV",99.661000000000001]
[46006,"Patzelt, Markus","SM I","BGSV Kerpen","NBV",99.671999999999997]
[67831,"Fay, Peter","SM II","MGC Bad Homburg","HBSV",110.67]
[66763,"Goresch, Michael","JM","1. NMC Kelheim","BMV",99.677000000000007]
[65945,"Reich, Alexander","H","MSG Kempten","BMV",99.686999999999998]
[31142,"Birkelbach, Nicole","D","1. MGC 1970 Göttingen","MVBN",99.692999999999998]
[44862,"Reinicke, Andrea","SW II","MC \"Möve\" Cuxhaven-Sahlenburg","MVBN",99.709000000000003]
[66498,"Gräf, Thomas","SM I","MGC Bad Feilnbach","BMV",99.709000000000003]
[45059,"Hardt, Claudia","D","VfM Berlin Spandau","BVBB",99.712000000000003]
[29768,"Wamboldt, Christiane","SW I","Olchinger MSK","BMV",99.718999999999994]
[38005,"Nickel, Dustin","H","MGC Wetzlar","HBSV",99.721999999999994]
[34515,"Wassermann, Sven","H","1. MGC Kassel-Vellmar 1964","MVBN",99.725999999999999]
[37027,"Neuburger, Andreas","SM I","SSV Ulm 1846 Abt. Bahnengolf","WBV",99.728999999999999]
[34186,"Behrens, Stephan","H","Niendorfer MC v. 1963","HBV",99.739000000000004]
[67381,"Koch, Dennis","H","BGSV Bad Homburg v. d.H.","HBSV",99.744]
[40389,"Sperling, Sven","H","BGC Bad Nenndorf","MVBN",99.756]
[67978,"Säger, Simon","H","1. MC Weinheim","BBS",99.757999999999996]
[26809,"Pester, Manfred","SM II","TSV Pfungstadt Abt. Bahnengolf","HBSV",99.759]
[27202,"Beutin, Jürgen","SM II","1. MGC Ludwigshafen 1964","MRP",99.760999999999996]
[37963,"Dillinger, Anton","H","Tempelhofer MV 65","BVBB",99.771000000000001]
[35126,"Arendt, Christian","H","1. MGC Peine von 1965","MVBN",99.771000000000001]
[67443,"Peithmann, Jan","H","1. Essener CGC \"Blau-Gold\"","NBV",99.771000000000001]
[37500,"Tomkowitz, Mathias","H","CGV Hamm 2019","NBV",99.775000000000006]
[68141,"Broggi, Marco","H","1. Mainzer MGC","MRP",99.795000000000002]
[29046,"Brandis, Peter","SM II","TSV Kücknitz von 1911 Abt. Bahnengolf","SHMV",99.796000000000006]
[67083,"Wagener, Tobias","SCHM","MGC Murnau am Staffelsee","BMV",99.808999999999997]
[40135,"Graage, Christian","SM II","MGC Olympia Kiel","SHMV",99.816000000000003]
[44743,"Bredel, Stefan","SM I","MGC Wertheim ´91","BMV",99.820999999999998]
[49737,"Sauerland, Kay","H","MGC Harrislee-Wassersleben","SHMV",99.820999999999998]
[51818,"Dochat, Tobias","H","BGV Bergisch Land 1962 / 63","NBV",99.823999999999998]
[26539,"Lenz, Axel","SM I","MGF Hilzingen 80","BBS",99.826999999999998]
[43598,"Wesselmäcking, Volker","SM I","TSV Salzgitter Abt. Bahnengolf","MVBN",99.826999999999998]
[31332,"Schumacher, Wolfgang","SM I","BSV Inzlingen 1979","BBS",99.84]
[33891,"Schmitt, Uwe","SM II","MC Schriesheim","BBS",99.843000000000004]
[31317,"Buchholz, Jennifer","D","TV Trappenkamp Sparte Minigolf","SHMV",99.846000000000004]
[67313,"Effenberger, Thomas","SM II","MGC Bad Homburg","HBSV",114.10299999999999]
[29310,"Wildt, Walter","SM II","MGF Hammer","BMV",99.846999999999994]
[25756,"Solleder, Sebastian","SM II","MGC Wolnzach","BMV",99.855000000000004]
[29752,"Karcher, Bruno","SM I","1. MGC Tuttlingen","BBS",99.861000000000004]
[44877,"Croppenstedt, Harm","SM I","Tempelhofer MV 65","BVBB",99.867000000000004]
[33442,"Becker, Martin","SM I","Reinickendorfer MGC","BVBB",99.87]
[37141,"Hardt, Andreas","H","VfM Berlin Spandau","BVBB",99.872]
[27615,"Hüppen, Martin","SM II","Bochumer MC 1960","NBV",99.882999999999996]
[66949,"Peters, Moritz","H","MGC Olympia Kiel","SHMV",99.894000000000005]
[44276,"Rapp, Michael","SM II","MGF Hammer","BMV",99.894999999999996]
[66017,"Jung, Johanna","D","1. KC Homburg-Saar 1967","SaarMV",99.906999999999996]
[41617,"Heinisch, Marco","SM I","BGC Bad Nenndorf","MVBN",99.915000000000006]
[66043,"Droste, Peter","SM II","TSV Pfungstadt Abt. Bahnengolf","HBSV",99.924000000000007]
[31244,"Heinrich, Sabrina","D","MSV Bad Kreuznach","MRP",99.93]
[40916,"Deider, Stefan","SM I","Reinickendorfer MGC","BVBB",99.935000000000002]
[67019,"Stief, Jan Malte","JM","MC 62 Lüdenscheid","NBV",99.942999999999998]
[36697,"Bremer, H. Bernd","SM I","1. KGC Mönchengladbach","NBV",99.948999999999998]
[30064,"Fabry, Holger","SM II","1. MGC 1970 Göttingen","MVBN",99.951999999999998]
[36946,"Klee, Michael","H","1. KC Homburg-Saar 1967","SaarMV",99.977000000000004]
[44760,"Crößmann, Ursula","SW II","1. MGC Ludwigshafen 1964","MRP",99.988]
[40393,"Mylius, Uwe","SM I","TSV Salzgitter Abt. Bahnengolf","MVBN",99.988]
[15754,"Axer, Sascha","H","Kölner MC","NBV",99.995999999999995]
[30608,"Höötmann, Bernhard","SM II","1. BGC Hannover","MVBN",99.997]
[37019,"Roth, Nathalie-Inez","D","TG Höchberg von 1862 Bahnengolf","BMV",100.003]
[38030,"Horn, Kilian","H","1. Mainzer MGC","MRP",100.004]
[19975,"Wegner, Gunther","SM II","Hamburger MC von 1965","HBV",100.011]
[38456,"Kirschke, Michael","SM II","Tempelhofer MV 65","BVBB",100.021]
[24340,"Jansen, Jörg","SM II","VfM Bottrop","NBV",100.02500000000001]
[5225,"Kunz, Bernd","SM II","MGC Brunsbüttel","SHMV",100.02800000000001]
[37322,"Radine, David","H","1. M.S.C. Wesel 6.6.66","NBV",100.033]
[29626,"Wittke, Andreas","SM I","MGC Dormagen-Brechten","NBV",100.035]
[36594,"Weinzierl, Claudia","D","1. NMC Kelheim","BMV",100.048]
[48281,"Ottinger, Stefan","SM I","MGC Murnau am Staffelsee","BMV",100.05200000000001]
[40888,"Bychowski, Torben","H","MGC Harrislee-Wassersleben","SHMV",100.056]
[41466,"Wittek, Peter","SM I","1. BGC Hannover","MVBN",100.07]
[41874,"Gellermann, Rainer","SM I","SGC Hagen","NBV",100.071]
[12064,"Schacke, Egon","SM II","VfM Berlin Spandau","BVBB",100.07299999999999]
[37103,"Blöcker, Tim","H","Niendorfer MC v. 1963","HBV",100.077]
[19630,"Kellner, Rudolf","SM II","MGC Oberkochen 1972","WBV",100.087]
[66335,"Söldner, Matthias","H","MGC Wertheim ´91","BMV",100.093]
[64989,"Dejoks, Rene","H","MC \"Möve\" Cuxhaven-Sahlenburg","MVBN",100.093]
[35530,"Patorra, Marcel","H","TSV Salzgitter Abt. Bahnengolf","MVBN",100.09399999999999]
[66263,"Hofmann, Klaus","SM I","ASV Pegnitz Abt. Minigolf","BMV",100.096]
[66711,"Stelzer, Kai","H","MSK Neheim-Hüsten","NBV",100.113]
[49798,"Fuchs, Christian","SM I","1. NMC Kelheim","BMV",100.114]
[50926,"Manderscheid, Frank","SM I","1. MGC Ludwigshafen 1964","MRP",100.139]
[43681,"Schneider, Christian","SM I","1. MGC 1970 Göttingen","MVBN",100.14400000000001]
[49854,"Voß, Björn","SM I","MGC Olympia Kiel","SHMV",100.145]
[38576,"Fuchs, Tobias","H","MC Tigers Künsebeck","NBV",100.146]
[19478,"Heublein, Andrea","SW II","1. FMGC Lichtenfels 1961","BMV",100.149]
[29588,"Gruber, Stefan","H","MGC Murnau am Staffelsee","BMV",100.15300000000001]
[36288,"Saar, Patrick","H","1. MGC Tuttlingen","BBS",100.157]
[45991,"Umbach, Andreas","SM I","1. MGC Kassel-Vellmar 1964","MVBN",100.167]
[46843,"Johannsen, Niels","SM I","MGC Harrislee-Wassersleben","SHMV",100.17]
[37427,"Römer, Stephan","SM II","1. KGC Mönchengladbach","NBV",100.17100000000001]
[37389,"Zwirlein, Michaela","D","TG Höchberg von 1862 Bahnengolf","BMV",100.17400000000001]
[64926,"Reinisch, Klaus jr.","JM","BGC Neutraubling","BMV",100.181]
[36748,"Meyer, Rolf","SM II","VfM Bottrop","NBV",100.184]
[42124,"Belz, Ralf","SM I","MGC Dormagen-Brechten","NBV",100.19]
[44874,"Grundmüller, Sonja","SW I","MGC Ingolstadt","BMV",100.19199999999999]
[42435,"Exner, Frank","SM II","BGV Bergisch Land 1962 / 63","NBV",100.20099999999999]
[31032,"Pichol, Thorsten","H","BGV Backumer Tal Herten","NBV",100.21]
[67802,"Humann, Ben","JM","BGSC \"Gut Schlag\" Gladbeck","NBV",100.21299999999999]
[33710,"Fellenberg, Torsten","H","1. MGC Peine von 1965","MVBN",100.215]
[67768,"de Boer, Tim","JM","Niendorfer MC v. 1963","HBV",100.221]
[48559,"Tetzlaff, Jörg","SM I","Reinickendorfer MGC","BVBB",100.22199999999999]
[34568,"Jeschke, Sebastian","H","MSC Bad Godesberg","NBV",100.23699999999999]
[6280,"Spieleder, Maria","SW II","BGC Neutraubling","BMV",100.24]
[67365,"Maschauer, Claus","SM II","MGC Bad Homburg","HBSV",114.633]
[65894,"Christmann, Thomas","SM II","BGC Bildstock","SaarMV",100.246]
[43841,"Bardenhagen, Jens","SM I","MGC Brunsbüttel","SHMV",100.251]
[37962,"Klemm, Marc Dominik","H","1. KC Homburg-Saar 1967","SaarMV",100.252]
[67468,"Kaspar, Sky Joèl","SCHM","BGC Bildstock","SaarMV",100.264]
[35132,"Drewes, Daniel","H","MGC putter Künzell 1970","HBSV",100.271]
[28259,"Wustrack, Christian","SM II","MC \"Möve\" Cuxhaven-Sahlenburg","MVBN",100.273]
[26349,"Osnabrügge, Jörn","SM II","1. MGC Ludwigshafen 1964","MRP",100.274]
[48644,"Timm, Axel Eric","SM I","TSV Pfungstadt Abt. Bahnengolf","HBSV",100.27500000000001]
[38625,"Rade, Marcus","SM I","VfB Osnabrück von 1984","NBV",100.276]
[66819,"Seifert, Colin","H","BGV Backumer Tal Herten","NBV",100.282]
[26346,"Kramer, Michael","SM II","BSV AOK Leipzig","BVS",100.291]
[32762,"Müller, Björn","H","MC \"Möve\" Cuxhaven-Sahlenburg","MVBN",100.3]
[42965,"Ring, Norbert","SM II","HMC Büttgen","NBV",100.30500000000001]
[43640,"Rehfeld, Norbert","SM II","BGV Bergisch Land 1962 / 63","NBV",100.309]
[6117,"Helmschmidt, Willi","SM II","MGC Ingolstadt","BMV",100.31100000000001]
[33192,"Möller, Markus","H","MC Tigers Künsebeck","NBV",100.31100000000001]
[34006,"Ehm, Christoph","H","1. BGC Celle von 1964","MVBN",100.315]
[65824,"Rath, Markus","SM I","BGC Goslar","MVBN",100.318]
[23741,"Battig, Wolfgang","SM II","MC 62 Lüdenscheid","NBV",100.33]
[38530,"Trenz, Matthias","H","BGC Bildstock","SaarMV",100.33499999999999]
[38210,"Ber, Jessica","D","VfL Lohbrügge von 1892 Abt. Bahnengolf","HBV",100.34]
[41439,"Kitzeder, Stefan","SM I","MSG Kempten","BMV",100.34399999999999]
[43553,"Hannmann, Jörg","SM I","Niendorfer MC v. 1963","HBV",100.35]
[48286,"Thölke, Hans-Jürgen","SM II","MGC Murnau am Staffelsee","BMV",100.354]
[66781,"Serfling, Corinna","D","MSG Kempten","BMV",100.357]
[38363,"Neumann, Kevin","H","BGC Goslar","MVBN",100.358]
[63580,"Reinisch, Tim","JM","BGC Neutraubling","BMV",100.358]
[45139,"Dippelhofer, René","SM I","BGSV Bad Homburg v. d.H.","HBSV",100.361]
[67480,"Becker, Jochen","SM I","Reinickendorfer MGC","BVBB",100.366]
[30869,"Träger, Andreas","SM II","MSC Bensheim-Auerbach","HBSV",100.369]
[67167,"Maes, Stefan","SM I","BGS Hardenberg-Pötter","NBV",100.376]
[22105,"Schmidt, Frank","SM I","MC Neuwied","MRP",100.378]
[40975,"Schechinger, Werner","SM I","MGC Wolnzach","BMV",100.38500000000001]
[48646,"Hahn, Corinna","D","1. MGC Ludwigshafen 1964","MRP",100.389]
[25538,"Missonnier, Volker","SM II","1. Mainzer MGC","MRP",100.392]
[67444,"Peithmann, Konrad","SM I","1. Essener CGC \"Blau-Gold\"","NBV",100.395]
[43733,"Schneider, Simon","SM I","BGV Bergisch Land 1962 / 63","NBV",100.405]
[30858,"Mielenz, Jörg","SM I","BGV Bergisch Land 1962 / 63","NBV",100.40600000000001]
[49066,"Spies, Thomas","SM II","HMC Büttgen","NBV",100.411]
[42970,"Bremicker, Susanne","SW I","MGC Dormagen-Brechten","NBV",100.416]
[35309,"Popp, Marina","D","1. FMGC Lichtenfels 1961","BMV",100.419]
[27536,"Hilgenberg, Christian","H","1. MGC Kassel-Vellmar 1964","MVBN",100.42400000000001]
[67743,"Priemer, Daniel","H","MC 62 Lüdenscheid","NBV",100.431]
[27550,"Fritsch, Hans-Peter","SM II","MSC Bensheim-Auerbach","HBSV",100.43300000000001]
[36793,"Raffler, Dustin","H","1. Essener CGC \"Blau-Gold\"","NBV",100.437]
[67021,"Krause, Michel","H","Tempelhofer MV 65","BVBB",100.465]
[36274,"Schröder, Jürgen","SM II","MSC Herscheid 1963","NBV",100.465]
[45054,"Appel, Willi","SM II","MC Schriesheim","BBS",100.476]
[34063,"Blöckl, Bernhard","SM II","1. MGC München-Feldmoching","BMV",100.47799999999999]
[36971,"Witte, Thomas","SM II","Tempelhofer MV 65","BVBB",100.47799999999999]
[32627,"Leickel, Kevin","H","MGF Magdeburg","BVSA",100.485]
[67078,"Kronschnabl, Theo","SM II","BGC Illertissen","BMV",100.485]
[40205,"Galleinus, Ellen","SW I","MSC Herscheid 1963","NBV",100.496]
[66809,"Oldhafer, Torben","H","MSK Neheim-Hüsten","NBV",100.502]
[67759,"Galbicska, Rosemarie","SW II","MGC Bad Homburg","HBSV",114.83199999999999]
[30374,"Krane, Jörg","SM I","MSK Neheim-Hüsten","NBV",100.52500000000001]
[38208,"Montberg, Tobias","H","BGSC \"Gut Schlag\" Gladbeck","NBV",100.526]
[41007,"Kurzweg, Mikael","SM I","Bochumer MC 1960","NBV",100.548]
[36995,"Ziegler, Roland","SM II","MGV Ansbach","BMV",100.556]
[40495,"Wamboldt, Christian","SM I","Olchinger MSK","BMV",100.55800000000001]
[33859,"Buske, Patrick","H","MC Tigers Künsebeck","NBV",100.563]
[45330,"Elst, Robert","SM I","1. MGC Bamberg","BMV",100.581]
[27450,"Arens, Ingo","SM II","VfB Osnabrück von 1984","NBV",100.586]
[40980,"Jäger, Michael","SM II","BGSV Bad Homburg v. d.H.","HBSV",100.589]
[50336,"Mettler, Marcus","SM I","SSV Ulm 1846 Abt. Bahnengolf","WBV",100.596]
[29300,"Meixner, Werner","SM II","MGF Hammer","BMV",100.60599999999999]
[45439,"Mertens, Carsten","SM I","1. KGC Mönchengladbach","NBV",100.61799999999999]
[29088,"Schué, Bernd","SM I","BGC Goslar","MVBN",100.627]
[38539,"Mittelhammer, Stefan","SM I","1. MC Weinheim","BBS",100.636]
[41299,"Schütz, Rainer","SM II","BGC Heilbronn","WBV",100.639]
[65809,"Richter, Tobias","H","1. MC Weinheim","BBS",100.64100000000001]
[35437,"Gerlach, Markus","H","MC Tigers Künsebeck","NBV",100.664]
[48182,"Müller, Dirk","SM I","MGC Tütebelle","NBV",100.666]
[35236,"Hettrich, Willi","SM II","MGC Rot-Weiß Wanne-Eickel","NBV",100.672]
[14562,"von Holten, Axel","SM I","MC \"Möve\" Cuxhaven-Sahlenburg","MVBN",100.676]
[68027,"Scharold, Brigitte","SW II","1. Mainzer MGC","MRP",100.67700000000001]
[29656,"Barlog, René","H","Bochumer MC 1960","NBV",100.68300000000001]
[32379,"von Block, Sebastian","H","BGV Bergisch Land 1962 / 63","NBV",100.685]
[29939,"Bachmann, Peter","SM I","1. MGC 1970 Göttingen","MVBN",100.69199999999999]
[36641,"Kreitz, Rene","H","1. BGC Hannover","MVBN",100.699]
[46517,"Schäpe, Thomas","SM I","BGSV Kerpen","NBV",100.708]
[44805,"Wilhelms, Ralf","SM I","BSC Ennepetal","NBV",100.714]
[33393,"Parr, Susanne","SW I","MSC Bensheim-Auerbach","HBSV",100.715]
[40792,"Killmaier, Thilo","SM I","MC Schriesheim","BBS",100.72]
[50224,"Reese, Andreas","SM I","MSK Neheim-Hüsten","NBV",100.721]
[32333,"Willfroth, Melanie","D","CGV Hamm 2019","NBV",100.723]
[26576,"Sturm, Norbert","SM II","1. BGC Landshut","BMV",100.724]
[27121,"Schatke, Arno","SM II","BGC Northeim","MVBN",100.727]
[356,"Stöckle, Martin","H","Niendorfer MC v. 1963","HBV",100.732]
[46247,"Hensel, Peter","SM I","BSC Ennepetal","NBV",100.735]
[67657,"Kreuzer, Niklas","SCHM","ASV Pegnitz Abt. Minigolf","BMV",100.736]
[66802,"Weber, Marco","H","MC Schriesheim","BBS",100.742]
[43192,"Raith, Richard","SM I","MGC Oberkochen 1972","WBV",100.744]
[24022,"Kelch, Andreas","SM I","Tempelhofer MV 65","BVBB",100.752]
[43587,"Fischer, Marcus","SM I","1. BGC Wolfsburg","MVBN",100.759]
[30255,"Schurig, Herbert","SM II","VfL Lohbrügge von 1892 Abt. Bahnengolf","HBV",100.759]
[34871,"Feld, Volker","SM I","1. KC Homburg-Saar 1967","SaarMV",100.77200000000001]
[32118,"Wendling, Oliver","H","Niendorfer MC v. 1963","HBV",100.77200000000001]
[25211,"Wiemer, Thomas","SM II","BGSV Bad Homburg v. d.H.","HBSV",100.776]
[46823,"Herzog, Ralf","SM I","TSV Pfungstadt Abt. Bahnengolf","HBSV",100.776]
[41894,"Widera, Bernd","SM I","1. BGC Wolfsburg","MVBN",100.77800000000001]
[37108,"Adamczyk, Astrid","SW II","MGC Bad Homburg","HBSV",115.11799999999999]
[44771,"Heydt, Lars","SM I","MGC Olympia Kiel","SHMV",100.785]
[36353,"Stranka, Stephan","H","1. BGC Garmisch-Partenkirchen","BMV",100.78700000000001]
[48911,"Landwehr, Markus","SM I","MGC Bad Salzuflen","NBV",100.803]
[9750,"Pape-Münch, Sylvia","SW I","1. KC Homburg-Saar 1967","SaarMV",100.813]
[38343,"Schrettl, Christopher","H","MSG Kempten","BMV",100.815]
[66136,"Hensel, Julian","H","BSC Ennepetal","NBV",100.81699999999999]
[30667,"Schacht, Jens","SM II","Hamburger MC von 1965","HBV",100.82]
[42563,"Nagl, Udo","SM I","1. BGC Landshut","BMV",100.851]
[41160,"Kindermann, Oliver","SM I","1. MGC Ludwigshafen 1964","MRP",100.85599999999999]
[50151,"Kemler, Christian","SM I","1. KGC Mönchengladbach","NBV",100.85599999999999]
[35113,"Schmälzle, Markus","H","MC Schriesheim","BBS",100.858]
[38316,"Brocks, Ralf","SM I","BGS Hardenberg-Pötter","NBV",100.861]
[4455,"Kalisch, Manfred","SM II","BGSV Aßlar 1987","HBSV",100.863]
[28389,"Grabrucker, Manfred","SM II","OMGC Ingolstadt","BMV",100.86499999999999]
[10054,"Ammer, Norbert","SM II","1. BGC Landshut","BMV",100.874]
[45502,"Grapengeter, Gerno","SM I","BGSV Kerpen","NBV",100.879]
[33774,"Müller, Patrick","H","MSC Bad Godesberg","NBV",100.879]
[34792,"Roessler, Timo","H","1. MGC Metzingen","WBV",100.88]
[27127,"Vellone, Nicolo","SM II","BGC Bad Nenndorf","MVBN",100.88]
[37470,"Rogge, Thomas","SM II","VfM Berlin Spandau","BVBB",100.881]
[35781,"Krieger, Andreas","SM II","BGSV Bad Homburg v. d.H.","HBSV",100.902]
[19228,"Roller, Karlheinz","SM II","1. MGC Metzingen","WBV",100.902]
[25846,"Hoch, Raimund","SM II","BGSV Kerpen","NBV",100.907]
[38061,"Wiegel, Marvin","H","Bochumer MC 1960","NBV",100.911]
[30856,"Wierum, Lutz","SM I","BGV Bergisch Land 1962 / 63","NBV",100.91500000000001]
[44193,"Ritz, Thorsten","SM I","BGSC \"Gut Schlag\" Gladbeck","NBV",100.923]
[24727,"Summ, Jürgen","SM II","MGC Sulzfeld","BBS",100.92700000000001]
[44146,"Kuhn, André","SM II","1. MGC 1970 Göttingen","MVBN",100.929]
[38329,"Dittrich, Michael","SM I","MGC putter Künzell 1970","HBSV",100.938]
[38016,"Hansen, Pascal","H","BGS Hardenberg-Pötter","NBV",100.944]
[37644,"Kempf, Rebecca","D","MGC Dormagen-Brechten","NBV",100.956]
[43414,"Badtke, Gerhard","SM II","BGC Bad Nenndorf","MVBN",100.964]
[43062,"Neudert, Oliver","SM II","BGC Illertissen","BMV",100.98399999999999]
[35491,"Wege, Frank","SM II","BGV Backumer Tal Herten","NBV",100.991]
[46033,"Bähr, Sascha","SM I","Niendorfer MC v. 1963","HBV",100.992]
[28901,"Otten, Sabine","SW I","TSV Salzgitter Abt. Bahnengolf","MVBN",100.999]
[6796,"Steinhausen, Ralf","SM II","BGC Bremen","MVBN",101.001]
[46616,"Bauhofer, Marcus","SM I","BGC Heilbronn","WBV",101.004]
[34157,"Lotz, Michael","SM II","MGC Bad Soden-Salmünster","HBSV",101.005]
[33187,"Klotz, Christian","SM I","1. MGC Süßen","WBV",101.006]
[67711,"Obermeier, Maximilian","H","1. BGC Hannover","MVBN",101.008]
[25536,"Szablikowski, Axel","SM II","1. Mainzer MGC","MRP",101.008]
[33337,"Michna, Sigrid","SW II","MC \"Möve\" Cuxhaven-Sahlenburg","MVBN",101.011]
[5842,"Körner, Dieter","SM II","MGC Schwaikheim","WBV",101.012]
[35795,"Grüßinger, Beatriz","SW I","Minigolf Wölfe Rheinstetten 02","BBS",101.01600000000001]
[67712,"Niehaus, Dirk","SM I","MC 62 Lüdenscheid","NBV",101.01900000000001]
[34902,"Maar, Daniel","H","BGSV Castrop 1961","NBV",101.021]
[44002,"Bauer, Jutta","SW I","ASV Pegnitz Abt. Minigolf","BMV",101.026]
[67139,"Grabrucker, Lena","JW","OMGC Ingolstadt","BMV",101.02800000000001]
[46898,"Ehm, Marion","SW II","1. BGC Celle von 1964","MVBN",101.032]
[34042,"Hengstberger, Ulli","H","SSV Ulm 1846 Abt. Bahnengolf","WBV",101.047]
[67900,"Herz, Walter","SM II","1. MGC Bamberg","BMV",101.04900000000001]
[26302,"Ebi, Sabine","SW II","MGF Hilzingen 80","BBS",101.05]
[41248,"Weigl, Christian","SM I","BSV Inzlingen 1979","BBS",101.05200000000001]
[65922,"Würthle, Jan","H","BGSV Bad Homburg v. d.H.","HBSV",101.053]
[36939,"Breitling, Alexander","H","BGC Bad Berneck","BMV",101.054]
[67792,"Joch, Niklas","H","MSC Bensheim-Auerbach","HBSV",101.056]
[35546,"Wesemann, Florian","H","BGC Diepholz","MVBN",101.06699999999999]
[31397,"Heinisch, Hans-Werner","SM II","BGC Bad Nenndorf","MVBN",101.06699999999999]
[44381,"Hellwig, Markus","SM I","MGC Dormagen-Brechten","NBV",101.07]
[47206,"Koböck, Konrad","SM I","MGF Hammer","BMV",101.07599999999999]
[67793,"Joch, Peter","SM I","MSC Bensheim-Auerbach","HBSV",101.07599999999999]
[30655,"Heublein, Silvia","SW II","1. MGC 1970 Göttingen","MVBN",101.08799999999999]
[9823,"Mazzoli, Herbert","SM II","1. MGC Köln 1961","NBV",101.102]
[44870,"Köttel, Martin","SM II","ASV Pegnitz Abt. Minigolf","BMV",101.107]
[29733,"Neumann, Björn","H","MC \"Möve\" Cuxhaven-Sahlenburg","MVBN",101.111]
[44990,"Anders, Alexander","SM I","MSK Neheim-Hüsten","NBV",101.111]
[28168,"Frank, Petra","SW II","BSV 86 München","BMV",101.113]
[49559,"Kohnke, Michael","SM II","BGC Schloß Paffendorf","NBV",101.114]
[67384,"Wehrheim, Christofer","SM I","MGC Bad Homburg","HBSV",115.735]
[37293,"Ludwig, Dominik","H","BGC Goslar","MVBN",101.123]
[30817,"Riemann, Michael","SM I","1. MGC Kassel-Vellmar 1964","MVBN",101.13]
[26815,"Brune, Lutz","SM II","1. MGC Ludwigshafen 1964","MRP",101.13200000000001]
[49943,"von Beuningen, Kay","SM I","VfL Lohbrügge von 1892 Abt. Bahnengolf","HBV",101.134]
[35449,"Eisleben, Dirk","SM II","BGC Schloß Paffendorf","NBV",101.145]
[66402,"Bläsing, Marc","H","BGS Hardenberg-Pötter","NBV",101.15]
[5100,"Maurer, Franz","SM II","1. MGC Ludwigshafen 1964","MRP",101.169]
[41667,"Bönsch, Jürgen","SM II","KGC Bad Urach","WBV",101.17100000000001]
[49074,"Hoefig, Michael","SM II","HMC Büttgen","NBV",101.172]
[36072,"Klee, Wolfgang","SM II","1. KC Homburg-Saar 1967","SaarMV",101.176]
[46235,"Hürter, Ulrich","SM I","BGV Bergisch Land 1962 / 63","NBV",101.181]
[67364,"Maschauer, Diana","SW II","MGC Bad Homburg","HBSV",117.194]
[66256,"Schmidt, Maximilian","H","1. FMGC Lichtenfels 1961","BMV",101.18899999999999]
[32802,"Tomkowitz, Stefanie","D","CGV Hamm 2019","NBV",101.19199999999999]
[45267,"Markmann, Leif","SM I","MGC Olympia Kiel","SHMV",101.2]
[38611,"Guddat, Julian","H","BGV Bergisch Land 1962 / 63","NBV",101.209]
[37630,"Ber, Peter","SM II","MGC Karlshagen","BVBB",101.21899999999999]
[37204,"Lange, Philipp","H","BGV Backumer Tal Herten","NBV",101.22199999999999]
[67714,"Neidenberger, Luis","JM","1. MGC Peine von 1965","MVBN",101.226]
[34053,"Rothermel, Ute","SW II","MSC Bensheim-Auerbach","HBSV",101.227]
[50042,"Pannek, Christian","SM I","1. Mainzer MGC","MRP",101.22799999999999]
[35806,"Lanfer, Martin","SM I","MGC Dormagen-Brechten","NBV",101.229]
[35102,"Christiansen, Ramona","D","MC Flora Elmshorn","SHMV",101.23]
[50426,"Fischbach, Ralf","SM II","1. Mainzer MGC","MRP",101.23399999999999]
[43382,"Reichle, Stefan","SM I","BSV Inzlingen 1979","BBS",101.236]
[35640,"Spettel, Frank","SM I","MGC Wertheim ´91","BMV",101.242]
[34839,"Georgi, Holger","SM I","Reinickendorfer MGC","BVBB",101.245]
[66119,"Jakob, Norbert","SM II","BGSV Bad Homburg v. d.H.","HBSV",101.246]
[40159,"Sperling, Sascha","H","BGC Bad Nenndorf","MVBN",101.249]
[27206,"Raith, Bianca","D","MGC Oberkochen 1972","WBV",101.258]
[40005,"Becker, Michael","SM II","SGC Hagen","NBV",101.279]
[1963,"Gehrke, Jörg","SM I","1. MGC Peine von 1965","MVBN",101.28]
[40386,"Schöchlin, Thomas","SM II","MGC Wertheim ´91","BMV",101.28100000000001]
[5340,"Heller, Hans-Peter","SM II","BGSV Kerpen","NBV",101.282]
[66030,"Diener, Manuel","H","1. BGC Hannover","MVBN",101.283]
[29215,"Ortner, Ingo","SM I","MGC Schwaikheim","WBV",101.289]
[22165,"Buchert, Harald","SM II","MSC Bensheim-Auerbach","HBSV",101.307]
[38620,"Kemsies, Lutz","SM II","BSV AOK Leipzig","BVS",101.307]
[66852,"Cech, Andree","SM I","BGSV Aßlar 1987","HBSV",101.309]
[5942,"Bayer, Hubert","SM II","TG Höchberg von 1862 Bahnengolf","BMV",101.318]
[34359,"Gramer, Frank","SM II","MSK Neheim-Hüsten","NBV",101.319]
[31503,"Spielfeld, Manfred","SM II","SGC Hagen","NBV",101.321]
[66229,"Bracken, Jannick","H","MGC Wertheim ´91","BMV",101.325]
[65847,"Hallhuber, Markus","SM I","BSV Inzlingen 1979","BBS",101.339]
[28793,"Jooß, Thomas","SM II","BGC Illertissen","BMV",101.342]
[33580,"Stellato, William","SM II","MGC Wertheim ´91","BMV",101.355]
[38103,"Barz, Patrick","H","VfM Berlin Spandau","BVBB",101.369]
[45272,"Ebert, Alfred","SM II","BGS Hardenberg-Pötter","NBV",101.372]
[1472,"Finsterer-Robnik, Nikolas","H","BGC Illertissen","BMV",101.374]
[31213,"Rastetter, Thomas","SM II","CGC Blau-Gelb Grötzingen 1968","BBS",101.377]
[45253,"Busch, Simona","SW I","BGC Goslar","MVBN",101.379]
[44527,"Würthle, Jürgen","SM I","BSV 82 Ohlsbach","BBS",101.38]
[26101,"Simons, Frank","SM II","Kölner MC","NBV",101.383]
[42659,"Wiemer, Beate","SW II","TSV Pfungstadt Abt. Bahnengolf","HBSV",101.384]
[29850,"Just, Michael","SM I","1. MGC Süßen","WBV",101.387]
[67521,"Haubrock, Felicitas","JW","1. MGC Kassel-Vellmar 1964","MVBN",101.39]
[30979,"Grabrucker, Stephanie","D","OMGC Ingolstadt","BMV",101.398]
[5271,"Grabrucker, Anton","SM II","OMGC Ingolstadt","BMV",101.4]
[42555,"Haller, Markus","SM I","1. NMC Kelheim","BMV",101.41500000000001]
[38243,"Pilz, Peter","SM II","MGC Ingolstadt","BMV",101.417]
[66299,"Scholz, Bastian","H","TG Höchberg von 1862 Bahnengolf","BMV",101.41800000000001]
[46752,"Zender, Markus","SM I","MGC Bergisch Gladbach Gierath","NBV",101.422]
[37030,"Wanjek, Guido","SM I","BGSC \"Gut Schlag\" Gladbeck","NBV",101.428]
[50094,"Hennies, Holger","SM I","MC \"Möve\" Cuxhaven-Sahlenburg","MVBN",101.43]
[66903,"Bremer, H. Paul","H","1. KGC Mönchengladbach","NBV",101.43899999999999]
[36046,"Jansen, Thomas","SM II","MGC Ingolstadt","BMV",101.443]
[68088,"Jüling, Tarkus","SM I","VfM Berlin Spandau","BVBB",101.446]
[42046,"Niedermeir, Martin","SM I","1. MGC München-Feldmoching","BMV",101.461]
[5015,"Canceniella, Raffaele","SM II","MC Schriesheim","BBS",101.464]
[45219,"Burk, Michael","SM I","MSC Bensheim-Auerbach","HBSV",101.464]
[28040,"Bless, Werner","SM II","BSV 82 Ohlsbach","BBS",101.46599999999999]
[49260,"Somnitz, Christian","H","MC \"Möve\" Cuxhaven-Sahlenburg","MVBN",101.474]
[37390,"Zwirlein, Rainer","SM I","MGC Murnau am Staffelsee","BMV",101.477]
[38102,"Barz, Birgit","SW II","VfM Berlin Spandau","BVBB",101.479]
[44499,"Jahrmärker, Uta","SW II","1. BGC Celle von 1964","MVBN",101.48099999999999]
[45662,"Halstein-ten Voorde, Matthias","SM I","BGC Diepholz","MVBN",101.483]
[48671,"Liebig, Sven","SM I","1. BGC Hannover","MVBN",101.485]
[24649,"Ahmed, Alan","H","MGC Bad Oldesloe von 1964","SHMV",101.488]
[29326,"Kuhlenberg, Peter","SM II","SSC Halver","NBV",101.49]
[42569,"Nagl, Sabine","SW I","1. BGC Landshut","BMV",101.494]
[21681,"Bogdahn, Volker","SM II","MC 62 Lüdenscheid","NBV",101.5]
[87505,"Brendler, Steffen","H","1. MGC 1970 Göttingen","MVBN",101.5]
[43782,"Boenisch, Hans-Jochen","SM I","BGC Northeim","MVBN",101.503]
[40341,"Wolff, Julian","H","MC 62 Lüdenscheid","NBV",101.505]
[66857,"Schwarz, Luca","H","MGC Karlshagen","BVBB",101.524]
[33928,"Schmidt, Thorben","SM I","MGC Brunsbüttel","SHMV",101.527]
[21501,"Dellmann, Christoph","SM II","MSK Neheim-Hüsten","NBV",101.529]
[66018,"Jung, Jürgen","SM II","1. KC Homburg-Saar 1967","SaarMV",101.53]
[31683,"Engel, Wolfgang","SM II","MGC Schwaikheim","WBV",101.541]
[37668,"Neumann, Michael","SM I","MGC Murnau am Staffelsee","BMV",101.545]
[10260,"Wriedt, Hans","SM II","MC Flora Elmshorn","SHMV",101.54900000000001]
[35116,"Weber, Bernd","SM II","VfM Bottrop","NBV",101.563]
[33733,"Dostert, Michael","SM I","MGC Bad Bodendorf","NBV",101.563]
[66206,"Niebuhr, Jörg","SM I","BGC Northeim","MVBN",101.572]
[10099,"Sternemann, Udo","SM II","BGSV Castrop 1961","NBV",101.578]
[46389,"Müller, Ralf","SM I","Reinickendorfer MGC","BVBB",101.584]
[33650,"Rosenbach, Marina","D","MGC Traben-Trarbach","MRP",101.58799999999999]
[37289,"Throne, Marwin","H","PTSV Hof Abt. Minigolf","BMV",101.59]
[38474,"Forsberg, Robin","H","Bochumer MC 1960","NBV",101.596]
[36171,"Löschmann, Dennis","H","Tempelhofer MV 65","BVBB",101.598]
[21828,"Frank, Andreas","SM II","BSV 86 München","BMV",101.621]
[45103,"Oseit, Michael","SM I","1. MC Weinheim","BBS",101.623]
[28604,"Tafel, Manfred","SM II","1. BGC Garmisch-Partenkirchen","BMV",101.64100000000001]
[66150,"Schäfer, Dennis","H","MSC Bensheim-Auerbach","HBSV",101.648]
[28673,"Lemke, Kai","SM II","MGC Olympia Kiel","SHMV",101.655]
[66336,"Cöln, Herbert","SM II","BGC Schloß Paffendorf","NBV",101.657]
[37272,"Zazzi, Michel","H","1. Essener CGC \"Blau-Gold\"","NBV",101.658]
[67218,"Goldau, Thorsten","SM I","BGV Backumer Tal Herten","NBV",101.664]
[37060,"Geschonke, Yannis","H","MSV Bad Münder/Springe von 2005","MVBN",101.66500000000001]
[37789,"Caspar, Gerhard","SM II","1. Mainzer MGC","MRP",101.673]
[66582,"Klaus, Liana","D","1. BGC Wolfsburg","MVBN",101.68600000000001]
[29740,"Oppmann, Arne","SM I","MGC Wertheim ´91","BMV",101.68899999999999]
[67907,"Lange, Fabrice","JM","1. Porzer MGC Grün-Weiß 1969","NBV",101.691]
[38177,"Fischbeck, Patricia","D","MGF Magdeburg","BVSA",101.694]
[66732,"Holzenthal, Sascha","H","1. Mainzer MGC","MRP",101.697]
[65955,"Klotz, Sascha","H","BGSV Aßlar 1987","HBSV",101.69799999999999]
[66357,"Hönicke, Marco","SM I","MGC \"Stahlquelle\" Bad Bocklet 1989","BMV",101.71]
[37693,"Kühbauch, Helmut","SM II","KGC Bad Urach","WBV",101.717]
[40720,"Lumma, Dirk","SM I","HMC Büttgen","NBV",101.718]
[43515,"Jürs, Gabriele","SW II","MC Flora Elmshorn","SHMV",101.721]
[44645,"Schramm, Reiner","SM II","BGSV Bad Homburg v. d.H.","HBSV",101.72199999999999]
[66285,"Stern, Markus","SM I","VfB Osnabrück von 1984","NBV",101.73699999999999]
[67551,"Hemgesberg, René","H","BGS Hardenberg-Pötter","NBV",101.744]
[65852,"Henseler, Rainer","SM II","MC 62 Lüdenscheid","NBV",101.758]
[66648,"Greh, Eicke","H","VfM Berlin Spandau","BVBB",101.76300000000001]
[66721,"Rebstock, Stefan","SM I","VfL Lohbrügge von 1892 Abt. Bahnengolf","HBV",101.765]
[25840,"Morgenstern, Angela","SW II","BGS Hardenberg-Pötter","NBV",101.77500000000001]
[34054,"Rothermel, Dieter","SM II","MSC Bensheim-Auerbach","HBSV",101.776]
[756,"Schmurdy, Axel Rolf","SM II","1. MGC Kassel-Vellmar 1964","MVBN",101.788]
[31003,"Wehner, Uwe","SM II","VfM Berlin Spandau","BVBB",101.80500000000001]
[30521,"Kuntermann, Markus","SM I","CGV Hamm 2019","NBV",101.813]
[36323,"Bönsch, Patrick","H","KGC Bad Urach","WBV",101.815]
[42429,"Krumay, Patricia","SW II","TSV Pfungstadt Abt. Bahnengolf","HBSV",101.818]
[20291,"Heynen, Peter","SM II","1. BGC Celle von 1964","MVBN",101.818]
[31511,"Schäfer, Willi","H","MSF Brilon","NBV",101.82299999999999]
[66340,"Neumann, Reiner","SM I","BGC Bremen","MVBN",101.828]
[27189,"Hablitzel, Klaus","SM II","1. MGC Tuttlingen","BBS",101.834]
[6616,"Romberg, Wolfgang","SM II","BGC Schloß Paffendorf","NBV",101.84]
[66515,"Wonka, Hans Joachim","SM I","TSV Pfungstadt Abt. Bahnengolf","HBSV",101.843]
[23579,"Erlbruch, Monika","SW II","BGSV Kerpen","NBV",101.855]
[67490,"Reiff, Sascha","SM I","1. MGC Bamberg","BMV",101.866]
[47183,"Arendt, Sascha","SM I","BGSV Castrop 1961","NBV",101.866]
[33849,"Willenbockel, Anke","D","Tempelhofer MV 65","BVBB",101.874]
[65319,"Hohenadler, Annalena","D","MGC Bad Feilnbach","BMV",101.877]
[25785,"Mandel, Norman","SM II","HMC Büttgen","NBV",101.878]
[31071,"Riebesam, Pia","SW I","HMC Büttgen","NBV",101.907]
[29197,"Eichhorn, Joachim","SM II","1. Mainzer MGC","MRP",101.92100000000001]
[37371,"Waßmer, Peter","SM II","BSV Inzlingen 1979","BBS",101.92100000000001]
[67499,"Schwägerl, Raimund","SM I","MGC Murnau am Staffelsee","BMV",101.922]
[66401,"Leske, Jörg","SM II","Tempelhofer MV 65","BVBB",101.92400000000001]
[66673,"Schumacher, Stefan","H","1. MGC Tuttlingen","BBS",101.93899999999999]
[29997,"Stappenbeck, Ulrich","SM I","1. BGC Wesseling 1975","NBV",101.94499999999999]
[38230,"Moosmann, Jan-Niclas","H","1. MGC Ludwigshafen 1964","MRP",101.96299999999999]
[67999,"Grishutina, Anastasia","D","1. BGC Hannover","MVBN",101.964]
[68019,"Säger, Lukas","JM","1. MC Weinheim","BBS",101.97199999999999]
[25993,"Bamberg, Gabriele","SW II","1. Mainzer MGC","MRP",101.974]
[67539,"Schöll, Toni","SM II","BGC Illertissen","BMV",101.99]
[51586,"Kirpal, Stefan","SM I","BGC Bad Nenndorf","MVBN",102.001]
[27861,"Wehner, Thomas","SM II","MGC Tütebelle","NBV",102.003]
[48931,"Krause, Dirk","SM I","1. BGC Celle von 1964","MVBN",102.012]
[31074,"Bremicker, Stephan","SM II","MGC Dormagen-Brechten","NBV",102.02200000000001]
[35168,"Gründer, Dirk","SM I","BSC Ennepetal","NBV",102.02200000000001]
[66971,"Noack, Nevio","JM","MGC Karlshagen","BVBB",102.024]
[67776,"Stucki, Jane","SW I","Olchinger MSK","BMV",102.032]
[36366,"Adam, Herbert","SM II","MGC-Felderbachtal 1964","NBV",102.045]
[67024,"Philippus, Lukas","H","BGSV Bad Homburg v. d.H.","HBSV",102.048]
[50257,"Häring, Ute","SW II","SSV Ulm 1846 Abt. Bahnengolf","WBV",102.054]
[2083,"Ber, Peter jun.","H","MGC Karlshagen","BVBB",102.065]
[25887,"Dolde, Dietmar","SM II","1. MGC Metzingen","WBV",102.068]
[30196,"Vosschulte, Johannes","SM II","CGV Hamm 2019","NBV",102.075]
[884,"Raschke-Dejoks, Isabell","D","BGC Diepholz","MVBN",102.077]
[67773,"Grosjean, Bruno","H","BGS Hardenberg-Pötter","NBV",102.07899999999999]
[33125,"Stanchly, Siegfried","SM II","BGC Heilbronn","WBV",102.084]
[43508,"Jürs, Dieter","SM II","MC Flora Elmshorn","SHMV",102.087]
[32535,"Güth, Benjamin","H","Niendorfer MC v. 1963","HBV",102.087]
[65927,"Ernst, Klaus","SM I","HMC Büttgen","NBV",102.11199999999999]
[67216,"Frings, Oliver","H","MGC Bad Bodendorf","NBV",102.117]
[45666,"Schulz, Hans-Jürgen","SM I","MC \"Möve\" Cuxhaven-Sahlenburg","MVBN",102.12]
[27214,"Mitterle, Norbert","SM II","TG Höchberg von 1862 Bahnengolf","BMV",102.133]
[65456,"Hausmann, Gerd","SM I","1. MGC Ludwigshafen 1964","MRP",102.13500000000001]
[30400,"Großmann, Bertold","SM II","MGC Sulzfeld","BBS",102.13800000000001]
[67767,"Wielink-Pol, Joy","SW I","SC Olympia Dortmund","NBV",102.14700000000001]
[7524,"Hufschmidt, Klaus","SM II","BGSC \"Gut Schlag\" Gladbeck","NBV",102.15300000000001]
[33042,"Nell, Roland","SM II","MGC Bad Waldsee 1990","WBV",102.157]
[43517,"Riecken, Mirko","SM I","MGC Bad Oldesloe von 1964","SHMV",102.163]
[41663,"Bönsch, Heidi","SW I","KGC Bad Urach","WBV",102.164]
[67193,"Beyer, Lukas","H","1. MGC Kassel-Vellmar 1964","MVBN",102.16800000000001]
[49979,"Fischer, Walter","SM II","MC 62 Lüdenscheid","NBV",102.17100000000001]
[36344,"Zimmermann, Lukas","H","BGC Heilbronn","WBV",102.176]
[25891,"Abele, Lothar","SM II","1. MGC Metzingen","WBV",102.184]
[66339,"Grobe, Thomas","SM II","1. BGC Hannover","MVBN",102.188]
[37654,"Baierl, Dieter","SM II","MGC Ingolstadt","BMV",102.19799999999999]
[28747,"Brandt, Ralph","SM I","TV Trappenkamp Sparte Minigolf","SHMV",102.205]
[65947,"Erhart, Matthias","SM II","BGC Bremen","MVBN",102.206]
[44139,"Bahr, Thomas","SM I","BGV Backumer Tal Herten","NBV",102.206]
[36232,"Meissner, Hiltraut","SW II","MGC Olympia Kiel","SHMV",102.209]
[67338,"Kirscht, Tobias","H","VfL Lohbrügge von 1892 Abt. Bahnengolf","HBV",102.21]
[38040,"Köhler, Frank","SM II","MC \"Möve\" Cuxhaven-Sahlenburg","MVBN",102.22499999999999]
[29796,"Willenbockel, Marion","SW II","MC \"Möve\" Cuxhaven-Sahlenburg","MVBN",102.23]
[44728,"Raschke, Benjamin","H","BGC Bremen","MVBN",102.242]
[45597,"Kampmann, Michael","SM I","MGC Bad Salzuflen","NBV",102.24299999999999]
[66533,"Hensel, Annika Sophia","JW","MSK Neheim-Hüsten","NBV",102.245]
[38336,"Brocks, Carsten","SM I","BGS Hardenberg-Pötter","NBV",102.246]
[44501,"Kapelle, Ralf","SM I","1. BGC Celle von 1964","MVBN",102.247]
[38114,"Weiß, Steven","H","1. Mainzer MGC","MRP",102.249]
[6464,"Loewe, Manfred","SM II","BSC Ennepetal","NBV",102.251]
[45368,"Hiltner, Klaus","SM I","MSG Kempten","BMV",102.251]
[21948,"Heerich, Ralph","SM II","1. MGC Kassel-Vellmar 1964","MVBN",102.252]
[46141,"Müller, Michael","SM II","MGC Bad Feilnbach","BMV",102.253]
[37980,"Freßmann, Rebecca","D","BGC Diepholz","MVBN",102.253]
[29585,"Jänicke, André","SM I","MGC Dormagen-Brechten","NBV",102.262]
[27909,"Habrich, Klaus","SM II","1. MGC Süßen","WBV",102.271]
[67557,"Kuhn, Rolf","SM II","MC Schriesheim","BBS",102.273]
[49312,"Rein, Andy","SM I","1. MGC Ludwigshafen 1964","MRP",102.27800000000001]
[4114,"Kiesow, Detlev","SM II","TSV Kücknitz von 1911 Abt. Bahnengolf","SHMV",102.279]
[67811,"Dahmen, Richard","H","BGSC \"Gut Schlag\" Gladbeck","NBV",102.28]
[5581,"Wetzel, Paul","SM II","1. MGC Süßen","WBV",102.28100000000001]
[47089,"Zeisler, Klaus","SM II","SSC Halver","NBV",102.28100000000001]
[27712,"Abendroth, Thomas","SM I","Reinickendorfer MGC","BVBB",102.295]
[38490,"Frank, Rolf","SM II","BGSV Bad Homburg v. d.H.","HBSV",102.301]
[67029,"Gröbel, Bernhard","SM II","MGC Wertheim ´91","BMV",102.31399999999999]
[36907,"Doll, Fred","SM II","1. BGC Celle von 1964","MVBN",102.315]
[66148,"Limpius, Simone","D","TG Höchberg von 1862 Bahnengolf","BMV",102.315]
[35784,"Weißer, Stephan","SM I","BIG Ingelfingen 2020","WBV",102.318]
[67207,"Lemke, Thomas","SM II","Kölner MC","NBV",102.318]
[41929,"Stock, Manfred","SM II","MGC Bad Bodendorf","NBV",102.331]
[31513,"Buchholz, Ansgar","SM I","VfB Osnabrück von 1984","NBV",102.333]
[67041,"Schimanski, Arno","SM I","VfM Bottrop","NBV",102.33499999999999]
[66302,"Kaisr, Alois","SM II","BGSV Aßlar 1987","HBSV",102.342]
[42187,"Hake, Siegfried","SM II","BGC Goslar","MVBN",102.345]
[21380,"König, Helmut","SM II","VfM Bottrop","NBV",102.358]
[43149,"Sawartowski, Ralf","SM I","MGC Rot-Weiß Wanne-Eickel","NBV",102.35899999999999]
[37133,"Wehner, Svenja","D","MGC Tütebelle","NBV",102.36199999999999]
[38090,"Möbs, Lothar","SM II","MGC Ingolstadt","BMV",102.369]
[37582,"Bastian, Ann-Kathrin","D","BGC Bildstock","SaarMV",102.386]
[24693,"Eisermann, Bernd","SM II","MGC \"AS\" Witten 1963","NBV",102.38800000000001]
[48505,"Baig, Varyam-Mirza","SM II","MGC Wetzlar","HBSV",102.39400000000001]
[65979,"Schubert, Niklas","H","MGC Bad Salzuflen","NBV",102.408]
[45769,"Brand, Markus","SM I","MSV Bad Kreuznach","MRP",102.416]
[45943,"Thiel, Stephan","SM I","VfM Berlin Spandau","BVBB",102.425]
[67560,"Schmidt, Thorsten","SM I","VfM Bottrop","NBV",102.42700000000001]
[41960,"Haase, Guido","SM II","1. MGC Kassel-Vellmar 1964","MVBN",102.43300000000001]
[22832,"Glaser, Helmut","SM II","MGC Sulzfeld","BBS",102.434]
[26465,"Kehl, Roland","SM II","SGC Hagen","NBV",102.438]
[66659,"Hildebrandt, Justin","H","BGS Hardenberg-Pötter","NBV",102.441]
[38056,"Buckentin, Felix","SM II","MGC Ingolstadt","BMV",102.44499999999999]
[1612,"Warnecke, Jenifer","SW I","1. BGC Wolfsburg","MVBN",102.447]
[40199,"Hensel, Florian","H","BSC Ennepetal","NBV",102.449]
[34687,"Jäck, Wolfram","SM II","MGF Hilzingen 80","BBS",102.453]
[67276,"Weiß, Damon","SCHM","BGSV Bad Homburg v. d.H.","HBSV",102.462]
[67893,"Roßbach, Rolf","SM I","BGS Hardenberg-Pötter","NBV",102.465]
[66570,"Langer, Yannick","H","MGC Ingolstadt","BMV",102.476]
[40558,"Vanselow, Peter","SM II","MGC Sulzfeld","BBS",102.477]
[35460,"Peucker, Viola","SW I","TSV Salzgitter Abt. Bahnengolf","MVBN",102.48]
[44379,"Steinburg, Sonja","SW I","MGC Dormagen-Brechten","NBV",102.486]
[48944,"Hoogen, Ingo","SM I","VfB Osnabrück von 1984","NBV",102.48699999999999]
[67184,"Kitzeder, Lukas","JM","MSG Kempten","BMV",102.492]
[4438,"Zeisler, Werner","SM II","SSC Halver","NBV",102.51900000000001]
[67414,"Rotenstein, Stefan","H","1. MGC Peine von 1965","MVBN",102.529]
[42407,"Keppler, Udo","SM I","1. MGC Süßen","WBV",102.532]
[34059,"Rieger, Ulf","SM I","BGS Hardenberg-Pötter","NBV",102.53400000000001]
[67715,"Erkel, Hans-Jürgen","SM II","1. KC Homburg-Saar 1967","SaarMV",102.536]
[44726,"Heisel, Thomas","SM I","BGC Diepholz","MVBN",102.538]
[67742,"Turner, Tobias","H","MSK Neheim-Hüsten","NBV",102.542]
[46465,"Keiper, Sven","SM I","Freizeit Club Bliesen","SaarMV",102.556]
[37893,"Wieser, René","SM I","HMC Büttgen","NBV",102.55800000000001]
[35779,"Arnold, Günter","SM II","BGSV Aßlar 1987","HBSV",102.559]
[4859,"Wiegelmann, Reinhold","SM II","Minigolf Wölfe Rheinstetten 02","BBS",102.56]
[29721,"Schlieker, Rainer","SM II","MGC Murnau am Staffelsee","BMV",102.56100000000001]
[66223,"Pawelka, Stephan","SM I","MC Schriesheim","BBS",102.565]
[38145,"Horeis, Claudia","SW II","MGC Bergisch Gladbach Gierath","NBV",102.57299999999999]
[35604,"Urban, Volker","SM I","SGC Hagen","NBV",102.574]
[67604,"Hablowetz, Ronja","JW","OMGC Ingolstadt","BMV",102.58799999999999]
[36204,"Britz, Gerrit","H","1. KC Homburg-Saar 1967","SaarMV",102.595]
[38168,"Garte, Chris","H","MV Lankwitzer Dragons","BVBB",102.61799999999999]
[43147,"Hasenberg, Heike","SW I","SGC Hagen","NBV",102.623]
[67201,"Emmerich, Lilly","SCHW","BGC Bildstock","SaarMV",102.624]
[24314,"Geist, Michaela","SW I","MSC Bensheim-Auerbach","HBSV",102.63]
[67392,"Nihoul, Jean-Luc","SM II","BGS Hardenberg-Pötter","NBV",102.633]
[67088,"Hötzel, Matthis","H","MGC Lünen-Syburg","NBV",102.637]
[49067,"Hoefig, Hildegard","SW II","HMC Büttgen","NBV",102.63800000000001]
[47446,"Widmair, Roland","SM I","MGC Bad Feilnbach","BMV",102.64100000000001]
[66839,"Schröder, Michaela","SW I","MGC Bad Salzuflen","NBV",102.654]
[33711,"Fellenberg, Kerstin","SW I","1. MGC Peine von 1965","MVBN",102.65600000000001]
[67059,"Fiedler, Wolfgang","SM II","BGSV Aßlar 1987","HBSV",102.661]
[42691,"Reinicke, Frank","SM II","MC \"Möve\" Cuxhaven-Sahlenburg","MVBN",102.666]
[67318,"Allmacher, Leon","JM","MGC Traben-Trarbach","MRP",102.66800000000001]
[67430,"Hoogen, Hendrik","SCHM","VfB Osnabrück von 1984","NBV",102.673]
[46846,"Jensen, André","SM I","MGC Olympia Kiel","SHMV",102.673]
[605,"Brandl, Michael","SM II","BGC Heilbronn","WBV",102.682]
[25999,"Becker, Ursula","SW II","1. MGC Mannheim 1968","MRP",102.684]
[67071,"Weihs, Dominik","JM","MSK Neheim-Hüsten","NBV",102.69]
[67650,"Hempel, Stefan","H","BIG Ingelfingen 2020","WBV",102.697]
[47009,"Schury, Wolfgang","SM II","1. MC Weinheim","BBS",102.699]
[27492,"Elbe, Karin","D","MGC 1978 Remseck a.N.","WBV",102.705]
[67089,"Krieger, Leon","H","BGC Uerdingen","NBV",102.70699999999999]
[66790,"Benn, Holger","SM II","VfL Lohbrügge von 1892 Abt. Bahnengolf","HBV",102.71299999999999]
[44134,"Foy, Manfred","SM II","Bochumer MC 1960","NBV",102.721]
[37254,"Heyer, Hans Bernd","SM I","MGC Bergisch Gladbach Gierath","NBV",102.72199999999999]
[42343,"Rauch, Josef","SM I","MGC Ingolstadt","BMV",102.72499999999999]
[66751,"von Trümbach, Jens","SM I","Tempelhofer MV 65","BVBB",102.727]
[36823,"Maier, Niklas","SM I","MGC Unterschneidheim","WBV",102.735]
[38485,"Ziegler, Thomas","H","BGSV Kerpen","NBV",102.739]
[36966,"Reinhardt, Günther","SM I","1. Essener CGC \"Blau-Gold\"","NBV",102.742]
[29795,"Lenertz, Katharina","D","BGSV Kerpen","NBV",102.751]
[32674,"Zornstein, Lars","H","CGV Hamm 2019","NBV",102.755]
[37252,"Wehner, Martina","SW II","MGC Tütebelle","NBV",102.75700000000001]
[36567,"Raschke, Marcel","H","BGC Diepholz","MVBN",102.762]
[30337,"Kehr, Karsten","SM I","BGC Northeim","MVBN",102.764]
[67556,"Jandová, Karolína","D","BGC Neutraubling","BMV",102.76600000000001]
[40864,"Bauer, Martin","SM II","BGC Bildstock","SaarMV",102.767]
[66952,"Rotermund, Marie Sophie","D","1. BGC Celle von 1964","MVBN",102.768]
[45575,"Koböck, Robert","SM I","MGF Hammer","BMV",102.77800000000001]
[30938,"Hofmann, Michael","H","MC Ilvesheim","BBS",102.798]
[48006,"Berneit, Susanne","SW I","1. MGC Tuttlingen","BBS",102.801]
[34823,"Kreutter, Bernhard","SM II","MGF Waldshut 1974","BBS",102.80200000000001]
[66360,"Nelles, Benjamin","H","1. BGC Wolfsburg","MVBN",102.80200000000001]
[66452,"Depke, Marko","SM I","MGC Bad Salzuflen","NBV",102.803]
[68053,"Schmidt, Jan","H","Olchinger MSK","BMV",102.804]
[68053,"Schmidt, Jan","H","Olchinger MSK","BMV",102.804]
[45644,"Winters, Peter","SM II","1. KGC Mönchengladbach","NBV",102.82]
[35587,"Bader, Elfriede","SW II","MGC Murnau am Staffelsee","BMV",102.82899999999999]
[67217,"Ellerbrock, Klaus-Martin","SM II","MGC-Felderbachtal 1964","NBV",102.833]
[41671,"Bönsch, Roland","SM II","KGC Bad Urach","WBV",102.836]
[67798,"Schmidt, Max","SCHM","BGS Hardenberg-Pötter","NBV",102.839]
[17986,"Krost, Dietger","SM II","1. BGC Wolfsburg","MVBN",102.84099999999999]
[4492,"Koll, Max","SM II","MC 62 Lüdenscheid","NBV",102.846]
[66864,"Ginschel, Rudolf","SM II","BGSC Bochum 1978","NBV",102.848]
[40203,"Lindenberg, Mareike","D","1. BGC Celle von 1964","MVBN",102.85]
[29883,"Esser, Gerd","SM II","1. KGC Mönchengladbach","NBV",102.86799999999999]
[37858,"Schleser, Sebastian","H","1. MGC München-Feldmoching","BMV",102.86799999999999]
[67326,"Tietz, Marlene","D","MSK Neheim-Hüsten","NBV",102.86799999999999]
[50852,"Kohlhage, Michael","SM II","SSC Attendorn","NBV",102.87]
[37865,"Mally, Joachim","SM I","MSC Bensheim-Auerbach","HBSV",102.873]
[40567,"Pitz, Siegfried","SM II","MGC Sulzfeld","BBS",102.877]
[43674,"Bachmann, Sabine","SW I","1. MGC 1970 Göttingen","MVBN",102.878]
[26834,"Inck, Alfred","SM II","MGC Bergisch Gladbach Gierath","NBV",102.878]
[42044,"Niedermeir, Andreas","SM I","1. MGC München-Feldmoching","BMV",102.88200000000001]
[31026,"Ott, David","H","BGV Backumer Tal Herten","NBV",102.89100000000001]
[66477,"Schaub, Karim","H","ASV Pegnitz Abt. Minigolf","BMV",102.898]
[46037,"Lang, Ewald","SM I","MGC Homburger Land","NBV",102.9]
[35663,"Blasek, Nicole","SW II","1. MGC Köln 1961","NBV",102.91]
[5821,"Gerwert, Karl-Heinz","SM II","MGF Waldshut 1974","BBS",102.92700000000001]
[38492,"Brocks, Marcel","H","BGS Hardenberg-Pötter","NBV",102.932]
[43224,"Vollmer, Jürgen","SM II","1. BGC Paderborn","NBV",102.932]
[33405,"Jakoby, Timo","H","MGC Traben-Trarbach","MRP",102.937]
[49886,"Poser, Stefan","SM II","1. BGC Hannover","MVBN",102.94499999999999]
[66410,"Rinker, Lukas","H","MGC Wetzlar","HBSV",102.94799999999999]
[33616,"Asmuß, Jörg","SM II","MGC Brunsbüttel","SHMV",102.94799999999999]
[30855,"Fischer, Susanne","SW I","MSC Bad Godesberg","NBV",102.956]
[87513,"Hirsch, Theodor","JM","Hamburger MC von 1965","HBV",102.956]
[38248,"Rotermund, Jürgen","SM II","1. BGC Celle von 1964","MVBN",102.96599999999999]
[67902,"Büttrich, Luisa","JW","1. MGC Bamberg","BMV",102.98099999999999]
[49469,"Jahrmärker Jun., Harald","SM I","1. BGC Celle von 1964","MVBN",102.983]
[29305,"Pischel, Gerhard","SM II","MGC Wolnzach","BMV",102.985]
[32871,"Hubrecht, Peter","SM I","MC Flora Elmshorn","SHMV",102.99299999999999]
[46250,"Hickert, Peter","SM II","MSF Brilon","NBV",102.999]
[37637,"Rümmelin, Anna","D","BSV Inzlingen 1979","BBS",103]
[67040,"Peschke, Tobias","H","BGV Backumer Tal Herten","NBV",103.021]
[46152,"Nickel, Gerhard","SM II","MGC Wetzlar","HBSV",103.02200000000001]
[6693,"Manderscheid, Hans","SM II","BGC Bildstock","SaarMV",103.029]
[29092,"Szablikowski, Petra","SW I","1. Mainzer MGC","MRP",103.035]
[36548,"König, Bert","SM I","1. MGC Rheinhausen","NBV",103.036]
[34084,"Schönfeld, Karl-Heinz","SM II","1. BGC Celle von 1964","MVBN",103.05]
[34490,"Bätz, Thomas","SM I","MGC Homburger Land","NBV",103.05500000000001]
[66398,"Dahrendorf, Petra","SW II","SV Lurup-Hamburg von 1923 Abt. Bahnengolf","HBV",103.065]
[26423,"Groneberg, Markus","H","VfM Berlin Spandau","BVBB",103.07]
[36292,"Wesemann, Eike-Fabian","H","BGC Diepholz","MVBN",103.07]
[65902,"Schewcik, Andrea","D","MC Ilvesheim","BBS",103.081]
[31014,"Mombauer, Marion","SW II","BGC Uerdingen","NBV",103.086]
[67399,"Buchwieser, Carl","SCHM","Olchinger MSK","BMV",103.087]
[9244,"Weiser, Wolfgang","SM II","TSV Pfungstadt Abt. Bahnengolf","HBSV",103.101]
[66313,"Wagener, Volker","SM II","MGC Murnau am Staffelsee","BMV",103.10299999999999]
[35006,"Weis, Ralf","SM I","1. Münchener Minigolf-Club","BMV",103.111]
[67784,"Rüger, Frank","SM I","MGV Ansbach","BMV",103.122]
[35862,"Bielak, Frank","SM II","BSC Ennepetal","NBV",103.123]
[43835,"Maaß, Bettina","SW I","MGC Brunsbüttel","SHMV",103.128]
[66282,"Jütte, Stephan","H","1. MGC Paderborn 1980","NBV",103.142]
[29219,"Nees, Kurt","SM I","MGC Schwaikheim","WBV",103.154]
[66186,"Urban, Dominic","H","MSK Neheim-Hüsten","NBV",103.15600000000001]
[43139,"Störmer, Frank","SM I","CGV Hamm 2019","NBV",103.158]
[65819,"Buchner, Horst","SM II","BSC Ennepetal","NBV",103.158]
[40965,"Kritsch, Susanne","SW I","1. BGC Wolfsburg","MVBN",103.163]
[67082,"Schmidbauer, Werner","SM II","MGC Ingolstadt","BMV",103.164]
[38156,"Sodenkamp, Markus","SM I","MSK Neheim-Hüsten","NBV",103.19499999999999]
[47299,"Vogt, Michael","SM I","MGC Dormagen-Brechten","NBV",103.197]
[155,"Kindt, Jörg Rainer","SM II","MSV Bad Kreuznach","MRP",103.206]
[65833,"Brandstettner, Uwe","SM I","BGC Goslar","MVBN",103.21]
[34127,"Konle, Peter","SM II","MGC Unterschneidheim","WBV",103.214]
[45065,"Wagner, Jürgen","SM I","MC Schriesheim","BBS",103.215]
[955,"Kempa, Marina","SW II","BGC Northeim","MVBN",103.23]
[66669,"Balf, Thomas","SM II","BGC Uerdingen","NBV",103.232]
[33511,"Paffrath, Siegfried","SM II","MGC Heven","NBV",103.23399999999999]
[37395,"Seidel, Andreas","SM II","MV Lankwitzer Dragons","BVBB",103.235]
[55133,"Glaser, Michael","SM II","MGC Bad Soden-Salmünster","HBSV",103.236]
[38110,"Brakhage, Cedric","H","1. MGC Paderborn 1980","NBV",103.239]
[67634,"Cvijanovic, Jannis","JM","SSC Attendorn","NBV",103.241]
[66327,"Leist, Adam","SM II","Minigolf Wölfe Rheinstetten 02","BBS",103.245]
[42690,"Reinicke, Michael","SM II","MC \"Möve\" Cuxhaven-Sahlenburg","MVBN",103.249]
[67862,"Stahl, Daniel","H","MSC Bensheim-Auerbach","HBSV",103.25]
[42281,"Hammon, Michael","SM II","BGC Bad Berneck","BMV",103.252]
[67013,"Hartkorn, Max","JM","CGC Blau-Gelb Grötzingen 1968","BBS",103.252]
[26125,"Reichle, Matthias","H","BSV Inzlingen 1979","BBS",103.258]
[40235,"von der Pütten, Stephan","SM I","MGC Traben-Trarbach","MRP",103.259]
[36538,"Piechotta, Rosemarie","SW II","BGS Hardenberg-Pötter","NBV",103.264]
[37916,"Wentzel, Marcel","H","VfL Lohbrügge von 1892 Abt. Bahnengolf","HBV",103.276]
[43756,"Borggraefe, Jens","SM I","1. MGC Ludwigshafen 1964","MRP",103.276]
[596,"Helmes, Anja","SW I","1. BGC Wesseling 1975","NBV",103.27800000000001]
[35267,"Schön, Helmut","SM II","MC Ilvesheim","BBS",103.28]
[66551,"Rachl, Armin","SM I","MSG Kempten","BMV",103.282]
[33903,"Allmüller, Markus","SM I","BGV Backumer Tal Herten","NBV",103.29600000000001]
[37894,"Ber, Adam","H","MGC Karlshagen","BVBB",103.30500000000001]
[28030,"Neuwald, Ralf","SM I","MC Schriesheim","BBS",103.31399999999999]
[1359,"Engelmann, Uwe","SM II","1. MGC Peine von 1965","MVBN",103.315]
[66125,"Walther, Markus","H","MGC Karlshagen","BVBB",103.318]
[40161,"Handtke, Michael","SM II","MSK Neheim-Hüsten","NBV",103.32299999999999]
[66192,"Wanjek, Eric","H","BGSC \"Gut Schlag\" Gladbeck","NBV",103.325]
[46910,"Bätge, Richard","SM II","TSV Salzgitter Abt. Bahnengolf","MVBN",103.32599999999999]
[35257,"Kampe, Cornelia","SW II","1. MGC Peine von 1965","MVBN",103.333]
[49266,"Axer, Reiner","SM II","Kölner MC","NBV",103.339]
[66613,"Reitemeier, Michael","SM II","BGSV Castrop 1961","NBV",103.34099999999999]
[40638,"Fischer, Manfred","SM II","MGC Bad Feilnbach","BMV",103.346]
[65442,"Lischke, Brigitte","D","OMGC Ingolstadt","BMV",103.349]
[67696,"Kröber, Gunter","SM I","1. Münchener Minigolf-Club","BMV",103.35]
[31721,"Wetzel, Klaus","SM II","1. KGC Mönchengladbach","NBV",103.35]
[67042,"Stübiger, Connor","H","BGSV Aßlar 1987","HBSV",103.35299999999999]
[65964,"Friese, Barbara","SW I","BGC Uerdingen","NBV",103.35599999999999]
[41018,"Seilz, Oliver","SM I","Reinickendorfer MGC","BVBB",103.357]
[37653,"Baierl, Andrea","SW II","MGC Ingolstadt","BMV",103.363]
[67463,"Klenzmann, Kai","SCHM","1. BGC Hannover","MVBN",103.367]
[66771,"Patan, Franziska","D","BIG Asperg 1982","WBV",103.373]
[5165,"Brandt, Hans-Jürgen","SM II","BGS Hardenberg-Pötter","NBV",103.375]
[38362,"Stuppy, Ingo","SM II","1. MGC Mannheim 1968","MRP",103.377]
[46236,"Brunner, Ralf","SM I","MSC Bad Godesberg","NBV",103.38200000000001]
[68114,"Schäfer, Anatol","SCHM","MGC Bad Homburg","HBSV",117.33199999999999]
[27566,"Galleinus, Jens","SM II","MSC Herscheid 1963","NBV",103.38800000000001]
[67936,"Vedder, Joachim","SM I","TSV Salzgitter Abt. Bahnengolf","MVBN",103.38800000000001]
[33659,"Büttner, Alexander","H","MGF Hammer","BMV",103.389]
[64598,"Sprung, Patric","SM I","BGC Bad Mergentheim","WBV",103.389]
[67637,"Vogel, Marc","SM I","MGC Bergisch Gladbach Gierath","NBV",103.392]
[67380,"Koch, Rolf","SM II","BGSV Bad Homburg v. d.H.","HBSV",103.39400000000001]
[41953,"Piedigaci, Armando","SM II","SC-Wermelskirchen","NBV",103.396]
[40148,"Faust, Gabriele","SW II","MSC Bensheim-Auerbach","HBSV",103.4]
[67614,"Göz, Annette","SW II","MGC Bad Homburg","HBSV",120.83199999999999]
[43760,"Hammon, Dagmar","SW II","BGC Bad Berneck","BMV",103.41500000000001]
[47093,"Scheider, Christian","SM I","SSC Halver","NBV",103.419]
[67611,"Kissinger, Frank","SM I","TSV Salzgitter Abt. Bahnengolf","MVBN",103.441]
[66569,"Beier, Christian","SM II","MC \"Möve\" Cuxhaven-Sahlenburg","MVBN",103.452]
[28904,"Heiliger, Ursula","SW II","1. BGC Wolfsburg","MVBN",103.468]
[33338,"Lorenz, Uwe","SM II","MC \"Möve\" Cuxhaven-Sahlenburg","MVBN",103.468]
[42482,"Bamberg, Michael","SM II","1. Mainzer MGC","MRP",103.468]
[46055,"Barz, Andreas","SM II","MGC Olympia Kiel","SHMV",103.48]
[40538,"Hoose, Wilfried","SM II","BGS Hardenberg-Pötter","NBV",103.486]
[22422,"Oppermann, Ralf","SM II","BSC Ennepetal","NBV",103.491]
[37766,"Vernaleken, Julian","H","MGC Bad Salzuflen","NBV",103.492]
[67744,"Gill, Sandra","SW I","MC 62 Lüdenscheid","NBV",103.495]
[49256,"Wendlandt, Dieter","SM II","MC \"Möve\" Cuxhaven-Sahlenburg","MVBN",103.498]
[36311,"Werner, Lars","H","MGC Tütebelle","NBV",103.5]
[2088,"Bösch, Oliver","H","Kölner MC","NBV",103.505]
[3998,"Baumer, Klaus","SM II","BGC Illertissen","BMV",103.518]
[31089,"Richter, Anja","Sw II","HMC Büttgen","NBV",103.52800000000001]
[67748,"Stoklossa, Jana","JW","1. KC Homburg-Saar 1967","SaarMV",103.533]
[27886,"Richard, Andreas","SM I","1. MGC Süßen","WBV",103.536]
[48112,"Rinke, Walter","SM II","MC Flora Elmshorn","SHMV",103.542]
[36686,"Kirstein, Rotraud","SW II","MSC Herscheid 1963","NBV",103.545]
[67690,"Zeferer, Andreas","SM I","BGC Bildstock","SaarMV",103.54600000000001]
[65513,"Waßmer, Brigitte","SW II","BSV Inzlingen 1979","BBS",103.553]
[40821,"Exner, Karin","SW II","BGV Bergisch Land 1962 / 63","NBV",103.55800000000001]
[43664,"Reinisch, Roman","SM I","BGC Neutraubling","BMV",103.565]
[18014,"Dunker, Klaus","SM II","SSC Halver","NBV",103.569]
[43273,"Jürgensen, Ralf","SM I","SSV Ulm 1846 Abt. Bahnengolf","WBV",103.57299999999999]
[67536,"Schwicker, Petra","SW I","BSV 86 München","BMV",103.57599999999999]
[38541,"Nowak, Alfred","SM II","BGSC Bochum 1978","NBV",103.581]
[30082,"Widmair, Peter","SM II","MGC Bad Feilnbach","BMV",103.58499999999999]
[36395,"Barth, Harald","SM II","1. BGC Wesseling 1975","NBV",103.58499999999999]
[38272,"Pichol, Maike","D","BGV Backumer Tal Herten","NBV",103.586]
[29722,"Sturm, Werner","SM II","MGC Murnau am Staffelsee","BMV",103.592]
[67682,"Joao, Páris","SM I","MGC Ingolstadt","BMV",103.59699999999999]
[24892,"Thiebes, Matthias","SM I","BGC Bad Mergentheim","WBV",103.604]
[46612,"Höpner, Peter","SM II","BGS Hardenberg-Pötter","NBV",103.605]
[37074,"Hackenberg, Günter","SM II","1. MGC Kassel-Vellmar 1964","MVBN",103.60599999999999]
[66992,"Roth, Frank","SM I","1. BGC Rodalben 1977","MRP",103.607]
[47240,"Halscheidt, Martin","Sm II","MGC Wertheim ´91","BMV",103.607]
[29034,"Appelmann, André","H","1. MGC Epe 1978","NBV",103.617]
[66667,"Wiesinger, Julian","H","MSG Kempten","BMV",103.622]
[67236,"Janz, Sven","SM I","CGC Blau-Gelb Grötzingen 1968","BBS",103.627]
[37054,"Hasenclever, Dirk","SM II","1. BGC Leipzig","BVS",103.636]
[36354,"Pisleag, Mirijam Esther","D","1. BGC Garmisch-Partenkirchen","BMV",103.642]
[45472,"Schiebel, Thomas","SM I","1. Mainzer MGC","MRP",103.645]
[33520,"Kleinherne, Benjamin","H","SSV Ulm 1846 Abt. Bahnengolf","WBV",103.651]
[40114,"Patan, Daniel","H","BIG Asperg 1982","WBV",103.65600000000001]
[40617,"Reimling, Franz","SM I","MC Ilvesheim","BBS",103.65900000000001]
[66405,"Aust, Manuela","SW II","BSC Ennepetal","NBV",103.661]
[43837,"Maaß, Herbert","SM II","MGC Brunsbüttel","SHMV",103.67400000000001]
[66528,"Puschner, Gerhard","SM II","MGV Ansbach","BMV",103.675]
[67131,"Emmerich-Weßa, Sina","D","BGC Bildstock","SaarMV",103.679]
[66945,"Börger, Jens","SM I","VfB Osnabrück von 1984","NBV",103.681]
[30185,"Magin, Thomas","SM II","1. MGC Ludwigshafen 1964","MRP",103.681]
[36474,"Klein, Sabine","SW II","HMC Büttgen","NBV",103.685]
[34408,"Nikolaus, Sandra","D","1. BGC Rodalben 1977","MRP",103.693]
[66497,"Maierhofer, Anton","SM i","MGC Bad Feilnbach","BMV",103.69499999999999]
[31736,"Zender, Helmut","SM II","MGC Bergisch Gladbach Gierath","NBV",103.699]
[3935,"Knott, Helmut","SM II","BSV 86 München","BMV",103.711]
[66828,"Körner, Nils","JM","TSV Pfungstadt Abt. Bahnengolf","HBSV",103.712]
[65466,"Gehrke, Alina","D","1. MGC Peine von 1965","MVBN",103.72]
[36616,"Pfundt, Joachim","SM II","BGV Bergisch Land 1962 / 63","NBV",103.727]
[34294,"Hohenadler, Tamara","SW I","MGC Bad Feilnbach","BMV",103.729]
[42528,"Beier, Jürgen","SM II","1. FMGC Lichtenfels 1961","BMV",103.73]
[36717,"Grohse, Rainer","SM II","MGC Brunsbüttel","SHMV",103.753]
[43054,"Kälble, Martin","SM II","BSV 82 Ohlsbach","BBS",103.754]
[31301,"Stötzer, Hans-Jürgen","SM II","1. BGC Wesseling 1975","NBV",103.756]
[65984,"Saykin, Sadiddin","SM II","MGC Bad Soden-Salmünster","HBSV",103.758]
[67233,"Goldenbow, Holger","SM II","BGC Bad Nenndorf","MVBN",103.759]
[36782,"Scheck, Alexander","H","1. MGC Metzingen","WBV",103.77200000000001]
[43821,"Burkhart, Peter","SM II","MSV Bad Kreuznach","MRP",103.77800000000001]
[37444,"Moosmann, Katharina","D","1. BGC Rodalben 1977","MRP",103.779]
[30411,"Seyen, Andreas","H","MC \"Möve\" Cuxhaven-Sahlenburg","MVBN",103.794]
[48138,"Nickerl, Alfred","SM I","1. MGC München-Feldmoching","BMV",103.798]
[6368,"Lauer, Ekkehard","SM II","MGC Ingolstadt","BMV",103.8]
[46852,"Christ, Michael","SM II","MGC Brunsbüttel","SHMV",103.804]
[66000,"Hofmann, Yannick","H","ASV Pegnitz Abt. Minigolf","BMV",103.81]
[67478,"Baig, Ghulam Dastgeer","JM","MGC Wetzlar","HBSV",103.825]
[47213,"Pfriem, Heiderose","SW II","TSV Salzgitter Abt. Bahnengolf","MVBN",103.836]
[548,"Wolff, Beate","SW II","BSV 82 Ohlsbach","BBS",103.848]
[67179,"Kougioumtzidis, Chris","SM II","MGC Rot-Weiß Wanne-Eickel","NBV",103.849]
[38419,"Emmendörffer, Tim","H","MGC Rot-Weiß Wanne-Eickel","NBV",103.85]
[66612,"Reitemeier, Lea","D","BGSV Castrop 1961","NBV",103.851]
[36630,"Ruder, Hans","SM II","Minigolf Wölfe Rheinstetten 02","BBS",103.85599999999999]
[50294,"Giegel, Heinz-Theo","SM II","BGV Backumer Tal Herten","NBV",103.85899999999999]
[64135,"Mayer, Bernhard","SM I","MGC Murnau am Staffelsee","BMV",103.866]
[66759,"Ehrnstraßer, Maximilian","SM II","MGC Ingolstadt","BMV",103.872]
[67724,"Hamann, Wolfgang","SM II","BSC Ennepetal","NBV",103.873]
[5910,"Balleininger, Lyo","SM II","1. MGC Bamberg","BMV",103.876]
[33643,"Zierl, Robert","SM II","MGC Wertheim ´91","BMV",103.876]
[35141,"Schmolke, Tobias","H","MSC Bensheim-Auerbach","HBSV",103.88200000000001]
[28046,"Erhard, Isolde","SW II","BGC Rheinau-Freistett","BBS",103.886]
[42558,"Schmidhuber, Lothar","SM I","1. BGC Landshut","BMV",103.901]
[46986,"Adenau, Jürgen","SM I","BGC Schloß Paffendorf","NBV",103.904]
[36179,"Arnsberg, Marco","SM II","MV Lankwitzer Dragons","BVBB",103.93]
[48288,"Weiser, Franz","SM II","MGC Murnau am Staffelsee","BMV",103.93600000000001]
[26414,"Mönning, Richard","SM II","1. MGC Epe 1978","NBV",103.95]
[36222,"Martinez Moreno, Sven","SM I","VfM Bottrop","NBV",103.95099999999999]
[29511,"Mühlenbeck, Dirk","SM II","HMC Büttgen","NBV",103.95699999999999]
[67750,"Klopp, Chiara","JW","BGC Bildstock","SaarMV",103.97]
[26659,"Hylak, Reinhild","SW II","MSC Bad Godesberg","NBV",103.979]
[27921,"Liedhegener, Peter","SM II","MSK Neheim-Hüsten","NBV",103.98]
[37241,"Peuker, Mirko","H","MGC Dormagen-Brechten","NBV",103.98699999999999]
[37079,"Hackenberg, Willi","SM II","1. BGC Wolfsburg","MVBN",103.988]
[27801,"Hellmich, Uwe","SM II","VfM Bottrop","NBV",103.991]
[34733,"Oppermann, David","H","BSC Ennepetal","NBV",104.015]
[25578,"Boltze, Kornelia","SW II","1. BGC Rodalben 1977","MRP",104.018]
[31144,"Seeland, Uwe","SM II","BSC Ennepetal","NBV",104.02800000000001]
[66601,"Nickerl, David","JM","1. MGC München-Feldmoching","BMV",104.03]
[66396,"Lingemann, Christin","D","MC Tigers Künsebeck","NBV",104.044]
[67911,"Koslowski, Maximilian","H","CGV Hamm 2019","NBV",104.057]
[133,"Lindenblatt, Andreas","SM II","VfB Osnabrück von 1984","NBV",104.068]
[4444,"Bach, Peter","SM II","MGC Oberkochen 1972","WBV",104.07]
[36047,"Rühle, Karl-Heinz","SM II","MGC Wolnzach","BMV",104.078]
[34721,"Fellenberg, Christa","SW II","1. MGC Peine von 1965","MVBN",104.099]
[30307,"Weißer, Angela","SW I","BIG Ingelfingen 2020","WBV",104.10299999999999]
[36824,"Nagler, Martin","SM II","MGC Unterschneidheim","WBV",104.11]
[66447,"Arweiler, Stefan","SM II","Freizeit Club Bliesen","SaarMV",104.111]
[66571,"Langer, Viktor","SM II","MGC Ingolstadt","BMV",104.119]
[38197,"Herzic, Frederik","H","1. MGC Metzingen","WBV",104.129]
[67050,"Keller, Markus","SM II","BGSC Bochum 1978","NBV",104.13]
[29247,"Lammers, Andreas","SM I","VfM Bottrop","NBV",104.13500000000001]
[40906,"Baltes, Yvonne","D","MGC Homburger Land","NBV",104.139]
[37752,"Hoppe, Mike","SM II","MGF Magdeburg","BVSA",104.14]
[32968,"Hellwig, Martin","SM I","CGV Hamm 2019","NBV",104.151]
[151,"Otto, Herbert","SM II","MGC Rot-Weiß Wanne-Eickel","NBV",104.154]
[67874,"Seßler, Simone","D","MGC Ingolstadt","BMV",104.15900000000001]
[67440,"Schray, Anja","SW I","1. Mainzer MGC","MRP",104.166]
[43512,"Frahm, Volker","SM II","MGC Bad Oldesloe von 1964","SHMV",104.16800000000001]
[38218,"Schleich, Peter","SM II","MSF Brilon","NBV",104.175]
[66934,"Staudt, Marcel","H","MC Schriesheim","BBS",104.18]
[64594,"Spehn, Peter","SM I","MGC Bad Waldsee 1990","WBV",104.182]
[24081,"Quandt, Jürgen","SM II","HMC Büttgen","NBV",104.19]
[67799,"Wallbaum, Peter","SM I","MGC Rot-Weiß Wanne-Eickel","NBV",104.19199999999999]
[33184,"Straub, Christian","H","MGC Sulzfeld","BBS",104.199]
[49369,"Mühling, Dirk","SM II","1. Essener CGC \"Blau-Gold\"","NBV",104.20399999999999]
[33961,"Horsinka, Gerhard","SM II","MC Flora Elmshorn","SHMV",104.205]
[47032,"Maier, Josef","SM II","MGC Wolnzach","BMV",104.205]
[24461,"Fröhner, Joachim","SM II","MGC Rot-Weiß Wanne-Eickel","NBV",104.20699999999999]
[33946,"Waptis, Burkhard","SM I","MSK Neheim-Hüsten","NBV",104.212]
[21494,"Pahl, Horst","SM II","MSK Neheim-Hüsten","NBV",104.215]
[36625,"Trinkl, Bettina","SW II","Olchinger MSK","BMV",104.21599999999999]
[23055,"Lehmann, Detlef","SM II","Bochumer MC 1960","NBV",104.22499999999999]
[37857,"Lang, Michael","SM II","BGC Bildstock","SaarMV",104.226]
[66511,"Kling, Peter","SM II","BGSC Bochum 1978","NBV",104.229]
[37435,"Mathes, Alexander","H","MGC \"Stahlquelle\" Bad Bocklet 1989","BMV",104.232]
[41227,"Lugauer, Robert","SM II","MGC Ingolstadt","BMV",104.23699999999999]
[67816,"Lengeling, Sebastian","H","1. MGC Paderborn 1980","NBV",104.239]
[37832,"Dunker, Sven","H","MC Tigers Künsebeck","NBV",104.242]
[65719,"Drobik, Andreas","SM II","BGC Bremen","MVBN",104.24299999999999]
[66056,"Sehm, Alexander","SM I","MSG Kempten","BMV",104.248]
[46290,"Wilhelms, Alexandra","SW I","BSC Ennepetal","NBV",104.248]
[36667,"Hartmann, Maximilian","H","BGC Illertissen","BMV",104.251]
[33761,"Ulrich, Stefan","H","1. MGC Ludwigshafen 1964","MRP",104.26]
[5288,"von dem Knesebeck, Ingo","SM II","1. MGC 1970 Göttingen","MVBN",104.26]
[65895,"Christmann, Steffi","SW II","BGC Bildstock","SaarMV",104.264]
[5260,"Lais, Peter","SM II","1. MGC München-Feldmoching","BMV",104.268]
[67142,"Jürgensen, Jan Uwe","H","SSV Ulm 1846 Abt. Bahnengolf","WBV",104.27500000000001]
[67575,"Burkert, Peter","SM I","Niendorfer MC v. 1963","HBV",104.28100000000001]
[38262,"Ringler, Angelika Pia","SW II","1. MGC Tuttlingen","BBS",104.285]
[29808,"Hein, Karsten","SM II","BGV Bergisch Land 1962 / 63","NBV",104.28700000000001]
[10566,"Pscherer jun., Johann","SM II","Olchinger MSK","BMV",104.29]
[38284,"Glaser, Nils","H","MC Schriesheim","BBS",104.292]
[51479,"Remscheidt, Thomas","SM I","SSC Attendorn","NBV",104.29300000000001]
[38632,"Bayer, Jimmy","SM II","MGC Murnau am Staffelsee","BMV",104.306]
[67263,"Dallah, Masen","JM","TSV Kücknitz von 1911 Abt. Bahnengolf","SHMV",104.30800000000001]
[67787,"Wedel, Carmen","SW II","BGSV Bad Homburg v. d.H.","HBSV",104.30800000000001]
[67615,"Stocker, Harald","SM II","MGC Bad Homburg","HBSV",122.33199999999999]
[67882,"Brunnenkant, Frank","SM II","MGC Heven","NBV",104.31]
[45764,"Rankel, Eduard","SM II","MGC Bad Bodendorf","NBV",104.31100000000001]
[66579,"Niepel, Susanne","SW I","MGC Rot-Weiß Wanne-Eickel","NBV",104.316]
[42793,"Holtz, Edgar","SM II","1. MGC Rheinhausen","NBV",104.319]
[31489,"Spielfeld, Detlef","SM II","SGC Hagen","NBV",104.32]
[45445,"Peter, Alois","SM II","MGC Bad Waldsee 1990","WBV",104.324]
[67640,"Lehn, Nicolai","SM I","BGC Bremen","MVBN",104.325]
[66620,"Sieber, Markus","SM I","ASV Pegnitz Abt. Minigolf","BMV",104.339]
[37670,"vom Berg, Peter","SM I","BGC Schloß Paffendorf","NBV",104.34]
[33510,"Wickel-Paffrath, Melanie","D","MGC Heven","NBV",104.34699999999999]
[42777,"Bublitz, Marcus","SM I","1. MGC Ludwigshafen 1964","MRP",104.35599999999999]
[43556,"Wunderlich, Mario","SM I","MC Flora Elmshorn","SHMV",104.358]
[67424,"Winterhoff, Johanna","SCHW","BSC Ennepetal","NBV",104.358]
[23,"Vahle, Monika","SW II","MSK Neheim-Hüsten","NBV",104.363]
[46285,"Heller, Gabriele","SW II","BGSV Kerpen","NBV",104.366]
[31210,"Schmidt-Hess, Ralf","SM II","MGF Waldshut 1974","BBS",104.36799999999999]
[43682,"Schulz, Matthias","SM I","1. MGC 1970 Göttingen","MVBN",104.37]
[40219,"Klein, Theo","SM II","BSC Ennepetal","NBV",104.373]
[67738,"Gatawetzki-Köppchen, Thomas","SM II","BGV Bergisch Land 1962 / 63","NBV",104.375]
[46269,"Grüning, Uwe","SM II","1. MGC Rheinhausen","NBV",104.38200000000001]
[4788,"Löhrlein, Roland","SM II","1. FMGC Lichtenfels 1961","BMV",104.386]
[37029,"Wanjek, Mandy","SW I","BGSC \"Gut Schlag\" Gladbeck","NBV",104.38800000000001]
[67841,"Seidel, Alexander","H","CGV Hamm 2019","NBV",104.401]
[67817,"Linnemann, Robin","H","1. MGC Paderborn 1980","NBV",104.408]
[67892,"Ueckert, René","H","VfL Lohbrügge von 1892 Abt. Bahnengolf","HBV",104.40900000000001]
[67730,"Mally, Brain","H","MSC Bensheim-Auerbach","HBSV",104.411]
[48942,"Neuhäuser, Dieter","SM I","VfB Osnabrück von 1984","NBV",104.41500000000001]
[6905,"Donsbach, Heinz","SM II","MSC Bad Godesberg","NBV",104.419]
[66814,"Buser, Daniel","H","MGC Unterschneidheim","WBV",104.42100000000001]
[44395,"Dorner, Kai","SM I","MGC Dormagen-Brechten","NBV",104.428]
[67937,"Reppert, Marc","H","BGC Bildstock","SaarMV",104.44199999999999]
[42074,"Limpius, Andrea","SW II","TG Höchberg von 1862 Bahnengolf","BMV",104.45699999999999]
[36042,"Päuser, Cornelia","SW II","1. MGC Kassel-Vellmar 1964","MVBN",104.471]
[45031,"Antor, Erwin","SM II","BGC Illertissen","BMV",104.502]
[45237,"Tafel, Susanne","SW II","1. BGC Garmisch-Partenkirchen","BMV",104.51]
[37853,"Hebbeln, Carina","D","MGC Harrislee-Wassersleben","SHMV",104.51300000000001]
[23187,"Honnef, Peter","SM II","1. MGC Ludwigshafen 1964","MRP",104.517]
[65120,"Hupka, Norbert","SM II","MGC Bad Homburg","HBSV",125.492]
[66272,"Numberger, Beatrix","SW II","1. Münchener Minigolf-Club","BMV",104.521]
[66881,"Vatter, Svenja","D","1. MGC Ludwigshafen 1964","MRP",104.52500000000001]
[5612,"von Beuningen, Boto","SM II","VfL Lohbrügge von 1892 Abt. Bahnengolf","HBV",104.53400000000001]
[67562,"Heidemann, Karl-Heinz","SM II","VfM Bottrop","NBV",104.53400000000001]
[37720,"Holtz, Frederik","H","1. MGC Rheinhausen","NBV",104.542]
[41340,"Gohl, Michael","SM II","VfB Osnabrück von 1984","NBV",104.551]
[44123,"Steier, Uwe","SM II","Niendorfer MC v. 1963","HBV",104.56100000000001]
[67789,"Hawryluk, Stefanie","D","BGSV Aßlar 1987","HBSV",104.565]
[4065,"Reinisch, Klaus","SM II","BGC Neutraubling","BMV",104.568]
[42242,"Hoffmann, Carsten","SM I","MSC Herscheid 1963","NBV",104.569]
[37443,"Wilbrand, Sascha","H","MGC Lünen-Syburg","NBV",104.57]
[66866,"Weber, Jutta","SW II","1. BGC Landshut","BMV",104.583]
[38135,"Burkert, Sabine Monika","SW II","MGF Magdeburg","BVSA",104.599]
[43691,"Deepen, Thomas","SM I","BGC Goslar","MVBN",104.614]
[50389,"Seidel, Martin","SM II","MGC putter Künzell 1970","HBSV",104.61499999999999]
[35778,"Arnold, Franziska","SW II","BGSV Aßlar 1987","HBSV",104.616]
[67881,"Gattner, Karsten","SM I","MGC-Felderbachtal 1964","NBV",104.62]
[23895,"Berschansky, Hans-Jürgen","SM II","TSV Salzgitter Abt. Bahnengolf","MVBN",104.637]
[30377,"Hoogen, Björn","H","VfB Osnabrück von 1984","NBV",104.64100000000001]
[67426,"Maschauer, Marcus","H","MGC Bad Homburg","HBSV",126.111]
[24,"Scheider, Stefan","SM II","SSC Halver","NBV",104.648]
[68002,"Weddle, Christopher","SM I","1. BGC Hannover","MVBN",104.65]
[67809,"Formella, Jan","H","BGSC \"Gut Schlag\" Gladbeck","NBV",104.661]
[67976,"Börner, Sven","H","1. MGC Köln 1961","NBV",104.66500000000001]
[23282,"Hartenbach, Paul","SM II","1. MGC Ludwigshafen 1964","MRP",104.681]
[3975,"Reichle, Urs","SM II","BSV Inzlingen 1979","BBS",104.685]
[35793,"Fütterer, Thomas","SM II","Minigolf Wölfe Rheinstetten 02","BBS",104.685]
[66672,"Schumacher, Silvia","JW","BSV Inzlingen 1979","BBS",104.69]
[32387,"Reinhardt, Tobias","H","MSC Herscheid 1963","NBV",104.71299999999999]
[66975,"Emich, Peter","SM II","1. MC Weinheim","BBS",104.72]
[67396,"Strohmenger, Claudia","SW II","1. MC Weinheim","BBS",104.721]
[68001,"Lange, Wolfgang","SM II","Hamburger MC von 1965","HBV",104.72499999999999]
[50889,"Schönherr, Ute","SW I","1. MGC Köln 1961","NBV",104.729]
[6740,"Gust, Klaus","SM II","MGC-Felderbachtal 1964","NBV",104.744]
[47135,"Trempenau, Bernd","SM II","MGC Bad Salzuflen","NBV",104.748]
[67346,"Teetzen, Finn","JM","MGV Bremen","MVBN",104.754]
[66042,"Kullmann, Ingo","SM I","MSV Bad Kreuznach","MRP",104.75700000000001]
[38453,"Krieger, Thomas","H","1. MGC München-Feldmoching","BMV",104.779]
[36776,"Pöppe, Fabian","H","BGSC Bochum 1978","NBV",104.78400000000001]
[66184,"Pichol, Michelle","D","MSK Neheim-Hüsten","NBV",104.791]
[28802,"Jooß, Melanie","SW II","BGC Illertissen","BMV",104.794]
[65919,"van Eickelen, Ralf","SM II","BGV Bergisch Land 1962 / 63","NBV",104.798]
[66342,"Horn, Dieter","SM I","TSV Salzgitter Abt. Bahnengolf","MVBN",104.801]
[33896,"Hartmaier, Jürgen","SM II","BGC Heilbronn","WBV",104.82]
[67917,"Wilke, Andreas","SM I","VfB Osnabrück von 1984","NBV",104.825]
[67312,"Effenberger, Cornelia","SW II","MGC Bad Homburg","HBSV",999]
[1077,"Menzel, Patrick","H","1. BGC Wolfsburg","MVBN",104.82899999999999]
[50354,"Paulus, Steffen","SM II","KGC Bad Urach","WBV",104.82899999999999]
[67707,"Moosmann, Daniel","H","1. BGC Rodalben 1977","MRP",104.834]
[36647,"Kronschnabl, Manfred","SM I","1. Münchener Minigolf-Club","BMV",104.86199999999999]
[3591,"Becker, Werner","SM II","BSV Inzlingen 1979","BBS",104.86499999999999]
[68034,"Schmider, Max","JM","MGC 1978 Remseck a.N.","WBV",104.86799999999999]
[37964,"Wodok, Joachim","SM II","1. BGC Celle von 1964","MVBN",104.877]
[67432,"Paternusch, Ralf","SM I","MGC 1978 Remseck a.N.","WBV",104.879]
[46744,"Hellmich, Elvira","SW I","VfM Bottrop","NBV",104.88800000000001]
[40603,"Hunte, Stefanie","SW II","BGC Diepholz","MVBN",104.88800000000001]
[67689,"Pappers, Andre","SM I","1. KGC Mönchengladbach","NBV",104.898]
[35214,"Warnkens, Thomas","SM II","BGC Bremen","MVBN",104.90300000000001]
[67419,"Labude, Peter","SM II","VfL Lohbrügge von 1892 Abt. Bahnengolf","HBV",104.905]
[65516,"Bischoff, Frank","SM II","BSV Inzlingen 1979","BBS",104.91500000000001]
[47156,"Beutler, Bernd","SM I","BGSV Castrop 1961","NBV",104.92100000000001]
[41738,"Haschberger, Friedrich","SM II","1. BGC Landshut","BMV",104.932]
[36949,"Rösner, Roland","SM II","MGC Bad Feilnbach","BMV",104.93300000000001]
[18421,"Böhm, Ernst","SM II","MGC Murnau am Staffelsee","BMV",104.947]
[36237,"Pitterle, Gerhard","SM II","MGC Bad Feilnbach","BMV",104.949]
[68144,"Harz, Andreas","SM I","BGC Bildstock","SaarMV",104.949]
[66919,"Wriedt, Susanne","SW II","MC Flora Elmshorn","SHMV",104.964]
[33165,"Neumann, Bärbel","SW II","Tempelhofer MV 65","BVBB",104.965]
[42963,"Wilsch, Joachim","SM II","BSC Ennepetal","NBV",104.96599999999999]
[37979,"Gräber, Thomas","SM II","1. MC Weinheim","BBS",104.973]
[26491,"Schmidt, Olaf","SM II","MGC Lünen-Syburg","NBV",104.976]
[6367,"Heyder, Angelika","SW II","MGC Murnau am Staffelsee","BMV",104.983]
[51850,"Patan, Bernhard","SM I","BIG Asperg 1982","WBV",104.98399999999999]
[36659,"Vielhauer, Peter","SM II","1. MGC Epe 1978","NBV",105.001]
[67022,"Hellmann, Jacqueline","D","MGC Rot-Weiß Wanne-Eickel","NBV",105.002]
[33907,"Karpa, Kai","SM I","BGV Backumer Tal Herten","NBV",105.003]
[42529,"Beier, Harald","SM II","1. FMGC Lichtenfels 1961","BMV",105.005]
[67762,"Schätzle, Peter","SM I","MGC Bad Homburg","HBSV",999]
[4621,"Minuth, Karl-Heinz","SM II","1. BGC Celle von 1964","MVBN",105.01]
[46093,"Gemkow, Thomas","SM II","MSF Brilon","NBV",105.018]
[67212,"Schlicksupp, Peter","SM II","MGC Bad Homburg","HBSV",999]
[67849,"Breier, Andreas","SM I","BGC Rheinau-Freistett","BBS",105.05500000000001]
[67391,"Betsch, Lucie","SW II","BGS Hardenberg-Pötter","NBV",105.05500000000001]
[40246,"Schulte, Jan","H","SSC Attendorn","NBV",105.059]
[23183,"Schweizer, Karl-Albert","SM II","1. MGC Ludwigshafen 1964","MRP",105.071]
[36022,"Menzel, Melanie","D","1. Essener CGC \"Blau-Gold\"","NBV",105.07299999999999]
[43922,"Sinzenich, Michael","SM II","BGSV Kerpen","NBV",105.077]
[67286,"Schultes, Christian","SM II","Olchinger MSK","BMV",105.084]
[27278,"Apelmeier, Udo","SM II","VfB Osnabrück von 1984","NBV",105.102]
[30373,"Ittner, Holger","SM I","MSK Neheim-Hüsten","NBV",105.104]
[40668,"Moosmann, Mathias","SM I","1. BGC Rodalben 1977","MRP",105.11]
[35698,"Bemelmanns, Wilfried","SM II","BGC Schloß Paffendorf","NBV",105.111]
[37380,"Konstanzer, Alfred","SM II","1. MGC Metzingen","WBV",105.116]
[67594,"Koch, Stefan","SM I","MGC Wertheim ´91","BMV",105.117]
[42073,"Köttel, Manuela","SW II","ASV Pegnitz Abt. Minigolf","BMV",105.119]
[64099,"Mehling, Jan","H","MGV Ansbach","BMV",105.126]
[67569,"Zirkenbach, Kiara","SCHW","MGC Bad Homburg","HBSV",999]
[43951,"Dunker, Heike","SW II","SSC Halver","NBV",105.134]
[6605,"Weigang, Klaus-Dieter","SM II","1. BGC Hannover","MVBN",105.139]
[4835,"Wolf, Karl-Heinz","SM II","Bochumer MC 1960","NBV",105.14100000000001]
[34693,"Crass, Annegret","SW II","HMC Büttgen","NBV",105.146]
[35588,"Bader, Robert","SM II","MGC Murnau am Staffelsee","BMV",105.14700000000001]
[38546,"Kreisheimer, Günther","SM II","MGC \"Stahlquelle\" Bad Bocklet 1989","BMV",105.15600000000001]
[66373,"Rach, Dieter","SM II","1. MGC Paderborn 1980","NBV",105.158]
[68009,"Kettler, Uwe","SM II","BGSV Kerpen","NBV",105.167]
[35375,"Klotz, Sandra","SW I","1. MGC Süßen","WBV",105.17100000000001]
[17103,"Meier, Uwe","SM II","BGSV Kerpen","NBV",105.175]
[42608,"Riesenbeck, Ulrich","SM II","1. KGC Mönchengladbach","NBV",105.19]
[48544,"Kinnemann, Jörg","SM II","1. MGC 1970 Göttingen","MVBN",105.202]
[35075,"Kohl, Sven","H","MGC Bad Soden-Salmünster","HBSV",105.205]
[4513,"Höhmann, Edgard","SM II","1. MGC Kassel-Vellmar 1964","MVBN",105.22]
[37072,"Pajonk, Kathi","SW I","TSV Arendsee Abt. Minigolf","BVSA",105.233]
[5258,"Hupfloher, Josef","SM II","1. BGC Garmisch-Partenkirchen","BMV",105.24]
[67036,"Wulhorst, Dirk","SM II","BGC Bad Nenndorf","MVBN",105.24299999999999]
[33123,"Fingerle, Moritz","H","Olchinger MSK","BMV",105.25]
[38569,"Hütter, Natascha","D","VfB Osnabrück von 1984","NBV",105.262]
[2284,"Schwarz, Egon","SM II","MGC Karlshagen","BVBB",105.264]
[3613,"Kofler, Gerhard","SM II","BIG Ingelfingen 2020","WBV",105.26900000000001]
[43368,"Ritzert, Andreas","SM I","MC Ilvesheim","BBS",105.27500000000001]
[67930,"Schicker, Edwin","SM II","BGC Neutraubling","BMV",105.277]
[67483,"Bommer, Stefanie","SW I","BGSV Castrop 1961","NBV",105.282]
[36479,"Appelmann, Laura","D","1. MGC Epe 1978","NBV",105.28400000000001]
[67388,"Sienknecht, Jörg","H","TG Höchberg von 1862 Bahnengolf","BMV",105.28400000000001]
[67763,"Fischer, Martin","SM II","MGC Bergisch Gladbach Gierath","NBV",105.28400000000001]
[35156,"Guhe, Matthias","H","1. KGC Mönchengladbach","NBV",105.303]
[65830,"Gose, Yvonne","D","VfM Berlin Spandau","BVBB",105.304]
[67344,"Haase, Erika","SW II","1. MGC Kassel-Vellmar 1964","MVBN",105.307]
[66877,"Kretschmer, Dieter","SM II","Hamburger MC von 1965","HBV",105.31100000000001]
[9558,"Merges, Bernhard","SM II","1. MGC Ludwigshafen 1964","MRP",105.315]
[67349,"Dhombruch, Alfons","SM II","1. MC Weinheim","BBS",105.33]
[37501,"Kursawe, Maike","SW I","MGC-Felderbachtal 1964","NBV",105.334]
[66651,"Biller, Christine","SW II","BGC Neutraubling","BMV",105.33499999999999]
[38379,"Wiedemann, Klaus-Heinrich","SM II","VfM Berlin Spandau","BVBB",105.337]
[46699,"Kaiser, Thomas","SM I","MSF Brilon","NBV",105.342]
[44981,"Romberg, Michael","SM I","MGC Freizeitzentrum Biebertal","NBV",105.34699999999999]
[38352,"Kunimünch, Monika","SW II","BSV Inzlingen 1979","BBS",105.348]
[66957,"Marth, Christian","SM II","1. Mainzer MGC","MRP",105.364]
[47402,"Stemplinger, Michaela","SW I","BGC 90 Ottobrunn","BMV",105.369]
[67765,"Weber, Tobias","H","BGC Bad Mergentheim","WBV",105.38800000000001]
[36550,"Pribyl, Heinz","SM II","1. MGC Rheinhausen","NBV",105.399]
[30695,"Uhl, Birgit","SW II","MGC Olympia Kiel","SHMV",105.4]
[45515,"Reisdorff, Hans","SM II","MGC Bad Bodendorf","NBV",105.401]
[66628,"Fischer, Dirk","SM II","BGV Backumer Tal Herten","NBV",105.41500000000001]
[30769,"Tatzelt, Volker","SM I","Niendorfer MC v. 1963","HBV",105.41500000000001]
[10721,"Wild, Annemarie","SW II","1. MGC Süßen","WBV",105.42700000000001]
[66416,"Groenewoud, Ronald","SM II","BGV Backumer Tal Herten","NBV",105.44]
[66558,"Krug, Bernhard","SM II","1. BGC Landshut","BMV",105.44799999999999]
[67973,"Knoll, Patrick","SM I","MGC Rot-Weiß Wanne-Eickel","NBV",105.453]
[35720,"Hahn, Christopher","H","MGC Tütebelle","NBV",105.45399999999999]
[66071,"Nichter, Thomas","H","BIG Asperg 1982","WBV",105.461]
[66463,"Zimmermann, Dieter","SM II","1. BGC Paderborn","NBV",105.461]
[66182,"Könemann, Nicole","SW I","1. MGC Peine von 1965","MVBN",105.465]
[40559,"Bergsmann, Reiner","SM I","MGC Sulzfeld","BBS",105.467]
[67232,"Klepzig, Felix","JM","MGC Karlshagen","BVBB",105.468]
[66531,"Brendel, Robert","SM I","1. MGC Bamberg","BMV",105.47199999999999]
[65468,"Gehrke, Cornelia","SW II","1. MGC Peine von 1965","MVBN",105.473]
[3261,"Lührs, Werner","SM II","1. BGC Celle von 1964","MVBN",105.491]
[67210,"Angrabeit, Karl-Heinz","SM II","1. KGC Mönchengladbach","NBV",105.502]
[5056,"Schmiedbauer, Johannes","SM II","1. BGC Bad Füssing","BMV",105.54]
[37065,"Meyer, Matthias","SM I","MSV Bad Münder/Springe von 2005","MVBN",105.54300000000001]
[38295,"Stamm, Anita","SW II","1. Essener CGC \"Blau-Gold\"","NBV",105.544]
[50558,"Reinshagen, Jürgen","SM II","MGC Bergisch Gladbach Gierath","NBV",105.553]
[67790,"Belhustede, Helmut","H","BGV Backumer Tal Herten","NBV",105.56699999999999]
[66777,"Bartholomä, Patrick","H","1. MGC Lohfelden","MVBN",105.584]
[66873,"Sesselmann, Moritz","H","1. FMGC Lichtenfels 1961","BMV",105.587]
[33131,"Laux, Alexander","SM II","MGC Traben-Trarbach","MRP",105.59099999999999]
[44689,"Weidner, Ingo","SM I","1. BGC Hannover","MVBN",105.613]
[18069,"Jachert, Franz","SM II","1. MGC Süßen","WBV",105.61499999999999]
[22797,"Bless, Kevin","H","BSV 82 Ohlsbach","BBS",105.62]
[66726,"Pawelka, Nicolas","H","MC Schriesheim","BBS",105.622]
[67921,"Lesser, Armin","SM II","1. Porzer MGC Grün-Weiß 1969","NBV",105.625]
[35377,"Adamczyk, Michael","SM II","MGC Bad Homburg","HBSV",999]
[38146,"Horeis, Kai","SM II","MGC Bergisch Gladbach Gierath","NBV",105.63]
[66636,"Kober, Marion","SW I","MSC Bensheim-Auerbach","HBSV",105.633]
[33682,"Michel, Ralf","SM I","MGC Wertheim ´91","BMV",105.637]
[4645,"Schütterle, Bernhard","SM II","BGC Rheinau-Freistett","BBS",105.649]
[65861,"Waxmann, Sven","H","MGC Traben-Trarbach","MRP",105.661]
[66527,"Wolff, Ulf-Michael","SM II","1. BGC Hannover","MVBN",105.663]
[36587,"Stute, Wolfgang","SM II","MGC Schwaikheim","WBV",105.663]
[30914,"Lohe, Alfred","SM II","BGSC \"Gut Schlag\" Gladbeck","NBV",105.672]
[34776,"Riebesam, Dennis","H","HMC Büttgen","NBV",105.68]
[34137,"Wilbrand, Claudia","D","MGC Lünen-Syburg","NBV",105.681]
[43435,"Riedl, Elisabeth","SW II","1. FMGC Lichtenfels 1961","BMV",105.68600000000001]
[22243,"Grosse, Ina","SW II","TV Trappenkamp Sparte Minigolf","SHMV",105.68899999999999]
[67538,"Schüßler, Sophie","JW","MSC Bensheim-Auerbach","HBSV",105.691]
[68033,"Reibling, Fiete","SCHM","Reinickendorfer MGC","BVBB",105.693]
[66974,"Emich, Michaela","SW I","1. MC Weinheim","BBS",105.696]
[46124,"Knott, Irene","SW II","BSV 86 München","BMV",105.711]
[36164,"Scherkenbach, Markus","SM I","VfM Bottrop","NBV",105.717]
[34731,"Reichert, Michael","SM II","MGC Unterschneidheim","WBV",105.72199999999999]
[20690,"Wolff, Bertram","SM II","BSV 82 Ohlsbach","BBS",105.72199999999999]
[44018,"Kowatsch, Elke","SW I","BGC Bad Berneck","BMV",105.723]
[40499,"Zeller, Bernd","SM I","Olchinger MSK","BMV",105.729]
[38328,"Fritz, Christian","H","MGC Ostheim / Rhön","BMV",105.736]
[35158,"Prüßner, Dominik","H","MGC Bad Salzuflen","NBV",105.742]
[46042,"Nickel, Holger","SM I","MGC Homburger Land","NBV",105.756]
[33081,"Bromberger, Michael","H","BSV 82 Ohlsbach","BBS",105.76600000000001]
[38144,"Kastner, Holger","SM II","1. M.S.C. Wesel 6.6.66","NBV",105.77]
[63738,"Hartmann, Christian","H","MSG Kempten","BMV",105.773]
[26070,"Kraus, Stephan","SM I","Bochumer MC 1960","NBV",105.78100000000001]
[32105,"Betzien, André","H","BGC Diepholz","MVBN",105.785]
[38058,"Wiegard, Florian","H","MGC putter Künzell 1970","HBSV",105.785]
[28038,"Mätz, Ralf","SM II","BGC Rheinau-Freistett","BBS",105.78700000000001]
[4622,"Minuth, Hanna","SW II","1. BGC Celle von 1964","MVBN",105.795]
[67961,"Brandt, Tjark Emilian","SCHM","TV Trappenkamp Sparte Minigolf","SHMV",105.806]
[52103,"Koch, Jens","SM I","BGC Kiel West","SHMV",105.809]
[31256,"Veit, Bernd","SM II","MGC Wetzlar","HBSV",105.809]
[67543,"Ziel, Rüdiger","SM II","1. MGC Rheinhausen","NBV",105.815]
[33191,"Härtel, Stefan","H","VfB Osnabrück von 1984","NBV",105.816]
[67214,"Noack, Danny","H","MGC Karlshagen","BVBB",105.821]
[27674,"Kocks, Klaus","SM II","BGV Backumer Tal Herten","NBV",105.827]
[67095,"Griebat, Simon","JM","Olchinger MSK","BMV",105.827]
[36496,"Eberle, Nick-Manuel","H","MGC Rot-Weiß Wanne-Eickel","NBV",105.83799999999999]
[66406,"Izelle, Peter","SM II","BSC Ennepetal","NBV",105.842]
[50128,"Peter, Timo","SM I","BIG Asperg 1982","WBV",105.85]
[67023,"Reichle, Ben","SCHM","BSV Inzlingen 1979","BBS",105.851]
[66290,"Kalb, Lukas","H","MGC Murnau am Staffelsee","BMV",105.85299999999999]
[50935,"Wehmeyer, Markus","SM I","1. MGC Epe 1978","NBV",105.879]
[66086,"Cieslik, Edmund","SM II","1. BGC Celle von 1964","MVBN",105.879]
[43000,"Fischer, Frank","SM I","MSC Bad Godesberg","NBV",105.892]
[42717,"Ruff, Thomas","SM I","MGC Ravensburg-Weingarten","WBV",105.893]
[4076,"Reinisch, Hildegard","SW II","BGC Neutraubling","BMV",105.901]
[66068,"Barnstorf, Hermann","SM II","1. BGC Celle von 1964","MVBN",105.908]
[67563,"Atzert, Daniel","H","MGC Bad Homburg","HBSV",999]
[41463,"Riemann, Carsten","SM I","1. MGC 1970 Göttingen","MVBN",105.917]
[46240,"Klein, Detlef","SM i","MGC Bad Salzuflen","NBV",105.91800000000001]
[9296,"Ott, Norbert","SM II","BGV Backumer Tal Herten","NBV",105.919]
[67943,"Glück, Walter","SM II","MGC Murnau am Staffelsee","BMV",105.923]
[66565,"Paffrath, Ben","H","MGC Heven","NBV",105.925]
[26338,"Schüler, Sabine-Simone","SW II","1. MGC Bamberg","BMV",105.92700000000001]
[67656,"Löwer, Jochen","SM I","1. MGC Ludwigshafen 1964","MRP",105.931]
[48052,"Hensel, Heike","SW II","BSC Ennepetal","NBV",105.938]
[33974,"Stemplinger, Ludwig","SM II","BGC 90 Ottobrunn","BMV",105.94]
[37288,"Nickel, Dieter","SM II","PTSV Hof Abt. Minigolf","BMV",105.946]
[34700,"Strube, Holger","SM I","MGC Bad Soden-Salmünster","HBSV",105.958]
[48955,"Peichl, Reinhold","SM I","MGC Wertheim ´91","BMV",105.97199999999999]
[67876,"Melfsen, Sylva","SW I","MGC Harrislee-Wassersleben","SHMV",106.006]
[67458,"Oßendorf, Gerd","SM II","1. Porzer MGC Grün-Weiß 1969","NBV",106.008]
[28473,"Pahl, Gabi","SW II","1. BGC Celle von 1964","MVBN",106.01]
[37656,"Radocaj, Sonja","SW II","Olchinger MSK","BMV",106.018]
[32241,"Raatz, Matthias","H","MGC Bergisch Gladbach Gierath","NBV",106.01900000000001]
[67567,"Gründer, Isabella","SCHW","BSC Ennepetal","NBV",106.021]
[65752,"Braun, Gabriele","SW II","BGC Illertissen","BMV",106.023]
[29859,"Schindler, Ralf","SM I","1. BGC Celle von 1964","MVBN",106.023]
[67864,"Spann, Philip","JM","1. BGC Singen","BBS",106.029]
[19114,"Harms, Herbert","SM II","MSC Bensheim-Auerbach","HBSV",106.03400000000001]
[67885,"Lammers, Jennifer","D","VfM Bottrop","NBV",106.03400000000001]
[36425,"Heer, Ludwig","SM II","MGC Bad Homburg","HBSV",999]
[66559,"Mühlstein, Wolfgang","SM II","1. BGC Landshut","BMV",106.035]
[67488,"Hess, Bernd","SM I","MSG Kempten","BMV",106.04]
[67922,"Kreuzer, Jonas","SCHM","ASV Pegnitz Abt. Minigolf","BMV",106.041]
[67120,"Hartkorn-Götz, Mario","SM I","CGC Blau-Gelb Grötzingen 1968","BBS",106.04300000000001]
[40671,"Ballbach, Blandine","SW II","1. BGC Rodalben 1977","MRP",106.048]
[35847,"Wolf, Stefanie","D","ASV Pegnitz Abt. Minigolf","BMV",106.08]
[44142,"Britte, Karl-Heinz","SM II","MGC Heven","NBV",106.08799999999999]
[958,"Krull, Michael","H","1. MGC Lohfelden","MVBN",106.08799999999999]
[38421,"Hansper, Thomas","SM II","VfM Berlin Spandau","BVBB",106.101]
[40282,"Hoffmann, Jörg","SM I","1. Mainzer MGC","MRP",106.111]
[44676,"Vogt, Markus","SM I","BGC Schloß Paffendorf","NBV",106.113]
[37020,"Peters, Hartmut","SM II","SC Gut Heil Neumünster von 1881 Abteilung Miniaturgolf","SHMV",106.125]
[67956,"Obermeier, Julia","D","1. BGC Hannover","MVBN",106.127]
[67700,"Praxl, Jeannette","SW I","MGC Bad Feilnbach","BMV",106.13]
[67812,"Benz, Cornelia","SW II","BGSC \"Gut Schlag\" Gladbeck","NBV",106.13]
[67136,"Plep, Steffen","SM I","MGC Bad Bodendorf","NBV",106.143]
[66101,"Brökemeier, Bettina","SW I","MGC Bad Salzuflen","NBV",106.14400000000001]
[49255,"Schwarz, Detlef","SM II","MC \"Möve\" Cuxhaven-Sahlenburg","MVBN",106.14700000000001]
[67887,"Mehler, Tasso","SM I","1. MC Weinheim","BBS",106.15600000000001]
[66645,"Bayer, Wolfgang","SM I","MGC Murnau am Staffelsee","BMV",106.167]
[49267,"Axer, Claudia","SW II","Kölner MC","NBV",106.173]
[67020,"Moritz, Rainer","SM II","TG Höchberg von 1862 Bahnengolf","BMV",106.19199999999999]
[67813,"Benz, Rainer","SM II","BGSC \"Gut Schlag\" Gladbeck","NBV",106.202]
[37511,"Hebbeln, Christian","H","MGC Harrislee-Wassersleben","SHMV",106.206]
[66981,"Pressmar-Danne, Gerald","H","1. MC Weinheim","BBS",106.212]
[67670,"Klemm, André","H","MGC Bad Homburg","HBSV",999]
[34533,"Schmitt, Harald","SM II","MSV Bad Kreuznach","MRP",106.218]
[36258,"Pape, Ronald","SM II","MGF Magdeburg","BVSA",106.229]
[66729,"Damaschke, Christian","H","1. BGC Hannover","MVBN",106.23]
[67243,"Schäning, Petra","SW I","TSV Salzgitter Abt. Bahnengolf","MVBN",106.24]
[66418,"Brause, Bert","SM II","SC Olympia Dortmund","NBV",106.241]
[36671,"Hartmann, Moritz","H","BGC Illertissen","BMV",106.251]
[35573,"Schlageter, Mario","SM I","MGC Murnau am Staffelsee","BMV",106.251]
[66480,"Stallkamp, Sebastian","H","Osnabrücker M.-C. von 1963","NBV",106.26]
[66833,"Schröder, Mario","SM I","1. Berliner MSC 1960","BVBB",106.26900000000001]
[36856,"Krumm, Kai","SM I","HMC Büttgen","NBV",106.279]
[43923,"Gransee, Petra","SW II","MSK Neheim-Hüsten","NBV",106.279]
[29149,"Weygold, Frank","SM I","1. MGC Ladenburg","BBS",106.294]
[67632,"Lotz, Gudrun","SW II","MGC Bad Homburg","HBSV",999]
[34384,"Siebert, Erich","SM II","MGC Wetzlar","HBSV",106.304]
[68051,"Altenbeck, Christian","SM I","BGSC \"Gut Schlag\" Gladbeck","NBV",106.31399999999999]
[36658,"Vielhauer, Marieluise","SW II","1. MGC Epe 1978","NBV",106.33499999999999]
[47480,"Richter, Siegfried","SM II","1. KGC Mönchengladbach","NBV",106.346]
[67631,"Michael, Olaf","SM II","MGC Bad Homburg","HBSV",999]
[67710,"Obermeier, Carsten","SM I","1. BGC Hannover","MVBN",106.361]
[30257,"Rump, Stefan","SM II","VfL Lohbrügge von 1892 Abt. Bahnengolf","HBV",106.376]
[35619,"Hofmann, Benjamin","H","MGC Wetzlar","HBSV",106.381]
[67608,"Ruck, Peter","SM II","MGV Ansbach","BMV",106.39]
[3358,"Oster, Karl-Heinz","SM II","1. Porzer MGC Grün-Weiß 1969","NBV",106.39]
[49269,"Hartl, Matthias","SM II","MSC Bad Godesberg","NBV",106.39100000000001]
[35302,"Krebs, Tobias","H","BGSV Castrop 1961","NBV",106.393]
[67522,"Pasucha, Manfred","SM II","1. MGC Kassel-Vellmar 1964","MVBN",106.404]
[34086,"Rassler, Claudia","SW II","MGU Neviges-Odenthal 1968","NBV",106.42100000000001]
[67171,"Horbas-Casu, Marina","SW I","MGC Ingolstadt","BMV",106.425]
[67431,"Rörig, Cedric","H","SSC Attendorn","NBV",106.435]
[29919,"Ulrich, Uwe","SM II","BGC Goslar","MVBN",106.438]
[1541,"Haubold, Uwe","SM II","MGV Bremen","MVBN",106.446]
[64902,"Stange, Tim-Niklas","H","1. BGC Hannover","MVBN",106.447]
[37666,"Spennesberger, Christian","SM I","MGC Murnau am Staffelsee","BMV",106.44799999999999]
[48947,"Lingemann, Konrad","SM II","Osnabrücker M.-C. von 1963","NBV",106.45699999999999]
[66067,"Lendner, Ute","SW II","VfL Lohbrügge von 1892 Abt. Bahnengolf","HBV",106.459]
[18217,"Voss, Fritz","SM II","CGV Hamm 2019","NBV",106.491]
[47019,"Huhn, Martina","SW II","BGC Bad Mergentheim","WBV",106.497]
[38584,"Burdorf, Yannick","H","MC Tigers Künsebeck","NBV",106.503]
[4233,"Grüne, Adolf","SM II","TSV Salzgitter Abt. Bahnengolf","MVBN",106.506]
[36211,"Moosmann, Stefanie","SW I","1. BGC Rodalben 1977","MRP",106.512]
[50152,"Zeisler, Torsten","H","SSC Halver","NBV",106.515]
[44026,"Schenk, Horst-Dieter","SM II","1. MGC Köln 1961","NBV",106.523]
[66399,"Dahrendorf, Matthias","SM II","SV Lurup-Hamburg von 1923 Abt. Bahnengolf","HBV",106.523]
[31559,"Skowronsky, Norbert","SM I","MGC Bad Salzuflen","NBV",106.526]
[66395,"Louven, Hans","SM II","VfB Osnabrück von 1984","NBV",106.526]
[67720,"Mikschl, Günter","SM II","BGC Neutraubling","BMV",106.527]
[1549,"Scharnhorst, Rüdiger","SM II","1. BGC Hannover","MVBN",106.533]
[67311,"Nischk, Britta","SW I","MGC Bad Homburg","HBSV",999]
[46800,"Badtke, Monika","SW II","BGC Bad Nenndorf","MVBN",106.587]
[2411,"Umhauer, Jens","SM II","1. Mainzer MGC","MRP",106.601]
[66343,"Strano, Marc","H","BGSC \"Gut Schlag\" Gladbeck","NBV",106.62]
[35332,"Kronenberg, Manfred","SM I","MGC Karlshagen","BVBB",106.626]
[30657,"Schmidt, Volker","SM II","1. FMGC Lichtenfels 1961","BMV",106.631]
[66016,"Delasbe, Christian","SM I","MSG Kempten","BMV",106.637]
[66164,"Wilhelms, Valerie","D","BSC Ennepetal","NBV",106.63800000000001]
[65913,"Ruzicka, Holger","SM II","BGC Illertissen","BMV",106.642]
[38201,"Winter, Simon Leon","H","MGC Wetzlar","HBSV",106.64400000000001]
[67830,"Töppe, Alexander","JM","Reinickendorfer MGC","BVBB",106.64400000000001]
[40721,"Maschotta, Dirk","SM II","MGU Neviges-Odenthal 1968","NBV",106.64400000000001]
[68090,"Balzer, Fynn","SCHM","MGC Olympia Kiel","SHMV",106.655]
[36196,"König, Beate","SW II","1. MGC Rheinhausen","NBV",106.658]
[26002,"Schlauch, Peter","SM II","BGC Bad Berneck","BMV",106.66500000000001]
[67605,"Hablowetz, Karlheinz","SM I","1. MGC Bamberg","BMV",106.673]
[6767,"Pribuß, Walter","SM II","BGC Illertissen","BMV",106.67400000000001]
[67731,"Dierks, Maxim","JM","MC Georgsmarienhütte","NBV",106.68300000000001]
[5739,"Tuchs, Erika","SW II","MGC Murnau am Staffelsee","BMV",106.697]
[52088,"Berthel-Nelles, Yvonne","SW I","1. BGC Wolfsburg","MVBN",106.705]
[37142,"Wageck, Uwe","SM II","1. BGC Rodalben 1977","MRP",106.708]
[68191,"Schäfer, Temudschin","SCHM","MGC Bad Homburg","HBSV",999]
[38133,"Tröller, Jürgen","SM I","MSC Bensheim-Auerbach","HBSV",106.73]
[47050,"Huber, Klaus","SM I","MGC Wolnzach","BMV",106.741]
[67915,"Iba, Caro","D","1. MGC Lohfelden","MVBN",106.75]
[65725,"Tasche, Reinhard","SM II","SC-Wermelskirchen","NBV",106.759]
[66883,"Grundmüller, Thomas","H","MGC Ingolstadt","BMV",106.764]
[67607,"Heinlein, Herbert","SM II","MGV Ansbach","BMV",106.767]
[30067,"Waldherr, Sandra","D","MGC Wertheim ´91","BMV",106.77]
[29886,"Kirch, Manfred","SM II","MGC Bad Bodendorf","NBV",106.78100000000001]
[6076,"Polat, Necdet","SM II","MC Flora Elmshorn","SHMV",106.794]
[35316,"Jacobs, Jörg","SM II","TSV Arendsee Abt. Minigolf","BVSA",106.795]
[36154,"Weinberger, Reinhold","SM II","1. MGC Gelsenkirchen","NBV",106.79600000000001]
[36206,"Platz, Daniel","H","Freizeit Club Bliesen","SaarMV",106.815]
[37551,"Nischk, Michael","SM I","MGC Bad Homburg","HBSV",999]
[66655,"Kemsies, Regine","SW II","BSV AOK Leipzig","BVS",106.818]
[19330,"Rödiger, Peter","SM II","MGC Wetzlar","HBSV",106.821]
[67939,"Zirk, Marlon","SCHM","BGSC \"Gut Schlag\" Gladbeck","NBV",106.82899999999999]
[66747,"Linker, Matti","H","CGC Rauschenberg","HBSV",106.83199999999999]
[67278,"Mahl, Simon","H","1. BGC Garmisch-Partenkirchen","BMV",106.849]
[37583,"Bastian, Claudia","SW II","BGC Bildstock","SaarMV",106.852]
[67681,"Heering, Tom","SCHM","BSV 86 München","BMV",106.85299999999999]
[40300,"Krusenbaum, Manfred","SM II","VfM Bottrop","NBV",106.854]
[37822,"Jansen, Andreas","H","MGC Bergisch Gladbach Gierath","NBV",106.854]
[67044,"Maisch, Thomas","H","MGC Monrepos","WBV",106.854]
[6522,"Hohnke, Holger","SM II","MGC Olympia Kiel","SHMV",106.85599999999999]
[31524,"Brune, Christoph","SM II","MGC Lünen-Syburg","NBV",106.85899999999999]
[66539,"Haberl, Felicitas","D","MGC Ingolstadt","BMV",106.861]
[67924,"Heck, Nikolaus Peter","SM II","BGC Bildstock","SaarMV",106.86199999999999]
[31419,"Thun, Timo","H","MGV Bremen","MVBN",106.86499999999999]
[36519,"Dresel, Kurt","SM II","MGC Ingolstadt","BMV",106.869]
[68006,"Höhnke, Susanne","D","MV Lankwitzer Dragons","BVBB",106.871]
[36914,"Zoschke, Ronald","SM II","MGF Magdeburg","BVSA",106.884]
[46148,"Gries, Ottmar","SM II","SSV Ulm 1846 Abt. Bahnengolf","WBV",106.893]
[67220,"Lendzian, Georg","SM II","SC Olympia Dortmund","NBV",106.908]
[67264,"Grünberg, Richard","SM II","TSV Kücknitz von 1911 Abt. Bahnengolf","SHMV",106.908]
[66310,"Türk, Cedric Alexander","H","MSK Neheim-Hüsten","NBV",106.925]
[4338,"Ekholm, Elfriede","SW II","MC Schriesheim","BBS",106.929]
[17358,"Möller, Egon","SM II","BGC Bad Berneck","BMV",106.935]
[42851,"Bernhard, Frank","SM I","SSC Attendorn","NBV",106.938]
[65072,"Lais, Cornelia","SW II","1. MGC München-Feldmoching","BMV",106.94499999999999]
[34660,"Schröder, Jan-Georg","H","ASV Pegnitz Abt. Minigolf","BMV",106.949]
[67791,"Gburek, Jörg","SM II","BGV Backumer Tal Herten","NBV",106.95]
[67960,"Brandt, Kjell Jonne","SCHM","TV Trappenkamp Sparte Minigolf","SHMV",106.962]
[38610,"Ferstl, Prisca","SW I","MGC Murnau am Staffelsee","BMV",106.96299999999999]
[2283,"Schwarz, Anita","SW II","MGC Karlshagen","BVBB",106.968]
[43327,"Peuker, Hans-Jürgen","SM II","MGC Dormagen-Brechten","NBV",106.96899999999999]
[21500,"Nowak, Marion","SW II","MSK Neheim-Hüsten","NBV",106.97199999999999]
[1814,"Schäfer, Norbert","SM II","1. MGC Lohfelden","MVBN",106.985]
[67188,"Braun, Dierk","SM I","BGSC \"Gut Schlag\" Gladbeck","NBV",106.992]
[18086,"Schewerda, Hans","SM II","BGSC Bochum 1978","NBV",106.995]
[34103,"Hesker, Sigrid","SW II","MGC Bergisch Gladbach Gierath","NBV",106.997]
[35436,"Gerlach, Stefan","SM II","MGC Bad Salzuflen","NBV",107.017]
[41297,"Buchholz, Werner","SM II","TV Trappenkamp Sparte Minigolf","SHMV",107.02500000000001]
[33996,"Ehlert, Ulrich","SM II","HMC Büttgen","NBV",107.04900000000001]
[6059,"Bemmann, Lutz","SM II","BSV AOK Leipzig","BVS",107.051]
[6110,"Schöndorf, Dagmar","SW II","MGC Freizeitzentrum Biebertal","NBV",107.05500000000001]
[67448,"Brinkmann, Christoph","SM I","VfL Lohbrügge von 1892 Abt. Bahnengolf","HBV",107.057]
[67732,"Gut, Josef","SM II","MGC Bad Waldsee 1990","WBV",107.063]
[46210,"Dowidat, Ulrike","SW II","1. MGC Köln 1961","NBV",107.06399999999999]
[67564,"Theilig, Petra","SW I","BGSV Bad Homburg v. d.H.","HBSV",107.08]
[66773,"Ritterbusch, Sascha","SM I","1. MGC Lohfelden","MVBN",107.084]
[48289,"Weiser, Silvia","Sw I","MGC Murnau am Staffelsee","BMV",107.08499999999999]
[67550,"Reim, Leon","JM","MGC Wetzlar","HBSV",107.114]
[67121,"Hartkorn, Tamara","SW I","CGC Blau-Gelb Grötzingen 1968","BBS",107.11799999999999]
[66494,"Riemann, Lothar","SM II","MGC Bad Salzuflen","NBV",107.121]
[25020,"Otto, Karin","SW II","MGC Olympia Kiel","SHMV",107.137]
[40328,"Federici, Wolfgang","SM II","MGF Hilzingen 80","BBS",107.154]
[413,"Kneer, Ulrich","SM II","1. MGC Paderborn 1980","NBV",107.158]
[28026,"Walther, Klaus","SM II","BGC Rheinau-Freistett","BBS",107.164]
[30625,"Dams, Andreas","SM II","MGC-Felderbachtal 1964","NBV",107.166]
[22778,"Höltgen, Gudrun","SW II","BGS Hardenberg-Pötter","NBV",107.166]
[40471,"Bauer, Helmut","SM I","MGC Bad Feilnbach","BMV",107.166]
[30713,"Bittner, Martin","H","MGC Murnau am Staffelsee","BMV",107.17700000000001]
[37558,"Peppler, Daniel","H","Reinickendorfer MGC","BVBB",107.18]
[12780,"Scholz, Rüdiger","SM II","MSK Neheim-Hüsten","NBV",107.20099999999999]
[44073,"Ponellis, Michael","SM I","1. M.S.C. Wesel 6.6.66","NBV",107.215]
[67932,"Groothelm, Annelies","SW II","SC Olympia Dortmund","NBV",107.21599999999999]
[25686,"Romberg, Silvia","SW II","BGC Schloß Paffendorf","NBV",107.22499999999999]
[67230,"Wittling, Marcel","H","Osnabrücker M.-C. von 1963","NBV",107.273]
[44955,"Schmitt, Jürgen","SM II","MGC \"AS\" Witten 1963","NBV",107.277]
[67929,"Marcinkowski, Marc Philipp","H","SSC Attendorn","NBV",107.27800000000001]
[66536,"Kerk, Jürgen","SM II","Hamburger MC von 1965","HBV",107.292]
[38605,"Wendt, Klaus","SM II","MSG Kempten","BMV",107.3]
[67913,"Frommann, Nico","SCHM","MGC Lünen-Syburg","NBV",107.304]
[34546,"Spanner, Ernst","SM II","BGC Illertissen","BMV",107.321]
[30366,"Schewerda, Ralf","SM I","BGSC Bochum 1978","NBV",107.321]
[37872,"Ber, Elvira","SW II","MGC Karlshagen","BVBB",107.354]
[67846,"Maßmann, Tobias","H","SC Bad Münder Abt. Bahnengolf","MVBN",107.366]
[66816,"Meyer, Marita","SW II","MGV Bremen","MVBN",107.411]
[3168,"Kröger, Erich","SM II","MGC Brunsbüttel","SHMV",107.42700000000001]
[67603,"Pfeifer, Ulrich","SM II","MGF Waldshut 1974","BBS",107.43]
[26404,"van der Wals, Wilfried","SM II","1. MGC Epe 1978","NBV",107.446]
[18367,"Müller, Wolfgang","SM II","1. BGC Celle von 1964","MVBN",107.447]
[67147,"Scharpe, Sabine","SW I","BGSC Bochum 1978","NBV",107.452]
[46021,"Beck, Bernhard","SM II","1. KC Homburg-Saar 1967","SaarMV",107.473]
[20081,"Hecken, Michael","SM II","MC Neuwied","MRP",107.477]
[49368,"Eilert, Norbert","SM II","BGS Hardenberg-Pötter","NBV",107.482]
[51324,"Leuthäußer, Marcus","H","MGV Bremen","MVBN",107.495]
[67955,"Gashi, Giulian","SCHM","MC Georgsmarienhütte","NBV",107.499]
[30406,"Vetten, Ramona","D","Niendorfer MC v. 1963","HBV",107.503]
[67124,"Vellone, Alexander","H","MSV Bad Münder/Springe von 2005","MVBN",107.505]
[36575,"Eid, Steffen","H","MSV Bad Kreuznach","MRP",107.52]
[67879,"Overdiek, René","H","MGC Bad Salzuflen","NBV",107.526]
[27505,"Neidig, Stefan","SM II","1. MGC Mannheim 1968","MRP",107.529]
[22913,"Lutz, Martina","SW II","1. BGC Singen","BBS",107.529]
[22825,"Zehm, Alfred","SM II","SC Bastion Rot-Weiß Lippstadt 1964","NBV",107.532]
[68147,"Schliedermann, Luca Joel","SCHM","MGC Bad Homburg","HBSV",999]
[4054,"Schröder, Gabriele","SW II","1. Berliner MSC 1960","BVBB",107.544]
[34481,"Maurer, Claus","SM I","1. MGC Mannheim 1968","MRP",107.545]
[48353,"Mau, Jürgen","SM I","1. MGC Rheinhausen","NBV",107.55]
[67376,"Eisen, Hans","SM II","MGC Diessen","BMV",107.553]
[3776,"Ballbach, Helmut","SM II","1. BGC Rodalben 1977","MRP",107.563]
[67884,"Nader, Dennis","H","VfM Bottrop","NBV",107.596]
[24603,"Todtenhöfer, Klaus","SM II","1. KGC Mönchengladbach","NBV",107.59699999999999]
[23179,"Weber, Dennis","H","MGC Lünen-Syburg","NBV",107.601]
[68005,"Schirmer, Claus-Peter","SM II","VfM Berlin Spandau","BVBB",107.60299999999999]
[67979,"Ruhnau, Bernd","SM II","Hamburger MC von 1965","HBV",107.61199999999999]
[68054,"Eberl, Lea","SCHW","TG Höchberg von 1862 Bahnengolf","BMV",107.616]
[67531,"Fink, Christoph","SM I","BGC Schloß Paffendorf","NBV",107.62]
[45733,"Netzband, Ingrid","SW II","1. MGC Metzingen","WBV",107.622]
[50002,"Horn, Dennis","SM II","BGC Diepholz","MVBN",107.627]
[37992,"Wittkopf, Helga","SW II","BGC Bremen","MVBN",107.639]
[43158,"Jablonowski, Ingo","SM I","BGSC Bochum 1978","NBV",107.642]
[29061,"Sandkamp, Mark","H","1. MGC Epe 1978","NBV",107.65]
[66490,"Koch, Kevin","H","VFB 21 Neugattersleben","BVSA",107.67]
[49258,"Fritz, Manuela","SW I","MC \"Möve\" Cuxhaven-Sahlenburg","MVBN",107.69]
[67453,"Bach, Manfred","SM II","BGC Schloß Paffendorf","NBV",107.7]
[67923,"Aigrüner, Rosi","SW II","1. BGC Landshut","BMV",107.70399999999999]
[67737,"Sagowsky, Dirk","SM II","MGC Bergisch Gladbach Gierath","NBV",107.715]
[31177,"Gut, Oliver","SM I","MGF Waldshut 1974","BBS",107.715]
[65679,"Behrens, Susanne","SW II","BGC Goslar","MVBN",107.71599999999999]
[6298,"Weber, Karl-Otto","SM II","BGC Bad Mergentheim","WBV",107.72199999999999]
[40165,"Hütter, Marcel","H","BGC Uerdingen","NBV",107.727]
[45293,"Garbers, Bruno","SM II","SC Olympia Dortmund","NBV",107.73699999999999]
[37121,"Briese, Werner","SM II","MGC Rot-Weiß Wanne-Eickel","NBV",107.742]
[46907,"Reimann, Jens","SM I","TSV Salzgitter Abt. Bahnengolf","MVBN",107.747]
[67912,"Schwirtz, Sascha","H","MGC Lünen-Syburg","NBV",107.748]
[49367,"Eilert, Sigrid","SW II","BGS Hardenberg-Pötter","NBV",107.75]
[47186,"Schnickmann, Stefanie","SW I","CGV Hamm 2019","NBV",107.751]
[67883,"Quelle, Alexander","SM II","BSV 86 München","BMV",107.75700000000001]
[36810,"Kirner, Josef","SM II","MGC Bad Feilnbach","BMV",107.771]
[35801,"Seher, Gerald","SM II","1. MGC Peine von 1965","MVBN",107.79900000000001]
[44954,"Inck, Alwine","SW II","MGC Bergisch Gladbach Gierath","NBV",107.79900000000001]
[67464,"Klein, Michael","SM I","1. BGC Hannover","MVBN",107.79900000000001]
[30926,"Pfister, Thomas","SM I","ASV Pegnitz Abt. Minigolf","BMV",107.80800000000001]
[67205,"Aust, Jürgen","SM II","VfM Bottrop","NBV",107.81699999999999]
[3386,"Schumacher, Klaus","SM II","Kölner MC","NBV",107.83199999999999]
[5272,"Vocht, Leonhard","SM II","OMGC Ingolstadt","BMV",107.851]
[37510,"Fischer, Dirk","SM II","VfM Berlin Spandau","BVBB",107.867]
[68082,"Hildebrand, Darius","H","CGC Blau-Gelb Grötzingen 1968","BBS",107.86799999999999]
[44355,"Preuß, Dorothea","SW I","MGC-Felderbachtal 1964","NBV",107.88500000000001]
[66693,"Pohler, Michael","SM II","MGC Diessen","BMV",107.886]
[36005,"Mitschke, Claudia","SW II","MGC Bad Salzuflen","NBV",107.88800000000001]
[21680,"Eichert, Karl-Heinz","SM II","1. MGC Ladenburg","BBS",107.89400000000001]
[28224,"Wagner, Imke","D","MC Schriesheim","BBS",107.89400000000001]
[68164,"Krautscheid, Jörg","SM I","1. BGC Landshut","BMV",107.901]
[65976,"Gronski, Thomas","SM II","MGC Rot-Weiß Wanne-Eickel","NBV",107.908]
[35803,"Opitz, Brigitte","SW II","1. MGC Peine von 1965","MVBN",107.931]
[52000,"Niemtschke, Uwe","SM II","TSV Arendsee Abt. Minigolf","BVSA",107.946]
[27788,"Rücker, Sven","SM I","MGC Wetzlar","HBSV",107.956]
[8613,"Mildenberger, Klaus","SM II","CGC Blau-Gelb Grötzingen 1968","BBS",107.964]
[6771,"Tinney, Dietmar","SM II","Hamburger MC von 1965","HBV",107.98399999999999]
[66600,"Strano, Giuseppe","SM II","BGSC \"Gut Schlag\" Gladbeck","NBV",107.992]
[67958,"Havemann, Hanna","SCHW","BGC Bad Nenndorf","MVBN",107.996]
[65576,"Neumann, Sabine","SW II","1. BGC Celle von 1964","MVBN",107.999]
[67429,"Schmidt, Klaus","SM II","BGSV Aßlar 1987","HBSV",108.018]
[65974,"Rissling, Oliver","SM I","MGC Bergisch Gladbach Gierath","NBV",108.021]
[33310,"Krieger, Gerhard","SM II","1. MGC München-Feldmoching","BMV",108.036]
[38653,"Hergesell, Dirk","SM II","BSV AOK Leipzig","BVS",108.048]
[38217,"Schleich, Melanie","D","MSF Brilon","NBV",108.054]
[67828,"Schwerberger, Ulrich","SM II","BGC Uerdingen","NBV",108.06]
[27888,"Hörl, Armin","H","MGF Hammer","BMV",108.089]
[3863,"Hesse, Dietmar","SM II","BGC Goslar","MVBN",108.09399999999999]
[67648,"Lipphausen, Tiemo","H","1. MGC Paderborn 1980","NBV",108.105]
[67281,"Balis, Kreon","H","1. Münchener Minigolf-Club","BMV",108.105]
[67401,"Dierks, Marcel","H","MC Georgsmarienhütte","NBV",108.11]
[18146,"Schlenstedt, Wolfgang","SM II","Minigolf Wölfe Rheinstetten 02","BBS",108.11499999999999]
[65971,"Gronski, Friederike","SW II","MGC Rot-Weiß Wanne-Eickel","NBV",108.13]
[27911,"Weber, Dominik","H","CGV Hamm 2019","NBV",108.14400000000001]
[67554,"Michelmann, Peter","SM II","BGSV Kerpen","NBV",108.14700000000001]
[66657,"Krull, Karl-Heinz","SM II","1. MGC Lohfelden","MVBN",108.148]
[67447,"Schild, Kerstin","SW I","VfL Lohbrügge von 1892 Abt. Bahnengolf","HBV",108.149]
[1951,"Burkert, Michael","SM II","MGF Magdeburg","BVSA",108.154]
[65119,"Herrmann, Ralf","SM I","MGC Bad Homburg","HBSV",999]
[18029,"Herfurt, Lothar","SM II","VfM Berlin Spandau","BVBB",108.175]
[66151,"Konieczny, Stephan","SM I","MSC Bensheim-Auerbach","HBSV",108.19]
[68064,"Reppert, Mirja","D","BGC Bildstock","SaarMV",108.196]
[50717,"Braungart Zink, Ursula","SW II","MGU Neviges-Odenthal 1968","NBV",108.199]
[35180,"Wolf, Manuela","D","Bochumer MC 1960","NBV",108.21]
[67965,"Hännig, Frank","SM II","MGC Rot-Weiß Wanne-Eickel","NBV",108.211]
[66510,"Kling, Martina","SW II","BGSC Bochum 1978","NBV",108.229]
[66788,"Tiedtke, Michael","H","MGV Bremen","MVBN",108.23]
[67975,"Stahl, Marco","SM I","BIG Ingelfingen 2020","WBV",108.242]
[36632,"Tauterat, Gunter","SM I","MGC Monrepos","WBV",108.252]
[67709,"Zipper, Til","H","TSV Arendsee Abt. Minigolf","BVSA",108.28]
[67886,"Full, Roland","SM II","MGC \"Stahlquelle\" Bad Bocklet 1989","BMV",108.28400000000001]
[41392,"Lauble, Holger","SM I","MGF Waldshut 1974","BBS",108.28700000000001]
[44936,"Hartlein, Ingo","SM II","BGC Bad Nenndorf","MVBN",108.288]
[67535,"Pönnighaus, Norbert","SM II","MGC Bad Salzuflen","NBV",108.29]
[68069,"Weber, Peter","H","MGC Lünen-Syburg","NBV",108.304]
[32907,"Schwab, Bernd","SM II","SC Bad Münder Abt. Bahnengolf","MVBN",108.31399999999999]
[66896,"Bartholomä, Pierre","H","1. MGC Lohfelden","MVBN",108.327]
[35751,"Brille, Thorsten","SM I","BGV Backumer Tal Herten","NBV",108.333]
[869,"Abeling-Betzien, Birgit","SW II","BGC Diepholz","MVBN",108.342]
[67012,"Gefreyer, Steffen","SM I","BGC Bremen","MVBN",108.36499999999999]
[67794,"Grajek, André","SM I","CGV Hamm 2019","NBV",108.36799999999999]
[67808,"Ludwig, Adelheid","SW II","BGSC \"Gut Schlag\" Gladbeck","NBV",108.377]
[28918,"Mitscher, Udo","SM II","MGC Traben-Trarbach","MRP",108.39400000000001]
[32862,"Ramcke, Tobias","H","MC Tigers Künsebeck","NBV",108.395]
[67850,"Schugart, Lars","H","MGC Bad Homburg","HBSV",999]
[61978,"Pahl, Heinz","SM II","1. BGC Celle von 1964","MVBN",108.416]
[30422,"Urbanke, Patrick","H","MGC Bad Soden-Salmünster","HBSV",108.441]
[67339,"Wittling, Kiara","SCHW","Osnabrücker M.-C. von 1963","NBV",108.44499999999999]
[33867,"Hufnagl, Karl-Heinz","SM II","MGC Ingolstadt","BMV",108.449]
[37708,"Lammers, Kevin","H","VfM Bottrop","NBV",108.456]
[38167,"Weber, Marianne","SW II","BGC Bad Mergentheim","WBV",108.46]
[37249,"Boock, Cornelia","SW II","MSC Bensheim-Auerbach","HBSV",108.47199999999999]
[67353,"Krieger, Simone","D","BGC Uerdingen","NBV",108.486]
[28041,"Bless, Daniela","SW II","BSV 82 Ohlsbach","BBS",108.509]
[37874,"Garden, Joachim","SM II","MGC Rot-Weiß Wanne-Eickel","NBV",108.511]
[5676,"Zeller, Edeltraud","SW II","Olchinger MSK","BMV",108.512]
[66813,"Wagener, Christoph","H","MGC Murnau am Staffelsee","BMV",108.517]
[30395,"Bräuer, Markus","H","MGC Marl 1960","NBV",108.52200000000001]
[65952,"Kübler, Kai","H","MGC Monrepos","WBV",108.532]
[42045,"Marterer-Schleser, Sabine","SW I","1. MGC München-Feldmoching","BMV",108.536]
[41828,"Kniesch, Katja","SW I","TSV Salzgitter Abt. Bahnengolf","MVBN",108.53700000000001]
[87512,"Hirsch, Jonathan","H","Hamburger MC von 1965","HBV",108.539]
[66902,"Pape, Robert-Alexander","H","Elbhavelland Abt. Minigolfsport","BVSA",108.545]
[37831,"Mauser, Christian","SM I","TSV Arendsee Abt. Minigolf","BVSA",108.545]
[67877,"Melfsen, Maik","SM I","MGC Harrislee-Wassersleben","SHMV",108.565]
[36153,"Weinberger, Sabine","SW II","1. MGC Gelsenkirchen","NBV",108.574]
[42305,"Klein, Kerstin","SW I","MGC Bad Salzuflen","NBV",108.58499999999999]
[6581,"Berkenkopf, Franz-Josef","SM II","MSK Neheim-Hüsten","NBV",108.605]
[22150,"Quelle, Andreas","SM II","BSV 86 München","BMV",108.61199999999999]
[50242,"Möbis, Joachim","SM I","BGSV Castrop 1961","NBV",108.616]
[34118,"Henkel, Klaus-Dieter","SM II","MSV Bad Münder/Springe von 2005","MVBN",108.61799999999999]
[26658,"Kempen, Manfred","SM II","MSC Bad Godesberg","NBV",108.622]
[66958,"Lorch, Peter","SM II","1. Mainzer MGC","MRP",108.626]
[38341,"Kantor, Harald","SM II","BGSV Bad Homburg v. d.H.","HBSV",108.642]
[27708,"Exel, Karin","SW II","1. Berliner MSC 1960","BVBB",108.642]
[43449,"Müller, Martin","SM I","SC Bastion Rot-Weiß Lippstadt 1964","NBV",108.64400000000001]
[29482,"Sinzenich, Renate","SW II","BGSV Kerpen","NBV",108.651]
[41231,"Hengstler, Claudia","SW I","1. BGC Singen","BBS",108.654]
[67115,"Schnell, Michael","SM I","BSV 82 Ohlsbach","BBS",108.682]
[28892,"Fahrenkrog, Kirsten","SW II","Niendorfer MC v. 1963","HBV",108.703]
[29421,"Schlimbach, Michael","H","MGC Bergisch Gladbach Gierath","NBV",108.712]
[67568,"Zander, Max","H","MGC Bad Homburg","HBSV",999]
[35900,"Zirkenbach, Bianca","SW I","MGC Bad Homburg","HBSV",999]
[67489,"Kling, Katja","SW I","1. MGC Tuttlingen","BBS",108.72199999999999]
[5758,"Burgard, Jürgen","SM II","Freizeit Club Bliesen","SaarMV",108.72499999999999]
[67141,"Jakobs, Jens","H","MGC Traben-Trarbach","MRP",108.75700000000001]
[32959,"Staska, Thomas","SM I","BSV 86 München","BMV",108.782]
[67953,"Karasch, Harry","SM II","BGC Bad Nenndorf","MVBN",108.78700000000001]
[35706,"Schmidt, Peter","SM II","Elbhavelland Abt. Minigolfsport","BVSA",108.792]
[68138,"Bargel, Siegfried","SM II","1. FMGC Lichtenfels 1961","BMV",108.795]
[33993,"Praedel, Jürgen","SM II","MGC Rot-Weiß Wanne-Eickel","NBV",108.79600000000001]
[61974,"Koslowski, Hans","SM II","1. BGC Celle von 1964","MVBN",108.80500000000001]
[66213,"Dosch, Werner","H","MC Ilvesheim","BBS",108.81]
[37496,"Andresen, Klaus-Dieter","SM II","MGC Harrislee-Wassersleben","SHMV",108.815]
[67825,"Berndt-Tietke, Sebastian","H","TSV Arendsee Abt. Minigolf","BVSA",108.842]
[36192,"Bellanger, Hans-Jürgen","SM II","1. MGC Mannheim 1968","MRP",108.89700000000001]
[68092,"Thamm, Wolfgang","SM II","1. MGC 1970 Göttingen","MVBN",108.922]
[3539129,"Kuschmann, Barbara","D","VfM Berlin Spandau","BVBB",108.93]
[65132,"Zirkenbach, Lavinia","JW","MGC Bad Homburg","HBSV",999]
[67963,"Mockel, Mia","JW","VfB Osnabrück von 1984","NBV",108.956]
[38245,"Schmitz, Sibylle","SW II","BGC Dormagen","NBV",108.95699999999999]
[35773,"Nähler, Wolf-Dieter","SM II","1. MGC Köln 1961","NBV",108.962]
[36853,"Lödige, Maria","SW II","VfB Osnabrück von 1984","NBV",108.97]
[38333,"Barber, Claudia","SW I","MGC Wertheim ´91","BMV",108.971]
[67224,"Fiedler, Kerstin","SW II","BGSV Aßlar 1987","HBSV",108.971]
[32405,"Nacke, Dirk","H","1. MGC Gelsenkirchen","NBV",108.97199999999999]
[35023,"Oitzinger, Edith","SW II","BV Sennestadt","NBV",108.973]
[44875,"Grundmüller, Franz","SM II","MGC Ingolstadt","BMV",108.97499999999999]
[66847,"Braun, Gerd","SM II","BGC Uerdingen","NBV",108.976]
[38200,"Krämer, Sebastian","H","MSC blau-weiss 2003 München","BMV",108.99]
[67407,"Westerwelle, Stefanie","D","VfB Osnabrück von 1984","NBV",109.005]
[67178,"Schmäck, Joachim","SM II","1. KGC Mönchengladbach","NBV",109.01]
[67441,"Cappelletti, Franco","SM I","1. Mainzer MGC","MRP",109.012]
[5964,"Bojack, Wolfgang","SM II","MSV Würzburg-Löwenbrücke","BMV",109.01900000000001]
[36133,"Uhlig, Thorsten","SM I","MSC blau-weiss 2003 München","BMV",109.033]
[36775,"Drautzburg, Horst","SM II","MGU Neviges-Odenthal 1968","NBV",109.03400000000001]
[22103,"Kirgasser, Helga","SW II","MC Neuwied","MRP",109.045]
[67375,"Koch, Jürgen","SM II","MGC Dormagen-Brechten","NBV",109.066]
[38455,"Scharnhorst, Helga","SW II","1. BGC Hannover","MVBN",109.069]
[67290,"Dietz, Fabian","JM","MGC Heringen","HBSV",104.825]
[66701,"Ohletz, Roland","SM I","BGC Uerdingen","NBV",109.072]
[40718,"Maschotta, Jürgen","SM I","MGU Neviges-Odenthal 1968","NBV",109.08799999999999]
[28083,"Hansen, Nicole","D","MGC Bad Bodendorf","NBV",109.09]
[37329,"Völzke, Frank","SM I","1. KGC Mönchengladbach","NBV",109.09099999999999]
[51380,"Bräuer, Diana","SW I","MGC Marl 1960","NBV",109.104]
[67734,"Haake, Marc","H","Elbhavelland Abt. Minigolfsport","BVSA",109.108]
[67704,"Hes, Luca","SCHM","BGV Backumer Tal Herten","NBV",109.111]
[18085,"Schewerda, Helga","SW II","BGSC Bochum 1978","NBV",109.11799999999999]
[66714,"Wiesinger, Peter","SM I","Olchinger MSK","BMV",109.122]
[67639,"Bucksch, Alexander","SM I","MGC Bergisch Gladbach Gierath","NBV",109.126]
[67942,"Strano, Dagmer","SW II","BGSC \"Gut Schlag\" Gladbeck","NBV",109.131]
[36041,"Schmittdiel, Joachim","SM I","1. MGC Kassel-Vellmar 1964","MVBN",109.14100000000001]
[67972,"Klein, Lisa","JW","SSC Attendorn","NBV",109.143]
[66643,"Ziegler, Uwe","SM I","MGC \"Stahlquelle\" Bad Bocklet 1989","BMV",109.149]
[48965,"Reis, Sandra","SW I","MGC Wertheim ´91","BMV",109.17]
[36191,"Bellanger, Martina","SW II","1. MGC Mannheim 1968","MRP",109.172]
[67491,"Jürgensen, Cornelia","SW I","SSV Ulm 1846 Abt. Bahnengolf","WBV",109.185]
[67219,"Breitbarth, Frank","SM II","SC Olympia Dortmund","NBV",109.18600000000001]
[67804,"Schneider, Kristin","D","BGSC \"Gut Schlag\" Gladbeck","NBV",109.188]
[67058,"Hüther, Ralf","SM I","MGC Heringen","HBSV",106.214]
[10953,"Dietzel, Veronika","SW II","MGC-Felderbachtal 1964","NBV",109.20699999999999]
[66936,"Schulze, Jonas","H","1. MSC Hamburg-Neu Wulmstorf","HBV",109.21]
[67971,"Meiran, Oliver","SM I","MC Georgsmarienhütte","NBV",109.224]
[5776,"Lesnik, Irena","SW II","SSV Ulm 1846 Abt. Bahnengolf","WBV",109.24]
[33346,"Schmidt, Henry","H","1. FMGC Lichtenfels 1961","BMV",109.244]
[4244,"Tautz, Peter","SM II","VfM Bottrop","NBV",109.252]
[67844,"Humann, Claudia","SW I","BGSC \"Gut Schlag\" Gladbeck","NBV",109.254]
[66174,"Exner, Petra","SW II","Elbhavelland Abt. Minigolfsport","BVSA",109.295]
[36048,"Riepe, Klaus","SM II","MGC Harrislee-Wassersleben","SHMV",109.315]
[34068,"Voos, Waldemar","H","BGV Bergisch Land 1962 / 63","NBV",109.31699999999999]
[67845,"Krämer, Matthias","H","SC Bad Münder Abt. Bahnengolf","MVBN",109.327]
[67262,"Jung, Barbara","SW I","MGC \"Stahlquelle\" Bad Bocklet 1989","BMV",109.34399999999999]
[40719,"Meier, Achim","SM II","MGU Neviges-Odenthal 1968","NBV",109.36]
[34559,"Hackel, Danny","H","MGC Homburger Land","NBV",109.364]
[67903,"Slut, Axel","SM II","VfL Lohbrügge von 1892 Abt. Bahnengolf","HBV",109.373]
[40202,"Schmidt, Helmut","SM II","MGC Freizeitzentrum Biebertal","NBV",109.38800000000001]
[68101,"Burghaus, Jano","SCHM","SSC Attendorn","NBV",109.402]
[36214,"Martin, Thomas","SM II","MSG Kempten","BMV",109.405]
[67151,"Presser, Wolfgang","SM II","MGC Heven","NBV",109.414]
[67818,"Biermann, Hubertus","SM II","1. MGC Paderborn 1980","NBV",109.416]
[66493,"Riemann, Karin","SW II","MGC Bad Salzuflen","NBV",109.417]
[261,"Vomhof, Lars","SM I","MSK Neheim-Hüsten","NBV",109.437]
[63326,"Isselmann, Werner","SM II","1. M.S.C. Wesel 6.6.66","NBV",109.437]
[67814,"Tinibel, Stefan","SM I","Bochumer MC 1960","NBV",109.44499999999999]
[40003,"Jung, Markus","SM I","BGV Bergisch Land 1962 / 63","NBV",109.459]
[37784,"Quantz, Thorsten","SM I","MGC Heringen","HBSV",109.53700000000001]
[33471,"Marterer, Heinz","SM II","1. BGC Garmisch-Partenkirchen","BMV",109.482]
[68010,"Kettler, Elisabeth","SW II","BGSV Kerpen","NBV",109.489]
[66117,"Heinisch, Justin","H","BGC Bad Nenndorf","MVBN",109.489]
[27702,"Ingenston, Bruno","SM II","1. Berliner MSC 1960","BVBB",109.489]
[67928,"Marcinkowski, Reinhard","SM II","SSC Attendorn","NBV",109.495]
[67409,"Freimann, Klaus Dieter","SM II","MSF Brilon","NBV",109.505]
[36581,"Clever, Kirsten","SW I","MC \"Möve\" Cuxhaven-Sahlenburg","MVBN",109.509]
[36128,"Frodermann, Karina","SW I","MGC Heringen","HBSV",110.65900000000001]
[182,"Kleyer, Michael","SM II","BGSV Castrop 1961","NBV",109.538]
[67345,"Teetzen, Michael","SM I","MGV Bremen","MVBN",109.54900000000001]
[26670,"Thüsen, Hans-Joachim","SM II","1. MGC Lohfelden","MVBN",109.556]
[25693,"Klauke, Reiner","SM II","1. KGC Mönchengladbach","NBV",109.55800000000001]
[42684,"Riemann, Susanne","SW II","1. MGC Kassel-Vellmar 1964","MVBN",109.559]
[68081,"Larres, Mats","SCHM","1. Mainzer MGC","MRP",109.56399999999999]
[50035,"Görtz-Fräßle, Andreas","H","1. Mainzer MGC","MRP",109.56699999999999]
[38267,"Piest, Armin","SM II","MGC Brunsbüttel","SHMV",109.574]
[66818,"Schneider, Franz","SM II","BSV 82 Ohlsbach","BBS",109.57599999999999]
[43245,"Schlottermüller, Rainer","SM II","1. BGC Hannover","MVBN",109.581]
[65957,"Silex, Gerald","SM II","VFB 21 Neugattersleben","BVSA",109.589]
[33336,"Michna, Wolfgang","SM II","MC \"Möve\" Cuxhaven-Sahlenburg","MVBN",109.59]
[55130,"Patan, Sabine","SW I","BIG Asperg 1982","WBV",109.617]
[68004,"Binder, Dennis","H","CGC Blau-Gelb Grötzingen 1968","BBS",109.631]
[68023,"Zimmermann, Leon","SCHM","MGC Heringen","HBSV",113.131]
[66740,"Hemmelmann, Andreas","SM I","MGC Wertheim ´91","BMV",109.637]
[67954,"Gashi, Sascha","SM I","MC Georgsmarienhütte","NBV",109.64]
[34912,"Konle, Felix","H","MGC Unterschneidheim","WBV",109.64100000000001]
[50895,"Stabl, Georg","SM II","SSV Ulm 1846 Abt. Bahnengolf","WBV",109.643]
[64054,"Schneid, Reinhold","SM I","MGV Ansbach","BMV",109.646]
[45297,"Dassek, Michael","SM II","SC Olympia Dortmund","NBV",109.65300000000001]
[23778,"Dreischer, Burkhard","SM II","SC Olympia Dortmund","NBV",109.669]
[68075,"Lindemann, Gordon","H","1. M.S.C. Wesel 6.6.66","NBV",109.69799999999999]
[49860,"Honnacker, Ludger","SM II","MGC-Felderbachtal 1964","NBV",109.715]
[67964,"Knoll, Sonja","SCHW","MGC Rot-Weiß Wanne-Eickel","NBV",109.717]
[47063,"Lohöfener, Thomas","SM I","BV Sennestadt","NBV",109.75]
[46684,"Knoll, Wolfgang","SM II","MC Ilvesheim","BBS",109.759]
[37199,"Kottemer, Christopher","H","MGF Magdeburg","BVSA",109.777]
[19792,"Schmidt, Dietmar","SM II","BIG Asperg 1982","WBV",109.78]
[66173,"Huse, Fred","SM II","Elbhavelland Abt. Minigolfsport","BVSA",109.795]
[66152,"Drostel, Günter","SM II","1. MGC Rheinhausen","NBV",109.803]
[67484,"Bommer, Michael","SM I","BGSV Castrop 1961","NBV",109.83799999999999]
[67840,"Dyka, Klaus","SM II","MGF Magdeburg","BVSA",109.864]
[6550,"Grübl, Sieglinde","SW II","1. BGC Landshut","BMV",109.86799999999999]
[38562,"Maier, Marianne","SW I","MGC Unterschneidheim","WBV",109.879]
[68091,"Aschenbrandt, Moritz","H","1. MGC 1970 Göttingen","MVBN",109.89]
[67693,"Greue, Holger","SM II","Hamburger MC von 1965","HBV",109.895]
[37073,"Pajonk, Kim-Kevin","H","TSV Arendsee Abt. Minigolf","BVSA",109.92700000000001]
[68024,"Schimmelpfennig, Paul","JM","MGC Heringen","HBSV",113.992]
[45777,"Nahr, Oliver","SM I","MGC Bergisch Gladbach Gierath","NBV",109.934]
[29739,"Brommer, Jörg","SM I","TG Höchberg von 1862 Bahnengolf","BMV",109.93600000000001]
[36633,"Tauterat, Carmen","SW I","BGC Bad Mergentheim","WBV",109.937]
[66634,"Rosenberger, Willi","SM II","MSV Würzburg-Löwenbrücke","BMV",109.94199999999999]
[66105,"Poltermann, Steffen","SM II","TV 1901 Nierstein/Rhein Abt. Minigolf","MRP",109.94799999999999]
[68016,"Cost Gomes, Julian","H","BGC Bad Nenndorf","MVBN",109.956]
[68096,"Völker, Peter","SM I","MGC Bergisch Gladbach Gierath","NBV",109.97]
[35865,"Mau, Dennis","H","1. MGC Rheinhausen","NBV",109.976]
[35083,"Häuserer, Hans","SM II","1. BGC Garmisch-Partenkirchen","BMV",109.991]
[38415,"van Eickelen, Jan","H","BGV Bergisch Land 1962 / 63","NBV",110.02800000000001]
[37814,"Sturm, Tobias","H","MGC Murnau am Staffelsee","BMV",110.03]
[40827,"Offner, Torsten","SM II","Hamburger MC von 1965","HBV",110.038]
[34717,"Sessler, Susanne","SW II","1. BGC Landshut","BMV",110.038]
[67592,"Bommer, Janina","D","BGSV Castrop 1961","NBV",110.06]
[67046,"Manz, Tim","JM","Reinickendorfer MGC","BVBB",110.07299999999999]
[67795,"Köhler, Andrea","SW I","MC \"Möve\" Cuxhaven-Sahlenburg","MVBN",110.07599999999999]
[36168,"Zornstein, Nicole","D","CGV Hamm 2019","NBV",110.08499999999999]
[67728,"Heering, Florin","SM I","BSV 86 München","BMV",110.105]
[38334,"Fischer, Alexandra","D","MSC Bad Godesberg","NBV",110.11799999999999]
[67807,"Ludwig, Michael","SM II","BGSC \"Gut Schlag\" Gladbeck","NBV",110.127]
[33491,"Nutzenberger, Rolf","SM II","1. MGC Mannheim 1968","MRP",110.13500000000001]
[49297,"Hühne, Wolfgang","SM II","1. MGC Kassel-Vellmar 1964","MVBN",110.139]
[48352,"Sindorf, Dirk","SM II","1. MGC Rheinhausen","NBV",110.152]
[67561,"Heidemann, Margarete","SW II","VfM Bottrop","NBV",110.161]
[67057,"König, Irmtraud","SW II","MGC Heringen","HBSV",115.681]
[67856,"Paulsen, Rainer","SM II","MGC Brunsbüttel","SHMV",110.19199999999999]
[67721,"Sippel, Christelle","SW II","BGC Neutraubling","BMV",110.206]
[25381,"Härle, Armin","SM II","MGC Oberkochen 1972","WBV",110.208]
[18496,"Köhler, Ulrich","SM II","BSV 86 München","BMV",110.211]
[66724,"Mathes, Nico","JM","MGC \"Stahlquelle\" Bad Bocklet 1989","BMV",110.227]
[42408,"Liebstückel, Manfred","SM II","MGC Wertheim ´91","BMV",110.242]
[65149,"Heger, Thomas","SM II","MGC Heringen","HBSV",116.809]
[67122,"Mutsch, Pascal","H","1. MGC Metzingen","WBV",110.25]
[67576,"Burkert, Kevin","JM","Niendorfer MC v. 1963","HBV",110.252]
[33427,"Kunstmann, Andreas","SM I","Elbhavelland Abt. Minigolfsport","BVSA",110.28]
[67397,"Thomas, Herbert","SM II","BGSV Castrop 1961","NBV",110.282]
[38537,"Bollrich, Jens","SM II","1. BGC Leipzig","BVS",110.28400000000001]
[1989,"Stange, Michael","SM I","1. BGC Hannover","MVBN",110.28700000000001]
[66529,"Probost, Norbert","SM II","MGC Wetzlar","HBSV",110.289]
[35605,"Urban, Angela","Sw I","SGC Hagen","NBV",110.304]
[50612,"Anders, Oliver","H","MGC Lünen-Syburg","NBV",110.325]
[67852,"Staritz, Enrico","H","Böllberger SG 185 Abt. Minigolfsport","BVSA",110.32899999999999]
[5805,"Wagner, Günter","SM II","MSC Herscheid 1963","NBV",110.346]
[19768,"Babic, Stjepan","SM II","BIG Asperg 1982","WBV",110.35899999999999]
[9197,"Schmidt, Hans-Jürgen","SM II","MGC Homburger Land","NBV",110.363]
[67671,"Grabrucker, Annika","SCHW","OMGC Ingolstadt","BMV",110.378]
[4769,"Arenz, Heinz Josef","SM II","MSC Bad Godesberg","NBV",110.379]
[68037,"Ries, Maik-Torsten","SM II","MGC Heringen","HBSV",121.492]
[37051,"Bronsart, Viola","SW II","TV Trappenkamp Sparte Minigolf","SHMV",110.387]
[41468,"Sierakowski, Bernd","SM I","1. MGC Kassel-Vellmar 1964","MVBN",110.389]
[67983,"Weiss, Harald","SM II","BGV Backumer Tal Herten","NBV",110.408]
[37834,"Schulte, Udo","SM II","VfB Osnabrück von 1984","NBV",110.44799999999999]
[67249,"Popp, Christian","H","1. FMGC Lichtenfels 1961","BMV",110.459]
[6334,"Krüchten, Heinz","SM II","1. BGC Rodalben 1977","MRP",110.459]
[40425,"Stautmeister, Ilka","SW I","Elbhavelland Abt. Minigolfsport","BVSA",110.479]
[66052,"Philipp, Andreas","SM II","VfM Berlin Spandau","BVBB",110.489]
[46494,"Münch, Roman","SM II","1. KC Homburg-Saar 1967","SaarMV",110.492]
[67705,"Pichol, Joel","SCHM","BGV Backumer Tal Herten","NBV",110.511]
[67896,"Riedel, Michael","SM II","1. BGC Wesseling 1975","NBV",110.533]
[67992,"Uhlmann, Torsten","SM I","MGC Kahler Sandhasen","HBSV",104.52]
[21226,"Rüger, Dieter","SM II","1. M.S.C. Wesel 6.6.66","NBV",110.548]
[42971,"Kirberg, Rainer","SM I","HMC Büttgen","NBV",110.55500000000001]
[68118,"Grolms, Hartmut","SM II","MSV Bad Münder/Springe von 2005","MVBN",110.57]
[32625,"Wischeropp, Karsten","H","MGF Magdeburg","BVSA",110.57599999999999]
[25441,"Soest, Bert-Rainer","SM II","MGC Homburger Land","NBV",110.58499999999999]
[68160,"Bender, Gerald","SM I","BGSV Bad Homburg v. d.H.","HBSV",110.61199999999999]
[66227,"Gotthard, Wolfgang","SM II","1. BGC Garmisch-Partenkirchen","BMV",110.64400000000001]
[67995,"Flanderka, Wolfgang","SM II","MGC Kahler Sandhasen","HBSV",106.721]
[34231,"Kalkbrenner, Antje","D","MGC Bad Salzuflen","NBV",110.666]
[67990,"Bohlig, Jörg","SM I","MGC Kahler Sandhasen","HBSV",107.538]
[68150,"Seifarth, Axel","SM II","TSV Salzgitter Abt. Bahnengolf","MVBN",110.678]
[29374,"Karl, Jürgen","SM I","MC Ilvesheim","BBS",110.715]
[67322,"Laurenz, Gunter","SM I","Osnabrücker M.-C. von 1963","NBV",110.76]
[66037,"Rödig, Andreas","SM I","MGC Bad Feilnbach","BMV",110.807]
[65851,"Rastetter, Robert","SM II","Minigolf Wölfe Rheinstetten 02","BBS",110.83199999999999]
[35230,"Schön, Wolfgang","SM II","SC Gut Heil Neumünster von 1881 Abteilung Miniaturgolf","SHMV",110.84]
[33425,"Kunstmann, Marcel","H","Elbhavelland Abt. Minigolfsport","BVSA",110.842]
[3808,"Wichmann, Peter","SM II","Niendorfer MC v. 1963","HBV",110.86]
[4204,"Dr. Haucke, Karlheinz","SM II","SC Bastion Rot-Weiß Lippstadt 1964","NBV",110.866]
[50571,"Domnik, Roland","SM II","BGSV Castrop 1961","NBV",110.91800000000001]
[67250,"Arendt, Angelina","SW I","BGSV Castrop 1961","NBV",110.949]
[66408,"Wruck, Wolfgang","SM I","SC Bastion Rot-Weiß Lippstadt 1964","NBV",110.977]
[68105,"Haase, Oliver","SM I","MSC Bensheim-Auerbach","HBSV",110.982]
[67584,"Holtzmann, Ursula","SW II","1. MGC Köln 1961","NBV",110.989]
[66210,"Wotzlawek, Wolfgang","SM II","1. BGC Landshut","BMV",110.992]
[34720,"Sessler, Wolfgang","SM II","1. BGC Landshut","BMV",110.995]
[3990,"Büscher, Rolf","SM II","MGC Heven","NBV",111.008]
[34921,"Langner, Heinz","SM II","TSV Flöha 1848 Abt. Minigolf","BVS",111.051]
[67904,"Lipke, Jan","H","1. MGC Paderborn 1980","NBV",111.065]
[29220,"Baumgart, Dirk","SM I","MSK Neheim-Hüsten","NBV",111.081]
[40828,"Firneis, Christoph","SM II","BGC Uerdingen","NBV",111.107]
[28746,"Parbst, Karsten","SM II","VfL Lohbrügge von 1892 Abt. Bahnengolf","HBV",111.11]
[37763,"Winzer, Thorsten","SM I","MGC Freizeitzentrum Biebertal","NBV",111.125]
[66842,"Aichele, Catharina","D","MGC Monrepos","WBV",111.175]
[68048,"Reinhardt, Josephine","JW","MGV Ansbach","BMV",111.188]
[3720,"Vosberg, Hans-Peter","SM II","MGU Neviges-Odenthal 1968","NBV",111.19499999999999]
[66330,"Ziegler, Andreas","SM I","BSV 86 München","BMV",111.21599999999999]
[67660,"Drees, Christine","SW II","Tempelhofer MV 65","BVBB",111.239]
[5093,"Hoffmann, Helmut","SM II","MSC Bad Godesberg","NBV",111.25700000000001]
[3524,"Stark, Rupert","SM II","OMGC Ingolstadt","BMV",111.267]
[66845,"Jauernek, Michael","SM I","MGC Monrepos","WBV",111.276]
[48247,"Bissinger, Frank","SM I","MGC Monrepos","WBV",111.288]
[66158,"Krauss, Siegfried","SM II","BGC Bildstock","SaarMV",111.322]
[67438,"Seiferth, Sabine","SW I","PTSV Hof Abt. Minigolf","BMV",111.35299999999999]
[38004,"Willkommen, Lothar","SM II","TSV Arendsee Abt. Minigolf","BVSA",111.36]
[67938,"Reimann, Michelle-Fabienne","D","BGSC \"Gut Schlag\" Gladbeck","NBV",111.377]
[67843,"Leidigkeit, Christian","SM I","BGSC \"Gut Schlag\" Gladbeck","NBV",111.38500000000001]
[38310,"Umhauer, Lukas","H","1. Mainzer MGC","MRP",111.435]
[35715,"Adamski, Bernd","SM II","MGC Rot-Weiß Wanne-Eickel","NBV",111.46299999999999]
[67258,"Schmidt, Silvia","SW II","1. MGC Mannheim 1968","MRP",111.477]
[67677,"Göbel, Heiko","SM I","MGC Bergisch Gladbach Gierath","NBV",111.477]
[5594,"Löwer, Herbert","SM II","1. MGC Kassel-Vellmar 1964","MVBN",111.48399999999999]
[65623,"Ertl, Johanna","SW II","1. BGC Landshut","BMV",111.48699999999999]
[67740,"Zimmermann, Rebekka","SCHW","1. Mainzer MGC","MRP",111.502]
[26119,"Hartmann, Rochus","SM II","BGC Bad Nenndorf","MVBN",111.514]
[67771,"Ingenpass, Dominik","H","MC Georgsmarienhütte","NBV",111.55]
[5020,"Ritschel, Reiner","SM II","MC Schriesheim","BBS",111.596]
[67347,"Schüßler, Jana","D","MSC Bensheim-Auerbach","HBSV",111.605]
[67093,"Hansen, Marc","JM","MGC Bad Bodendorf","NBV",111.619]
[66076,"Silex, Andrea","SW I","VFB 21 Neugattersleben","BVSA",111.652]
[3367,"Nonnenbruch, Heinz","SM II","1. Porzer MGC Grün-Weiß 1969","NBV",111.65600000000001]
[67969,"Wernozak, Waldemar","SM II","VfL Lohbrügge von 1892 Abt. Bahnengolf","HBV",111.685]
[43654,"Stranka, Heinz","SM I","1. BGC Garmisch-Partenkirchen","BMV",111.712]
[40352,"Kracht, Christian","SM II","MGC Bad Salzuflen","NBV",111.721]
[67152,"Preßer-Kottek, Sabine","SW I","MGC Heven","NBV",111.747]
[66495,"Eckstein, Helmut","SM II","MGC Ingolstadt","BMV",111.759]
[67827,"Holtmann, Marcus","SM I","CGV Hamm 2019","NBV",111.768]
[24877,"Krause, Achim","SM II","BGC Dormagen","NBV",111.8]
[37998,"Kurtz, Patrick","H","Bochumer MC 1960","NBV",111.807]
[23321,"Kuß, Jürgen","SM II","1. MGC Mannheim 1968","MRP",111.815]
[67265,"Ploch, Andrea","SW I","CGC Rauschenberg","HBSV",111.85299999999999]
[30207,"Dolch, Peter","SM II","1. CGC Rot-Weiß Groß-Umstadt","HBSV",111.858]
[67317,"Allmacher, Jürgen","SM I","MGC Traben-Trarbach","MRP",111.89400000000001]
[67797,"Winter, Roland","SM II","MGC Rot-Weiß Wanne-Eickel","NBV",111.908]
[183,"Beneking, Erwin","SM II","VfB Osnabrück von 1984","NBV",111.961]
[33708,"Wimmer, Kirsten","SW II","MSC Bensheim-Auerbach","HBSV",111.977]
[67601,"Schmiedlin, Manfred","SM II","MGF Waldshut 1974","BBS",112.001]
[33788,"Möckel, Jutta","SW II","MGC Bad Soden-Salmünster","HBSV",112.011]
[65839,"Krumm, Melanie","SW I","HMC Büttgen","NBV",112.029]
[68084,"Schmitt, David","SCHM","1. Mainzer MGC","MRP",112.11]
[34233,"Klein, Kerstin","SW I","1. BGC Hannover","MVBN",112.111]
[67848,"Matthes, Dirk","H","Kölner MC","NBV",112.11799999999999]
[67252,"Driemel, Alfons","SM II","MGC Ravensburg-Weingarten","WBV",112.143]
[67330,"Pape, Jürgen","SM II","Elbhavelland Abt. Minigolfsport","BVSA",112.167]
[67310,"Roland, Peter","SM II","MC \"Möve\" Cuxhaven-Sahlenburg","MVBN",112.19]
[11191,"Niederdräing, Dieter","SM II","MGC-Felderbachtal 1964","NBV",112.20699999999999]
[67653,"Schmidt, Annemarie","SW II","MGC Murnau am Staffelsee","BMV",112.23]
[66892,"Beck, Christian","H","1. BGC Landshut","BMV",112.235]
[67993,"Uhlmann, Petra","SW I","MGC Kahler Sandhasen","HBSV",108.93899999999999]
[67986,"Richter, Florian","JM","1. BGC Leipzig","BVS",112.248]
[68089,"Freitag, Marlena Louisa","SCHW","BSC Ennepetal","NBV",112.255]
[3634,"Ehresmann, Gerda","SW II","1. MGC Ludwigshafen 1964","MRP",112.294]
[68012,"Wickel, Leonie","JW","MGC Heven","NBV",112.31]
[6721,"Senke, Bärbel","SW II","MGC Rot-Weiß Wanne-Eickel","NBV",112.343]
[28605,"Bauermeister, Stephan","SM II","MGC Murnau am Staffelsee","BMV",112.35599999999999]
[5511,"Nowak, Wilfried","SM II","MSK Neheim-Hüsten","NBV",112.39100000000001]
[67289,"Pape, Ulrich","SM II","MSV Bad Kreuznach","MRP",112.39400000000001]
[40419,"Brandes, Wolfgang","SM I","Elbhavelland Abt. Minigolfsport","BVSA",112.396]
[37611,"Neuburger, Erika","D","SSV Ulm 1846 Abt. Bahnengolf","WBV",112.407]
[67403,"Michalski, Miroslaw","H","MGC Dormagen-Brechten","NBV",112.41200000000001]
[38636,"Rose, Heidemarie","SW II","BGC Dormagen","NBV",112.429]
[34564,"Siol, Gerald","SM II","SC Bad Münder Abt. Bahnengolf","MVBN",112.458]
[36767,"Schacke, Doris","SW II","VfM Berlin Spandau","BVBB",112.468]
[66704,"Stallkamp, Thomas","SM I","MC Georgsmarienhütte","NBV",112.47]
[67199,"Doll, Silke","SW I","BGSV Bad Homburg v. d.H.","HBSV",112.51]
[66077,"Koch, Claudia","D","VFB 21 Neugattersleben","BVSA",112.51]
[66409,"Wolf, Arnold","SM II","SC Bastion Rot-Weiß Lippstadt 1964","NBV",112.532]
[65536,"Wenkert, Robert","SM II","BSV 82 Ohlsbach","BBS",112.55800000000001]
[27300,"Losch, Thomas","SM II","1. BGC Hannover","MVBN",112.572]
[67796,"Winter, Elisabeth","SW II","MGC Rot-Weiß Wanne-Eickel","NBV",112.584]
[42436,"Wenzel, Detlef","SM II","BGV Backumer Tal Herten","NBV",112.64400000000001]
[68100,"Humbek, Daniel","H","MGC \"Stahlquelle\" Bad Bocklet 1989","BMV",112.669]
[35317,"Jacobs, Marco","H","TSV Arendsee Abt. Minigolf","BVSA",112.679]
[67873,"Bräuer, Leon","JM","MGC Marl 1960","NBV",112.69799999999999]
[36001,"Lohmann, Christian","H","CGV Hamm 2019","NBV",112.715]
[66176,"Müller, Michael","SM II","SC Bad Münder Abt. Bahnengolf","MVBN",112.71899999999999]
[67788,"Hartz, Detlef","SM II","BGSV Bad Homburg v. d.H.","HBSV",112.726]
[67661,"Drees, Holger","SM II","Tempelhofer MV 65","BVBB",112.739]
[37460,"Stürmer, Klaus","SM II","BGC Bildstock","SaarMV",112.742]
[66898,"Schulte, Michael","SM II","VfB Osnabrück von 1984","NBV",112.755]
[5959,"Völk, Johannes","SM II","MGC Murnau am Staffelsee","BMV",112.76]
[35765,"Hammann, Marina","SW II","MC Ilvesheim","BBS",112.767]
[29869,"Knorr, Dietmar","SM I","1. KGC Mönchengladbach","NBV",112.779]
[87515,"Schauer, Julian","H","PTSV Hof Abt. Minigolf","BMV",112.78]
[35239,"Iffland, Peter","SM II","MGC Rot-Weiß Wanne-Eickel","NBV",112.83799999999999]
[3569,"Zeller, Gerd","SM II","Olchinger MSK","BMV",112.845]
[36712,"Walther, Hans-Jürgen","SM II","BGC Assindia Essen","NBV",112.858]
[67449,"Frank, Ute","SW II","VfL Lohbrügge von 1892 Abt. Bahnengolf","HBV",112.86]
[68043,"Scharf, Sebastian","H","TSV Arendsee Abt. Minigolf","BVSA",112.86199999999999]
[44705,"Krämer, Mathias","SM I","MSC blau-weiss 2003 München","BMV",112.866]
[66557,"Mühlstein, Peter","SM II","1. BGC Landshut","BMV",112.901]
[66843,"Aichele, Rainer","SM II","MGC Monrepos","WBV",112.917]
[4892,"Kissenkötter, Franz","SM II","1. MGC Köln 1961","NBV",112.943]
[38123,"Barke, Mario","SM I","1. Essener CGC \"Blau-Gold\"","NBV",113.001]
[37807,"Morschick, Detlef","SM II","BGC Dormagen","NBV",113.02200000000001]
[67899,"Krüger, Sven","H","BGC Bremen","MVBN",113.05200000000001]
[45994,"Luckei, Bettina","SW I","1. MGC Lohfelden","MVBN",113.056]
[66403,"Bläsing, Julia","D","BGS Hardenberg-Pötter","NBV",113.083]
[66583,"Becker, Heinz","SM II","MGC Kahler Sandhasen","HBSV",113.645]
[6014,"Teine, Heinrich","SM II","BGSV Kerpen","NBV",113.191]
[68020,"Stürzebecher, Elke","SW II","MGC Rot-Weiß Wanne-Eickel","NBV",113.196]
[67970,"Wernozak, Elke","SW II","VfL Lohbrügge von 1892 Abt. Bahnengolf","HBV",113.20399999999999]
[65677,"Behrens, Christiane","SW II","BGC Goslar","MVBN",113.215]
[67989,"Bohlig, Gabi","SW I","MGC Kahler Sandhasen","HBSV",117.10899999999999]
[67867,"Wondraczek, Sascha","H","1. MGC Köln 1961","NBV",113.267]
[67891,"Roth, Roland","SM II","1. KC Homburg-Saar 1967","SaarMV",113.267]
[66553,"Garbe, Michael","SM II","MSG Kempten","BMV",113.286]
[62949,"Krawutschke, Hildegard","SW II","Niendorfer MC v. 1963","HBV",113.28700000000001]
[37631,"Rötter, Thomas","SM II","MGC Nümbrecht","NBV",113.304]
[24151,"Brandt, Tobias","SM II","CGC Rauschenberg","HBSV",113.33199999999999]
[1742,"Jacobs, Ralf","SM I","TSV Arendsee Abt. Minigolf","BVSA",113.336]
[66841,"Prill, Anne-Katrin","SW I","MGC Karlshagen","BVBB",113.352]
[67177,"Schmäck, Birgit","SW II","1. KGC Mönchengladbach","NBV",113.379]
[49154,"Hirle, Paul","SM I","MSC blau-weiss 2003 München","BMV",113.416]
[67529,"Schramm, Julia","JW","MGC Bad Bodendorf","NBV",113.47499999999999]
[67675,"Brünger, Axel","SM II","MGC Bad Salzuflen","NBV",113.498]
[48980,"Clemens, Jan","SM I","MGC Marl 1960","NBV",113.52200000000001]
[2053,"Kinnemann, Bernd","SM II","1. MGC 1970 Göttingen","MVBN",113.53700000000001]
[66198,"Laurenz, Horst","SM II","MSG Kempten","BMV",113.571]
[65834,"Wendt, Amelie","D","MSG Kempten","BMV",113.584]
[66824,"Kronschnabl, Susann","D","1. Münchener Minigolf-Club","BMV",113.59]
[3309,"Weyandt, Christian","SM II","SSV Ulm 1846 Abt. Bahnengolf","WBV",113.627]
[68068,"Weiß, Monika","SW II","MGC Kahler Sandhasen","HBSV",118.31]
[67528,"Beining, Sophie","D","Osnabrücker M.-C. von 1963","NBV",113.648]
[67272,"Szukowski, Ilka","SW II","BSG Pneumant Fürstenwalde Abt. Minigolf","BVBB",113.684]
[43350,"Rieder, Wolfgang","SM II","MGF Waldshut 1974","BBS",113.71599999999999]
[35788,"Erhard, Wolfram","SM II","BGC Rheinau-Freistett","BBS",113.78700000000001]
[29486,"Meyer, Josef","SM I","1. KGC Mönchengladbach","NBV",113.8]
[34296,"Hägele, Robert","SM I","MGC Bad Feilnbach","BMV",113.845]
[67206,"Aust, Petra","SW II","VfM Bottrop","NBV",113.872]
[28086,"Eschmann, Dirk","H","1. MGC Ludwigshafen 1964","MRP",113.881]
[66624,"Negwer, Ernst-Georg","SM II","MGC \"Stahlquelle\" Bad Bocklet 1989","BMV",113.898]
[67863,"Schütz, Valentin","SCHM","1. BGC Singen","BBS",113.904]
[67806,"Musielak, Rafaela","SW II","BGSC \"Gut Schlag\" Gladbeck","NBV",113.91200000000001]
[66707,"Gefreyer, Sarah","D","BGC Diepholz","MVBN",113.917]
[38635,"Rose, Benjamin","H","BGC Dormagen","NBV",113.92100000000001]
[67764,"Arnold, Leon","JM","BIG Ingelfingen 2020","WBV",113.93899999999999]
[36844,"Lödige, Gerhard","SM II","VfB Osnabrück von 1984","NBV",113.97]
[67770,"Meiran, Felix","H","MC Georgsmarienhütte","NBV",113.973]
[43996,"Stallmann, Sebastian","SM I","MGC Marl 1960","NBV",113.98]
[6025,"Kleyer, Erich","SM II","BGSV Castrop 1961","NBV",113.98699999999999]
[67991,"Weiß, Klaus","SM II","MGC Kahler Sandhasen","HBSV",120.31]
[67869,"Dorny, Jan","SCHM","MGC Rot-Weiß Wanne-Eickel","NBV",113.992]
[66491,"Corinth, Marco","SM I","1. MGC Gelsenkirchen","NBV",114.01]
[67428,"Schmidt, Regina","SW II","BGSV Aßlar 1987","HBSV",114.018]
[36108,"Schwind, Karl-Willi","SM II","MGC Dormagen-Brechten","NBV",114.02200000000001]
[35406,"Hüsges, Marcel","H","MC \"Möve\" Cuxhaven-Sahlenburg","MVBN",114.029]
[5081,"Fuchs, Angela","SW II","BGC Neutraubling","BMV",114.051]
[67123,"Behrens, Julien","H","BGC Goslar","MVBN",114.09399999999999]
[44774,"Kulse, Peter","SM II","MGC Olympia Kiel","SHMV",114.098]
[67997,"Bohlig, Tim","H","MGC Kahler Sandhasen","HBSV",999]
[67060,"Schmalix, Herbert","SM I","1. Münchener Minigolf-Club","BMV",114.105]
[67722,"Schlögl, Wolfmar ","SM II","MGC Ravensburg-Weingarten","WBV",114.143]
[67200,"Jordan, Oliver","SM I","BGSV Bad Homburg v. d.H.","HBSV",114.17700000000001]
[67501,"Hagel, Andreas","H","Minigolf Wölfe Rheinstetten 02","BBS",114.211]
[6664,"Sassenberg, Manfred","SM II","1. Mainzer MGC","MRP",114.217]
[68013,"Löttker, Dieter","SM II","BGSV Kerpen","NBV",114.22499999999999]
[68025,"Stolzenhain, Till","H","Böllberger SG 185 Abt. Minigolfsport","BVSA",114.229]
[67741,"Lück, Sylvia","SW I","BV Sennestadt","NBV",114.25]
[40819,"Fiedler, Bärbel","SW II","MGF Magdeburg","BVSA",114.26]
[67274,"Henkel, Eberhard","SM II","BSG Pneumant Fürstenwalde Abt. Minigolf","BVBB",114.267]
[67165,"Hollensteiner, Birte","SW I","BV Sennestadt","NBV",114.306]
[67456,"Gäbelein, Klaus-Jürgen","SM II","BSG Pneumant Fürstenwalde Abt. Minigolf","BVBB",114.31699999999999]
[67733,"Falck, Franziska","D","Elbhavelland Abt. Minigolfsport","BVSA",114.33799999999999]
[67703,"Reher, Hannelore","SW II","VfL Lohbrügge von 1892 Abt. Bahnengolf","HBV",114.348]
[68104,"Moll, Fabian","SCHM","1. MC Weinheim","BBS",114.352]
[65404,"Beckert, Martin","SM II","MSV Bad Münder/Springe von 2005","MVBN",114.369]
[34489,"Müller, Elli","SW II","MSC Bad Godesberg","NBV",114.379]
[38028,"Holtz, Peter","SM II","1. MGC Rheinhausen","NBV",114.393]
[5324,"Pieper, Ulrich","SM II","MGC Traben-Trarbach","MRP",114.39400000000001]
[28696,"Herrmann, Otmar","SM II","MGC Traben-Trarbach","MRP",114.39400000000001]
[67442,"Peithmann, Wiebke","JW","1. Essener CGC \"Blau-Gold\"","NBV",114.4]
[46386,"Stendel, Christian","SM II","Reinickendorfer MGC","BVBB",114.417]
[67944,"Gebhart, Jochen","SM I","Olchinger MSK","BMV",114.498]
[67822,"Schlauer, Fabian","H","TSV Arendsee Abt. Minigolf","BVSA",114.527]
[32908,"Schwab, Marianne","SW II","SC Bad Münder Abt. Bahnengolf","MVBN",114.535]
[67316,"Kunisch, Jennifer","D","MGC Monrepos","WBV",114.538]
[45345,"Schmidt, Barbara","SW II","1. FMGC Lichtenfels 1961","BMV",114.577]
[67638,"Bucksch, Francoise","SW I","MGC Bergisch Gladbach Gierath","NBV",114.59699999999999]
[36107,"Schwind, Regina","SW II","MGC Dormagen-Brechten","NBV",114.616]
[67914,"Iba, Meik","SM I","1. MGC Lohfelden","MVBN",114.629]
[67998,"Blumöhr, Leo","SCHM","MGC Kahler Sandhasen","HBSV",999]
[67208,"Bräuer, Janine","D","MGC Marl 1960","NBV",114.65900000000001]
[66492,"Andrejewski, Uwe","SM I","1. MGC Gelsenkirchen","NBV",114.676]
[67736,"Hofmann, Evelyn","D","Niendorfer MC v. 1963","HBV",114.68600000000001]
[42417,"Liebstückel, Ruth","SW II","MGC Wertheim ´91","BMV",114.687]
[67518,"Riehl, Susanne","D","1. Mainzer MGC","MRP",114.717]
[67077,"Kraaz, Herwart","SM II","MTV Seesen von 1862 Abt. Bahnengolf","MVBN",114.729]
[47134,"Volkmer, Michael","SM I","BV Sennestadt","NBV",114.73399999999999]
[67782,"Beyer, Sabine","SW II","BSG Pneumant Fürstenwalde Abt. Minigolf","BVBB",114.754]
[67061,"Bayer, Willi","SM II","BIG Asperg 1982","WBV",114.767]
[43588,"Fischer, Astrid","SW I","1. BGC Wolfsburg","MVBN",114.81399999999999]
[67996,"Ertl, Laszlo","SM II","MGC Kahler Sandhasen","HBSV",999]
[44812,"Lassen, Günter","SM II","MSC Herscheid 1963","NBV",114.874]
[67941,"Reimann, Jörg","SM I","BGSC \"Gut Schlag\" Gladbeck","NBV",114.877]
[67192,"Beyer, Frank","SM II","1. MGC Kassel-Vellmar 1964","MVBN",114.879]
[67981,"Engel, Alexander","H","Kölner MC","NBV",114.9]
[67004,"Bissinger, Vera","SW I","MGC Monrepos","WBV",114.931]
[67275,"Schmidt, Peter","SM II","BSG Pneumant Fürstenwalde Abt. Minigolf","BVBB",114.971]
[67394,"Strohmenger, Uwe","SM II","1. MC Weinheim","BBS",115.018]
[67988,"Kuzel, Martin","SM I","MGC Kahler Sandhasen","HBSV",999]
[37139,"Wehn, Dieter","SM II","MGC \"Stahlquelle\" Bad Bocklet 1989","BMV",115.327]
[87506,"Brendler, Sandra","D","1. MGC 1970 Göttingen","MVBN",115.39400000000001]
[66668,"Zehm, Ingrid","SW II","SC Bastion Rot-Weiß Lippstadt 1964","NBV",115.42100000000001]
[65975,"Lichterfeld, Hans-Jürgen","SM II","MGC Bergisch Gladbach Gierath","NBV",115.532]
[67100,"Thomsen, Tanja","SW I","MGC Harrislee-Wassersleben","SHMV",115.565]
[37290,"Throne, Werner","SM II","PTSV Hof Abt. Minigolf","BMV",115.565]
[68132,"Frei, Gerhard","SM II","MGC Murnau am Staffelsee","BMV",115.584]
[67549,"Mattzick, Julius","JM","MGC Wetzlar","HBSV",115.637]
[67839,"Andrews, Dominik","SCHM","BGV Backumer Tal Herten","NBV",115.652]
[67994,"Reifschneider, Roland","SM II","MGC Kahler Sandhasen","HBSV",999]
[37171,"Schmitz, Ingeborg","SW II","MGC Rot-Weiß Wanne-Eickel","NBV",115.687]
[29907,"Verhoeven, Alfred","SM I","BGC Dormagen","NBV",115.68899999999999]
[68155,"Achatz, Günter","SM II","MGC Kahler Sandhasen","HBSV",999]
[67537,"Lay, Heinrich","H","MSC Bensheim-Auerbach","HBSV",115.747]
[66496,"Eckstein, Sonja","SW II","MGC Ingolstadt","BMV",115.759]
[66205,"Schreiber, Udo","SM II","1. MGC Epe 1978","NBV",115.78100000000001]
[67268,"Baldauf, Thomas","SM II","BSG Pneumant Fürstenwalde Abt. Minigolf","BVBB",115.81699999999999]
[67530,"Schramm, Oliver","SM I","MGC Bad Bodendorf","NBV",115.943]
[67439,"Holz, Ulrich","SM II","PTSV Hof Abt. Minigolf","BMV",115.96899999999999]
[67238,"Draber, Lucas","JM","1. FMGC Lichtenfels 1961","BMV",115.97499999999999]
[68011,"Hopf, Brigitte","SW I","Olchinger MSK","BMV",115.986]
[68057,"Stephan, Hans-Joachim","SM II","1. BGC Celle von 1964","MVBN",116.005]
[67751,"Breitbach, Miriam","D","MGC Bergisch Gladbach Gierath","NBV",116.04600000000001]
[67880,"Nolte, Andreas","H","1. MGC Lohfelden","MVBN",116.129]
[36672,"Schlai, Thomas","H","BGC Illertissen","BMV",116.251]
[68045,"Tetsch, Sebastian","H","TSV Arendsee Abt. Minigolf","BVSA",116.33799999999999]
[36091,"Lindauer, Alfred","SM II","OMGC Ingolstadt","BMV",116.367]
[67718,"Lange, Justin","H","TSV Arendsee Abt. Minigolf","BVSA",116.36799999999999]
[67723,"Zwick, Josef","SM II","MGC Ravensburg-Weingarten","WBV",116.393]
[37225,"Becker, Michael","SM I","SG 1886 Weiterstadt Abt. Bahnengolf","HBSV",105.914]
[66005,"Suchy, Dagmar","SW II","BGSV Bad Homburg v. d.H.","HBSV",116.503]
[68021,"Schmitz, Martin","SM II","VfB Osnabrück von 1984","NBV",116.506]
[6642,"Schankweiler, Erich","SM II","1. BGC Celle von 1964","MVBN",116.623]
[67590,"Herhold, Hans-Jürgen","SM II","1. MGC Rheinhausen","NBV",116.642]
[67687,"Bayer, Jannik","SCHM","BIG Asperg 1982","WBV",116.767]
[66163,"Drebert, Clementine","SW II","SG 1886 Weiterstadt Abt. Bahnengolf","HBSV",106.816]
[67331,"Pape, Christina","SW II","Elbhavelland Abt. Minigolfsport","BVSA",116.979]
[66911,"Friedmann, Thomas","SM I","SG 1886 Weiterstadt Abt. Bahnengolf","HBSV",109.468]
[10650,"Raffler, Walther","SM II","1. Essener CGC \"Blau-Gold\"","NBV",117.14400000000001]
[67321,"Laurenz, Anja","SW I","Osnabrücker M.-C. von 1963","NBV",117.193]
[37864,"Drebert, Erich","SM I","SG 1886 Weiterstadt Abt. Bahnengolf","HBSV",110.249]
[66993,"Rein, Leonie","JW","1. MGC Ludwigshafen 1964","MRP",117.236]
[35374,"Fander, Christel","SW II","1. KGC Mönchengladbach","NBV",117.264]
[67385,"Ciachera, Marion","SW II","1. MGC Rheinhausen","NBV",117.282]
[67126,"Heber, Bernd","SM II","SG 1886 Weiterstadt Abt. Bahnengolf","HBSV",112.24]
[67225,"Rümmelin, Eycke","SW I","BSV Inzlingen 1979","BBS",117.41800000000001]
[66623,"Negwer, Ursula","SW II","MGC \"Stahlquelle\" Bad Bocklet 1989","BMV",117.48399999999999]
[66014,"Wendt, Elfi","SW II","MSG Kempten","BMV",117.502]
[67984,"Stürzebecher, Jürgen","SM II","MGC Rot-Weiß Wanne-Eickel","NBV",117.574]
[37610,"Niedl, Roland","SM II","BGC Illertissen","BMV",117.599]
[67172,"Bohleber, Hans-Dieter","SM II","BSV 82 Ohlsbach","BBS",117.798]
[66855,"Kurkowski, Thorsten","SM I","1. MGC Gelsenkirchen","NBV",117.843]
[66868,"Dolch, Marie-Theres","D","1. CGC Rot-Weiß Groß-Umstadt","HBSV",117.858]
[68029,"Kirsch, Rahel","D","1. Münchener Minigolf-Club","BMV",117.872]
[34570,"Hauschke, Karin","SW II","1. MGC Rheinhausen","NBV",117.976]
[34305,"Burkert, Renate","SW II","MGV Bremen","MVBN",118.157]
[67905,"Maier, Thomas","SM II","MSG Kempten","BMV",118.175]
[49136,"Czernoch, Michael","SM II","MSC blau-weiss 2003 München","BMV",118.285]
[67309,"Rastetter, Lucas","JM","CGC Blau-Gelb Grötzingen 1968","BBS",118.28700000000001]
[68065,"Heber, Heidi","SW II","SG 1886 Weiterstadt Abt. Bahnengolf","HBSV",116.411]
[34013,"Golder, Heiko","SM I","Reinickendorfer MGC","BVBB",118.34699999999999]
[9033,"Grabrucker, Elfriede","SW II","OMGC Ingolstadt","BMV",118.53400000000001]
[68035,"Solasse, Lewin","SCHM","BGC Bad Nenndorf","MVBN",118.59699999999999]
[5129,"Heinrich, Werner","SM II","1. M.S.C. Wesel 6.6.66","NBV",118.65900000000001]
[67400,"Guney, Thomas","SM II","VfB Osnabrück von 1984","NBV",118.721]
[67242,"Amely, Tobias","SM II","MSC Bad Godesberg","NBV",118.73]
[67244,"Bielmann, Swen","H","1. MGC Gelsenkirchen","NBV",118.899]
[67422,"Heuger, Melanie","D","PTSV Hof Abt. Minigolf","BMV",118.90300000000001]
[42798,"Kuck, Dieter","SM II","BGV Backumer Tal Herten","NBV",118.99]
[67824,"Berndt, Frederike","D","TSV Arendsee Abt. Minigolf","BVSA",119.11]
[68129,"Ingenpass, Ralf","SM I","MC Georgsmarienhütte","NBV",119.255]
[67619,"Bähr, Jonas","SCHM","Niendorfer MC v. 1963","HBV",119.524]
[67940,"Thul, Ingo","SM II","BGSC \"Gut Schlag\" Gladbeck","NBV",119.627]
[67307,"Miebach, Horst","SM II","MGC Nümbrecht","NBV",119.64100000000001]
[67642,"Kizinski, Bärbel","SW II","Elbhavelland Abt. Minigolfsport","BVSA",119.67]
[67977,"Holzleitner, Nadine","D","1. MGC München-Feldmoching","BMV",119.777]
[67223,"Stier, Hans-Dieter","SM II","1. MC Weinheim","BBS",119.812]
[67303,"Bruelheide, Rouven","SM I","MGC Bad Salzuflen","NBV",119.858]
[67662,"Kampmann, Sabine","SW II","BGV Backumer Tal Herten","NBV",119.879]
[68071,"Krautzberger, Tilman","H","1. MGC Lohfelden","MVBN",119.89]
[68018,"Brückner, Constantin","SCHM","BGC Bad Nenndorf","MVBN",119.99]
[35541,"Rastetter, Yvonne","D","CGC Blau-Gelb Grötzingen 1968","BBS",120.001]
[65678,"Behrens, Friedhelm","SM II","BGC Goslar","MVBN",120.08]
[67857,"Krull, Domenica","D","1. MGC Lohfelden","MVBN",120.139]
[67838,"Haberecht, Michael","SM II","VfL Lohbrügge von 1892 Abt. Bahnengolf","HBV",120.215]
[37112,"Schüttler, Ronny","H","SG 1886 Weiterstadt Abt. Bahnengolf","HBSV",999]
[67853,"Staritz, Nadine","D","Böllberger SG 185 Abt. Minigolfsport","BVSA",120.32899999999999]
[68042,"Bethge, Benjamin","H","TSV Arendsee Abt. Minigolf","BVSA",120.36]
[68032,"Stark, Felix","JM","PTSV Hof Abt. Minigolf","BMV",120.44199999999999]
[67826,"Schuppenhauer, Rainer","SM II","Hamburger MC von 1965","HBV",120.45099999999999]
[35625,"Steuer, Helmut","SM II","BGC Illertissen","BMV",120.584]
[67457,"Harnyss, Else","SW II","BSG Pneumant Fürstenwalde Abt. Minigolf","BVBB",120.83]
[66656,"Rhyn, Michel","SM I","SG Arheilgen 1876/1945 Abt. Bahnengolf","HBSV",94.352000000000004]
[35518,"Rudloff, Olaf","SM II","1. MGC Gelsenkirchen","NBV",121.027]
[68017,"Brückner, Luisa Victoria","SCHW","BGC Bad Nenndorf","MVBN",121.038]
[63691,"Hönicke, Ronny","H","MGC \"Stahlquelle\" Bad Bocklet 1989","BMV",121.187]
[67692,"Hengsberg, Tim","JM","MGC Bad Bodendorf","NBV",121.279]
[16823,"Braungart Zink, Achim","H","SG Arheilgen 1876/1945 Abt. Bahnengolf","HBSV",94.831999999999994]
[67672,"Ries, Kerlyn","D","1. FMGC Lichtenfels 1961","BMV",121.506]
[66049,"Blümer, Severin","H","SG Arheilgen 1876/1945 Abt. Bahnengolf","HBSV",95.715999999999994]
[1717,"Jurek, Andreas P.","SM II","BGSV Bad Homburg v. d.H.","HBSV",122.503]
[38404,"Edsen, Gina","SW I","MGC Harrislee-Wassersleben","SHMV",122.565]
[68122,"Marx, Irmgard","SW II","MSG Kempten","BMV",122.584]
[67519,"Riehl, Mike","H","1. Mainzer MGC","MRP",122.717]
[67415,"Preißler, Robert","SM II","MSG Kempten","BMV",122.79300000000001]
[67735,"Hofmann, Lennard","SCHM","Niendorfer MC v. 1963","HBV",122.881]
[34869,"Müller, Lydmila","D","SC Bastion Rot-Weiß Lippstadt 1964","NBV",122.977]
[37355,"Bär, Uwe","SM II","1. BGC Wesseling 1975","NBV",123.279]
[68039,"Reimann, Ursula","SW II","BGSC \"Gut Schlag\" Gladbeck","NBV",123.377]
[67898,"Kussauer, Shirley","D","Bochumer MC 1960","NBV",123.40900000000001]
[66550,"Rachl, Conny","SW I","MSG Kempten","BMV",123.584]
[21326,"Schlösser, Hans-Günter","SM II","BGSV Kerpen","NBV",123.59699999999999]
[68055,"Gäbelein, Erik","JM","TG Höchberg von 1862 Bahnengolf","BMV",123.72799999999999]
[17833,"Kroßa, Erwin","SM II","BV Sennestadt","NBV",123.78700000000001]
[68044,"Bethge, Jenny","D","TSV Arendsee Abt. Minigolf","BVSA",123.86]
[66081,"Schuller, Christoph","H","Olchinger MSK","BMV",124.806]
[67854,"Keppler, Jette","D","1. MGC Süßen","WBV",124.907]
[34826,"Klassen, Oleg","H","SG Arheilgen 1876/1945 Abt. Bahnengolf","HBSV",95.766000000000005]
[67967,"Dauti, Daniel","H","1. MGC Lohfelden","MVBN",125.806]
[29252,"Hense, Danny","H","SG Arheilgen 1876/1945 Abt. Bahnengolf","HBSV",97.317999999999998]
[68099,"Hönicke, Lara Zoe","JW","MGC \"Stahlquelle\" Bad Bocklet 1989","BMV",126.437]
[67591,"Gut, Anna-Lena","JW","MGF Waldshut 1974","BBS",126.572]
[68070,"Berggötz, Tobias","H","1. MGC Lohfelden","MVBN",126.973]
[68047,"Horstmann, Lisa","D","TSV Arendsee Abt. Minigolf","BVSA",128.33799999999999]
[67889,"Wiedl, Marvin","H","PTSV Hof Abt. Minigolf","BMV",129.459]
[50644,"Krämer, Bärbel","SW II","MSC blau-weiss 2003 München","BMV",131.178]
[68038,"Haberecht, Heidi","SW II","VfL Lohbrügge von 1892 Abt. Bahnengolf","HBV",131.71]
[65961,"Vennemann, Ralf","SM II","VfB Osnabrück von 1984","NBV",133.114]
[67966,"Krull, Haylie Sophie","SCHW","1. MGC Lohfelden","MVBN",133.88900000000001]
[68098,"Hönicke, Lion Ronny Franco","SCHM","MGC \"Stahlquelle\" Bad Bocklet 1989","BMV",134.18700000000001]
[68063,"Heuer, Joshua","SCHM","Niendorfer MC v. 1963","HBV",135.47999999999999]
[68148,"Schuster, Nicole","D","PTSV Hof Abt. Minigolf","BMV",138.774]
[68041,"Bethge, Baily","SCHW","TSV Arendsee Abt. Minigolf","BVSA",144.36000000000001]
[66825,"Jecny, Martin","H","BGS Hardenberg-Pötter","NBV",999]
[65977,"Piehl, Werner","SM II","MGC Bergisch Gladbach Gierath","NBV",999]
[49672,"Mahl, Josef","SM II","1. BGC Garmisch-Partenkirchen","BMV",999]
[40227,"Kampschulte, Frank","SM I","MSC Herscheid 1963","NBV",999]
[34812,"Brechtel, Benjamin","H","MGC Ravensburg-Weingarten","WBV",999]
[26787,"Spohr, Volker","SM II","1. BGC Leipzig","BVS",999]
[42964,"Wilsch, Petra","SW II","BSC Ennepetal","NBV",999]
[26327,"Arenz, Christoph","H","MSC Bad Godesberg","NBV",999]
[66442,"Hintermeier, Raphael","H","BGC Neutraubling","BMV",999]
[31272,"Fuchs, Thomas","SM II","MC Tigers Künsebeck","NBV",999]
[3522,"Rosenkranz, Ingeborg","SW II","OMGC Ingolstadt","BMV",999]
[66031,"Diener, Julian","H","BGC Northeim","MVBN",999]
[33330,"Selvitella, Gerardo","SM II","MGC Friedrichshafen","WBV",999]
[34712,"Henke, Björn","H","MGC Freizeitzentrum Biebertal","NBV",999]
[67185,"Breitfeld, Johannes","SM I","MSG Kempten","BMV",999]
[67719,"Thomsen, Flemming","JM","MGC Brunsbüttel","SHMV",999]
[66345,"Heuser, Andreas","H","MGC Bergisch Gladbach Gierath","NBV",999]
[67706,"Maczkiewicz, Benjamin","H","BGV Backumer Tal Herten","NBV",999]
[33904,"Dautert, Thomas","SM I","BGV Backumer Tal Herten","NBV",999]
[37194,"Heipel, Ingmar","H","SG Arheilgen 1876/1945 Abt. Bahnengolf","HBSV",97.492999999999995]
[66856,"Rogall, Heinz-Friedrich","SM II","MGC-Felderbachtal 1964","NBV",999]
[67842,"Roth, Hans Bruno","SM II","1. MC Weinheim","BBS",999]
[63302,"Bien, Kurt","SM II","1. MGC Ludwigshafen 1964","MRP",999]
[902,"Laskowski, Janina","D","1. BGC Hannover","MVBN",999]
[4880,"Trillges, Brigitte","SW II","BGSV Kerpen","NBV",999]
[17987,"Trillges, Adi","SM II","BGSV Kerpen","NBV",999]
[67766,"Freudenberg, Chris Vanessa","SW II","BV Sennestadt","NBV",999]
[38115,"Lenz, Jürgen","SM II","HMC Büttgen","NBV",999]
[33673,"Dehne, Joachim","SM II","1. BGC Paderborn","NBV",999]
[32975,"Pester, Philipp","H","SG Arheilgen 1876/1945 Abt. Bahnengolf","HBSV",98.281999999999996]
[67697,"Hößl, Benedikt","H","1. Münchener Minigolf-Club","BMV",999]
[32996,"Gebhart, Matthias","H","MGC putter Künzell 1970","HBSV",999]
[68036,"Spindeler, Andreas","SM II","BGC Schloß Paffendorf","NBV",999]
[67434,"Lüke, Wigbert","SM II","BV Sennestadt","NBV",999]
[66968,"Könen, Joshua","H","MGC Bad Bodendorf","NBV",999]
[67350,"Dhombruch, Verena","SW II","1. MC Weinheim","BBS",999]
[66167,"Pfeffer, Reinhard","SM II","MC Georgsmarienhütte","NBV",999]
[48687,"Seidel, Kurt","SM II","MGC Friedrichshafen","WBV",999]
[38112,"Weiß, Jeannette","SW I","MC Schriesheim","BBS",999]
[67450,"Frank, Bernhard","SM II","VfL Lohbrügge von 1892 Abt. Bahnengolf","HBV",999]
[66066,"Bosse, Joachim","SM II","MGC Bad Salzuflen","NBV",999]
[30278,"Wickel, Frank","SM II","MGC Heven","NBV",999]
[36532,"van Vught, Jan","H","SG Arheilgen 1876/1945 Abt. Bahnengolf","HBSV",98.328000000000003]
[67065,"Gries, Christine","SW I","SSV Ulm 1846 Abt. Bahnengolf","WBV",999]
[34951,"Pfingst, Cynthia","SW I","1. BGC Leipzig","BVS",999]
[35402,"Zazzi, Thorsten","SM I","1. Essener CGC \"Blau-Gold\"","NBV",999]
[67810,"Ehrentraut, Wolfgang","SM II","BGSC \"Gut Schlag\" Gladbeck","NBV",999]
[66281,"Stertkamp, Elisabeth","SW II","BV Sennestadt","NBV",999]
[67402,"Endter, Jonas","JM","1. BGC Leipzig","BVS",999]
[67959,"Bourchard, Ariane","SW II","BGSV Castrop 1961","NBV",999]
[38216,"Unglaube, Thomas","SM I","BGC Dormagen","NBV",999]
[67658,"Knörle, Klaudia","SW II","BIG Ingelfingen 2020","WBV",999]
[67833,"Laufenberg, Ludwig","SM II","BGS Hardenberg-Pötter","NBV",999]
[67980,"Engel, Katharina","D","Kölner MC","NBV",999]
[44929,"Hess, Rainer","SM I","SG Arheilgen 1876/1945 Abt. Bahnengolf","HBSV",98.963999999999999]
[36137,"Bauermeister, Barbara","SW I","MGC Murnau am Staffelsee","BMV",999]
[68026,"Aubel, Nico","H","Böllberger SG 185 Abt. Minigolfsport","BVSA",999]
[66640,"Tritsch, Levi","SCHM","SG Arheilgen 1876/1945 Abt. Bahnengolf","HBSV",99.119]
[67691,"Kirchhöfer, Thomas","SM I","1. CGC Rot-Weiß Groß-Umstadt","HBSV",999]
[67084,"Dickert, Stefan","H","1. CGC Rot-Weiß Groß-Umstadt","HBSV",999]
[43405,"Kaiser, Michael","SM II","BGSV Bad Homburg v. d.H.","HBSV",999]
[45964,"Lange, Heinz-Jürgen","SM II","BGSV Bad Homburg v. d.H.","HBSV",999]
[33385,"Oberding, Hermann","SM II","Biskirchener BGV","HBSV",999]
[37247,"Friedrich, Klaus","SM I","Biskirchener BGV","HBSV",999]
[66379,"Raschke, Jörg","SM I","Biskirchener BGV","HBSV",999]
[31259,"Pfeiffer, Holger","SM II","Biskirchener BGV","HBSV",999]
[65814,"Klingelhöfer, Björn","H","CGC Rauschenberg","HBSV",999]
[66761,"Schmidt, Hanna","D","CGC Rauschenberg","HBSV",999]
[35896,"Weniger, Gottholde","SW I","CGC Rauschenberg","HBSV",999]
[5649,"Moll, Heidi","SW II","CGC Rauschenberg","HBSV",999]
[48318,"Bär, Tobias","SM I","MGC Bad Hersfeld","HBSV",999]
[31762,"Gress, Thomas","SM I","MGC Bad Hersfeld","HBSV",999]
[31756,"Stang, Carsten","SM I","MGC Bad Hersfeld","HBSV",999]
[35780,"Arnold, Mark","H","SG Arheilgen 1876/1945 Abt. Bahnengolf","HBSV",99.301000000000002]
[66039,"Maul, Moritz","H","SG Arheilgen 1876/1945 Abt. Bahnengolf","HBSV",99.676000000000002]
[33707,"Eigenbrod, Marco","H","SG Arheilgen 1876/1945 Abt. Bahnengolf","HBSV",99.846000000000004]
[34319,"Schneider, Alexander","H","SG Arheilgen 1876/1945 Abt. Bahnengolf","HBSV",100.242]
[36110,"Schmitt, Michael","H","SG Arheilgen 1876/1945 Abt. Bahnengolf","HBSV",100.782]
[36247,"Schneider, Andreas","H","SG Arheilgen 1876/1945 Abt. Bahnengolf","HBSV",101.122]
[47324,"Arnold, Simone","SW I","SG Arheilgen 1876/1945 Abt. Bahnengolf","HBSV",101.185]
[67117,"Meyer, Werner","SM II","SG Arheilgen 1876/1945 Abt. Bahnengolf","HBSV",103.386]
[28955,"Diehl, Rainer","SM II","SG Arheilgen 1876/1945 Abt. Bahnengolf","HBSV",103.411]
[66666,"Schneider, Timm","SM I","SG Arheilgen 1876/1945 Abt. Bahnengolf","HBSV",104.645]
[38570,"Becker, Jan","H","SG Arheilgen 1876/1945 Abt. Bahnengolf","HBSV",105.051]
[34749,"Hess-Struchen, Sandra","SW I","SG Arheilgen 1876/1945 Abt. Bahnengolf","HBSV",105.13200000000001]
[40091,"Deck, Monika","SW II","SG Arheilgen 1876/1945 Abt. Bahnengolf","HBSV",106.29900000000001]
[67612,"Mähler, Rudolf","H","SG Arheilgen 1876/1945 Abt. Bahnengolf","HBSV",109.63200000000001]
[68080,"Wittstadt, Ida","SCHW","SG Arheilgen 1876/1945 Abt. Bahnengolf","HBSV",113.264]
[66239,"Rieger, Erik","SM II","MGC Bad Soden-Salmünster","HBSV",999]
[87514,"Schmidt, Marco","SM I","MGC Bad Soden-Salmünster","HBSV",999]
[66140,"Simmerock, Jasmine","D","MGC Bad Soden-Salmünster","HBSV",999]
[35809,"Strube, Catalina","SW II","MGC Bad Soden-Salmünster","HBSV",999]
[67610,"Balzter, Annabelle","D","SG Arheilgen 1876/1945 Abt. Bahnengolf","HBSV",999]
[44303,"Becker, Karin","SW II","SG Arheilgen 1876/1945 Abt. Bahnengolf","HBSV",999]
[66162,"Becker, Lars","H","SG Arheilgen 1876/1945 Abt. Bahnengolf","HBSV",999]
[44304,"Becker, Norbert","SM II","SG Arheilgen 1876/1945 Abt. Bahnengolf","HBSV",999]
[36109,"Deck, Sabine","D","SG Arheilgen 1876/1945 Abt. Bahnengolf","HBSV",999]
[48337,"Klein, Marcel","H","MGC putter Künzell 1970","HBSV",999]
[36243,"Pekrul, Tanja","D","MGC putter Künzell 1970","HBSV",999]
[66794,"Popleteev, Ivan","H","MGC putter Künzell 1970","HBSV",999]
[48343,"Radziejewski, Mark","SM I","MGC putter Künzell 1970","HBSV",999]
[42585,"Rausch, Martin","SM I","MGC putter Künzell 1970","HBSV",999]
[6191,"Trettl, Peter","SM II","MGC putter Künzell 1970","HBSV",999]
[48335,"Wiegard, Michael","SM I","MGC putter Künzell 1970","HBSV",999]
[68162,"Bauer, Sven","SM I","MGC Wetzlar","HBSV",999]
[66485,"Jakab, Rudi","SM II","1. BGC Bad Füssing","BMV",999]
[34974,"Bunse, Paul","H","1. BGC Paderborn","NBV",999]
[46087,"Eckerle, Hans-Joachim","SM I","1. BGC Paderborn","NBV",999]
[62193,"Brand, Wilhelm","SM II","1. BGC Paderborn","NBV",999]
[48601,"Ehlebracht, Gerd","SM II","1. BGC Paderborn","NBV",999]
[67327,"Klarhold, Heribert","SM II","1. BGC Paderborn","NBV",999]
[67048,"Cervinca, Marc","H","1. BGC Bad Füssing","BMV",999]
[49980,"Wienand, Ellen","SW I","1. BGC Paderborn","NBV",999]
[4611,"Brand, Ursula","SW II","1. BGC Paderborn","NBV",999]
[65621,"Meyer, Christa","SW II","1. BGC Paderborn","NBV",999]
[66577,"Pätz, Michael","H","1. BGC Bad Füssing","BMV",999]
[26092,"Proschko, Michael","H","1. BGC Bad Füssing","BMV",999]
[31044,"Roßmeier, Markus","H","1. BGC Bad Füssing","BMV",999]
[42632,"Romano, Joachim","SM I","1. BGC Bad Füssing","BMV",999]
[41116,"Schiller, Alfred","SM I","1. BGC Bad Füssing","BMV",999]
[42640,"Materne, Erwin","SM II","1. BGC Bad Füssing","BMV",999]
[66484,"Proschko, Franz jr.","SM II","1. BGC Bad Füssing","BMV",999]
[33583,"Scheffler, Jens","H","1. BGC Wesseling 1975","NBV",999]
[29879,"Willems, Marcus","SM I","1. BGC Wesseling 1975","NBV",999]
[34954,"Slowig, Andreas","SM I","BGC Kiel West","SHMV",999]
[33960,"Schürmann, Susanne","SW II","1. BGC Wesseling 1975","NBV",999]
[65940,"Essler, Alessandro","H","1. Duisburger Minigolf Club 1962","NBV",999]
[36551,"Essler, Christian","H","1. Duisburger Minigolf Club 1962","NBV",999]
[6233,"König, Hannelore","SW II","1. MSC Hamburg-Neu Wulmstorf","HBV",999]
[4539,"König, Wolfgang","SM II","1. MSC Hamburg-Neu Wulmstorf","HBV",999]
[66483,"Merkens, Karin","SW II","1. Duisburger Minigolf Club 1962","NBV",999]
[41235,"Lemanczyk, Hans","SM II","1. MSC Hamburg-Neu Wulmstorf","HBV",999]
[62202,"Lemanczyk, Dieter","SM II","1. MSC Hamburg-Neu Wulmstorf","HBV",999]
[36229,"Meier, Manfred","SM II","BGC Kiel West","SHMV",999]
[67593,"Müller, Anna","SW II","1. Duisburger Minigolf Club 1962","NBV",999]
[38199,"Tafel, Daniel","H","1. BGC Garmisch-Partenkirchen","BMV",999]
[36894,"Tafel, Melanie","D","1. BGC Garmisch-Partenkirchen","BMV",999]
[36355,"Tafel, Julian","H","1. BGC Garmisch-Partenkirchen","BMV",999]
[41848,"Lahann, Stefan","SM II","1. MSC Hamburg-Neu Wulmstorf","HBV",999]
[47173,"Marx, Ingo","SM I","1. MSC Hamburg-Neu Wulmstorf","HBV",999]
[67470,"Zazzi, Marion","SW I","1. Essener CGC \"Blau-Gold\"","NBV",999]
[29043,"Langer, Waldemar","SM II","1. BGC Landshut","BMV",999]
[32844,"Bundtzen, Ricarda","D","1. Essener CGC \"Blau-Gold\"","NBV",999]
[41095,"Urbanski, Karsten","SM I","1. Essener CGC \"Blau-Gold\"","NBV",999]
[66500,"Becher, Andrea","SW I","1. BGC Landshut","BMV",999]
[67108,"Dunkel, Michael","H","1. BGC Landshut","BMV",999]
[30972,"Erhart, Florian","SM I","1. BGC Landshut","BMV",999]
[28574,"Sadzeck, Bernd","SM II","1. MSC Hamburg-Neu Wulmstorf","HBV",999]
[5746,"Homey, Lothar","SM II","1. Essener CGC \"Blau-Gold\"","NBV",999]
[67271,"Ewert, Klaus-Dieter","SM II","BSG Pneumant Fürstenwalde Abt. Minigolf","BVBB",999]
[64724,"Hannemann-Schmidhuber, Andreas","H","1. BGC Landshut","BMV",999]
[67235,"Kauss, Fabian","H","1. BGC Celle von 1964","MVBN",999]
[64760,"Schmidhuber, Maximilian","H","1. BGC Landshut","BMV",999]
[30123,"Olböter, Michael","SM II","1. Essener CGC \"Blau-Gold\"","NBV",999]
[38374,"Kobbe, Philip","H","1. BGC Celle von 1964","MVBN",999]
[24288,"Stamm, Dirk","SM II","1. Essener CGC \"Blau-Gold\"","NBV",999]
[41951,"Geßner, Claudia","SW I","1. Essener CGC \"Blau-Gold\"","NBV",999]
[68022,"Menzel, Helene","SCHW","1. Essener CGC \"Blau-Gold\"","NBV",999]
[68119,"Peithmann, Andrea","SW I","1. Essener CGC \"Blau-Gold\"","NBV",999]
[68112,"Sitterli-Barkovic, Ana-Edith","SW I","1. Essener CGC \"Blau-Gold\"","NBV",999]
[63843,"Ertl, Reinhold","SM I","1. BGC Landshut","BMV",999]
[43572,"Plieninger, Stefan","SM I","1. BGC Landshut","BMV",999]
[48107,"Huber, Karl-Heinz","SM II","1. BGC Landshut","BMV",999]
[26183,"Schirrmacher, Uwe","SM II","1. MSC Hamburg-Neu Wulmstorf","HBV",999]
[6372,"Jäger, Peter","SM II","1. BGC Landshut","BMV",999]
[66736,"Löffler, Harry","SM II","1. BGC Landshut","BMV",999]
[66914,"Bieber, Detlef","SM II","1. BGC Celle von 1964","MVBN",999]
[64722,"Hannemann-Schmidhuber, Claudia","SW I","1. BGC Landshut","BMV",999]
[30000,"Ehrhardt, Volkmar","SM II","1. BGC Celle von 1964","MVBN",999]
[40033,"Ernstberger, Elisabeth","SW II","1. BGC Landshut","BMV",999]
[67226,"Mühlstein, Renate","SW II","1. BGC Landshut","BMV",999]
[42557,"Farnbacher, Stefan","SM I","1. BGC Landshut","BMV",999]
[67851,"Feldmeier, Andreas","SM I","1. BGC Landshut","BMV",999]
[68109,"Müller, Benidikt","SCHM","1. BGC Landshut","BMV",999]
[68152,"Oswald, Barbara","D","1. BGC Landshut","BMV",999]
[7607,"Peter, Uwe","SM II","1. BGC Celle von 1964","MVBN",999]
[17614,"Lange, Friedrich","SM II","1. KGC Mönchengladbach","NBV",999]
[68093,"Helms, Alexandra ","SW I","1. BGC Celle von 1964","MVBN",999]
[68163,"March, Dorothea","SW II","1. BGC Celle von 1964","MVBN",999]
[46052,"Jürs, Mario","SM I","MC Flora Elmshorn","SHMV",999]
[5082,"Endres, Hannelore","SW II","1. FMGC Lichtenfels 1961","BMV",999]
[47176,"Uhr, Werner","SM II","1. MSC Hamburg-Neu Wulmstorf","HBV",999]
[34656,"Jürs, Heiko","SM I","MC Flora Elmshorn","SHMV",999]
[67237,"Sesselmann, Christoph","H","1. FMGC Lichtenfels 1961","BMV",999]
[46946,"Schimscha, Stefan","SM I","1. FMGC Lichtenfels 1961","BMV",999]
[34772,"Scheikowski, Dirk","SM I","1. M.S.C. Wesel 6.6.66","NBV",999]
[66872,"Goller, Gerhard","SM II","1. FMGC Lichtenfels 1961","BMV",999]
[10087,"Bork, Gert","SM II","1. M.S.C. Wesel 6.6.66","NBV",999]
[44007,"Weibbrecht, Petra","SW I","1. FMGC Lichtenfels 1961","BMV",999]
[66935,"Herz, Heidi","SW I","1. MSC Hamburg-Neu Wulmstorf","HBV",999]
[66882,"Hubrecht, Kevin","H","MC Flora Elmshorn","SHMV",999]
[34108,"Bork, Elisabeth","SW II","1. M.S.C. Wesel 6.6.66","NBV",999]
[68158,"Leithner, Fabian","SCHM","1. FMGC Lichtenfels 1961","BMV",999]
[49941,"Hänke, Sven","SM I","MC Flora Elmshorn","SHMV",999]
[28575,"Karas, Gabriele","SW II","1. MSC Hamburg-Neu Wulmstorf","HBV",999]
[45161,"Dirksmeyer, Christian","SM I","1. MGC Epe 1978","NBV",999]
[67679,"Stölzel, Stefan","SM II","MC Flora Elmshorn","SHMV",999]
[6006,"Stelter, Karin","SW II","MC Flora Elmshorn","SHMV",999]
[66750,"von Trümbach, Katarzyna","SW I","MGC Karlshagen","BVBB",999]
[35756,"Leidlein, Andreas","SM II","1. MGC Gelsenkirchen","NBV",999]
[65469,"Dullau, Norbert","SM I","1. MGC Gelsenkirchen","NBV",999]
[66940,"Woller, Stefan","SM I","1. MGC Gelsenkirchen","NBV",999]
[67985,"Ziegner, Marc Jason","H","1. MGC Paderborn 1980","NBV",999]
[50593,"Zabel, Bettina","SW II","1. BGC Hannover","MVBN",999]
[42043,"Gebauer, Kurt","SM II","1. MGC München-Feldmoching","BMV",999]
[40643,"Tschischka, Jürgen","SM II","1. MGC München-Feldmoching","BMV",999]
[47417,"Zeller, Monika","SW II","1. MGC München-Feldmoching","BMV",999]
[40892,"Schmidt, Horst","SM II","1. BGC Hannover","MVBN",999]
[43241,"Guttroff, Udo","SM II","1. MGC Metzingen","WBV",999]
[67532,"Blanckarts, Lara","D","1. BGC Hannover","MVBN",999]
[44517,"Mürhoff, Raimund","SM II","1. MGC Paderborn 1980","NBV",999]
[25466,"Karlitschek, Klaus","SM II","1. MGC Metzingen","WBV",999]
[67820,"Kasper, Jan","JM","1. MGC Paderborn 1980","NBV",999]
[66768,"Voß, Christian","H","1. MGC Paderborn 1980","NBV",999]
[67819,"Frönd, Johannes","SCHM","1. MGC Paderborn 1980","NBV",999]
[27319,"Müller, Friedrich","SM II","1. MGC Paderborn 1980","NBV",999]
[36974,"Blanckarts, Alexander","H","1. BGC Hannover","MVBN",999]
[1170,"Onnen, Dirk","H","1. BGC Hannover","MVBN",999]
[6360,"Kehrer, Hermann","SM II","1. MGC Metzingen","WBV",999]
[34665,"Kurz, Jochen","H","1. MGC Metzingen","WBV",999]
[35700,"Langfeld, Martin","SM II","1. MGC Metzingen","WBV",999]
[67239,"Pommer, Jan","SM I","1. BGC Hannover","MVBN",999]
[65848,"Batschkus, Adrian","H","1. Münchener Minigolf-Club","BMV",999]
[45123,"Luz, Angelika","SW II","1. MGC Metzingen","WBV",999]
[66966,"Schlesier, Fabian","H","1. BGC Hannover","MVBN",999]
[37881,"Methner, Claus","SM I","1. MGC Metzingen","WBV",999]
[66273,"Batschkus, Quirin","JM","1. Münchener Minigolf-Club","BMV",999]
[38373,"Ohly, Jutta","SW II","1. MGC Metzingen","WBV",999]
[64901,"Kronschnabl, Florian","JM","1. Münchener Minigolf-Club","BMV",999]
[67695,"Shen, Ban","SCHM","1. Münchener Minigolf-Club","BMV",999]
[67462,"Klenzmann, Till","JM","1. BGC Hannover","MVBN",999]
[38606,"Kleiner, Bernward","SM II","1. BGC Hannover","MVBN",999]
[42114,"Opitz, Stefan","SM I","1. BGC Hannover","MVBN",999]
[61555,"Essig, Gerhard","SM II","1. Münchener Minigolf-Club","BMV",999]
[68030,"Hennig, Oliver","SM I","1. Münchener Minigolf-Club","BMV",999]
[44280,"Grüning, Eveline","SW II","1. MGC Rheinhausen","NBV",999]
[33312,"Abelmann, Edgar","SM II","1. BGC Hannover","MVBN",999]
[32810,"Detlof, Heinz-Werner","SM II","1. BGC Hannover","MVBN",999]
[45118,"Stargardt, Wolfgang","SM II","1. MGC Metzingen","WBV",999]
[67085,"Meyer, Michael","H","1. MGC Rheinhausen","NBV",999]
[48909,"Heintze, Tobias","SM I","1. MGC Rheinhausen","NBV",999]
[66631,"Golka, Heribert","SM II","1. BGC Hannover","MVBN",999]
[6066,"Menzel, Harald","SM II","1. MGC Rheinhausen","NBV",999]
[67542,"Ziel, Ute","SW II","1. MGC Rheinhausen","NBV",999]
[33821,"Wunderlich, Gaby","D","1. MGSV Netphen","NBV",999]
[38072,"Wunderlich, Günter","SM II","1. MGSV Netphen","NBV",999]
[4495,"Zamponi, Klaus","SM II","1. MGSV Netphen","NBV",999]
[67598,"Heidrich, Bernd","SM II","1. BGC Hannover","MVBN",999]
[1723,"Heine, Peter","SM II","1. BGC Hannover","MVBN",999]
[66924,"Petersen, Detlef","SM II","1. BGC Hannover","MVBN",999]
[42946,"Hoffmann, Martin","SM II","1. Porzer MGC Grün-Weiß 1969","NBV",999]
[66221,"Wenzel, Norbert","SM II","1. BGC Hannover","MVBN",999]
[3365,"Kröll, Johann","SM II","1. Porzer MGC Grün-Weiß 1969","NBV",999]
[66093,"Hohmann, Christine","SW I","1. BGC Hannover","MVBN",999]
[34464,"Peffermann, Regina","SW II","1. Porzer MGC Grün-Weiß 1969","NBV",999]
[49856,"Schüngel, Herbert","SM II","BGC Assindia Essen","NBV",999]
[49580,"Schüngel, Petra","SW II","BGC Assindia Essen","NBV",999]
[36000,"Lohmann, Udo","SM II","BGC Assindia Essen","NBV",999]
[68127,"Bednarik, Sandra","D","BGC Dormagen","NBV",999]
[68128,"Bednarik, Jeannine","JW","BGC Dormagen","NBV",999]
[68133,"Fischer, Udo","SM I","BGC Dormagen","NBV",999]
[34047,"Höschler, Jeannette","SW I","BGC Dormagen","NBV",999]
[68134,"Maylahn, Denise","SCHW","BGC Dormagen","NBV",999]
[38047,"Pauck, Thomas","SM I","BGC Dormagen","NBV",999]
[66338,"Osthushenrich, Gabriele","SW I","1. BGC Hannover","MVBN",999]
[49887,"Poser, Heike","SW II","1. BGC Hannover","MVBN",999]
[2241,"Stange, Anja","SW I","1. BGC Hannover","MVBN",999]
[33311,"Detlof, Maren","SW II","1. BGC Hannover","MVBN",999]
[65915,"Rose, Karl-Wilhelm","SM II","BGC Dormagen","NBV",999]
[67599,"Heidrich, Gabriele","SW II","1. BGC Hannover","MVBN",999]
[65931,"Genzer, Michael","SM II","BGC Dormagen","NBV",999]
[35061,"Wernecke, Ulrich","H","MGC Bad Oldesloe von 1964","SHMV",999]
[67754,"Lehmann, Michaela","SW I","BGC Dormagen","NBV",999]
[31221,"Ringshandl, Andreas","H","1. NMC Kelheim","BMV",999]
[67596,"Becker, Mike","H","BGC Dormagen","NBV",999]
[30217,"Best, Roland","SM II","1. NMC Kelheim","BMV",999]
[37808,"Morschick, Kevin","H","BGC Dormagen","NBV",999]
[37718,"Essler, Ferdinand","SM II","BGC Dormagen","NBV",999]
[38154,"Schuster, Alexandra","SW I","BGC Oberhausen","NBV",999]
[42234,"Blechschmidt, Gerhard","SM II","1. NMC Kelheim","BMV",999]
[38046,"Schuster, Oliver","SM I","BGC Oberhausen","NBV",999]
[38607,"Kleiner, Sabine","SW II","1. BGC Hannover","MVBN",999]
[10992,"Haubner, Franz","SM II","1. NMC Kelheim","BMV",999]
[67477,"Dunkelmann, Christina","D","BGC Oberhausen","NBV",999]
[24639,"Schnauer, Nico","H","MGC Bad Oldesloe von 1964","SHMV",999]
[67240,"Pommer, Christine","SW II","1. BGC Hannover","MVBN",999]
[67861,"Teofanovic, Boris","SM I","MGC Bad Oldesloe von 1964","SHMV",999]
[17842,"Snaga, Herma","SW II","1. BGC Hannover","MVBN",999]
[24416,"Rösch, Martin","SM II","1. NMC Kelheim","BMV",999]
[24417,"Völkel, Erhard","SM II","1. NMC Kelheim","BMV",999]
[42233,"Blechschmidt, Renate","SW II","1. NMC Kelheim","BMV",999]
[24422,"Hein, Helga","SW II","1. NMC Kelheim","BMV",999]
[67760,"Müller, Frank","SM I","BGC Schloß Paffendorf","NBV",999]
[4182,"Hutzler, Anneliese","SW II","1. NMC Kelheim","BMV",999]
[67454,"Grundmann, Eric","SM II","BGC Schloß Paffendorf","NBV",999]
[41710,"Tesch, Michael","SM II","BGC Schloß Paffendorf","NBV",999]
[67761,"Müller, Viola","SW I","BGC Schloß Paffendorf","NBV",999]
[67129,"Cöln, Gertrud","SW II","BGC Schloß Paffendorf","NBV",999]
[68014,"Steinbach, Herbert","SM II","BGC Schloß Paffendorf","NBV",999]
[66219,"Lehr, Wolfgang","SM II","BGC Uerdingen","NBV",999]
[68135,"Lehr, Louise","SW II","BGC Uerdingen","NBV",999]
[68136,"Molls, Elke","SW II","BGC Uerdingen","NBV",999]
[68137,"Molls, Manfred","SM II","BGC Uerdingen","NBV",999]
[68145,"Strucken, Heinz","SM II","BGC Uerdingen","NBV",999]
[29580,"Siebold, Stefan","H","MGC Bad Oldesloe von 1964","SHMV",999]
[45271,"Mayerhofer, Gerd","SM I","1. MGC Süßen","WBV",999]
[66581,"Klaus, Sven","SM I","1. BGC Wolfsburg","MVBN",999]
[42787,"Dohmen, Britta","SW I","BGC Uerdingen","NBV",999]
[66059,"Wolff, Marko","SM I","BGC Uerdingen","NBV",999]
[34628,"Ricci, Ilario","H","1. BGC Wolfsburg","MVBN",999]
[67579,"van Steenwijk, Remco","SM I","BGC Uerdingen","NBV",999]
[67949,"Micknaß, Roy","SM II","1. BGC Wolfsburg","MVBN",999]
[66670,"Priedigkeit, Ulrich","SM II","BGC Uerdingen","NBV",999]
[66671,"Priedigkeit, Gudrun","SW I","BGC Uerdingen","NBV",999]
[65962,"Friese, Reinhard","SM II","BGC Uerdingen","NBV",999]
[24312,"Wild, Dieter","SM II","1. MGC Süßen","WBV",999]
[67968,"Hasler, Elyas Marcel","SCHM","BGC Uerdingen","NBV",999]
[43693,"Sussek, Michael","SM II","1. BGC Wolfsburg","MVBN",999]
[46965,"Weyers, Stefan","SM I","BGC Uerdingen","NBV",999]
[33926,"Winkel, Andreas","SM I","1. MGC Süßen","WBV",999]
[25167,"Wirth, Michael","SM II","BGC Uerdingen","NBV",999]
[67948,"Micknaß, Anette","SW I","1. BGC Wolfsburg","MVBN",999]
[67153,"Neumann, Angelika","SW II","1. BGC Wolfsburg","MVBN",999]
[66214,"Schnoor, Jörg","SM II","MGC Bad Oldesloe von 1964","SHMV",999]
[45007,"Wischnath, Birthe","SW I","MGC Bad Oldesloe von 1964","SHMV",999]
[36156,"Kreuzer-Morgenstern, Tina","D","ASV Pegnitz Abt. Minigolf","BMV",999]
[37404,"Majdanac, Franziska","D","BGC 90 Ottobrunn","BMV",999]
[67465,"Majdanac, Nurfet","H","BGC 90 Ottobrunn","BMV",999]
[28515,"Erlbruch, Harald","SM I","BGS Hardenberg-Pötter","NBV",999]
[97926,"Hofmann, Juliane","D","BGS Hardenberg-Pötter","NBV",999]
[33964,"Templin, Marco","H","BGS Hardenberg-Pötter","NBV",999]
[66906,"Bläsing, Leon","JM","BGS Hardenberg-Pötter","NBV",999]
[67927,"Lange, Oliver","SM I","BGS Hardenberg-Pötter","NBV",999]
[34879,"Theimann, Michael","SM II","BGS Hardenberg-Pötter","NBV",999]
[67890,"Winkler, Stefanie","D","BGC Bad Mergentheim","WBV",999]
[68050,"Altenbeck, Susanne","SW II","BGSC \"Gut Schlag\" Gladbeck","NBV",999]
[68126,"Altenbeck, Marcel","H","BGSC \"Gut Schlag\" Gladbeck","NBV",999]
[30224,"Ott, Hans-Jörg","H","BGC Bad Berneck","BMV",999]
[37213,"Ramming, René","H","BGC Bad Berneck","BMV",999]
[67829,"Töppe, Ellena","SCHW","Reinickendorfer MGC","BVBB",999]
[4057,"Wilhelm, Horst-Peter","SM II","Reinickendorfer MGC","BVBB",999]
[31619,"Breitling, Dieter","SM II","BGC Bad Berneck","BMV",999]
[45049,"Nebe, Dirk Willi","SM II","BGSC \"Gut Schlag\" Gladbeck","NBV",999]
[67617,"Braun, Wiebke","JW","BGSC \"Gut Schlag\" Gladbeck","NBV",999]
[49901,"Heyder, Christian","SM I","BGC Bad Berneck","BMV",999]
[36541,"Winkler, Dirk","SM I","BGSC \"Gut Schlag\" Gladbeck","NBV",999]
[41029,"Betz, Norbert","SM II","BGC Bad Berneck","BMV",999]
[26005,"Schlauch, Anna-Maria","SW II","BGC Bad Berneck","BMV",999]
[26439,"Hanker, Rainer","SM II","BGSC \"Gut Schlag\" Gladbeck","NBV",999]
[67805,"Musielak, Jürgen","SM II","BGSC \"Gut Schlag\" Gladbeck","NBV",999]
[67803,"Uschmann, Jenny","SW I","BGSC \"Gut Schlag\" Gladbeck","NBV",999]
[36543,"Lohe, Angelika","SW II","BGSC \"Gut Schlag\" Gladbeck","NBV",999]
[46813,"Brechelt, Manfred","SM I","1. MGC 1970 Göttingen","MVBN",999]
[68007,"Zall, Emma Fay","SCHW","BGC Bad Berneck","BMV",999]
[67837,"Doppe, Wibke","D","1. MGC 1970 Göttingen","MVBN",999]
[27728,"Albrecht, Sascha","H","1. MGC 1970 Göttingen","MVBN",999]
[41465,"Braun, Wolfram","SM I","1. MGC 1970 Göttingen","MVBN",999]
[29935,"Herrmann, Marc","SM II","1. MGC 1970 Göttingen","MVBN",999]
[67017,"Krzyza, Maurice","H","BGSC Bochum 1978","NBV",999]
[38119,"Holderberg, Hans-Peter","SM II","BGSC Bochum 1978","NBV",999]
[42431,"Wille, Jan","SM II","BGSC Bochum 1978","NBV",999]
[38118,"Holderberg, Claudia","SW I","BGSC Bochum 1978","NBV",999]
[38279,"Pipke, Matthias","SM II","BGSC Bochum 1978","NBV",999]
[35850,"Roselieb, Manfred","SM II","1. MGC 1970 Göttingen","MVBN",999]
[49464,"Seelig, Norbert","SM II","BGSC Bochum 1978","NBV",999]
[67475,"Sawärt, Gabriela","SW II","BGSC Bochum 1978","NBV",999]
[67103,"Bublitz, Julia","D","BGSC Bochum 1978","NBV",999]
[34566,"Bublitz, Wolf","H","BGSC Bochum 1978","NBV",999]
[67496,"Pöschko, Stephan","H","BGSC Bochum 1978","NBV",999]
[67701,"Schulz, Alexander","H","BGSC Bochum 1978","NBV",999]
[5289,"Hillebrecht, Ursula","SW II","1. MGC 1970 Göttingen","MVBN",999]
[37997,"Bergauer, Gerhard","SM II","BGSC Bochum 1978","NBV",999]
[18150,"Heilmann, Horst","SM II","BGSC Bochum 1978","NBV",999]
[45633,"Löhr, Michael","SM II","BGSC Bochum 1978","NBV",999]
[34994,"Rehse, Sabine","SW II","BGSC Bochum 1978","NBV",999]
[68102,"Stössel, Melvin","H","1. MGC Kassel-Vellmar 1964","MVBN",999]
[49463,"Löhr, Elke","SW II","BGSC Bochum 1978","NBV",999]
[6770,"Förstner, Jürgen","SM II","Hamburger MC von 1965","HBV",999]
[29268,"Burmeister, Manfred","SM II","MGC Brunsbüttel","SHMV",999]
[5537,"Bergmann, Waltraut","SW II","BGC Heilbronn","WBV",999]
[67628,"Röhsa, Tom-Luca","SCHM","Hamburger MC von 1965","HBV",999]
[49092,"Bort, Elke","SW II","BGC Heilbronn","WBV",999]
[49091,"Bort, Thomas","SM II","BGC Heilbronn","WBV",999]
[27480,"Edelmann, Jürgen","SM I","BGC Heilbronn","WBV",999]
[67544,"Scharf, Richard","SM II","BGC Illertissen","BMV",999]
[31858,"Bürhaus, Andreas","H","BGSV Castrop 1961","NBV",999]
[29208,"Aussieker, Thomas","SM I","BGSV Castrop 1961","NBV",999]
[37088,"Fritzenkötter, Dietmar","SM II","BGSV Castrop 1961","NBV",999]
[37089,"Fritzenkötter, Margot","SW II","BGSV Castrop 1961","NBV",999]
[49414,"Dolp, Markus","SM I","BGC Illertissen","BMV",999]
[67555,"Bär, Dana","SW I","MGC Brunsbüttel","SHMV",999]
[6838,"Reinhardt, Manfred","SM II","BGC Heilbronn","WBV",999]
[66301,"Neudert, Dennis","H","BGC Illertissen","BMV",999]
[36284,"Ritschmann, Claudia","SW II","BGC Heilbronn","WBV",999]
[65600,"Neuwirth, Fabian","H","BGC Illertissen","BMV",999]
[67746,"Röhsa, Kay","SM I","Hamburger MC von 1965","HBV",999]
[48140,"Reiss, Alexander","H","BGC Illertissen","BMV",999]
[67485,"Mohr, Lisa Sabrina","D","MGC Brunsbüttel","SHMV",999]
[4021,"Hartfuhs, Gustav","SM II","BGC Illertissen","BMV",999]
[36285,"Ritschmann, Uwe","SM II","BGC Heilbronn","WBV",999]
[41313,"Tatti, Angelo","SM I","BGC Heilbronn","WBV",999]
[65599,"Neuwirth, Dietmar","SM II","BGC Illertissen","BMV",999]
[33951,"Sorgenfrei, Rainer","SM II","BGC Illertissen","BMV",999]
[47033,"Baumer, Ruth","SW II","BGC Illertissen","BMV",999]
[40944,"Manz, Susanne","SW II","BGC Illertissen","BMV",999]
[67540,"Schöll, Gitti","SW II","BGC Illertissen","BMV",999]
[547,"Wössner, Jörg","SM II","BGSV Kerpen","NBV",999]
[31459,"Wenz, Felix","H","BGSV Kerpen","NBV",999]
[68154,"Spiertz, Christof","SM I","BGSV Kerpen","NBV",999]
[3621,"Tatti, Clemente","SM II","BGC Heilbronn","WBV",999]
[41317,"Thusek, Thomas","SM I","BGC Heilbronn","WBV",999]
[67497,"Plumpe, Marvin","H","BGV Backumer Tal Herten","NBV",999]
[67486,"Biller, Mario","SM I","MGC Brunsbüttel","SHMV",999]
[18344,"Karpa, Winfried","SM II","BGV Backumer Tal Herten","NBV",999]
[31031,"Ott, Andy","H","BGV Backumer Tal Herten","NBV",999]
[66364,"Seifert, Noah","H","BGV Backumer Tal Herten","NBV",999]
[65844,"Biastoch, Siegfried","SM II","BGV Backumer Tal Herten","NBV",999]
[50457,"Pindor, Karl-Heinz","SM II","BGV Backumer Tal Herten","NBV",999]
[33902,"Allmüller, Bianca","SW I","BGV Backumer Tal Herten","NBV",999]
[30816,"Heerich, Laila","SW I","1. MGC Kassel-Vellmar 1964","MVBN",999]
[36090,"Knezevic, Vanessa","D","BGC Neutraubling","BMV",999]
[34707,"Weickl, Corina","D","BGC Neutraubling","BMV",999]
[67673,"Haubrock, Patricia","D","1. MGC Kassel-Vellmar 1964","MVBN",999]
[33613,"Lukat, Marcel","H","MGC Brunsbüttel","SHMV",999]
[66519,"Kunz, Peter","SM I","1. MGC Kassel-Vellmar 1964","MVBN",999]
[63588,"Dirlmeier, Dennis","H","BGC Neutraubling","BMV",999]
[66797,"Itter, Patrick","H","BGC Neutraubling","BMV",999]
[45697,"Fellmann, Thomas","SM I","BGV Bergisch Land 1962 / 63","NBV",999]
[50681,"Blömker, Bettina","SW I","BGV Bergisch Land 1962 / 63","NBV",999]
[37359,"Graeber, Lars","SM I","BGV Bergisch Land 1962 / 63","NBV",999]
[43081,"Busch, Ingo","SM I","BGV Bergisch Land 1962 / 63","NBV",999]
[51729,"Weidel, Andreas","H","BGC Neutraubling","BMV",999]
[46404,"Fuchs, Andreas","SM I","BGC Neutraubling","BMV",999]
[67621,"Haubrock, Willi","SM II","1. MGC Kassel-Vellmar 1964","MVBN",999]
[66977,"Kunz, Simone","SW I","1. MGC Kassel-Vellmar 1964","MVBN",999]
[34709,"Götz, Holger","SM I","BGC Neutraubling","BMV",999]
[41825,"Lindner, Gisbert","SM II","BGC Neutraubling","BMV",999]
[67620,"Haubrock, Ute","SW II","1. MGC Kassel-Vellmar 1964","MVBN",999]
[65657,"Märkl, Max","SM II","BGC Neutraubling","BMV",999]
[40306,"Niebler, Richard","SM II","BGC Neutraubling","BMV",999]
[67566,"Becker, Christian","H","Bochumer MC 1960","NBV",999]
[66621,"Seidl, Heribert","SM II","BGC Neutraubling","BMV",999]
[3488,"Weinberger, Inge","SW II","BGC Neutraubling","BMV",999]
[45743,"Salewski, Henri","SM I","Bochumer MC 1960","NBV",999]
[40048,"Leßner, Michael","SM I","Bochumer MC 1960","NBV",999]
[67049,"Schachtsiek, Frank","SM I","Bochumer MC 1960","NBV",999]
[23975,"Aßmuth, Bernd","SM II","Bochumer MC 1960","NBV",999]
[3738,"Schlesinger, Peter","SM II","Bochumer MC 1960","NBV",999]
[67374,"Bayer, Tobias","JM","BIG Asperg 1982","WBV",999]
[68086,"Loch, Sebastian","H","MGC Brunsbüttel","SHMV",999]
[68085,"Rieper, Britt","D","MGC Brunsbüttel","SHMV",999]
[67362,"Wöhrmann, Tatjana","SW I","BSV 86 München","BMV",999]
[67359,"Schöllnast, Kurt","SM I","BSV 86 München","BMV",999]
[6879,"Landl, Helmut","SM II","BSV 86 München","BMV",999]
[37669,"Grimm, Marcus","H","BSV 86 München","BMV",999]
[49,"Hartmaier, Rolf","SM I","BIG Asperg 1982","WBV",999]
[37011,"Hensel, Tobias","H","BSC Ennepetal","NBV",999]
[25371,"Laber, Andrea","SW II","BIG Asperg 1982","WBV",999]
[67627,"Wilkes, Henry Jeremy","H","BSC Ennepetal","NBV",999]
[67361,"Wöhrmann, Michael","SM I","BSV 86 München","BMV",999]
[38337,"Jurgeleit, Bernd","SM II","BSV 86 München","BMV",999]
[34732,"Ungermann, Uwe","SM I","BSC Ennepetal","NBV",999]
[35182,"Kaiser, Herbert","SM II","BSV 86 München","BMV",999]
[25372,"Laber, Emil","SM II","BIG Asperg 1982","WBV",999]
[35154,"Mix, Alfred","SM II","BSV 86 München","BMV",999]
[28333,"Stopper, Martin","SM II","BSV 86 München","BMV",999]
[43542,"Nix, Thomas","SM I","BIG Asperg 1982","WBV",999]
[43716,"Trauner, Karl","SM II","BSV 86 München","BMV",999]
[38339,"Jurgeleit, Rebecca","SW I","BSV 86 München","BMV",999]
[67360,"Kammermaier, Katja","SW I","BSV 86 München","BMV",999]
[31613,"Landl, Christa","SW II","BSV 86 München","BMV",999]
[43715,"Trauner, Anneliese","SW II","BSV 86 München","BMV",999]
[60359,"Zehtner, Emma","SW II","BSV 86 München","BMV",999]
[26698,"Unterleitner, Horst","SM II","CGC Illertal Kellmünz","BMV",999]
[67404,"Bartsch, Paul","SM II","BV Sennestadt","NBV",999]
[45995,"Luckei, Manfred","SM II","1. MGC Lohfelden","MVBN",999]
[21876,"Steller, Friedhelm","SM II","CGC Illertal Kellmünz","BMV",999]
[45795,"Hansel, Jürgen","SM II","CGC Illertal Kellmünz","BMV",999]
[24658,"Klipp, Wilfried","SM II","BV Sennestadt","NBV",999]
[29229,"Axtner, Manfred","SM I","CGC Illertal Kellmünz","BMV",999]
[17834,"Hagenlüke, Leo","SM II","BV Sennestadt","NBV",999]
[67717,"Schneider, Wolfgang","SM II","BV Sennestadt","NBV",999]
[29239,"Brandner, Michael","SM I","CGC Illertal Kellmünz","BMV",999]
[47133,"Volkmer-Ruben, Iris","SW I","BV Sennestadt","NBV",999]
[37683,"Wilms, Katrin","D","CGC Grün-Gold Bad Hamm","NBV",999]
[44353,"Südhoff, Frank","SM I","CGC Grün-Gold Bad Hamm","NBV",999]
[20394,"Wortmann, Frank-Thomas","SM II","CGC Grün-Gold Bad Hamm","NBV",999]
[46595,"Retzlaff, Brigitte","SW I","BIG Asperg 1982","WBV",999]
[46579,"Retzlaff, Manfred","SM II","BIG Asperg 1982","WBV",999]
[46641,"Thiebes-Nix, Sandra","SW I","BIG Asperg 1982","WBV",999]
[47187,"Schnickmann, Oliver","SM I","CGV Hamm 2019","NBV",999]
[67299,"Hoppe, Daniel","SM I","CGV Hamm 2019","NBV",999]
[67298,"Meyer, Britta","SW I","CGV Hamm 2019","NBV",999]
[34315,"Ehrenberg, Josef","SM I","MGC \"Stahlquelle\" Bad Bocklet 1989","BMV",999]
[67064,"Mathes, Lena","JW","MGC \"Stahlquelle\" Bad Bocklet 1989","BMV",999]
[27838,"Stegmaier, Ulf","H","BIG Asperg 1982","WBV",999]
[63553,"Humbek-Hönicke, Jeanette","D","MGC \"Stahlquelle\" Bad Bocklet 1989","BMV",999]
[63702,"Hönicke, Marcel","H","MGC \"Stahlquelle\" Bad Bocklet 1989","BMV",999]
[32803,"Humbek, Marcell","H","MGC \"Stahlquelle\" Bad Bocklet 1989","BMV",999]
[36485,"Humbek, Sascha-Nico","H","MGC \"Stahlquelle\" Bad Bocklet 1989","BMV",999]
[66908,"Rübner, Sebastian","H","MGC \"Stahlquelle\" Bad Bocklet 1989","BMV",999]
[67752,"Piegeler, Michael","SM II","HMC Büttgen","NBV",999]
[10311,"Thomas, Hans-Joachim","SM II","Kölner MC","NBV",999]
[38547,"Scherber, Peter","H","MGC \"Stahlquelle\" Bad Bocklet 1989","BMV",999]
[67261,"Schölzke, Rainer","SM I","MGC \"Stahlquelle\" Bad Bocklet 1989","BMV",999]
[63610,"Trümbach, Burkhard","SM I","MGC \"Stahlquelle\" Bad Bocklet 1989","BMV",999]
[36162,"Most, Philipp","SM II","MGC \"Stahlquelle\" Bad Bocklet 1989","BMV",999]
[67001,"Schmitz, Dominik","H","Kölner MC","NBV",999]
[66315,"Bölle, Richard","SM I","Kölner MC","NBV",999]
[2061,"Henkel, Helmut","SM II","1. MGC Peine von 1965","MVBN",999]
[65969,"Scheffler, Ingelore","SW II","1. MGC Peine von 1965","MVBN",999]
[66328,"Büsgen, Peter","SM I","Kölner MC","NBV",999]
[66900,"Flick, Marco","SM I","Kölner MC","NBV",999]
[65954,"Grombein, Frederick","SM I","Kölner MC","NBV",999]
[66397,"Kesting, Jens","SM I","Kölner MC","NBV",999]
[3185,"Brodesser, Josef","SM II","Kölner MC","NBV",999]
[67390,"Lemm, Georg","SM II","Kölner MC","NBV",999]
[66329,"Mehlhorn, Tino","SM II","Kölner MC","NBV",999]
[24619,"Pfeffer, Lutz","SM II","Kölner MC","NBV",999]
[67582,"Lemm, Marita","SW II","Kölner MC","NBV",999]
[66435,"Tramp, Manuel","H","KSV Baltrum","NBV",999]
[38544,"Ritschel, Klaus","SM II","MGC \"Stahlquelle\" Bad Bocklet 1989","BMV",999]
[61096,"Meißner, Manfred","SM II","1. MGC Peine von 1965","MVBN",999]
[66181,"Könemann, Bernd","SM II","1. MGC Peine von 1965","MVBN",999]
[67097,"Stift, Sören","H","MGC Harrislee-Wassersleben","SHMV",999]
[5994,"Wenzke, Karl","SM II","MGC \"Stahlquelle\" Bad Bocklet 1989","BMV",999]
[38545,"Kreisheimer, Antje","SW II","MGC \"Stahlquelle\" Bad Bocklet 1989","BMV",999]
[5997,"Wäcke, Gertrud","SW II","MGC \"Stahlquelle\" Bad Bocklet 1989","BMV",999]
[47204,"Krick, Günter","SM II","MGC \"Stahlquelle\" Bad Bocklet 1989","BMV",999]
[68103,"Stief, Kerstin","SW I","MC 62 Lüdenscheid","NBV",999]
[68130,"Beese, David","SM I","MC Georgsmarienhütte","NBV",999]
[68131,"Meyer, Fabian","H","MC Georgsmarienhütte","NBV",999]
[35201,"Stübgen, Bernd","H","1. MGC Peine von 1965","MVBN",999]
[67919,"Browatzki, Torsten","SM I","MC Georgsmarienhütte","NBV",999]
[67320,"Gras, André","SM I","1. MGC Peine von 1965","MVBN",999]
[67099,"Thomsen, Jan","H","MGC Harrislee-Wassersleben","SHMV",999]
[67878,"Dammann, Per","SM I","MGC Harrislee-Wassersleben","SHMV",999]
[33860,"Buske, Pascal","H","MC Tigers Künsebeck","NBV",999]
[27122,"Kasburg, Detlef","SM II","1. MGC Peine von 1965","MVBN",999]
[34150,"Welpmann, Dennis","H","MC Tigers Künsebeck","NBV",999]
[37781,"Welpmann, Patrick","H","MC Tigers Künsebeck","NBV",999]
[26565,"Breckenkamp, Kurt","SM II","MC Tigers Künsebeck","NBV",999]
[42170,"Fuchs, Tanja","SW I","MC Tigers Künsebeck","NBV",999]
[37799,"Battling, Jan Hendrik","H","MGC \"AS\" Witten 1963","NBV",999]
[38176,"Bomblies, Wolfgang","SM II","MGC \"AS\" Witten 1963","NBV",999]
[25732,"Dammann, Reinhold","SM II","MGC \"AS\" Witten 1963","NBV",999]
[12503,"Lange, Dieter","SM II","MGC \"AS\" Witten 1963","NBV",999]
[27974,"Tabor, Peter","SM II","MGC \"AS\" Witten 1963","NBV",999]
[3126,"Grügelsberg, Marianne","SW II","MGC \"AS\" Witten 1963","NBV",999]
[67651,"Petzsche, Susanne","D","BIG Ingelfingen 2020","WBV",999]
[17112,"Lange, Maria","SW II","MGC \"AS\" Witten 1963","NBV",999]
[35094,"Heinisch, Stefanie","SW I","BGC Bad Nenndorf","MVBN",999]
[68149,"Schult, Silvia","SW II","Elbhavelland Abt. Minigolfsport","BVSA",999]
[66811,"Dörheit, Matthias","H","Elbhavelland Abt. Minigolfsport","BVSA",999]
[66432,"Hainzl, Thomas","SM II","MGC Bad Feilnbach","BMV",999]
[68067,"Türkoglu, Emre","H","BIG Ingelfingen 2020","WBV",999]
[66100,"Stock, Thomas","H","MGC Bad Bodendorf","NBV",999]
[40098,"Schacht, Monika","SW II","MGC Harrislee-Wassersleben","SHMV",999]
[32534,"Andresen, Björn","H","MGC Harrislee-Wassersleben","SHMV",999]
[68156,"Frost, Allan","SM II","MGC Harrislee-Wassersleben","SHMV",999]
[66118,"Heinisch, Vincent","JM","BGC Bad Nenndorf","MVBN",999]
[25613,"Knust, Uwe","SM II","BGC Bad Nenndorf","MVBN",999]
[65620,"Mulfinger, Karin","SW II","MGC Bad Feilnbach","BMV",999]
[67585,"Stegmayr, Louis","JM","MGC Bad Feilnbach","BMV",999]
[68078,"Elsbroek, Johannes","SM II","BGC Bremen","MVBN",999]
[68052,"Gabriel, Jürgen","SM II","BGC Bremen","MVBN",999]
[38591,"Bergmaier, Günter","SM II","MGC Bad Feilnbach","BMV",999]
[38076,"Mulfinger, Peter","SM II","MGC Bad Feilnbach","BMV",999]
[64032,"Eisen, Markus","H","MGC Diessen","BMV",999]
[23516,"Noch, Christiane","SW II","Tempelhofer MV 65","BVBB",999]
[66694,"Hoiss, Georg","SM I","MGC Diessen","BMV",999]
[67304,"Steffens-Bruelheide, Iris","D","MGC Bad Salzuflen","NBV",999]
[45671,"Küll, Stefan","SM I","MGC Bad Salzuflen","NBV",999]
[67646,"Kirmair, Stefan","SM I","MGC Diessen","BMV",999]
[66112,"Beausencourt, Erich","SM II","MGC Diessen","BMV",999]
[65980,"Schubert, Finn","H","MGC Bad Salzuflen","NBV",999]
[66695,"Filgertshofer, Andreas","SM II","MGC Diessen","BMV",999]
[25741,"Münster, Christian","SM II","MGC Diessen","BMV",999]
[47258,"Kruse, André","SM I","MGC Bad Salzuflen","NBV",999]
[35213,"Neumann, Uwe","SM II","BGC Bremen","MVBN",999]
[38613,"Lenger, Andre","SM I","MGC Bad Salzuflen","NBV",999]
[35645,"Wehrmann, Thorsten","SM I","MGC Bad Salzuflen","NBV",999]
[67182,"Schocher, Rudolf","SM II","MGC Diessen","BMV",999]
[50367,"Wiertz, Thomas","SM I","MGC Bad Salzuflen","NBV",999]
[6795,"Schuchardt, Horst","SM II","BGC Bremen","MVBN",999]
[66922,"Hoiss, Martina","SW I","MGC Diessen","BMV",999]
[10759,"Detering, Wolfgang","SM II","MGC Bad Salzuflen","NBV",999]
[43145,"Forkefeld, Heinz","SM II","MGC Bad Salzuflen","NBV",999]
[67502,"Koßmann, Ulrich","SM II","MGC Bad Salzuflen","NBV",999]
[47267,"Meierkord, Ralf","SM II","MGC Bad Salzuflen","NBV",999]
[67181,"Faulhaber, Christine","SW II","MGC Diessen","BMV",999]
[43142,"Sachs, Wolfgang","SM II","MGC Bad Salzuflen","NBV",999]
[43144,"Tismer, Jürgen","SM II","MGC Bad Salzuflen","NBV",999]
[27087,"Träger, Harald","SM II","MGC Bad Salzuflen","NBV",999]
[50371,"Heise, Stefanie","SW I","MGC Bad Salzuflen","NBV",999]
[67774,"Bergmeier, Ingrid","SW II","MGC Bad Salzuflen","NBV",999]
[67534,"Koßmann, Petra","SW II","MGC Bad Salzuflen","NBV",999]
[23517,"Noch, Frank","SM II","Tempelhofer MV 65","BVBB",999]
[66236,"Helfmann, Barbara","SW II","MGC Bergisch Gladbach Gierath","NBV",999]
[38567,"Breidenbach, Anika","SW I","MGC Bergisch Gladbach Gierath","NBV",999]
[42308,"Dewor, Uwe","SM II","KGC Bad Urach","WBV",999]
[67868,"Bucksch, Vivien","D","MGC Bergisch Gladbach Gierath","NBV",999]
[66633,"Raimann, Wolfgang","SM II","MGC Bergisch Gladbach Gierath","NBV",999]
[46043,"Schüller, Jens","SM I","MGC Bergisch Gladbach Gierath","NBV",999]
[66632,"Schubert, Christiane","SW I","MGC Bergisch Gladbach Gierath","NBV",999]
[68116,"Kirsch, Yvonne","SW I","MGC Bergisch Gladbach Gierath","NBV",999]
[68115,"Krudewig, Holger","SM I","MGC Bergisch Gladbach Gierath","NBV",999]
[37692,"Haupter, Michael","SM I","KGC Bad Urach","WBV",999]
[40126,"Kullick, Christian","H","Tempelhofer MV 65","BVBB",999]
[67548,"Matthäi, David","H","KGC Bad Urach","WBV",999]
[37509,"Fischer, Christoph","H","Niendorfer MC v. 1963","HBV",999]
[38580,"Mauersberger, Raik","H","MGF Magdeburg","BVSA",999]
[68077,"Kisser, Leo-Manfred","SCHM","MGF Magdeburg","BVSA",999]
[68076,"Wolf, Moritz","SCHM","MGF Magdeburg","BVSA",999]
[37753,"Hoppe, Manfred","SM II","MGF Magdeburg","BVSA",999]
[67645,"Henning, Annika-Eske","SCHW","Tempelhofer MV 65","BVBB",999]
[67652,"Leske, Leandra","JW","Tempelhofer MV 65","BVBB",999]
[33361,"Schwind, Sebastian","H","MGC Dormagen-Brechten","NBV",999]
[34562,"Peffer, Willi","SM II","MGC Dormagen-Brechten","NBV",999]
[44254,"Basse, Sven","SM I","Niendorfer MC v. 1963","HBV",999]
[48880,"Plack, Joachim","SM I","KGC Bad Urach","WBV",999]
[67888,"Visser, Bernd","SM II","Niendorfer MC v. 1963","HBV",999]
[37399,"Haupt, Maike","D","MGC Dormagen-Brechten","NBV",999]
[41670,"Zahner, Michael","SM I","KGC Bad Urach","WBV",999]
[44723,"Hunte, Karl-Heinz","SM I","BGC Diepholz","MVBN",999]
[37473,"Neuwirth, Waldemar","SM I","MGC Dormagen-Brechten","NBV",999]
[43595,"Duensing, Jürgen","SM II","BGC Diepholz","MVBN",999]
[36924,"Klann, Bernd","SM II","MGC Dormagen-Brechten","NBV",999]
[23796,"Friedrich, Hans-Joachim","SM II","MGC Freizeitzentrum Biebertal","NBV",999]
[44982,"Beschorner, Christian","SM I","MGC Freizeitzentrum Biebertal","NBV",999]
[51888,"Heese, Hans-Joachim","SM II","MGC Freizeitzentrum Biebertal","NBV",999]
[25842,"Kläsgen, Heinz","SM II","MGC Freizeitzentrum Biebertal","NBV",999]
[44385,"Lemm, Andreas","SM II","MGC Freizeitzentrum Biebertal","NBV",999]
[34766,"Romberg, Yvonne","SW I","MGC Freizeitzentrum Biebertal","NBV",999]
[879,"Lange, Kevin","H","BGC Diepholz","MVBN",999]
[67906,"Visser, Klaus","SM II","Niendorfer MC v. 1963","HBV",999]
[35103,"Schäfer, Daniela","D","MGC Heven","NBV",999]
[47353,"Rautenberg, Joachim","SM II","MGC Heven","NBV",999]
[203,"Schmeling, Michael","SM I","Tempelhofer MV 65","BVBB",999]
[67351,"Keith, Marita","SW II","MGC Heven","NBV",999]
[26352,"Suhrbier, Lutz","SM I","Tempelhofer MV 65","BVBB",999]
[66838,"Haberl, Lena","D","MGC Ingolstadt","BMV",999]
[68117,"Puschner, Michael","SM II","MGC Heven","NBV",999]
[67175,"Münchhoff, Farin","JM","MGC Ingolstadt","BMV",999]
[66760,"Sariefe, Turan","SM I","MGC Ingolstadt","BMV",999]
[63732,"Hanisch, Dieter","SM II","MGC Ingolstadt","BMV",999]
[41217,"Jakob, Franz","SM II","MGC Ingolstadt","BMV",999]
[6175,"Ziebell, Klaus","SM II","Tempelhofer MV 65","BVBB",999]
[37655,"Ranzinger, Roland","SM II","MGC Ingolstadt","BMV",999]
[38091,"Möbs, Christine","SW I","MGC Ingolstadt","BMV",999]
[1691,"Witte, Birgit","SW I","Tempelhofer MV 65","BVBB",999]
[66705,"Mendyk, Günter","SM II","MGC Lünen-Syburg","NBV",999]
[43555,"Bock, Jens","SM II","SV Lurup-Hamburg von 1923 Abt. Bahnengolf","HBV",999]
[68146,"Döbele, Klaus","SM I","MGF Hilzingen 80","BBS",999]
[66650,"Alizadeh, Nassim","D","MC Schriesheim","BBS",999]
[33194,"Daub, Jürgen","Sm II","MC Schriesheim","BBS",999]
[45061,"Eresch, Sven","SM I","MC Schriesheim","BBS",999]
[41246,"Engesser, Thomas","SM I","MGF Hilzingen 80","BBS",999]
[33015,"Ginal, Marco","H","MC Schriesheim","BBS",999]
[36524,"Dudenhöffer, Sebastian","H","BSV Inzlingen 1979","BBS",999]
[35791,"Fütterer, Andreas","SM I","Minigolf Wölfe Rheinstetten 02","BBS",999]
[65518,"Frech, Sven","SM I","BSV Inzlingen 1979","BBS",999]
[34130,"Killmaier, Christine","SW II","MC Schriesheim","BBS",999]
[46348,"Bott, Andreas","SM I","MGC Sulzfeld","BBS",999]
[4690,"Klauke, Walter","SM II","MC Schriesheim","BBS",999]
[40560,"Fassl, Thomas","SM I","MGC Sulzfeld","BBS",999]
[67383,"Hauser, Alois","SM II","BSV 82 Ohlsbach","BBS",999]
[68060,"Lösch, Matthias","SM II","1. MC Weinheim","BBS",999]
[6331,"Matern, Peter","SM II","1. MC Weinheim","BBS",999]
[68094,"Allemann, André","SM I","MGF Waldshut 1974","BBS",999]
[47419,"Brack, Roland","SM II","MGF Waldshut 1974","BBS",999]
[38351,"Kunimünch, Herbert","SM II","BSV Inzlingen 1979","BBS",999]
[38354,"Kälble, Alexandra","SW I","BSV 82 Ohlsbach","BBS",999]
[23980,"Liebetrau, Bernhard","SM II","MC Schriesheim","BBS",999]
[31211,"Glaser, Ute","SW II","CGC Blau-Gelb Grötzingen 1968","BBS",999]
[35794,"Gerbert, Martin","H","Minigolf Wölfe Rheinstetten 02","BBS",999]
[32876,"Reichle, Heidi","SW II","BSV Inzlingen 1979","BBS",999]
[68095,"Friedmann, Miriam","D","MGF Waldshut 1974","BBS",999]
[67933,"Mehler, Brigitte","SW I","1. MC Weinheim","BBS",999]
[66976,"Mittelhammer, Nadja","SW I","1. MC Weinheim","BBS",999]
[30940,"Fugazza, Manuel","H","MC Ilvesheim","BBS",999]
[27873,"Feucht, Christine","SW II","1. BGC Singen","BBS",999]
[66265,"Krieger, Wolfgang","SM II","Minigolf Wölfe Rheinstetten 02","BBS",999]
[30039,"Letzel, Reinhard","SM II","BGC Rheinau-Freistett","BBS",999]
[67425,"Göttlich, Leon","H","MC Ilvesheim","BBS",999]
[22909,"Hengstler, Ulrich","SM II","1. BGC Singen","BBS",999]
[29845,"Sauer, Albert","SM I","BSV 82 Ohlsbach","BBS",999]
[34669,"Herbig, Jan","SM I","MC Ilvesheim","BBS",999]
[37168,"Neumann, Michael","SM II","Minigolf Wölfe Rheinstetten 02","BBS",999]
[33011,"Jäck, Christopher","H","1. BGC Singen","BBS",999]
[5033,"Hartmann, Peter","SM II","CGC Blau-Gelb Grötzingen 1968","BBS",999]
[36131,"Heger, Marcel","H","CGC Blau-Gelb Grötzingen 1968","BBS",999]
[38504,"Seiffert, Michelle","D","BSV 82 Ohlsbach","BBS",999]
[65818,"König, Kevin","H","1. BGC Singen","BBS",999]
[37973,"Linke, Horst","SM II","1. BGC Singen","BBS",999]
[68003,"Hornung, Angelika","SW II","CGC Blau-Gelb Grötzingen 1968","BBS",999]
[33485,"Langenbacher, Bianca","D","1. MGC Tuttlingen","BBS",999]
[31344,"Rieker, Markus","SM I","1. MGC Tuttlingen","BBS",999]
[21472,"Köberle, Markus","SM II","1. MGC Ladenburg","BBS",999]
[66123,"Willy, Pascal","H","BSV 82 Ohlsbach","BBS",999]
[67644,"Oberle, Ursula","SW II","Minigolf Wölfe Rheinstetten 02","BBS",999]
[66848,"Mayer, Max","SM I","CGC Blau-Gelb Grötzingen 1968","BBS",999]
[22917,"Lutz, Hugo","SM I","1. BGC Singen","BBS",999]
[35266,"Knoll, Bianca","SW II","MC Ilvesheim","BBS",999]
[30348,"Moll, Maik","SM I","CGC Blau-Gelb Grötzingen 1968","BBS",999]
[68058,"Oberle, Jan Sören","H","Minigolf Wölfe Rheinstetten 02","BBS",999]
[26535,"Müller, Klaus","SM II","MGF Hilzingen 80","BBS",999]
[35504,"Lerch, Gerrit","H","MC Ilvesheim","BBS",999]
[42368,"May, Bernd","SM I","1. MGC Ladenburg","BBS",999]
[67495,"Mössinger, Sigrun","SW I","CGC Blau-Gelb Grötzingen 1968","BBS",999]
[29801,"Philipp, Simon","H","MGF Hilzingen 80","BBS",999]
[42375,"Reichle, Dirk","SM II","1. MGC Ladenburg","BBS",999]
[43367,"Müllner, Michael","SM II","MC Ilvesheim","BBS",999]
[31347,"Tolk, Ingolf","SM I","1. MGC Tuttlingen","BBS",999]
[24182,"Rude, Dieter","SM II","1. MGC Ladenburg","BBS",999]
[34109,"Schmitutz, Karin","SW II","1. MGC Ladenburg","BBS",999]
[67382,"Verges, Gerhard","SM I","1. MGC Ladenburg","BBS",999]
[68059,"Mayr, Ingrid","SW II","MGF Waldshut 1974","BBS",999]
[68108,"von Arb, Bruno","SM II","MGF Waldshut 1974","BBS",999]
[42533,"Ritzert, Bettina","SW I","MC Ilvesheim","BBS",999]
[27809,"Weygoldt, Thomas","SM I","1. MGC Ladenburg","BBS",999]
[66644,"Trepesch, Christine","SW I","1. MGC Tuttlingen","BBS",999]
[33976,"Wehlmann, Hugo","SM II","MGC Sulzfeld","BBS",999]
[22937,"Schwer, Bernd","SM II","MC Ilvesheim","BBS",999]
[38261,"Zech, Johann","SM II","1. BGC Singen","BBS",999]
[66225,"Wenner, Timo","H","CGC Blau-Gelb Grötzingen 1968","BBS",999]
[45141,"Schwer, Uwe","SM I","MC Ilvesheim","BBS",999]
[38019,"Weigenand, Karlheinz","SM II","MC Ilvesheim","BBS",999]
[31216,"Wetzel, Cornelia","SW I","CGC Blau-Gelb Grötzingen 1968","BBS",999]
[65193,"Stoß, Siegfried","SM II","MGF Hilzingen 80","BBS",999]
[3510,"Zollinger, Sieglinde","SW II","MGF Hilzingen 80","BBS",999]
[3796,"Mann, Hans-Joachim","SM II","MGC Murnau am Staffelsee","BMV",999]
[67918,"Gruber, Melanie","JW","MGC Murnau am Staffelsee","BMV",999]
[38338,"Jurgeleit, Melanie","D","MGC Murnau am Staffelsee","BMV",999]
[67858,"Reindl, Fabian","SCHM","MGC Murnau am Staffelsee","BMV",999]
[30969,"Jung, Claudia","D","MGC Murnau am Staffelsee","BMV",999]
[66312,"Schlaucher, Jeanine","D","MGC Murnau am Staffelsee","BMV",999]
[37386,"Werner, Simone","D","MGC Murnau am Staffelsee","BMV",999]
[37937,"Jung, Marco","H","MGC Murnau am Staffelsee","BMV",999]
[48275,"Guni, Rudolf","SM I","MGC Murnau am Staffelsee","BMV",999]
[28606,"Bieringer, Florian","SM II","MGC Murnau am Staffelsee","BMV",999]
[48285,"Keller, Franz","SM II","MGC Murnau am Staffelsee","BMV",999]
[40845,"Mois, Jakob","SM II","MGC Murnau am Staffelsee","BMV",999]
[46123,"Nicolazzi, Piergiorgio","SM II","MGC Murnau am Staffelsee","BMV",999]
[68028,"Nitzl, Jürgen","SM II","MGC Murnau am Staffelsee","BMV",999]
[68083,"Weisser, Otis","H","MGC Murnau am Staffelsee","BMV",999]
[26456,"Joachimsthaler, Erwin","SM II","MGC Ostheim / Rhön","BMV",999]
[37425,"Benkert, Katharina","D","MGC Ostheim / Rhön","BMV",999]
[33623,"Benkert, Marius","H","MGC Ostheim / Rhön","BMV",999]
[67337,"Reinhardt, André","H","MGC Ostheim / Rhön","BMV",999]
[38597,"Thomas, Andreas","H","MGC Ostheim / Rhön","BMV",999]
[45973,"Zehe, Michael","SM I","MGC Ostheim / Rhön","BMV",999]
[26259,"Hefner, Karl-Heinz","SM II","MGC Ostheim / Rhön","BMV",999]
[31250,"Kegel, Thomas","SM II","MGC Ostheim / Rhön","BMV",999]
[48004,"Sziele, Jörg","SM I","MGC Wertheim ´91","BMV",999]
[67871,"Jüstel, Markus","SM I","MGC Wertheim ´91","BMV",999]
[48952,"Seus, Norbert","SM I","MGC Wertheim ´91","BMV",999]
[40132,"Kuhnert, Ingo","SM II","MGC Wertheim ´91","BMV",999]
[67872,"Dietrich, Nicole","SW I","MGC Wertheim ´91","BMV",999]
[35462,"Zierl, Sabine","SW II","MGC Wertheim ´91","BMV",999]
[67105,"Schreyl, Harald","SM II","MGC Wolnzach","BMV",999]
[33433,"Gkotses, Dimitri","H","MGF Hammer","BMV",999]
[48283,"Eisele, Dominikus","SM II","MGF Steinbruch Kempten","BMV",999]
[37281,"Radeck, Carina","D","MGF Steinbruch Kempten","BMV",999]
[36867,"Eisele, Sabine","SW I","MGF Steinbruch Kempten","BMV",999]
[67180,"Puschner, Ly","SW II","MGV Ansbach","BMV",999]
[67606,"Heinlein, Inge","SW II","MGV Ansbach","BMV",999]
[67783,"Dörflein, Thomas","SM II","MGV Ansbach","BMV",999]
[46446,"Nickerl, Matthias","SM I","MGC Veitshöchheim","BMV",999]
[32995,"Weidl, Stefan","H","MSG Kempten","BMV",999]
[67183,"Antholz, Robin","JM","MSG Kempten","BMV",999]
[66055,"Delasbe, Barbara","SW I","MSG Kempten","BMV",999]
[68123,"Jordan, Michael","SM II","MSG Kempten","BMV",999]
[68120,"Schellhaas, Peter","SM II","MSG Kempten","BMV",999]
[68121,"Schellhaas, Gunda","SW II","MSG Kempten","BMV",999]
[35464,"Schaub, Susanne","D","MSV Würzburg-Löwenbrücke","BMV",999]
[37921,"Möller, David","H","Olchinger MSK","BMV",999]
[67946,"Hohle, Darius","SCHM","Olchinger MSK","BMV",999]
[67094,"Schwarz, Dominik","JM","Olchinger MSK","BMV",999]
[67285,"Staeubert, Leon","SCHM","Olchinger MSK","BMV",999]
[67945,"Rieger, Xaver","SM II","Olchinger MSK","BMV",999]
[26089,"Schamberger, Albert","SM II","Olchinger MSK","BMV",999]
[67133,"Seifert, Uwe","SM II","Olchinger MSK","BMV",999]
[36623,"Trinkl, Werner","SM II","Olchinger MSK","BMV",999]
[67110,"Röhrl, Sabine","SW I","Olchinger MSK","BMV",999]
[5257,"Klöhn, Katharina","SW II","Olchinger MSK","BMV",999]
[26088,"Schamberger, Gerda","SW II","Olchinger MSK","BMV",999]
[46426,"Koziol, Tanja","SW I","Olchinger MSK","BMV",999]
[34782,"Springer, Roman","H","OMGC Ingolstadt","BMV",999]
[63961,"Grabrucker, Jasmin","D","OMGC Ingolstadt","BMV",999]
[40364,"Eisenberger, Peter","SM I","OMGC Ingolstadt","BMV",999]
[35081,"Springer, Wilfried","SM II","OMGC Ingolstadt","BMV",999]
[40365,"Schneider, Renate","SW I","OMGC Ingolstadt","BMV",999]
[34841,"Springer, Rosmarie","SW II","OMGC Ingolstadt","BMV",999]
[50472,"Wagner, Christian","SM I","PTSV Hof Abt. Minigolf","BMV",999]
[67421,"Winter, Simon","H","PTSV Hof Abt. Minigolf","BMV",999]
[3874,"Härtl, Wolfgang","SM II","PTSV Hof Abt. Minigolf","BMV",999]
[87507,"Fischer, Daniel","H","TG Höchberg von 1862 Bahnengolf","BMV",999]
[29738,"Keller, Frank","SM I","TG Höchberg von 1862 Bahnengolf","BMV",999]
[68062,"Schad, Justin","SCHM","TG Höchberg von 1862 Bahnengolf","BMV",999]
[44173,"Weißenberger, Stefan","SM I","TG Höchberg von 1862 Bahnengolf","BMV",999]
[17884,"Mordhorst, Rosemarie","SW II","VfM Berlin Spandau","BVBB",999]
[65929,"Kuhn, Dustin","H","VfM Berlin Spandau","BVBB",999]
[36780,"Brown, Christopher","H","VfM Berlin Spandau","BVBB",999]
[41008,"Schreck, Andreas","SM I","VfM Berlin Spandau","BVBB",999]
[36781,"Trautmann, Clemens","SM I","VfM Berlin Spandau","BVBB",999]
[25152,"Zseby, Jörg","SM II","VfM Berlin Spandau","BVBB",999]
[66157,"Hansper, Heike","SW I","VfM Berlin Spandau","BVBB",999]
[67578,"Engel, Thomas","SM II","TSV Flöha 1848 Abt. Minigolf","BVS",999]
[30057,"Heinze, Doris","D","BSV AOK Leipzig","BVS",999]
[1326,"May, Daniela","D","TSV Flöha 1848 Abt. Minigolf","BVS",999]
[37907,"Töpelt, Eva","D","1. BGC Leipzig","BVS",999]
[32470,"Reiche, Matthias","H","1. BGC Leipzig","BVS",999]
[29648,"Töpelt, Michael","H","1. BGC Leipzig","BVS",999]
[66850,"Rennert, Uwe","SM II","TSV Flöha 1848 Abt. Minigolf","BVS",999]
[66915,"Rockstroh, Jens","SM II","TSV Flöha 1848 Abt. Minigolf","BVS",999]
[40354,"Weinhold, Klaus","SM II","TSV Flöha 1848 Abt. Minigolf","BVS",999]
[34420,"Wycisk, Angelika","SW II","1. BGC Leipzig","BVS",999]
[65740,"Bollrich, Margit","SW II","1. BGC Leipzig","BVS",999]
[68046,"Bartels, Lucy","SCHW","TSV Arendsee Abt. Minigolf","BVSA",999]
[68040,"Tietke, Stefan","SM I","TSV Arendsee Abt. Minigolf","BVSA",999]
[67823,"Krause, Sophia","D","TSV Arendsee Abt. Minigolf","BVSA",999]
[6264,"Dellinger, Karl-Heinz","SM II","MSC Bensheim-Auerbach","HBSV",999]
[48058,"Faust, Monika","SW I","MSC Bensheim-Auerbach","HBSV",999]
[67664,"Faust, Sam","JM","MSC Bensheim-Auerbach","HBSV",999]
[9289,"Frick, Ernst","SM II","MSC Bensheim-Auerbach","HBSV",999]
[66642,"Fritsch, Martin","H","MSC Bensheim-Auerbach","HBSV",999]
[43548,"Thiem, Elke","SW I","MSC Bensheim-Auerbach","HBSV",999]
[33945,"Vetter, Renate","SW I","MSC Bensheim-Auerbach","HBSV",999]
[31120,"Werner, Hans Jürgen","SM II","MSC Bensheim-Auerbach","HBSV",999]
[66629,"Freund, Wilfried","SM II","SG Arheilgen 1876/1945 Abt. Bahnengolf","HBSV",999]
[38630,"Göttmann, Hendrik","H","SG Arheilgen 1876/1945 Abt. Bahnengolf","HBSV",999]
[38631,"Göttmann, Holger","SM II","SG Arheilgen 1876/1945 Abt. Bahnengolf","HBSV",999]
[17936,"Hess, Erich","SM II","SG Arheilgen 1876/1945 Abt. Bahnengolf","HBSV",999]
[38121,"Horst, Valentin","H","SG Arheilgen 1876/1945 Abt. Bahnengolf","HBSV",999]
[43187,"Knapp, Joachim","SM I","SG Arheilgen 1876/1945 Abt. Bahnengolf","HBSV",999]
[35306,"Lorenz, Patrick","H","SG Arheilgen 1876/1945 Abt. Bahnengolf","HBSV",999]
[67074,"Sachse, Torsten","SM I","SG Arheilgen 1876/1945 Abt. Bahnengolf","HBSV",999]
[67624,"Schmidt, Marco","H","SG Arheilgen 1876/1945 Abt. Bahnengolf","HBSV",999]
[67623,"Schmidt-Pasewalk, Lisa","D","SG Arheilgen 1876/1945 Abt. Bahnengolf","HBSV",999]
[60743,"Schmitt, Ursula","SW II","SG Arheilgen 1876/1945 Abt. Bahnengolf","HBSV",999]
[67546,"Tuaew, Alan","SCHM","SG Arheilgen 1876/1945 Abt. Bahnengolf","HBSV",999]
[67545,"Tuaew, Emilia","JW","SG Arheilgen 1876/1945 Abt. Bahnengolf","HBSV",999]
[33568,"Wiedmann, Stephan","SM I","SG Arheilgen 1876/1945 Abt. Bahnengolf","HBSV",999]
[22574,"Pfeffer, Roland","SM II","SV 1890 Dreieichenhain Abt. Bahnengolf","HBSV",105.009]
[37276,"Wolyniak, Martin","SM I","SV 1890 Dreieichenhain Abt. Bahnengolf","HBSV",106.035]
[66391,"Blumhoff, Hardy","SM II","SV 1890 Dreieichenhain Abt. Bahnengolf","HBSV",108.402]
[68000,"Knöspel, Frank","SM II","SV 1890 Dreieichenhain Abt. Bahnengolf","HBSV",108.715]
[67716,"Seibert, Dieter","SM II","SV 1890 Dreieichenhain Abt. Bahnengolf","HBSV",108.71599999999999]
[68031,"Noll, Joshua","SCHM","SV 1890 Dreieichenhain Abt. Bahnengolf","HBSV",110.169]
[25214,"Bärenz, Stefan","SM II","SV 1890 Dreieichenhain Abt. Bahnengolf","HBSV",999]
[66907,"Leyer, Karin","SW II","SV 1890 Dreieichenhain Abt. Bahnengolf","HBSV",999]
[67859,"Cicek, Cetin","H","TSV Pfungstadt Abt. Bahnengolf","HBSV",999]
[67451,"Büschenfeldt, Petra","SW II","VfL Lohbrügge von 1892 Abt. Bahnengolf","HBV",999]
[33586,"Isop, Marion","SW I","VfL Lohbrügge von 1892 Abt. Bahnengolf","HBV",999]
[68139,"Lenger, Annelie","SW II","VfL Lohbrügge von 1892 Abt. Bahnengolf","HBV",999]
[2320,"von Beuningen, Dörthe","SW II","VfL Lohbrügge von 1892 Abt. Bahnengolf","HBV",999]
[29993,"Hemmerling, Martin","H","TSV Pfungstadt Abt. Bahnengolf","HBSV",999]
[67685,"Becker, Marcel","H","1. Mainzer MGC","MRP",999]
[67925,"Becker, Maria","D","1. Mainzer MGC","MRP",999]
[66013,"Bergmann, Uwe","SM I","1. Mainzer MGC","MRP",999]
[29085,"Brüchert, Lars","SM I","1. Mainzer MGC","MRP",999]
[49300,"Eschmann, Jürgen","SM II","1. Mainzer MGC","MRP",999]
[40281,"Burger, Harald","SM I","1. MGC Ludwigshafen 1964","MRP",999]
[67035,"Görtz, Petra","D","1. Mainzer MGC","MRP",999]
[38011,"Dornick, Jochen","SM I","1. MGC Ludwigshafen 1964","MRP",999]
[38012,"Dornick, Kevin","H","1. MGC Ludwigshafen 1964","MRP",999]
[30056,"Greiffendorf, Lars","SM I","1. Mainzer MGC","MRP",999]
[67686,"Hayer, Thomas","H","1. Mainzer MGC","MRP",999]
[31267,"Hermann, Alexander","H","1. Mainzer MGC","MRP",999]
[67319,"Hermann, David","SCHM","1. Mainzer MGC","MRP",999]
[31268,"Hermann, Max","H","1. Mainzer MGC","MRP",999]
[66476,"Gottke, Runa Sophia","D","MGC Traben-Trarbach","MRP",999]
[33132,"Graf, Roger","SM II","MGC Traben-Trarbach","MRP",999]
[35145,"Hauth, Erich","SM II","MGC Traben-Trarbach","MRP",999]
[40687,"Juchem, Nikolai","SM I","1. Mainzer MGC","MRP",999]
[49246,"El Gharbi, Karim","SM I","MSV Bad Kreuznach","MRP",999]
[6538,"Künzel, Hans-Peter","SM II","1. MGC Ludwigshafen 1964","MRP",999]
[25581,"Boltze, Uwe","SM II","1. BGC Rodalben 1977","MRP",999]
[36159,"Goldschmidt, Helmut","SM II","MSV Bad Kreuznach","MRP",999]
[35365,"Braun, Elisabeth","SW II","1. MGC Mannheim 1968","MRP",999]
[20342,"Kramer, Norbert","SM II","1. Mainzer MGC","MRP",999]
[34451,"Dippelhofer, Markus","SM I","1. MGC Mannheim 1968","MRP",999]
[67257,"Milbers, Frank","SM I","1. MGC Mannheim 1968","MRP",999]
[50463,"Meister, Hans-Peter","SM II","1. MGC Ludwigshafen 1964","MRP",999]
[32139,"Neumann, Kathrin","D","1. Mainzer MGC","MRP",999]
[31912,"Meister, Markus","H","1. MGC Ludwigshafen 1964","MRP",999]
[34191,"Noack, Günter","SM II","1. Mainzer MGC","MRP",999]
[67974,"Spielmann, Benjamin","H","TV 1901 Nierstein/Rhein Abt. Minigolf","MRP",999]
[66593,"Theobald, Kai","H","TV 1901 Nierstein/Rhein Abt. Minigolf","MRP",999]
[30634,"Pull, Rudolf","H","1. Mainzer MGC","MRP",999]
[67266,"Milbers, Monika","SW I","1. MGC Mannheim 1968","MRP",999]
[66956,"Rupp, Petra","SW II","1. Mainzer MGC","MRP",999]
[66592,"Theobald, Tobias","H","TV 1901 Nierstein/Rhein Abt. Minigolf","MRP",999]
[40264,"Orth, Harald","SM I","MSV Bad Kreuznach","MRP",999]
[49087,"Schäfer, Richard","SM II","1. Mainzer MGC","MRP",999]
[20828,"Müllen, Hans Dieter","SM II","MGC Traben-Trarbach","MRP",999]
[67348,"Morelli, Ruggiero","SM II","1. MGC Ludwigshafen 1964","MRP",999]
[34616,"Müller, Laura","D","1. MGC Ludwigshafen 1964","MRP",999]
[31280,"Scholz, Lucas","H","1. Mainzer MGC","MRP",999]
[35611,"Paltian, Olaf","H","1. MGC Ludwigshafen 1964","MRP",999]
[22496,"Stoparic, Miroslav","H","1. Mainzer MGC","MRP",999]
[35658,"Pieper, Sabrina","D","MGC Traben-Trarbach","MRP",999]
[44243,"Szablikowski, André","SM I","1. Mainzer MGC","MRP",999]
[29090,"Szablikowski, Anke","SW I","1. Mainzer MGC","MRP",999]
[30493,"Szablikowski, Bernd","SM II","1. Mainzer MGC","MRP",999]
[36570,"Szablikowski, Manuel","H","1. Mainzer MGC","MRP",999]
[23509,"Schuster, David","H","1. MGC Ludwigshafen 1964","MRP",999]
[27520,"Perle, Peter","SM II","1. MGC Mannheim 1968","MRP",999]
[26514,"Ploem, Christiane","SW II","MSV Bad Kreuznach","MRP",999]
[37818,"Schäfer, Pascal","H","MGC Traben-Trarbach","MRP",999]
[65862,"Waxmann, Dirk","H","MGC Traben-Trarbach","MRP",999]
[35763,"Schwind, Sebastian","H","1. MGC Ludwigshafen 1964","MRP",999]
[66988,"Ulrich, Miriam","D","1. MGC Ludwigshafen 1964","MRP",999]
[38324,"Wick, Daniel","H","MGC Traben-Trarbach","MRP",999]
[40689,"Ploem, Hans","SM II","MSV Bad Kreuznach","MRP",999]
[17476,"Pfeffer, Werner","SM II","1. MGC Mannheim 1968","MRP",999]
[34453,"Schätz, Michael","SM II","1. MGC Mannheim 1968","MRP",999]
[6783,"Ries, Karl-Ludwig","SM II","MSV Bad Kreuznach","MRP",999]
[26716,"Wagner, Hans-Joachim","SM II","1. Mainzer MGC","MRP",999]
[26331,"Wageck, Hans Rolf","SM II","1. MGC Ludwigshafen 1964","MRP",999]
[65464,"Wiebauer, Christine","SW II","1. MGC Ludwigshafen 1964","MRP",999]
[37722,"Wiebauer, Peter","SM II","1. MGC Ludwigshafen 1964","MRP",999]
[67698,"Zimmermann, Ariane","D","1. Mainzer MGC","MRP",999]
[67699,"Zimmermann, Frank","SM I","1. Mainzer MGC","MRP",999]
[27937,"Stoparic, Branislav","H","1. MGC Mannheim 1968","MRP",999]
[49082,"Zimmermann, Peter","SM I","1. Mainzer MGC","MRP",999]
[67962,"Zittel, René","SM II","1. MGC Ludwigshafen 1964","MRP",999]
[29405,"Hesse, Karin","SW II","BGC Goslar","MVBN",999]
[67138,"Brandstettner, Eva","D","BGC Goslar","MVBN",999]
[33157,"Fabrytzek, Nils","H","BGC Goslar","MVBN",999]
[37295,"Ludwig, Sven","H","BGC Goslar","MVBN",999]
[1501,"Ludwig, Kornelia","SW I","BGC Goslar","MVBN",999]
[36086,"Zink, Christopher","H","BGC Northeim","MVBN",999]
[36565,"Thies, Frank","SM II","BGC Northeim","MVBN",999]
[839,"Woltmann, Inge","SW II","MC \"Möve\" Cuxhaven-Sahlenburg","MVBN",999]
[40050,"Biedron, Maik","H","MC \"Möve\" Cuxhaven-Sahlenburg","MVBN",999]
[46457,"Heidecke, Falk","SM I","MC \"Möve\" Cuxhaven-Sahlenburg","MVBN",999]
[46453,"Itjen, Marcus","SM I","MC \"Möve\" Cuxhaven-Sahlenburg","MVBN",999]
[42687,"Marinello, Christian","SM I","MC \"Möve\" Cuxhaven-Sahlenburg","MVBN",999]
[44856,"Scheunemann, Irving","SM I","MC \"Möve\" Cuxhaven-Sahlenburg","MVBN",999]
[44865,"Süling, Christopher","SM I","MC \"Möve\" Cuxhaven-Sahlenburg","MVBN",999]
[46450,"Grützner, Ulrich","SM II","MC \"Möve\" Cuxhaven-Sahlenburg","MVBN",999]
[1344,"Granz, Susanne","SW I","MC \"Möve\" Cuxhaven-Sahlenburg","MVBN",999]
[42985,"Löhr, Michael","SM I","MC \"Möve\" Cuxhaven-Sahlenburg","MVBN",999]
[36650,"Chrobock, Gerhard","SM II","MGC Einbeck","MVBN",999]
[31240,"Sabath, Petra","SW II","MGC Einbeck","MVBN",999]
[32849,"Sülzen, Hans-Gerd","SM II","MGS Hildesheim","MVBN",999]
[32850,"Sülzen, Annelie","SW II","MGS Hildesheim","MVBN",999]
[1641,"Mylius, Frank","SM II","MGV Bremen","MVBN",999]
[40898,"Mylius, Marion","SW II","MGV Bremen","MVBN",999]
[1090,"Mylius, Hendrik","H","MGV Bremen","MVBN",999]
[2275,"Blume, Detlev","SM I","MSV Bad Münder/Springe von 2005","MVBN",999]
[68151,"Kaiser, Britta","SW I","MSV Bad Münder/Springe von 2005","MVBN",999]
[35711,"Hasenfuss, Johann","SM II","SC Bad Münder Abt. Bahnengolf","MVBN",999]
[67616,"Sender, Finlay","SCHM","SV Glückauf 1901 Gebhardshagen","MVBN",999]
[38437,"Hildebrandt, Andreas","SM II","SV Glückauf 1901 Gebhardshagen","MVBN",999]
[67154,"Adam, Jessica","D","VfL Lüneburg Abt. Bahnengolf","MVBN",999]
[34631,"Adam, Jan Sebastian","H","VfL Lüneburg Abt. Bahnengolf","MVBN",999]
[66652,"Jakubeit, Rene","SM I","VfL Lüneburg Abt. Bahnengolf","MVBN",999]
[6203,"Dreyer, Horst","SM II","VfL Lüneburg Abt. Bahnengolf","MVBN",999]
[45741,"Clemens, Isabella","SW I","MGC Marl 1960","NBV",999]
[37557,"Bräuer, Ute","SW II","MGC Marl 1960","NBV",999]
[48981,"Frontzek, Sascha","SM I","MGC Marl 1960","NBV",999]
[68106,"Uziel-Riechert, Lena Maria","SW II","MGC Nümbrecht","NBV",999]
[68107,"van Kooperen, Horst","SM II","MGC Nümbrecht","NBV",999]
[34775,"Steeg, Hans-Georg","SM II","MGC Rot-Weiß Wanne-Eickel","NBV",999]
[66858,"Senke, Andreas","SM I","MGC Rot-Weiß Wanne-Eickel","NBV",999]
[66859,"Senke, Jessica","D","MGC Rot-Weiß Wanne-Eickel","NBV",999]
[67187,"Lechtenfeld, Justin","H","MGC Rot-Weiß Wanne-Eickel","NBV",999]
[38420,"Quickels, Martin","SM II","MGC Rot-Weiß Wanne-Eickel","NBV",999]
[35568,"Iffland, Marina","D","MGC Rot-Weiß Wanne-Eickel","NBV",999]
[29690,"Elbert, Jörg","H","MGC Rot-Weiß Wanne-Eickel","NBV",999]
[67801,"Bretschneider, Tim","JM","MGC Rot-Weiß Wanne-Eickel","NBV",999]
[67800,"Farun, Felix","SCHM","MGC Rot-Weiß Wanne-Eickel","NBV",999]
[67870,"Omoruyi, Mark","SCHM","MGC Rot-Weiß Wanne-Eickel","NBV",999]
[50859,"Faust, Sascha","SM I","MGC Rot-Weiß Wanne-Eickel","NBV",999]
[38540,"Grobe, Robert","SM I","MGC Rot-Weiß Wanne-Eickel","NBV",999]
[66860,"Kühn, Marco","SM I","MGC Rot-Weiß Wanne-Eickel","NBV",999]
[66201,"Andrzejak, Bernd","SM II","MGC Rot-Weiß Wanne-Eickel","NBV",999]
[66322,"Müller, Uwe","SM II","MGC Rot-Weiß Wanne-Eickel","NBV",999]
[24462,"Schäfer, Jürgen","SM II","MGC Rot-Weiß Wanne-Eickel","NBV",999]
[67580,"Welz, Daniela","SW I","MGC Rot-Weiß Wanne-Eickel","NBV",999]
[68072,"Gerdes, Tyler","SCHM","MGC Rot-Weiß Wanne-Eickel","NBV",999]
[68073,"Kostrytsis, Iwan","SCHM","MGC Rot-Weiß Wanne-Eickel","NBV",999]
[67146,"Göbel, Günter","SM II","MGC-Felderbachtal 1964","NBV",999]
[65441,"Dams, Tanja","SW I","MGC-Felderbachtal 1964","NBV",999]
[35718,"Dorfmeister, Piroschka","SW I","MGC-Felderbachtal 1964","NBV",999]
[67145,"Göbel, Marina","SW II","MGC-Felderbachtal 1964","NBV",999]
[65865,"Müller, Markus","SM I","MGU Neviges-Odenthal 1968","NBV",999]
[35560,"Rosemann, Axel","SM I","MGU Neviges-Odenthal 1968","NBV",999]
[48907,"Elmer, Thomas","SM II","MGU Neviges-Odenthal 1968","NBV",999]
[17549,"Kuhl, Dieter","SM II","MGU Neviges-Odenthal 1968","NBV",999]
[5956,"Kuttig, Helmut","SM II","MGU Neviges-Odenthal 1968","NBV",999]
[34099,"Rassler, Gerhard","SM II","MGU Neviges-Odenthal 1968","NBV",999]
[48906,"Fischer, Annette","SW I","MGU Neviges-Odenthal 1968","NBV",999]
[38503,"Wontroba, Sonja","D","MSC Bad Godesberg","NBV",999]
[32383,"Hansen, Mike","H","MSC Bad Godesberg","NBV",999]
[66887,"Weber, Janina","JW","MSC Bad Godesberg","NBV",999]
[67111,"Diener, Frank","SM I","MSC Bad Godesberg","NBV",999]
[38269,"Hylak, Marcus","SM I","MSC Bad Godesberg","NBV",999]
[38500,"Manthey, Stefan","SM I","MSC Bad Godesberg","NBV",999]
[44021,"Schaefer, Michael","SM I","MSC Bad Godesberg","NBV",999]
[38501,"Thren, Ralf","SM I","MSC Bad Godesberg","NBV",999]
[29622,"Weber, Hans-Dieter","SM I","MSC Bad Godesberg","NBV",999]
[48999,"Finette, Manfred","SM II","MSC Bad Godesberg","NBV",999]
[4762,"Klein, Helge","SM II","MSC Bad Godesberg","NBV",999]
[33791,"Salzmann, Reiner","SM II","MSC Bad Godesberg","NBV",999]
[7907,"Scharfenberg, Peter","SM II","MSC Bad Godesberg","NBV",999]
[4761,"Taudien, Peter","SM II","MSC Bad Godesberg","NBV",999]
[37516,"Groteböhmer, Rosemarie","SW II","MSC Bad Godesberg","NBV",999]
[38502,"Thren-Bös, Sigrid","SW II","MSC Bad Godesberg","NBV",999]
[37628,"Fischer, Katharina","D","MSC Bad Godesberg","NBV",999]
[36755,"Reinhardt, Peter","SM II","MSC Herscheid 1963","NBV",999]
[29794,"Affeld, Markus","H","MSC Herscheid 1963","NBV",999]
[36583,"Wagner, Marita","SW II","MSC Herscheid 1963","NBV",999]
[67410,"Braucks, Dankmar","SM II","MSF Brilon","NBV",999]
[67908,"Rink, Leona","SCHW","MSF Brilon","NBV",999]
[67910,"Rink, Delilah","JW","MSF Brilon","NBV",999]
[67713,"Rink, Björn","H","MSF Brilon","NBV",999]
[67909,"Rink, Devyn","SCHM","MSF Brilon","NBV",999]
[23976,"Kossmann, Klaus","SM II","MSK Neheim-Hüsten","NBV",999]
[45789,"Jäink, Christian","SM I","MSK Neheim-Hüsten","NBV",999]
[36624,"Borggraefe, Martina","D","MSK Neheim-Hüsten","NBV",999]
[38519,"Kleiner, Philipp","H","MSK Neheim-Hüsten","NBV",999]
[35539,"Beneking, Jasmin","D","MSK Neheim-Hüsten","NBV",999]
[38511,"Handtke, Sarah","D","MSK Neheim-Hüsten","NBV",999]
[38260,"Lewin, Annika","D","MSK Neheim-Hüsten","NBV",999]
[67148,"Handtke, Jonas","H","MSK Neheim-Hüsten","NBV",999]
[67069,"Kersek, Toni","H","MSK Neheim-Hüsten","NBV",999]
[36908,"Lewin, Philipp","H","MSK Neheim-Hüsten","NBV",999]
[67950,"Rätzel, Torsten","H","MSK Neheim-Hüsten","NBV",999]
[65283,"Wächter, Manuel André","H","MSK Neheim-Hüsten","NBV",999]
[67416,"Wischott, Fynn","JM","MSK Neheim-Hüsten","NBV",999]
[45785,"Klöckener, Sven","SM I","MSK Neheim-Hüsten","NBV",999]
[29032,"Rösener, Detlev","SM I","MSK Neheim-Hüsten","NBV",999]
[29657,"Rüter, Frank","SM I","MSK Neheim-Hüsten","NBV",999]
[45788,"Selka, Heiko","SM I","MSK Neheim-Hüsten","NBV",999]
[12781,"Becker, Hans-Dieter","SM II","MSK Neheim-Hüsten","NBV",999]
[26620,"Beckmann, Thomas","SM II","MSK Neheim-Hüsten","NBV",999]
[22467,"Grzyb-Bonsack, Joachim","SM II","MSK Neheim-Hüsten","NBV",999]
[36965,"Heisterklaus, Dieter","SM II","MSK Neheim-Hüsten","NBV",999]
[45781,"Kloke, Olaf","SM II","MSK Neheim-Hüsten","NBV",999]
[40222,"Krane, Ralf","SM II","MSK Neheim-Hüsten","NBV",999]
[28527,"Much, Martin","SM II","MSK Neheim-Hüsten","NBV",999]
[41367,"Steinhoff, Hubert","SM II","MSK Neheim-Hüsten","NBV",999]
[45786,"Klöckener, Astrid","SW I","MSK Neheim-Hüsten","NBV",999]
[43336,"Krane, Bettina","SW I","MSK Neheim-Hüsten","NBV",999]
[50101,"Lauber-Selka, Tanja","SW I","MSK Neheim-Hüsten","NBV",999]
[35810,"Haucke, Timm","H","SC Bastion Rot-Weiß Lippstadt 1964","NBV",999]
[68111,"Gruchot, Tobias","H","SC Olympia Dortmund","NBV",999]
[68066,"Jurisch, Klaus","SM I","SC Olympia Dortmund","NBV",999]
[68157,"Koberstein, Sarah","D","SC Olympia Dortmund","NBV",999]
[68110,"Lange, Kevin","H","SC Olympia Dortmund","NBV",999]
[66725,"Lange, Nils","H","SC Olympia Dortmund","NBV",999]
[32946,"Wiebusch, Friedrich","SM II","SC-Wermelskirchen","NBV",999]
[67669,"Schmidt, Dennis","H","SGC \"Glocke\" Castrop","NBV",999]
[45198,"Semrau, Thorsten","SM II","SGC \"Glocke\" Castrop","NBV",999]
[33395,"Rochel, Eva","SW II","SGC Hagen","NBV",999]
[38534,"Hasenberg, Felix","H","SGC Hagen","NBV",999]
[29346,"Hasenberg, Christoph","SM I","SGC Hagen","NBV",999]
[65828,"Millhoff, Maximilian","H","SSC Attendorn","NBV",999]
[67010,"Hundt, Dieter","SM II","SSC Attendorn","NBV",999]
[65827,"Kampschulte, Jan-Kevin","H","SSC Attendorn","NBV",999]
[40247,"Muckenhaupt, Jan","H","SSC Attendorn","NBV",999]
[31572,"Springob, Lars","H","SSC Attendorn","NBV",999]
[66947,"Kleinke, Robin","JM","SSC Attendorn","NBV",999]
[30004,"Fricker, Jörg","SM I","SSC Attendorn","NBV",999]
[66050,"Jungwirth, Sven","SM I","SSC Attendorn","NBV",999]
[42849,"Piechota, Markus","SM I","SSC Attendorn","NBV",999]
[66051,"König, Erich","SM II","SSC Attendorn","NBV",999]
[40232,"Lutz, Helmut","SM II","SSC Attendorn","NBV",999]
[66320,"Sakulski, Petra","SW I","SSC Attendorn","NBV",999]
[40233,"Rüsche, Jens","SM I","SSC Attendorn","NBV",999]
[40220,"Scheffzik, Georg","SM II","SSC Halver","NBV",999]
[6487,"Grunwald, Manfred","SM II","SSC Halver","NBV",999]
[36278,"Hageböck, Wolfgang","SM II","SSC Halver","NBV",999]
[36277,"Klein, Bernd","SM II","SSC Halver","NBV",999]
[66619,"Riewe, Ole","H","VfB Osnabrück von 1984","NBV",999]
[37135,"Lingemann, Jacqueline","D","VfB Osnabrück von 1984","NBV",999]
[196,"Dettmer, Peter","SM I","VfB Osnabrück von 1984","NBV",999]
[3602,"Böttcher, Wilhelm","SM II","VfB Osnabrück von 1984","NBV",999]
[66351,"Liberoudis, Heike","SW I","VfB Osnabrück von 1984","NBV",999]
[66793,"Hoogen, Lena","D","VfB Osnabrück von 1984","NBV",999]
[37751,"Zschäpe, Jens-Bob","SM II","VfB Osnabrück von 1984","NBV",999]
[38641,"Luttmann, Herbert","SM II","VfB Osnabrück von 1984","NBV",999]
[600,"Klein, Jürgen","SM II","VfB Osnabrück von 1984","NBV",999]
[37750,"Dunker, Ruth Friederike","D","VfB Osnabrück von 1984","NBV",999]
[66955,"Höing, Carlotta","D","VfB Osnabrück von 1984","NBV",999]
[37136,"Lingemann, Sarah","D","VfB Osnabrück von 1984","NBV",999]
[38006,"Zschäpe, Hannah","D","VfB Osnabrück von 1984","NBV",999]
[33459,"Falge, Felix","H","VfB Osnabrück von 1984","NBV",999]
[46374,"Hahn, Timon","SM I","VfB Osnabrück von 1984","NBV",999]
[37325,"Rechenmacher, Jens","SM I","VfB Osnabrück von 1984","NBV",999]
[48946,"Vennemann, Dirk","SM II","VfB Osnabrück von 1984","NBV",999]
[68124,"Sammek, Lisa","D","VfB Osnabrück von 1984","NBV",999]
[68125,"Sammek, Svenja","SW I","VfB Osnabrück von 1984","NBV",999]
[67393,"Wagner, Ben","JM","VfM Bottrop","NBV",999]
[25960,"Grigo, Bernd","SM II","VfM Bottrop","NBV",999]
[9710,"Dahl, Roland","SM II","1. KC Homburg-Saar 1967","SaarMV",999]
[3826,"Dümmler, Winfried","SM II","1. KC Homburg-Saar 1967","SaarMV",999]
[50918,"Franz, Brigitte","SW II","1. KC Homburg-Saar 1967","SaarMV",999]
[31965,"Gorges, Dennis","H","1. KC Homburg-Saar 1967","SaarMV",999]
[42309,"Klein, Chris","SM I","1. KC Homburg-Saar 1967","SaarMV",999]
[67894,"Albert, Hermann","SM I","Freizeit Club Bliesen","SaarMV",999]
[67749,"Flammann, Eyleen","JW","BGC Bildstock","SaarMV",999]
[24532,"Flammann, Stefanie","D","BGC Bildstock","SaarMV",999]
[66796,"Haß, Christian","H","BGC Bildstock","SaarMV",999]
[5751,"Bauerfeld, Helmut","SM II","Freizeit Club Bliesen","SaarMV",999]
[40912,"Müller, Axel","SM II","1. KC Homburg-Saar 1967","SaarMV",999]
[34023,"Müller-Zentz, Sascha","H","BGC Bildstock","SaarMV",999]
[65375,"Münch, Anna Lena","D","1. KC Homburg-Saar 1967","SaarMV",999]
[38593,"Becker, Anna Lisa","D","1  MGC Saar 68 St. Ingbert","SaarMV",999]
[37586,"Rischar, Joshua","H","BGC Bildstock","SaarMV",999]
[5757,"Palm, Klaus Peter","SM II","1. KC Homburg-Saar 1967","SaarMV",999]
[38190,"Bamberg, Dennis","H","1  MGC Saar 68 St. Ingbert","SaarMV",999]
[37578,"Pape, Marc","H","1. KC Homburg-Saar 1967","SaarMV",999]
[68143,"Schlaudecker, Vera","SW II","BGC Bildstock","SaarMV",999]
[67570,"Springer, Marianne","SW II","BGC Bildstock","SaarMV",999]
[33364,"Pirrung, Wolfgang","SM II","1. KC Homburg-Saar 1967","SaarMV",999]
[38499,"Wallich, Daniel","H","BGC Bildstock","SaarMV",999]
[68079,"Melis, Tanja","SW I","1. CKF Dudweiler","SaarMV",999]
[44479,"Schlaudecker, Vera","SW II","1. KC Homburg-Saar 1967","SaarMV",999]
[62840,"Schlaudecker, Gerd","SM II","1  MGC Saar 68 St. Ingbert","SaarMV",999]
[24559,"Waschbusch, Hans-Werner","SM II","Freizeit Club Bliesen","SaarMV",999]
[4906,"Wagner, Barbara","SW II","1. KC Homburg-Saar 1967","SaarMV",999]
[4908,"Wagner, Franz","SM II","1. KC Homburg-Saar 1967","SaarMV",999]
[43441,"Waschbusch, Ursula","SW II","Freizeit Club Bliesen","SaarMV",999]
[41266,"Lemke, Cornelia","SW II","MGC Olympia Kiel","SHMV",999]
[34756,"Jarzembowski, Monika","SW II","MGC Olympia Kiel","SHMV",999]
[33091,"Below, Marvin","H","MGC Olympia Kiel","SHMV",999]
[34151,"Uhl, Jasmin Astrid","D","MGC Olympia Kiel","SHMV",999]
[34585,"Kirchhoff, Sabrina","D","MGC Olympia Kiel","SHMV",999]
[33127,"Blechert, Gesa","D","MGC Olympia Kiel","SHMV",999]
[27803,"Bornhöft, Bianca","D","MGC Olympia Kiel","SHMV",999]
[65866,"Braun, Jette","D","MGC Olympia Kiel","SHMV",999]
[37097,"Below, Gerrit","H","MGC Olympia Kiel","SHMV",999]
[46859,"Boock, Thomas","SM I","MGC Olympia Kiel","SHMV",999]
[29547,"Braun, Thorsten","SM I","MGC Olympia Kiel","SHMV",999]
[62030,"Eckloff, Horst","SM II","MGC Olympia Kiel","SHMV",999]
[5852,"Lorgie, Hans-Herbert","SM II","MGC Olympia Kiel","SHMV",999]
[46048,"Lorgie, Melanie","SW I","MGC Olympia Kiel","SHMV",999]
[52084,"Blechert, Gabriele","SW II","MGC Olympia Kiel","SHMV",999]
[41253,"Lorgie, Regina","SW II","MGC Olympia Kiel","SHMV",999]
[49769,"Mohr, Wilfried","SM I","SC Gut Heil Neumünster von 1881 Abteilung Miniaturgolf","SHMV",999]
[33954,"Brassait, Andreas","SM II","SC Gut Heil Neumünster von 1881 Abteilung Miniaturgolf","SHMV",999]
[34653,"Klein, Antje","SW II","SC Gut Heil Neumünster von 1881 Abteilung Miniaturgolf","SHMV",999]
[31289,"Seumenicht, Andreas","H","TSV Kücknitz von 1911 Abt. Bahnengolf","SHMV",999]
[4408,"Erfurth, Wolfgang","SM II","TV Trappenkamp Sparte Minigolf","SHMV",999]
[68113,"Gebhart, Hans Peter","SM II","MGC Bad Waldsee 1990","WBV",999]
[66269,"Nell, Niklas","H","MGC Bad Waldsee 1990","WBV",999]
[68008,"Richter, Kevin","H","MGC Friedrichshafen","WBV",999]
[48691,"Dedeleit, Jochen","SM I","MGC Friedrichshafen","WBV",999]
[6621,"Hermann, Gerhard","SM II","MGC Monrepos","WBV",999]
[67043,"Maisch, Ramona","D","MGC Monrepos","WBV",999]
[45844,"Schakowski, Carsten","SM I","MGC Monrepos","WBV",999]
[42391,"Härle, Susanne","SW II","MGC Oberkochen 1972","WBV",999]
[42951,"Jahr, Achim","SM I","MGC Oberkochen 1972","WBV",999]
[22366,"Kellner, Karin","SW II","MGC Oberkochen 1972","WBV",999]
[48686,"Ill, Thomas","SM I","MGC Ravensburg-Weingarten","WBV",999]
[49432,"Rupp, Jürgen","SM I","MGC Ravensburg-Weingarten","WBV",999]
[47493,"Blessing, Achim","SM I","MGC Schwaikheim","WBV",999]
[47498,"Lechler, Ilona","SW II","MGC Schwaikheim","WBV",999]
[37236,"Ring, Karl","SM II","MGC Unterschneidheim","WBV",999]
[45588,"Hann, Johann","SM II","SSV Ulm 1846 Abt. Bahnengolf","WBV",999]
[66428,"Kuntze, Jürgen","SM II","TSV Pfungstadt Abt. Bahnengolf","HBSV",999]
[66139,"Kuntze, Lisa","D","TSV Pfungstadt Abt. Bahnengolf","HBSV",999]
[44768,"Smyczek, Thomas","SM I","TSV Pfungstadt Abt. Bahnengolf","HBSV",999]

{"sheet":"Historie","index":21,"n_rows":133,"n_cols":2,"rows_kept":133,"cut":false,"hidden":true,"merged":[]}
["Historie"]
["Änderungsdatum","Aktion"]
["2008-05-14","Kategorien angepasst nach Geburtsdatum"]
["2008-08-29","Bekannte Vereinswechsel eingefügt"]
["2008-09-05","DRL Werte angepasst"]
["2008-09-08","Spieler ohne DRL Wert auf 99 gesetzt"]
["2009-03-02","DRL Werte angepasst"]
["2009-04-21","DRL Werte angepasst"]
["2009-08-31","DRL Werte angepasst (alle #NV Zellen sind in aktueller DRL nicht enthalten)"]
["2009-08-31","Bekannte Vereinswechsel eingefügt"]
["2009-09-10","Spielerdaten aus players.data angepasst"]
["2010-03-13","DRL Werte angepasst an DRL 14"]
["2010-03-19","DRL Werte angepasst an DRL 15"]
["2010-05-10","fehlende Spieler für Biskirchen nachgetragen"]
["2010-05-20","DRL Werte angepasst an DRL 16"]
["2010-07-12","DRL Werte angepasst an DRL 17"]
["2010-09-13","Neue Vereinsnamen nach players.data"]
["2011-01-24","Umstellung auf neue DRL Regeln"]
["2011-02-20","DRL Werte angepasst an DRL 20"]
["2011-03-28","DRL Werte angepasst an DRL 22"]
["2011-05-13","Überschriften abgeändert. HBSV Logo nur noch auf S1, Namen der Bahnen an DMV Normungen angepasst"]
["2011-05-18","DRL Werte angepasst an DRL 23"]
["2011-09-08","DRL Werte angepasst an DRL 24, Punktwertung umgestellt auf nur Pluspunkte"]
["2011-09-11","DRL Werte angepasst an DRL 25"]
["2011-09-15","Vereinswechsel für HBSV nach Players.data eingefügt"]
["2011-09-16","Alle Vereinswechsel  nach Players.data eingefügt"]
["2011-10-09","Anpassung in Tabellen; A5:A10; =WENN(+'Eing.Mannsch+Auswechsl.'!BD4>0;RANG(F5;F$5:F$10;0);\"\")"]
["2011-10-09","Anpassungen in Tabelle Alt; BJ11; und Bi4:Bi9"]
["2012-02-04","DRL Werte angepasst an DRL 27"]
["2012-03-15","DRL Werte angepasst an DRL 28"]
["2012-05-07","DRL Werte angepasst an DRL 29"]
["2012-05-20","Anpassung Aushang: Punkte alt sichtbar"]
["2012-06-17","Bahnenstatistik erweitert"]
["2012-06-28","Bahnenstatistik + Ma_d_Tages korrigiert"]
["2012-09-10","Umstellung auf 7 Mannschaften vervollständigt, Sortierung Tabellen erneuert"]
["2012-09-11","DRL Werte angepasst an DRL 31"]
["2013-02-25","DRL Werte angepasst an Bezugsrangliste 01.01.2013"]
["2013-03-08","DRL Werte angepasst an Bezugsrangliste 01.03.2013 (DRL 34)"]
["2013-06-02","DRL Werte angepasst an Bezugsrangliste 01.05.2013 (DRL 35)"]
["2013-09-05","Vorbereitung für Saison 2013/14, Spielerwechsel im HBSV eingetragen, Bezugs DRL 01.09. vom DMV fehlt noch"]
["2013-09-06","Bezugs DRL 01.09.2013 eingearbeitet"]
["2014-03-18","Bezugs DRL 01.03.2014 eingearbeitet"]
["2014-05-20","Bezugs DRL 01.05.2014 eingearbeitet"]
["19.-23.09.14","Laschen (Eing.Allg.;Daten; Aushang; Seite 1; Tagestabelle; Bahnstatistik; Ma1 - Ma 7; Eing. Mannsch+Auswechsl.) auf neues System mit Streicher geändert"]
["2014-09-25","Laschen (Startlisten, Mannschaft des Tages, Ma1 - Ma 7;) auf neues System mit Streicher geändert"]
["2014-09-25","Bezugs DRL 01.09.2014 eingearbeitet"]
["2015-01-30","Spielerdaten aus players.data angepasst (Vereinswechsel zum 01.01.2015)"]
["2015-02-16","Lasche (Eing.Allg.Daten) Schaltfläche >Bei Erford.Eingabe Auswechslung< gelöscht, >Eingabe Einzelspieler< Text angepasst"]
["2015-02-16","Lasche (Tagestabelle) Formeln angepasst (Summenformel M13, M29…statt \"\" 2000; Spalte AE-AI Formeln GANZZAHL (M13, M29, M45, M61, M77, M93,M109) eingführt"]
["2015-02-16","Lasche(Einzel+DRL) Zelle B4 beschriftet, Spalten U-AC verborgen, Schaltfläche>Einzeltabelle< nach rechts verschoben"]
["2015-03-11","Bezugs DRL 01.03.2015 eingearbeitet"]
["2015-03-24","Makros \"Spielerliste_ein\" , \"Spielerliste_aus\" zugefügt; Lasche \"Eing.Mansch+Auswechsl.\" umbenannt in \"Eing.Mannsch.aufstellung\". Neuer Name in diversen Makros angepasst"]
["2015-03-30","Lasche \"Seite 1\" Formeln in Zelle F15, F16 berichtigt; Lasche \"Bahnenstatistik\" Bedingte Formatierung auf Spalte \"I\" erweitert; DRL 01.03.2015 nachgearbeitet"]
["2015-04-15","Lasche \"Turnierprotokoll\" eingefügt und diverse Zellen verknüpft"]
["2015-04-20","Turnierprotokoll - Vereinsname OS + S hinzugefügt"]
["2015-05-03","Sortierung Startliste neu erstellt. An Entscheidung Sportausschuss angepasst. Positionen können frei gelassen werden"]
["2015-05-05","Bezugs DRL 01.05.2015 eingearbeitet"]
["2015-05-06","Fehlende Spieler für Gruppenligen  nachgetragen"]
["2015-05-27","Formatierungen für Startliste und Einzel+DRL nachgearbeitet"]
["2015-06-22","Neue Spieler für Hessen- und Gruppenligen  nachgetragen"]
["2015-06-23","Sortierbereich Tagestabelle optimiert, Startliste überarbeitet"]
["2015-07-22","Bezugs DRL 01.07.2015 eingearbeitet"]
["2015-08-17","Startliste Zeilen 100 - 300 eingeblendet; Summenformeln in Tagestabelle optimiert (falls weniger als 4 Runden gespielt werden); Druckformat Protokolle unterer Rand erweitert"]
["2015-09-08","Einzel+DRL - Spalte B Suchbereich bis Zeile 3800 erweitert; Spalte C Bedingte Formatierung von\"Grau\" nach \"Weiß\""]
["2015-10-09","Bezugs DRL 01.09.2015 eingearbeitet"]
["2016-03-04","Spielerdaten aus players.data angepasst (Vereinswechsel zum 01.01.2016)"]
["2016-04-11","Zellenformatierungen in Lasche DMV-Ergebnisschnellmeldung"]
["2016-04-18","Tagestabelle : Summenfelder (Su_Ma1 …) eingeführt. Sortierspalte Q mit diesen Namen gefüllt. Sortierspalte R neu beschrieben (1.01 - 1.16; … 7.01 - 7.16)"]
["2016-05-13","Bezugs DRL 01.05.2016 eingearbeitet"]
["2016-06-12","Formatierungen bei <Eingabe Tabelle Alt> angepasst"]
["2016-07-12","Bezugs DRL 01.07.2016 eingearbeitet"]
["2017-03-07","Spielerdaten aus players.data angepasst (Vereinswechsel zum 01.01.2017)"]
["2017-03-10","Bezugs DRL 01.03.2017 eingearbeitet"]
["2017-05-18","Neue Spieler für Hessen- und Gruppenligen  nachgetragen"]
["2017-05-19","Bezugs DRL 01.05.2017 eingearbeitet"]
["2017-07-17","Bezugs DRL 01.07.2017 eingearbeitet"]
["2017-08-31","Spielerdaten aus players.data v. 01.06.2017 angepasst "]
["2017-09-14","Spielerdaten aus players.data v. 08.09.2017 angepasst "]
["2017-09-17","Bezugs DRL 01.09.2017 eingearbeitet"]
["2017-11-18","Bezugs DRL 01.11.2017 eingearbeitet"]
["2018-02-24","Spielerdaten aus players.data v. 19.02.2018 angepasst "]
["2018-03-21","Bezugs DRL 01.03.2018 eingearbeitet"]
["2018-04-11","Spielerdaten aus players.data v. 10.04.2018 angepasst "]
["2018-04-19","Neues Desgin Schaltflächen (immer in Zeile 1), Verborgene Lasche Bahnen neu eingefügt, Makros angepasst"]
["2018-04-23","Sortierung Tagestabelle Bereich angepasst, Verlinkung Ma1 .. Ma7 zu Lasche Bahnen angepasst"]
["2018-05-01","Lasche Tagestabelle > Formel für Schnittberechnung um eine \"WENN\" Abfrage erweitert."]
["2018-05-10","DMV-Ergebnisschnellmeldung an aktuelles Format angepasst"]
["2018-05-11","Bezugs DRL 01.05.2018 eingearbeitet"]
["2018-07-24","Bezugs DRL 01.07.2018 eingearbeitet"]
["2018-07-30","Nach Sortierfehlern in Tagestabelle:  Zeile 15, 16,+17 auf Zeilenhöhe 1 gesetzt (analog zu den anderen Zeilen über dem AK Spieler), Spielerdaten ergänzt mit neuen aus der Bezugs DRL 01.07.18"]
["2018-07-31","Alle Spielerdaten, die seit 01.01.2016 kein Ergebnis haben, gelöscht."]
["2018-08-02","Startliste - Einfügen 2er Gruppen per X setzen;  TT um Einzelspieler erweitert, Entsprechende Makros eingefügt + erweitert"]
["2018-09-10","Bezugs DRL 01.09.2018 eingearbeitet"]
["2018-11-12","Bezugs DRL 01.11.2018 eingearbeitet"]
["2019-01-15","Bezugs DRL 01.01.2019 eingearbeitet"]
["2019-01-30","Spielerdaten aus players.data v. 10.01.2019 angepasst "]
["2019-02-12","Makro \"Startliste zurücksetzen\" verbessert. (Füllerzellen S210:U210 kopieren nach S201:U201)"]
["2019-03-11","Bezugs DRL 01.03.2019 eingearbeitet"]
["2019-03-30","Spielerdaten aus players.data v. 30.03.2019 angepasst "]
["2019-05-10","Bezugs DRL 01.05.2019 eingearbeitet"]
["2019-07-15","Bezugs DRL 01.07.2019 eingearbeitet"]
["2019-07-30","Spielerdaten aus players.data v. 30.07.2019 angepasst "]
["2019-09-18","Bezugs DRL 01.09.2019 eingearbeitet"]
["2020-01-13","Bezugs DRL 01.01.2020 eingearbeitet"]
["2020-01-13","Spielerdaten aus players data v. 13.01.2020 angepasst"]
["2020-01-14","Seite 1 und Tabellen zusammengefasst"]
["2020-01-15","Lasche Tabellen gelöscht, Sortier Makro \"Tabelle_neu\" angepasst, Makro \"Lasche_einblenden\" und \"Tabelle_neu_leeren\" erstellt"]
["2020-01-28","Spielerdaten mit DMV-Liste vom 24.01.20 abgeglichen (HBSV + MRP)"]
["2020-01-29","Makro Sort Spielerdaten Werte neu geschrieben"]
["2020-02-20","Überflüssige, alte Makros und Module gelöscht"]
["2020-02-24","Spielerdaten mit DMV-Liste vom 07.02.20 abgeglichen (alle LV)"]
["2020-03-16","Bezugs DRL 01.03.2020 eingearbeitet"]
["2020-06-25","Spielerdaten aus players data v. 25.06.2020 angepasst"]
["2021-01-19","Spielerdaten aus players data v. 04.01.2021 angepasst"]
["2022-01-25","Nach DRL-Freez DRL 01.01.2020 eingearbeitet"]
["2022-02-25","Spielerdaten mit DMV-Liste vom 24.02.22 abgeglichen (alle LV)"]
["2022-04-14","Bezugs DRL 01.03.2022 eingearbeitet"]
["2022-06-06","Bezugs DRL 01.05.2022 eingearbeitet"]
["2022-08-04","Bezugs DRL 01.07.2022 eingearbeitet"]
["2023-01-19","Spielerdaten mit DMV-Liste vom 13.01.23 abgeglichen (nur HBSV)"]
["2023-01-25","Spielerdaten mit DMV-Liste vom 13.01.23 abgeglichen (alle LV)"]
["2023-01-25","Bezugs DRL 01.01.2023 eingearbeitet"]
["2023-03-15","Makros überprüft, einheitliche Makros Blattschutz_ein bzw -aus für alle Laschen;  überflüssige Makros gelöscht"]
["2023-03-16","Bezugs DRL 01.03.2023 eingearbeitet"]
["2023-03-19","Alte Makros (vor 2012) durch aktuelle Makros ersetzt"]
["2023-05-24","Bezugs DRL 01.05.2023 eingearbeitet"]
["2023-07-24","Bezugs DRL 01.07.2023 eingearbeitet"]
["2024-01-29","Bezugs DRL 01.01.2024 eingearbeitet"]
["2024-02-01","Spielerdaten mit DMV-Liste vom 26.01.24 abgeglichen (HBSV, MRP, SaarMV, BBS,WBV)"]
["2024-02-05","Spielerdaten mit DMV-Liste vom 02.02.24 abgeglichen (alle LV)"]
["2024-04-02","Bezugs DRL 01.03.2024 eingearbeitet"]
["2024-04-19","Format (Ansicht) Seite 1 geändert"]
["2024-05-19","Bezugs DRL 01.05.2024 eingearbeitet"]

{"sheet":"Listen","index":22,"n_rows":230,"n_cols":8,"rows_kept":230,"cut":false,"hidden":true,"merged":[]}
["Kat.",null,"Vereinsname","LV","Anzahl",null,"Vereinsname in DMV Listen","Vereinsname"]
["SM II",null,"1. BGC Singen","BBS",{"$f":"COUNTIF(Spielerdaten!$D$3:$D$3653,C2)","v":11},null,"1. Bahnengolf-Club Singen e. V.","1. BGC Singen"]
["SM I",null,"CGC Blau-Gelb Grötzingen 1968","BBS",{"$f":"COUNTIF(Spielerdaten!$D$3:$D$3653,C3)","v":19},null,"COBI-GOLF-CLUB Blau-Gelb Grötzingen 1968 e. V.","CGC Blau-Gelb Grötzingen 1968"]
["SW II",null,"1. MC Weinheim","BBS",{"$f":"COUNTIF(Spielerdaten!$D$3:$D$3653,C4)","v":22},null,"1. Miniaturgolf-Club Weinheim e. V.","1. MC Weinheim"]
["SW I",null,"1. MGC Ladenburg","BBS",{"$f":"COUNTIF(Spielerdaten!$D$3:$D$3653,C5)","v":9},null,"1. Miniaturgolf-Club Ladenburg e. V.","1. MGC Ladenburg"]
["H",null,"1. MGC Tuttlingen","BBS",{"$f":"COUNTIF(Spielerdaten!$D$3:$D$3653,C6)","v":11},null,"Erster Minigolf - Club Tuttlingen e. V.","1. MGC Tuttlingen"]
["D",null,"BGC Rheinau-Freistett","BBS",{"$f":"COUNTIF(Spielerdaten!$D$3:$D$3653,C7)","v":7},null,"BGC Rheinau-Freistett e. V.","BGC Rheinau-Freistett"]
["JM",null,"BSV 82 Ohlsbach","BBS",{"$f":"COUNTIF(Spielerdaten!$D$3:$D$3653,C8)","v":19},null,"Bahnengolfsportverein 82 Ohlsbach e. V.","BSV 82 Ohlsbach"]
["JW",null,"BSV Inzlingen 1979","BBS",{"$f":"COUNTIF(Spielerdaten!$D$3:$D$3653,C9)","v":20},null,"Bahnengolf-Sportverein Inzlingen 1979 e. V.","BSV Inzlingen 1979"]
["SCHM",null,"MC Ilvesheim","BBS",{"$f":"COUNTIF(Spielerdaten!$D$3:$D$3653,C10)","v":19},null,"Miniaturgolf-Club Ilvesheim e. V.","MC Ilvesheim"]
["SCHW",null,"MGC Sulzfeld","BBS",{"$f":"COUNTIF(Spielerdaten!$D$3:$D$3653,C11)","v":10},null,"Miniatur Golf Club Sulzfeld e. V.","MGC Sulzfeld"]
[null,null,"MGF Hilzingen 80","BBS",{"$f":"COUNTIF(Spielerdaten!$D$3:$D$3653,C12)","v":12},null,"Minigolffreunde Hilzingen 80 e. V.","MGF Hilzingen 80"]
[null,null,"MGF Waldshut 1974","BBS",{"$f":"COUNTIF(Spielerdaten!$D$3:$D$3653,C13)","v":14},null,"Minigolffreunde Waldshut 1974 e. V.","MGF Waldshut 1974"]
[null,null,"MC Schriesheim","BBS",{"$f":"COUNTIF(Spielerdaten!$D$3:$D$3653,C14)","v":29},null,"Miniaturgolf Sportclub Schriesheim e. V.","MC Schriesheim"]
[null,null,"Minigolf Wölfe Rheinstetten 02","BBS",{"$f":"COUNTIF(Spielerdaten!$D$3:$D$3653,C15)","v":14},null,"Rad- und Kraftfahrervereins \"Solidarität\" Mörsch e. V. Abteilung Minigolf Wölfe Rheinstetten 02","Minigolf Wölfe Rheinstetten 02"]
[null,{"$f":"COUNTIF($D$2:$D15,\"BBS\")","v":14},"Summe BBS",null,{"$f":"SUM(E2:E15)","v":216},null,null,"Summe BBS"]
[null,null,"1. BGC Bad Füssing","BMV",{"$f":"COUNTIF(Spielerdaten!$D$3:$D$3653,C17)","v":10},null,"1. Bahnengolfclub Bad Füssing e. V.","1. BGC Bad Füssing"]
[null,null,"1. BGC Garmisch-Partenkirchen","BMV",{"$f":"COUNTIF(Spielerdaten!$D$3:$D$3653,C18)","v":14},null,"1. Bahnengolfclub Garmisch-Partenkirchen e. V.","1. BGC Garmisch-Partenkirchen"]
[null,null,"1. BGC Landshut","BMV",{"$f":"COUNTIF(Spielerdaten!$D$3:$D$3653,C19)","v":39},null,"1. Bahnengolf-Club Landshut e. V.","1. BGC Landshut"]
[null,null,"1. FMGC Lichtenfels 1961","BMV",{"$f":"COUNTIF(Spielerdaten!$D$3:$D$3653,C20)","v":22},null,"1. Fränkischer Minigolfclub Lichtenfels 1961 e. V.","1. FMGC Lichtenfels 1961"]
[null,null,"1. MGC Bamberg","BMV",{"$f":"COUNTIF(Spielerdaten!$D$3:$D$3653,C21)","v":10},null,"1. Minigolfclub Bamberg e. V.","1. MGC Bamberg"]
[null,null,"1. MGC München-Feldmoching","BMV",{"$f":"COUNTIF(Spielerdaten!$D$3:$D$3653,C22)","v":16},null,"1. Miniaturgolfclub München-Feldmoching e. V.","1. MGC München-Feldmoching"]
[null,null,"1. Münchener Minigolf-Club","BMV",{"$f":"COUNTIF(Spielerdaten!$D$3:$D$3653,C23)","v":15},null,"1. Münchener Minigolf-Club 1962 e. V.","1. Münchener Minigolf-Club"]
[null,null,"1. NMC Kelheim","BMV",{"$f":"COUNTIF(Spielerdaten!$D$3:$D$3653,C24)","v":19},null,"1. Niederbayerischer Minigolf-Club Kelheim e. V.","1. NMC Kelheim"]
[null,null,"ASV Pegnitz Abt. Minigolf","BMV",{"$f":"COUNTIF(Spielerdaten!$D$3:$D$3653,C25)","v":18},null,"Allgemeiner Sportverein Pegnitz e. V. Abteilung Minigolf","ASV Pegnitz Abt. Minigolf"]
[null,null,"BGC 90 Ottobrunn","BMV",{"$f":"COUNTIF(Spielerdaten!$D$3:$D$3653,C26)","v":4},null,"BGC 90 Ottobrunn e. V.","BGC 90 Ottobrunn"]
[null,null,"BGC Bad Berneck","BMV",{"$f":"COUNTIF(Spielerdaten!$D$3:$D$3653,C27)","v":15},null,"Bahnengolf-Club e. V. Bad Berneck","BGC Bad Berneck"]
[null,null,"BGC Illertissen","BMV",{"$f":"COUNTIF(Spielerdaten!$D$3:$D$3653,C28)","v":30},null,"Bahnengolfclub Illertissen e. V.","BGC Illertissen"]
[null,null,"BGC Neutraubling","BMV",{"$f":"COUNTIF(Spielerdaten!$D$3:$D$3653,C29)","v":32},null,"Bahnengolf-Club Neutraubling e. V.","BGC Neutraubling"]
[null,null,"BGC Schweinfurt","BMV",{"$f":"COUNTIF(Spielerdaten!$D$3:$D$3653,C30)","v":0},null,"Bahnengolfclub Schweinfurt e. V.","BGC Schweinfurt"]
[null,null,"BSV 86 München","BMV",{"$f":"COUNTIF(Spielerdaten!$D$3:$D$3653,C31)","v":27},null,"Bahnengolfsportverein 86 München e. V.","BSV 86 München"]
[null,null,"CGC Illertal Kellmünz","BMV",{"$f":"COUNTIF(Spielerdaten!$D$3:$D$3653,C32)","v":5},null,"Cobigolfclub Illertal Kellmünz e. V.","CGC Illertal Kellmünz"]
[null,null,"MGC \"Stahlquelle\" Bad Bocklet 1989","BMV",{"$f":"COUNTIF(Spielerdaten!$D$3:$D$3653,C33)","v":30},null,"Miniatur-Golf-Club \"Stahlquelle\", Bad Bocklet 1989 e. V.","MGC \"Stahlquelle\" Bad Bocklet 1989"]
[null,null,"MGC Bad Feilnbach","BMV",{"$f":"COUNTIF(Spielerdaten!$D$3:$D$3653,C34)","v":21},null,"Minigolfclub Bad Feilnbach e. V.","MGC Bad Feilnbach"]
[null,null,"MGC Ingolstadt","BMV",{"$f":"COUNTIF(Spielerdaten!$D$3:$D$3653,C35)","v":36},null," Miniaturgolf-Club Ingolstadt e. V.","MGC Ingolstadt"]
[null,null,"MGC Murnau am Staffelsee","BMV",{"$f":"COUNTIF(Spielerdaten!$D$3:$D$3653,C36)","v":55},null,"Minigolfclub Murnau am Staffelsee e. V.","MGC Murnau am Staffelsee"]
[null,null,"MGC Ostheim / Rhön","BMV",{"$f":"COUNTIF(Spielerdaten!$D$3:$D$3653,C37)","v":9},null,"Miniaturgolfclub Ostheim/Rhön e. V. ","MGC Ostheim / Rhön"]
[null,null,"MGC Wertheim ´91","BMV",{"$f":"COUNTIF(Spielerdaten!$D$3:$D$3653,C38)","v":25},null,"Minigolfclub Wertheim ´91 e. V.","MGC Wertheim ´91"]
[null,null,"MGC Wolnzach","BMV",{"$f":"COUNTIF(Spielerdaten!$D$3:$D$3653,C39)","v":7},null,"Miniaturgolf-Club Wolnzach e. V.","MGC Wolnzach"]
[null,null,"MGF Hammer","BMV",{"$f":"COUNTIF(Spielerdaten!$D$3:$D$3653,C40)","v":11},null,"Minigolffreunde Hammer e. V.","MGF Hammer"]
[null,null,"MGF Steinbruch Kempten","BMV",{"$f":"COUNTIF(Spielerdaten!$D$3:$D$3653,C41)","v":3},null,"Minigolf-Freunde Steinbruch Kempten e. V.","MGF Steinbruch Kempten"]
[null,null,"MGV Ansbach","BMV",{"$f":"COUNTIF(Spielerdaten!$D$3:$D$3653,C42)","v":11},null,"MGV Ansbach e. V.","MGV Ansbach"]
[null,null,"MGC Diessen","BMV",{"$f":"COUNTIF(Spielerdaten!$D$3:$D$3653,C43)","v":11},null,"Minigolf-Club Diessen e. V.","MGC Diessen"]
[null,null,"MSC blau-weiss 2003 München","BMV",{"$f":"COUNTIF(Spielerdaten!$D$3:$D$3653,C44)","v":6},null,"Minigolf-Sport-Club blau-weiß 2003 e. V. München","MSC blau-weiss 2003 München"]
[null,null,"MSG Kempten","BMV",{"$f":"COUNTIF(Spielerdaten!$D$3:$D$3653,C45)","v":29},null,"Minigolf-Sport-Gemeinschaft Kempten e. V.","MSG Kempten"]
[null,null,"Olchinger MSK","BMV",{"$f":"COUNTIF(Spielerdaten!$D$3:$D$3653,C46)","v":36},null,"Olchinger Minigolf Sport Klub e. V.","Olchinger MSK"]
[null,null,"MSV Würzburg-Löwenbrücke","BMV",{"$f":"COUNTIF(Spielerdaten!$D$3:$D$3653,C47)","v":3},null,"Miniaturgolfsportverein Würzburg - Löwenbrücke e. V.","MSV Würzburg-Löwenbrücke"]
[null,null,"OMGC Ingolstadt","BMV",{"$f":"COUNTIF(Spielerdaten!$D$3:$D$3653,C48)","v":22},null,"Oberbayerische Minigolf-Club Ingolstadt e. V.","OMGC Ingolstadt"]
[null,null,"PTSV Hof Abt. Minigolf","BMV",{"$f":"COUNTIF(Spielerdaten!$D$3:$D$3653,C49)","v":13},null,"Post- und Telekom-Sportverein Hof e. V. Abteilung Minigolf ","PTSV Hof Abt. Minigolf"]
[null,null,"TG Höchberg von 1862 Bahnengolf","BMV",{"$f":"COUNTIF(Spielerdaten!$D$3:$D$3653,C50)","v":22},null,"Turngemeinde Höchberg von 1862 Bahnengolf e. V.","TG Höchberg von 1862 Bahnengolf"]
[null,{"$f":"COUNTIF($D$2:$D50,\"BMV\")","v":34},"Summe BMV",null,{"$f":"SUM(E17:E50)","v":626},null,null,"Summe BMV"]
[null,null,"1. Berliner MSC 1960","BVBB",{"$f":"COUNTIF(Spielerdaten!$D$3:$D$3653,C52)","v":4},null,"1. Berliner Miniaturgolf-Sportclub e. V. 1960","1. Berliner MSC 1960"]
[null,null,"BSG Pneumant Fürstenwalde Abt. Minigolf","BVBB",{"$f":"COUNTIF(Spielerdaten!$D$3:$D$3653,C53)","v":8},null,"BSG Pneumant Fürstenwalde e. V. Abteilung Minigolf","BSG Pneumant Fürstenwalde Abt. Minigolf"]
[null,null,"MGC Karlshagen","BVBB",{"$f":"COUNTIF(Spielerdaten!$D$3:$D$3653,C54)","v":14},null,"Minigolfclub Karlshagen e. V.","MGC Karlshagen"]
[null,null,"MV Lankwitzer Dragons","BVBB",{"$f":"COUNTIF(Spielerdaten!$D$3:$D$3653,C55)","v":6},null,"MV Lankwitzer Dragons e. V.","MV Lankwitzer Dragons"]
[null,null,"Reinickendorfer MGC","BVBB",{"$f":"COUNTIF(Spielerdaten!$D$3:$D$3653,C56)","v":16},null,"Reinickendorfer Miniatur - Golfsport - Club e. V.","Reinickendorfer MGC"]
[null,null,"Tempelhofer MV 65","BVBB",{"$f":"COUNTIF(Spielerdaten!$D$3:$D$3653,C57)","v":30},null,"Tempelhofer Miniaturgolf Verein von 1965 e. V.","Tempelhofer MV 65"]
[null,null,"VfM Berlin Spandau","BVBB",{"$f":"COUNTIF(Spielerdaten!$D$3:$D$3653,C58)","v":30},null,"Verein für Minigolfsport Berlin Spandau e.V. (VfM Berlin Spandau e.V)","VfM Berlin Spandau"]
[null,{"$f":"COUNTIF($D$2:$D58,\"BVBB\")","v":7},"Summe BVBB",null,{"$f":"SUM(E52:E58)","v":108},null,null,"Summe BVBB"]
[null,null,"1. BGC Leipzig","BVS",{"$f":"COUNTIF(Spielerdaten!$D$3:$D$3653,C60)","v":11},null,"1. Bahnen Golf Club Leipzig e. V.","1. BGC Leipzig"]
[null,null,"BSV AOK Leipzig","BVS",{"$f":"COUNTIF(Spielerdaten!$D$3:$D$3653,C61)","v":6},null,"BSV AOK Leipzig e. V.","BSV AOK Leipzig"]
[null,null,"MGV Eibenstock 1997","BVS",{"$f":"COUNTIF(Spielerdaten!$D$3:$D$3653,C62)","v":0},null,"Miniaturgolfverein Eibenstock 1997 e. V.\t","MGV Eibenstock 1997"]
[null,null,"TSV Flöha 1848 Abt. Minigolf","BVS",{"$f":"COUNTIF(Spielerdaten!$D$3:$D$3653,C63)","v":6},null,"Turn- und Sportverein Flöha 1848 e. V. Abteilung Minigolf","TSV Flöha 1848 Abt. Minigolf"]
[null,{"$f":"COUNTIF($D$2:$D63,\"BVS\")","v":4},"Summe BVS",null,{"$f":"SUM(E60:E63)","v":23},null,null,"Summe BVS"]
[null,null,"Böllberger SG 185 Abt. Minigolfsport","BVSA",{"$f":"COUNTIF(Spielerdaten!$D$3:$D$3653,C65)","v":4},null,"Böllberger Sportgemeinschaft 185 e. V. Abteilung Minigolfsport","Böllberger SG 185 Abt. Minigolfsport"]
[null,null,"Elbhavelland Abt. Minigolfsport","BVSA",{"$f":"COUNTIF(Spielerdaten!$D$3:$D$3653,C66)","v":15},null,"Elbhavelland e. V. Abteilung Minigolfsport","Elbhavelland Abt. Minigolfsport"]
[null,null,"MGF Magdeburg","BVSA",{"$f":"COUNTIF(Spielerdaten!$D$3:$D$3653,C67)","v":15},null,"Minigolffreunde Magdeburg e. V.","MGF Magdeburg"]
[null,null,"TSV Arendsee Abt. Minigolf","BVSA",{"$f":"COUNTIF(Spielerdaten!$D$3:$D$3653,C68)","v":22},null,"Turn- und Sportverein Arendsee e. V. Abteilung Minigolf","TSV Arendsee Abt. Minigolf"]
[null,null,"VFB 21 Neugattersleben","BVSA",{"$f":"COUNTIF(Spielerdaten!$D$3:$D$3653,C69)","v":4},null,"VfB 21 Neugattersleben e. V.","VFB 21 Neugattersleben"]
[null,{"$f":"COUNTIF($D$2:$D69,\"BVSA\")","v":5},"Summe BVSA",null,{"$f":"SUM(E65:E69)","v":60},null,null,"Summe BVSA"]
[null,null,"1. CGC Rot-Weiß Groß-Umstadt","HBSV",{"$f":"COUNTIF(Spielerdaten!$D$3:$D$3653,C71)","v":4},null,"1. Cobigolf Club Rot-Weiß Groß-Umstadt e. V.","1. CGC Rot-Weiß Groß-Umstadt"]
[null,null,"BGSV Aßlar 1987","HBSV",{"$f":"COUNTIF(Spielerdaten!$D$3:$D$3653,C72)","v":12},null,"Bahnengolf-Sportverein Aßlar 1987 e. V.","BGSV Aßlar 1987"]
[null,null,"BGSV Bad Homburg v. d.H.","HBSV",{"$f":"COUNTIF(Spielerdaten!$D$3:$D$3653,C73)","v":26},null,"Bahnengolf-Sportverein Bad Homburg v.d.H. e. V.","BGSV Bad Homburg v. d.H."]
[null,null,"Biskirchener BGV","HBSV",{"$f":"COUNTIF(Spielerdaten!$D$3:$D$3653,C74)","v":4},null,"Biskirchener Bahnen-Golf-Verein e. V.","Biskirchener BGV"]
[null,null,"CGC Rauschenberg","HBSV",{"$f":"COUNTIF(Spielerdaten!$D$3:$D$3653,C75)","v":7},null,"Cobigolf-Club Rauschenberg e. V.","CGC Rauschenberg"]
[null,null,"MGC Bad Hersfeld","HBSV",{"$f":"COUNTIF(Spielerdaten!$D$3:$D$3653,C76)","v":3},null,"Miniatur-Golf-Club Bad Hersfeld e. V.","MGC Bad Hersfeld"]
[null,null,"MGC Bad Homburg","HBSV",{"$f":"COUNTIF(Spielerdaten!$D$3:$D$3653,C77)","v":42},null,"Minigolf-Club Bad Homburg e. V.","MGC Bad Homburg"]
[null,null,"MGC Bad Soden-Salmünster","HBSV",{"$f":"COUNTIF(Spielerdaten!$D$3:$D$3653,C78)","v":12},null,"Miniaturgolfclub Bad Soden-Salmünster e. V.","MGC Bad Soden-Salmünster"]
[null,null,"MGC Heringen","HBSV",{"$f":"COUNTIF(Spielerdaten!$D$3:$D$3653,C79)","v":9},null,"Miniatur-Golf-Club Heringen e. V.","MGC Heringen"]
[null,null,"MGC putter Künzell 1970","HBSV",{"$f":"COUNTIF(Spielerdaten!$D$3:$D$3653,C80)","v":16},null,"Minigolfclub putter Künzell 1970 e. V.","MGC putter Künzell 1970"]
[null,null,"MGC Wetzlar","HBSV",{"$f":"COUNTIF(Spielerdaten!$D$3:$D$3653,C81)","v":15},null,"Miniatur-Golf-Club Wetzlar e. V.","MGC Wetzlar"]
[null,null,"MSC Bensheim-Auerbach","HBSV",{"$f":"COUNTIF(Spielerdaten!$D$3:$D$3653,C82)","v":40},null,"Minigolf-Sport-Club Bensheim-Auerbach e. V.","MSC Bensheim-Auerbach"]
[null,null,"SG Arheilgen 1876/1945 Abt. Bahnengolf","HBSV",{"$f":"COUNTIF(Spielerdaten!$D$3:$D$3653,C83)","v":44},null,"Sportgemeinschaft Arheilgen 1876/1945 e. V. Abteilung Bahnengolf","SG Arheilgen 1876/1945 Abt. Bahnengolf"]
[null,null,"SG 1886 Weiterstadt Abt. Bahnengolf","HBSV",{"$f":"COUNTIF(Spielerdaten!$D$3:$D$3653,C84)","v":7},null,"Sportgemeinde 1886 e. V. Weiterstadt Abteilung Bahnengolf","SG 1886 Weiterstadt Abt. Bahnengolf"]
[null,null,"MGC Kahler Sandhasen","HBSV",{"$f":"COUNTIF(Spielerdaten!$D$3:$D$3653,C85)","v":14},null,"Minigolf-Club Kahler Sandhasen e. V.","MGC Kahler Sandhasen"]
[null,null,"SV 1890 Dreieichenhain Abt. Bahnengolf","HBSV",{"$f":"COUNTIF(Spielerdaten!$D$3:$D$3653,C86)","v":8},null,"Sportverein 1890 e. V. Dreieichenhain Abteilung Bahnengolf","SV 1890 Dreieichenhain Abt. Bahnengolf"]
[null,null,"TSV Pfungstadt Abt. Bahnengolf","HBSV",{"$f":"COUNTIF(Spielerdaten!$D$3:$D$3653,C87)","v":14},null,"TSV Pfungstadt e. V. Abteilung Bahnengolf","TSV Pfungstadt Abt. Bahnengolf"]
[null,{"$f":"COUNTIF($D$2:$D87,\"HBSV\")","v":17},"Summe HBSV",null,{"$f":"SUM(E71:E87)","v":277},null,null,"Summe HBSV"]
[null,null,"1. MSC Hamburg-Neu Wulmstorf","HBV",{"$f":"COUNTIF(Spielerdaten!$D$3:$D$3653,C89)","v":12},null,"1. Minigolf-Sport-Club Hamburg-Neu-Wulmstorf e. V.","1. MSC Hamburg-Neu Wulmstorf"]
[null,null,"Hamburger MC von 1965","HBV",{"$f":"COUNTIF(Spielerdaten!$D$3:$D$3653,C90)","v":15},null,"Hamburger Minigolf Club von 1965 e. V.","Hamburger MC von 1965"]
[null,null,"Niendorfer MC v. 1963","HBV",{"$f":"COUNTIF(Spielerdaten!$D$3:$D$3653,C91)","v":29},null,"Niendorfer Miniaturgolf-Club von 1963 e. V.","Niendorfer MC v. 1963"]
[null,null,"SV Lurup-Hamburg von 1923 Abt. Bahnengolf","HBV",{"$f":"COUNTIF(Spielerdaten!$D$3:$D$3653,C92)","v":3},null,"Sportverein Lurup-Hamburg von 1923 e. V. Abteilung Bahnengolf","SV Lurup-Hamburg von 1923 Abt. Bahnengolf"]
[null,null,"VfL Lohbrügge von 1892 Abt. Bahnengolf","HBV",{"$f":"COUNTIF(Spielerdaten!$D$3:$D$3653,C93)","v":27},null,"Verein für Leibesübungen Lohbrügge von 1892 e. V. Abteilung Bahnengolf","VfL Lohbrügge von 1892 Abt. Bahnengolf"]
[null,{"$f":"COUNTIF($D$2:$D93,\"HBV\")","v":5},"Summe HBV",null,{"$f":"SUM(E89:E93)","v":86},null,null,"Summe HBV"]
[null,null,"1. BGC Rodalben 1977","MRP",{"$f":"COUNTIF(Spielerdaten!$D$3:$D$3653,C95)","v":12},null,"1. Bahnengolfverein Rodalben 1977 e. V.","1. BGC Rodalben 1977"]
[null,null,"1. MGC Ludwigshafen 1964","MRP",{"$f":"COUNTIF(Spielerdaten!$D$3:$D$3653,C96)","v":47},null,"1. Miniatur-Golf-Club Ludwigshafen 1964 e. V.","1. MGC Ludwigshafen 1964"]
[null,null,"1. Mainzer MGC","MRP",{"$f":"COUNTIF(Spielerdaten!$D$3:$D$3653,C97)","v":75},null,"Erster Mainzer Minigolf-Club e. V. 1964","1. Mainzer MGC"]
[null,null,"1. MGC Mannheim 1968","MRP",{"$f":"COUNTIF(Spielerdaten!$D$3:$D$3653,C98)","v":17},null,"1. Miniatur-Golf-Club Mannheim 1968 e. V.","1. MGC Mannheim 1968"]
[null,null,"MC Neuwied","MRP",{"$f":"COUNTIF(Spielerdaten!$D$3:$D$3653,C99)","v":3},null,"Miniaturgolfclub Neuwied e. V.","MC Neuwied"]
[null,null,"MGC Traben-Trarbach","MRP",{"$f":"COUNTIF(Spielerdaten!$D$3:$D$3653,C100)","v":21},null,"Minigolfclub Traben-Trarbach e. V.","MGC Traben-Trarbach"]
[null,null,"MSV Bad Kreuznach","MRP",{"$f":"COUNTIF(Spielerdaten!$D$3:$D$3653,C101)","v":15},null,"MSV Bad Kreuznach e. V.","MSV Bad Kreuznach"]
[null,null,"TV 1901 Nierstein/Rhein Abt. Minigolf","MRP",{"$f":"COUNTIF(Spielerdaten!$D$3:$D$3653,C102)","v":4},null,"Turnverein 1901 e. V. Nierstein/Rhein Abteilung Minigolf","TV 1901 Nierstein/Rhein Abt. Minigolf"]
[null,{"$f":"COUNTIF($D$2:$D102,\"MRP\")","v":8},"Summe MRP",null,{"$f":"SUM(E95:E102)","v":194},null,null,"Summe MRP"]
[null,null,"1. BGC Celle von 1964","MVBN",{"$f":"COUNTIF(Spielerdaten!$D$3:$D$3653,C104)","v":33},null,"1. Bahnen-Golf-Club Celle von 1964 e. V.","1. BGC Celle von 1964"]
[null,null,"1. BGC Hannover","MVBN",{"$f":"COUNTIF(Spielerdaten!$D$3:$D$3653,C105)","v":52},null,"1. Bahnen-Golf-Club Hannover e. V.","1. BGC Hannover"]
[null,null,"1. BGC Wolfsburg","MVBN",{"$f":"COUNTIF(Spielerdaten!$D$3:$D$3653,C106)","v":19},null,"1. Bahnen - Golf - Club Wolfsburg e. V.","1. BGC Wolfsburg"]
[null,null,"1. MGC 1970 Göttingen","MVBN",{"$f":"COUNTIF(Spielerdaten!$D$3:$D$3653,C107)","v":36},null,"1. Miniatur-Golfsport-Club 1970 Göttingen e. V.","1. MGC 1970 Göttingen"]
[null,null,"1. MGC Kassel-Vellmar 1964","MVBN",{"$f":"COUNTIF(Spielerdaten!$D$3:$D$3653,C108)","v":27},null,"1. Mini-Golfsport-Club Kassel-Vellmar 1964 e. V.","1. MGC Kassel-Vellmar 1964"]
[null,null,"1. MGC Lohfelden","MVBN",{"$f":"COUNTIF(Spielerdaten!$D$3:$D$3653,C109)","v":17},null,"1. Miniatur-Golfsport-Club Lohfelden e. V.","1. MGC Lohfelden"]
[null,null,"1. MGC Peine von 1965","MVBN",{"$f":"COUNTIF(Spielerdaten!$D$3:$D$3653,C110)","v":25},null,"1. Miniaturgolf-Club Peine von 1965 e. V.","1. MGC Peine von 1965"]
[null,null,"BGC Bad Nenndorf","MVBN",{"$f":"COUNTIF(Spielerdaten!$D$3:$D$3653,C111)","v":22},null,"Bahnen-Golf-Club Bad Nenndorf e. V.","BGC Bad Nenndorf"]
[null,null,"BGC Bremen","MVBN",{"$f":"COUNTIF(Spielerdaten!$D$3:$D$3653,C112)","v":14},null,"Bahnen-Golf-Club Bremen e. V.","BGC Bremen"]
[null,null,"BGC Diepholz","MVBN",{"$f":"COUNTIF(Spielerdaten!$D$3:$D$3653,C113)","v":15},null,"Bahnen-Golf-Club Diepholz e. V.","BGC Diepholz"]
[null,null,"BGC Goslar","MVBN",{"$f":"COUNTIF(Spielerdaten!$D$3:$D$3653,C114)","v":20},null,"Bahnen-Golf-Club Goslar e. V.","BGC Goslar"]
[null,null,"BGC Northeim","MVBN",{"$f":"COUNTIF(Spielerdaten!$D$3:$D$3653,C115)","v":10},null,"Bahnen-Golf-Club Northeim e. V.","BGC Northeim"]
[null,null,"MC \"Möve\" Cuxhaven-Sahlenburg","MVBN",{"$f":"COUNTIF(Spielerdaten!$D$3:$D$3653,C116)","v":35},null,"Miniaturgolf-Club \"Möve\" Cuxhaven-Sahlenburg e. V.","MC \"Möve\" Cuxhaven-Sahlenburg"]
[null,null,"MGC Einbeck","MVBN",{"$f":"COUNTIF(Spielerdaten!$D$3:$D$3653,C117)","v":2},null,"Miniatur-Golf-Club Einbeck e. V.","MGC Einbeck"]
[null,null,"MGS Hildesheim","MVBN",{"$f":"COUNTIF(Spielerdaten!$D$3:$D$3653,C118)","v":2},null,"MiniGolfSportverein Hildesheim e. V.","MGS Hildesheim"]
[null,null,"MGV Bremen","MVBN",{"$f":"COUNTIF(Spielerdaten!$D$3:$D$3653,C119)","v":11},null,"Miniatur-Golf-Verein Bremen e. V.","MGV Bremen"]
[null,null,"MSV Bad Münder/Springe von 2005","MVBN",{"$f":"COUNTIF(Spielerdaten!$D$3:$D$3653,C120)","v":8},null,"Minigolf Sport-Verein Bad Münder/Springe von 2005 e. V.","MSV Bad Münder/Springe von 2005"]
[null,null,"MTV Seesen von 1862 Abt. Bahnengolf","MVBN",{"$f":"COUNTIF(Spielerdaten!$D$3:$D$3653,C121)","v":1},null,"Männer-Turn-Verein Seesen von 1862 e. V. Abteilung Bahnengolf","MTV Seesen von 1862 Abt. Bahnengolf"]
[null,null,"SC Bad Münder Abt. Bahnengolf","MVBN",{"$f":"COUNTIF(Spielerdaten!$D$3:$D$3653,C122)","v":7},null,"Sportclub Bad Münder e. V. Abteilung Bahnengolf","SC Bad Münder Abt. Bahnengolf"]
[null,null,"SV Glückauf 1901 Gebhardshagen","MVBN",{"$f":"COUNTIF(Spielerdaten!$D$3:$D$3653,C123)","v":2},null,"SV Glück Auf 1901 Gebhardshagen e. V. Abteilung Minigolf","SV Glückauf 1901 Gebhardshagen"]
[null,null,"TSV Salzgitter Abt. Bahnengolf","MVBN",{"$f":"COUNTIF(Spielerdaten!$D$3:$D$3653,C124)","v":19},null,"Turn- und Sportverein Salzgitter e. V. Abteilung Bahnengolf","TSV Salzgitter Abt. Bahnengolf"]
[null,null,"VfL Lüneburg Abt. Bahnengolf","MVBN",{"$f":"COUNTIF(Spielerdaten!$D$3:$D$3653,C125)","v":4},null,"Verein für Leibesübungen Lüneburg e. V. Abteilung Bahnengolf","VfL Lüneburg Abt. Bahnengolf"]
[null,{"$f":"COUNTIF($D$2:$D125,\"MVBN\")","v":22},"Summe MVPN",null,{"$f":"SUM(E104:E125)","v":381},null,null,"Summe MVPN"]
[null,null,"1. BGC Paderborn","NBV",{"$f":"COUNTIF(Spielerdaten!$D$3:$D$3653,C127)","v":11},null,"1. Bahnengolfclub Paderborn e. V.","1. BGC Paderborn"]
[null,null,"1. BGC Wesseling 1975","NBV",{"$f":"COUNTIF(Spielerdaten!$D$3:$D$3653,C128)","v":9},null,"1. Bahnen-Golf-Club Wesseling 1975 e. V. ","1. BGC Wesseling 1975"]
[null,null,"1. Duisburger Minigolf Club 1962","NBV",{"$f":"COUNTIF(Spielerdaten!$D$3:$D$3653,C129)","v":4},null,"1. Duisburger Minigolf Club 1962 e. V.","1. Duisburger Minigolf Club 1962"]
[null,null,"1. Essener CGC \"Blau-Gold\"","NBV",{"$f":"COUNTIF(Spielerdaten!$D$3:$D$3653,C130)","v":22},null,"1. Essener cobiGOLF - Club \"Blau-Gold\" e. V.","1. Essener CGC \"Blau-Gold\""]
[null,null,"1. KGC Mönchengladbach","NBV",{"$f":"COUNTIF(Spielerdaten!$D$3:$D$3653,C131)","v":22},null,"1. Klein-Golf-Club Mönchengladbach e. V.","1. KGC Mönchengladbach"]
[null,null,"1. MGC Epe 1978","NBV",{"$f":"COUNTIF(Spielerdaten!$D$3:$D$3653,C132)","v":10},null,"1. Minigolfclub Epe 1978 e. V.","1. MGC Epe 1978"]
[null,null,"1. MGC Gelsenkirchen","NBV",{"$f":"COUNTIF(Spielerdaten!$D$3:$D$3653,C133)","v":11},null,"1. Minigolf Club Gelsenkirchen e. V.","1. MGC Gelsenkirchen"]
[null,null,"1. MGC Köln 1961","NBV",{"$f":"COUNTIF(Spielerdaten!$D$3:$D$3653,C134)","v":10},null,"1. Minigolf-Club Köln 1961 e. V.","1. MGC Köln 1961"]
[null,null,"1. MGC Paderborn 1980","NBV",{"$f":"COUNTIF(Spielerdaten!$D$3:$D$3653,C135)","v":15},null,"1. Minigolf-Club Paderborn 1980 e. V.","1. MGC Paderborn 1980"]
[null,null,"1. MGSV Netphen","NBV",{"$f":"COUNTIF(Spielerdaten!$D$3:$D$3653,C136)","v":3},null,"1. Minigolf-Sportverein Netphen e. V.","1. MGSV Netphen"]
[null,null,"1. MGC Rheinhausen","NBV",{"$f":"COUNTIF(Spielerdaten!$D$3:$D$3653,C137)","v":20},null,"1. Minigolf-Club Rheinhausen e. V.","1. MGC Rheinhausen"]
[null,null,"1. M.S.C. Wesel 6.6.66","NBV",{"$f":"COUNTIF(Spielerdaten!$D$3:$D$3653,C138)","v":17},null,"1. Minigolf-Sportclub Wesel 66 66 e. V. ","1. M.S.C. Wesel 6.6.66"]
[null,null,"1. Porzer MGC Grün-Weiß 1969","NBV",{"$f":"COUNTIF(Spielerdaten!$D$3:$D$3653,C139)","v":8},null,"1. Porzer Minigolfclub Grün-Weiß 1969 e. V.","1. Porzer MGC Grün-Weiß 1969"]
[null,null,"BGC Assindia Essen","NBV",{"$f":"COUNTIF(Spielerdaten!$D$3:$D$3653,C140)","v":4},null,"Bahnengolf - Club Assindia Essen e. V.","BGC Assindia Essen"]
[null,null,"BGC Dormagen","NBV",{"$f":"COUNTIF(Spielerdaten!$D$3:$D$3653,C141)","v":19},null,"Bahnengolf-Club Dormagen e. V.","BGC Dormagen"]
[null,null,"BGC Oberhausen","NBV",{"$f":"COUNTIF(Spielerdaten!$D$3:$D$3653,C142)","v":3},null,"Bahnengolf-Club Oberhausen e. V.","BGC Oberhausen"]
[null,null,"BGC Schloß Paffendorf","NBV",{"$f":"COUNTIF(Spielerdaten!$D$3:$D$3653,C143)","v":18},null,"Bahnengolf Club Schloß Paffendorf e. V.","BGC Schloß Paffendorf"]
[null,null,"BGC Uerdingen","NBV",{"$f":"COUNTIF(Spielerdaten!$D$3:$D$3653,C144)","v":24},null,"Bahnengolf-Club Uerdingen e. V.","BGC Uerdingen"]
[null,null,"BGS Hardenberg-Pötter","NBV",{"$f":"COUNTIF(Spielerdaten!$D$3:$D$3653,C145)","v":40},null,"BGS Hardenberg-Pötter e. V.","BGS Hardenberg-Pötter"]
[null,null,"BGSC \"Gut Schlag\" Gladbeck","NBV",{"$f":"COUNTIF(Spielerdaten!$D$3:$D$3653,C146)","v":39},null,"Bahnengolfsportclub \"Gut Schlag\" Gladbeck e. V.","BGSC \"Gut Schlag\" Gladbeck"]
[null,null,"BGSC Bochum 1978","NBV",{"$f":"COUNTIF(Spielerdaten!$D$3:$D$3653,C147)","v":27},null,"Bahnengolf-Sportclub Bochum 1978 e. V.","BGSC Bochum 1978"]
[null,null,"BGSV Castrop 1961","NBV",{"$f":"COUNTIF(Spielerdaten!$D$3:$D$3653,C148)","v":21},null,"Bahnengolfsportverein Castrop e. V. 1961","BGSV Castrop 1961"]
[null,null,"BGSV Kerpen","NBV",{"$f":"COUNTIF(Spielerdaten!$D$3:$D$3653,C149)","v":29},null,"Bahnen-Golf-Sport-Vereinigung Kerpen e. V.","BGSV Kerpen"]
[null,null,"BGV Backumer Tal Herten","NBV",{"$f":"COUNTIF(Spielerdaten!$D$3:$D$3653,C150)","v":37},null,"BGV Backumer Tal Herten e. V.","BGV Backumer Tal Herten"]
[null,null,"BGV Bergisch Land 1962 / 63","NBV",{"$f":"COUNTIF(Spielerdaten!$D$3:$D$3653,C151)","v":22},null,"Bahnengolf-Verein Bergisch Land 1962/63 e. V.","BGV Bergisch Land 1962 / 63"]
[null,null,"Bochumer MC 1960","NBV",{"$f":"COUNTIF(Spielerdaten!$D$3:$D$3653,C152)","v":24},null,"Bochumer Minigolf-Club 1960 e. V.","Bochumer MC 1960"]
[null,null,"BSC Ennepetal","NBV",{"$f":"COUNTIF(Spielerdaten!$D$3:$D$3653,C153)","v":26},null,"Bahngolf-Sport-Club Ennepetal e. V.","BSC Ennepetal"]
[null,null,"BV Sennestadt","NBV",{"$f":"COUNTIF(Spielerdaten!$D$3:$D$3653,C154)","v":14},null,"BV Sennestadt e. V.","BV Sennestadt"]
[null,null,"CGC Grün-Gold Bad Hamm","NBV",{"$f":"COUNTIF(Spielerdaten!$D$3:$D$3653,C155)","v":3},null,"Cobigolf-Club \"Grün-Gold\" Bad Hamm e. V.","CGC Grün-Gold Bad Hamm"]
[null,null,"CGV Hamm 2019","NBV",{"$f":"COUNTIF(Spielerdaten!$D$3:$D$3653,C156)","v":20},null,"Cobigolf-Verein Hamm 2019 e. V.","CGV Hamm 2019"]
[null,null,"HMC Büttgen","NBV",{"$f":"COUNTIF(Spielerdaten!$D$3:$D$3653,C157)","v":21},null,"Hobbysport Miniaturgolfclub Büttgen e. V.","HMC Büttgen"]
[null,null,"Kölner MC","NBV",{"$f":"COUNTIF(Spielerdaten!$D$3:$D$3653,C158)","v":22},null,"Kölner Miniatur Golf Club e. V.","Kölner MC"]
[null,null,"KSV Baltrum","NBV",{"$f":"COUNTIF(Spielerdaten!$D$3:$D$3653,C159)","v":1},null,"Kultur- und Sportverein Baltrum e. V. Sparte Cobigolf","KSV Baltrum"]
[null,null,"MC 62 Lüdenscheid","NBV",{"$f":"COUNTIF(Spielerdaten!$D$3:$D$3653,C160)","v":12},null,"MC 62 Lüdenscheid e. V.","MC 62 Lüdenscheid"]
[null,null,"MC Georgsmarienhütte","NBV",{"$f":"COUNTIF(Spielerdaten!$D$3:$D$3653,C161)","v":13},null,"Minigolf-Club Georgsmarienhütte e. V.","MC Georgsmarienhütte"]
[null,null,"MC Tigers Künsebeck","NBV",{"$f":"COUNTIF(Spielerdaten!$D$3:$D$3653,C162)","v":16},null,"Miniaturgolf Club Tigers Künsebeck e. V.","MC Tigers Künsebeck"]
[null,null,"MGC \"AS\" Witten 1963","NBV",{"$f":"COUNTIF(Spielerdaten!$D$3:$D$3653,C163)","v":9},null,"Minigolfclub \"AS\" Witten 1963 e. V.","MGC \"AS\" Witten 1963"]
[null,null,"MGC Bad Bodendorf","NBV",{"$f":"COUNTIF(Spielerdaten!$D$3:$D$3653,C164)","v":14},null,"Miniaturgolfclub Bad Bodendorf e. V.","MGC Bad Bodendorf"]
[null,null,"MGC Bad Salzuflen","NBV",{"$f":"COUNTIF(Spielerdaten!$D$3:$D$3653,C165)","v":41},null,"Minigolf-Club Bad Salzuflen e. V.","MGC Bad Salzuflen"]
[null,null,"MGC Bergisch Gladbach Gierath","NBV",{"$f":"COUNTIF(Spielerdaten!$D$3:$D$3653,C166)","v":33},null,"Minigolf-Club Bergisch Gladbach Gierath e. V.","MGC Bergisch Gladbach Gierath"]
[null,null,"MGC Dormagen-Brechten","NBV",{"$f":"COUNTIF(Spielerdaten!$D$3:$D$3653,C167)","v":36},null,"Minigolfclub Dormagen - Brechten e. V.","MGC Dormagen-Brechten"]
[null,null,"MGC Lünen-Syburg","NBV",{"$f":"COUNTIF(Spielerdaten!$D$3:$D$3653,C168)","v":11},null,"MGC Dortmund-Syburg e.V.","MGC Lünen-Syburg"]
[null,null,"MGC-Felderbachtal 1964","NBV",{"$f":"COUNTIF(Spielerdaten!$D$3:$D$3653,C169)","v":15},null,"Minigolf-Club-Felderbachtal 1964 e. V.","MGC-Felderbachtal 1964"]
[null,null,"MGC Freizeitzentrum Biebertal","NBV",{"$f":"COUNTIF(Spielerdaten!$D$3:$D$3653,C170)","v":11},null,"Miniatur-Golf-Club Freizeitzentrum Biebertal e. V.","MGC Freizeitzentrum Biebertal"]
[null,null,"MGC Heven","NBV",{"$f":"COUNTIF(Spielerdaten!$D$3:$D$3653,C171)","v":14},null,"Miniatur - Golf - Club Heven e. V.","MGC Heven"]
[null,null,"MGC Homburger Land","NBV",{"$f":"COUNTIF(Spielerdaten!$D$3:$D$3653,C172)","v":7},null,"MGC Homburger Land e. V.","MGC Homburger Land"]
[null,null,"MGC Marl 1960","NBV",{"$f":"COUNTIF(Spielerdaten!$D$3:$D$3653,C173)","v":9},null,"Mini Golf Club Marl 1960 e. V.","MGC Marl 1960"]
[null,null,"MGC Nümbrecht","NBV",{"$f":"COUNTIF(Spielerdaten!$D$3:$D$3653,C174)","v":4},null,"Minigolf-Club Nümbrecht e. V. ","MGC Nümbrecht"]
[null,null,"MGC Rot-Weiß Wanne-Eickel","NBV",{"$f":"COUNTIF(Spielerdaten!$D$3:$D$3653,C175)","v":46},null,"Minigolfclub Rot-Weiß Wanne-Eickel e. V.","MGC Rot-Weiß Wanne-Eickel"]
[null,null,"MGU Neviges-Odenthal 1968","NBV",{"$f":"COUNTIF(Spielerdaten!$D$3:$D$3653,C176)","v":14},null,"Minigolfunion Neviges-Odenthal 1968 e. V.","MGU Neviges-Odenthal 1968"]
[null,null,"MSC Bad Godesberg","NBV",{"$f":"COUNTIF(Spielerdaten!$D$3:$D$3653,C177)","v":32},null,"Minigolf-Sport-Club Bad Godesberg e. V.","MSC Bad Godesberg"]
[null,null,"MSC Herscheid 1963","NBV",{"$f":"COUNTIF(Spielerdaten!$D$3:$D$3653,C178)","v":12},null,"Minigolf-Sportclub Herscheid 1963 e. V.","MSC Herscheid 1963"]
[null,null,"MSF Brilon","NBV",{"$f":"COUNTIF(Spielerdaten!$D$3:$D$3653,C179)","v":12},null,"Minigolfsportfreunde Brilon e. V.","MSF Brilon"]
[null,null,"MSK Neheim-Hüsten","NBV",{"$f":"COUNTIF(Spielerdaten!$D$3:$D$3653,C180)","v":65},null,"MINIGOLF-SPORT-KLUB Neheim-Hüsten e. V.","MSK Neheim-Hüsten"]
[null,null,"Osnabrücker M.-C. von 1963","NBV",{"$f":"COUNTIF(Spielerdaten!$D$3:$D$3653,C181)","v":7},null,"Osnabrücker Minigolf Club von 1963 e. V.","Osnabrücker M.-C. von 1963"]
[null,null,"SC Bastion Rot-Weiß Lippstadt 1964","NBV",{"$f":"COUNTIF(Spielerdaten!$D$3:$D$3653,C182)","v":8},null,"SC Bastion Rot - Weiß Lippstadt 1964 e. V.","SC Bastion Rot-Weiß Lippstadt 1964"]
[null,null,"SC Olympia Dortmund","NBV",{"$f":"COUNTIF(Spielerdaten!$D$3:$D$3653,C183)","v":13},null,"Sport-Club Olympia Dortmund e. V. ","SC Olympia Dortmund"]
[null,null,"SC-Wermelskirchen","NBV",{"$f":"COUNTIF(Spielerdaten!$D$3:$D$3653,C184)","v":3},null,"SC-Wermelskirchen e. V.","SC-Wermelskirchen"]
[null,null,"SGC \"Glocke\" Castrop","NBV",{"$f":"COUNTIF(Spielerdaten!$D$3:$D$3653,C185)","v":2},null,"Sterngolfclub Glocke Castrop e. V.","SGC \"Glocke\" Castrop"]
[null,null,"SGC Hagen","NBV",{"$f":"COUNTIF(Spielerdaten!$D$3:$D$3653,C186)","v":11},null,"Sterngolf-Club Hagen e. V.","SGC Hagen"]
[null,null,"SSC Attendorn","NBV",{"$f":"COUNTIF(Spielerdaten!$D$3:$D$3653,C187)","v":23},null,"Sterngolf-Sport-Club Attendorn e. V.","SSC Attendorn"]
[null,null,"SSC Halver","NBV",{"$f":"COUNTIF(Spielerdaten!$D$3:$D$3653,C188)","v":12},null,"SSC Halver e. V.","SSC Halver"]
[null,null,"VfB Osnabrück von 1984","NBV",{"$f":"COUNTIF(Spielerdaten!$D$3:$D$3653,C189)","v":45},null,"Verein für Bahnengolf Osnabrück von 1984 e. V.","VfB Osnabrück von 1984"]
[null,null,"MGC Tütebelle","NBV",{"$f":"COUNTIF(Spielerdaten!$D$3:$D$3653,C190)","v":6},null,"MGC Tütebelle e.V.","MGC Tütebelle"]
[null,null,"VfM Bottrop","NBV",{"$f":"COUNTIF(Spielerdaten!$D$3:$D$3653,C191)","v":24},null,"Verein für Minigolf Bottrop e. V.","VfM Bottrop"]
[null,{"$f":"COUNTIF($D$2:$D191,\"NBV\")","v":65},"Summe NBV",null,{"$f":"SUM(E127:E191)","v":1156},null,null,"Summe NBV"]
[null,null,"1  MGC Saar 68 St. Ingbert","SaarMV",{"$f":"COUNTIF(Spielerdaten!$D$3:$D$3653,C193)","v":3},null,"1  MGC Saar 68 St. Ingbert","1  MGC Saar 68 St. Ingbert"]
[null,null,"1. CKF Dudweiler","SaarMV",{"$f":"COUNTIF(Spielerdaten!$D$3:$D$3653,C194)","v":1},null,"1. CKF Dudweiler","1. CKF Dudweiler"]
[null,null,"1. KC Homburg-Saar 1967","SaarMV",{"$f":"COUNTIF(Spielerdaten!$D$3:$D$3653,C195)","v":35},null,"1. KC Homburg-Saar 1967","1. KC Homburg-Saar 1967"]
[null,null,"BGC Bildstock","SaarMV",{"$f":"COUNTIF(Spielerdaten!$D$3:$D$3653,C196)","v":28},null,"BGC Bildstock","BGC Bildstock"]
[null,null,"Freizeit Club Bliesen","SaarMV",{"$f":"COUNTIF(Spielerdaten!$D$3:$D$3653,C197)","v":8},null,"Freizeit Club Bliesen","Freizeit Club Bliesen"]
[null,{"$f":"COUNTIF($D$2:$D197,\"SaarMV\")","v":5},"Summe SaarMV",null,{"$f":"SUM(E193:E197)","v":75},null,null,"Summe SaarMV"]
[null,null,"BGC Kiel West","SHMV",{"$f":"COUNTIF(Spielerdaten!$D$3:$D$3653,C199)","v":3},null,"Bahnen-Golf-Club Kiel-West e. V.","BGC Kiel West"]
[null,null,"MC Flora Elmshorn","SHMV",{"$f":"COUNTIF(Spielerdaten!$D$3:$D$3653,C200)","v":16},null,"Minigolf-Club Flora Elmshorn e. V.","MC Flora Elmshorn"]
[null,null,"MGC Bad Oldesloe von 1964","SHMV",{"$f":"COUNTIF(Spielerdaten!$D$3:$D$3653,C201)","v":10},null,"Miniaturgolfclub Bad Oldesloe von 1964 e. V.","MGC Bad Oldesloe von 1964"]
[null,null,"MGC Brunsbüttel","SHMV",{"$f":"COUNTIF(Spielerdaten!$D$3:$D$3653,C202)","v":19},null,"Miniaturgolf-Club Brunsbüttel e. V.","MGC Brunsbüttel"]
[null,null,"MGC Harrislee-Wassersleben","SHMV",{"$f":"COUNTIF(Spielerdaten!$D$3:$D$3653,C203)","v":17},null,"Sportverein Minigolfclub Harrislee-Wassersleben e. V.","MGC Harrislee-Wassersleben"]
[null,null,"MGC Olympia Kiel","SHMV",{"$f":"COUNTIF(Spielerdaten!$D$3:$D$3653,C204)","v":38},null,"Miniaturgolfclub Olympia Kiel e. V.","MGC Olympia Kiel"]
[null,null,"Preetzer TSV von 1861 Abt. Minigolf","SHMV",{"$f":"COUNTIF(Spielerdaten!$D$3:$D$3653,C205)","v":0},null,"Preetzer Turn- und Sportverein von 1861 e. V. Abteilung Minigolf","Preetzer TSV von 1861 Abt. Minigolf"]
[null,null,"SC Gut Heil Neumünster von 1881 Abteilung Miniaturgolf","SHMV",{"$f":"COUNTIF(Spielerdaten!$D$3:$D$3653,C206)","v":5},null,"Sportclub Gut Heil Neumünster von 1881 e. V. Abteilung Miniaturgolf","SC Gut Heil Neumünster von 1881 Abteilung Miniaturgolf"]
[null,null,"TSV Kücknitz von 1911 Abt. Bahnengolf","SHMV",{"$f":"COUNTIF(Spielerdaten!$D$3:$D$3653,C207)","v":5},null,"Turn - und Sportverein Kücknitz von 1911 e. V. Abteilung Bahnengolf","TSV Kücknitz von 1911 Abt. Bahnengolf"]
[null,null,"TV Trappenkamp Sparte Minigolf","SHMV",{"$f":"COUNTIF(Spielerdaten!$D$3:$D$3653,C208)","v":8},null,"Turnverein Trappenkamp e. V. Sparte Minigolf","TV Trappenkamp Sparte Minigolf"]
[null,{"$f":"COUNTIF($D$2:$D207,\"SHMV\")","v":9},"Summe SHMV",null,{"$f":"SUM(E199:E208)","v":121},null,null,"Summe SHMV"]
[null,null,"1. MGC Hechingen","WBV",{"$f":"COUNTIF(Spielerdaten!$D$3:$D$3653,C210)","v":0},null,"1. Minigolfclub Hechingen e. V.","1. MGC Hechingen"]
[null,null,"1. MGC Metzingen","WBV",{"$f":"COUNTIF(Spielerdaten!$D$3:$D$3653,C211)","v":19},null,"1. Miniaturgolf Club Metzingen e. V.","1. MGC Metzingen"]
[null,null,"1. MGC Süßen","WBV",{"$f":"COUNTIF(Spielerdaten!$D$3:$D$3653,C212)","v":14},null,"1. Miniaturgolfclub Süßen e. V.","1. MGC Süßen"]
[null,null,"BGC Bad Mergentheim","WBV",{"$f":"COUNTIF(Spielerdaten!$D$3:$D$3653,C213)","v":8},null,"Bahnen-Golf-Club Bad Mergentheim e. V.","BGC Bad Mergentheim"]
[null,null,"BGC Heilbronn","WBV",{"$f":"COUNTIF(Spielerdaten!$D$3:$D$3653,C214)","v":18},null,"Bahnengolf Club Heilbronn e. V.","BGC Heilbronn"]
[null,null,"BIG Asperg 1982","WBV",{"$f":"COUNTIF(Spielerdaten!$D$3:$D$3653,C215)","v":19},null,"Bahnengolf-Interessen-Gemeinschaft Asperg e. V. 1982","BIG Asperg 1982"]
[null,null,"BIG Ingelfingen 2020","WBV",{"$f":"COUNTIF(Spielerdaten!$D$3:$D$3653,C216)","v":9},null,"Bahnengolf Interessen-Gemeinschaft Ingelfingen 2020 e. V.","BIG Ingelfingen 2020"]
[null,null,"KGC Bad Urach","WBV",{"$f":"COUNTIF(Spielerdaten!$D$3:$D$3653,C217)","v":11},null,"Klein-Golf-Club Bad Urach e. V.","KGC Bad Urach"]
[null,null,"MGC 1978 Remseck a.N.","WBV",{"$f":"COUNTIF(Spielerdaten!$D$3:$D$3653,C218)","v":3},null,"Miniaturgolf-Club 1978 Remseck a.N. e. V.","MGC 1978 Remseck a.N."]
[null,null,"MGC Bad Waldsee 1990","WBV",{"$f":"COUNTIF(Spielerdaten!$D$3:$D$3653,C219)","v":6},null,"Minigolf-Club Bad Waldsee 1990 e. V.","MGC Bad Waldsee 1990"]
[null,null,"MGC Friedrichshafen","WBV",{"$f":"COUNTIF(Spielerdaten!$D$3:$D$3653,C220)","v":4},null,"Miniaturgolfclub Friedrichshafen e. V.","MGC Friedrichshafen"]
[null,null,"MGC Monrepos","WBV",{"$f":"COUNTIF(Spielerdaten!$D$3:$D$3653,C221)","v":12},null,"Minigolfclub Monrepos e. V.","MGC Monrepos"]
[null,null,"MGC Oberkochen 1972","WBV",{"$f":"COUNTIF(Spielerdaten!$D$3:$D$3653,C222)","v":8},null,"Miniatur-Golfclub Oberkochen 1972 e. V.","MGC Oberkochen 1972"]
[null,null,"MGC Ravensburg-Weingarten","WBV",{"$f":"COUNTIF(Spielerdaten!$D$3:$D$3653,C223)","v":7},null,"MGC Ravensburg-Weingarten e. V.","MGC Ravensburg-Weingarten"]
[null,null,"MGC Schwaikheim","WBV",{"$f":"COUNTIF(Spielerdaten!$D$3:$D$3653,C224)","v":7},null,"Miniaturgolf – Club Schwaikheim e. V.","MGC Schwaikheim"]
[null,null,"MGC Unterschneidheim","WBV",{"$f":"COUNTIF(Spielerdaten!$D$3:$D$3653,C225)","v":8},null,"Minigolfclub Unterschneidheim e. V.","MGC Unterschneidheim"]
[null,null,"SSV Ulm 1846 Abt. Bahnengolf","WBV",{"$f":"COUNTIF(Spielerdaten!$D$3:$D$3653,C226)","v":17},null,"Schwimm- und Sportverein Ulm 1846 e. V. Abteilung Bahnengolf","SSV Ulm 1846 Abt. Bahnengolf"]
[null,null,"TV Niederstetten 1862 Abt. Minigolf","WBV",{"$f":"COUNTIF(Spielerdaten!$D$3:$D$3653,C227)","v":0},null,"Turnverein Niederstetten 1862 e. V. Abteilung Minigolf","TV Niederstetten 1862 Abt. Minigolf"]
[null,{"$f":"COUNTIF($D$2:$D227,\"WBV\")","v":18},"Summe WBV",null,{"$f":"SUM(E210:E227)","v":170},null,null,"Summe WBV"]
[]
[null,{"$f":"SUM(B2:B228)","v":213},"SUMME DMV",null,{"$f":"E228+E209+E198+E192+E126+E103+E94+E88+E70+E64+E59+E51+E16","v":3493},null,null,"SUMME DMV"]